Workbook
Name Appliance: 'Projects by Category'!$F$2:$F$7
Name HVAC_Commercial: 'Projects by Category'!$I$2:$I$7
Name HVAC_Residential: 'Projects by Category'!$D$2:$D$19
Name Idaho: 'Utility List'!$B$2:$B$25
Name Lighting: 'Projects by Category'!$E$2:$E$3
Name Manufactured_Home_Replacement: 'Projects by Category'!$H$2:$H$3
Name Montana: 'Utility List'!$C$2:$C$9
Name Oregon: 'Utility List'!$D$2:$D$37
Name Washington: 'Utility List'!$E$2:$E$59
Name Water_Heating: 'Projects by Category'!$G$2:$G$3
Name Weatherization: 'Projects by Category'!$C$2:$C$7

Sheet IQ State Grant Input
A1: Row # | B1: Service Program (Always "State Low Income"; Auto-populates) | C1: Grantee State | D1: Home's Service Utility (Serving utility of residence. Choose from drop-down or type in.) | E1: Completion Date (Project date or last date of qrtr the work was completed in.) | F1: BPA FY Quarter (Auto-populates) | G1: BPA FY (Auto-populates) | H1: BPA Program (Auto-populates) | I1: Sector (Auto-populates) | J1: Project Category Choose from drop-down | K1: Measure/Project Name Choose from drop-down | L1: Reference Number (For BPA use only; auto-populates.) | M1: Quantity of Projects | N1: Total Savings (Busbar kWh; auto-populates) | O1: Required: Mark if Previously Reported to BPA (Yes/No) | P1: Upload Grouping Name (BEETS Project Name) (Auto-populates) | Q1: Comments (Auto-populates)
A2: =IF(B2<>"",ROW(B1),"") -> 1 | B2: State Income Qualified | C2: Montana | D2: Flathead Electric Cooperative, Inc. | E2: 117610 | F2: =IF(E2=FALSE,"",IF(MONTH(E2)=10,"Q1",IF(MONTH(E2)=11,"Q1",IF(MONTH(E2)=12,"Q1",IF(MONTH(E2)=1,"Q2",IF(MONTH(E2)=2,"Q2",IF(MONTH(E2)=3,"Q2",IF(MONTH(E2)=4,"Q3",IF(MONTH(E2)=5,"Q3",IF(MONTH(E2)=6,"Q3",IF(MONTH(E2)=7,"Q4",IF(MONTH(E2)=8,"Q4",IF(MONTH(E2)=9,"Q4","error"))))))))))))) -> Q2 | G2: =IF(YEAR(E2)>1980,IF(MONTH(E2)>9,YEAR(E2)+1,YEAR(E2)),"") -> 2222 | H2: =IF(ISERROR(VLOOKUP(L2,'RefNo Measure List'!$B$2:$E$60,2,FALSE)),"",VLOOKUP(L2,'RefNo Measure List'!$B$2:$E$60,2,FALSE)) -> State Income Qualified | I2: =IF(ISERROR(VLOOKUP(K2,'RefNo Measure List'!$A$2:$E$60,5,FALSE)),"",VLOOKUP(K2,'RefNo Measure List'!$A$2:$E$60,5,FALSE)) -> Residential | J2: HVAC_Residential | K2: Tribal Ductless Heat Pumps Single Family | L2: =IF(ISERROR(VLOOKUP(K2,'RefNo Measure List'!$A$1:$E$60,2,FALSE)),"",VLOOKUP(K2,'RefNo Measure List'!$A$1:$C$60,2,FALSE)) -> RMPSL81143 | M2: 55 | N2: =IF((B2)="State Income Qualified",M2*(VLOOKUP(L2,'RefNo Measure List'!$B$2:$J$60,9,FALSE)),"") -> 122430 | P2: =IF(C2<>"",(CONCATENATE("Income Qualified Savings Upload"," ",F2," ",G2))) -> Income Qualified Savings Upload Q2 2222 | Q2: =IF(C2<>"",(CONCATENATE(C2," ","EEIQ Grant"," ",D2))) -> Montana EEIQ Grant Flathead Electric Cooperative, Inc.
A3: =IF(B3<>"",ROW(B2),"") -> 2 | B3: State Income Qualified | F3: =IF(E3=FALSE,"",IF(MONTH(E3)=10,"Q1",IF(MONTH(E3)=11,"Q1",IF(MONTH(E3)=12,"Q1",IF(MONTH(E3)=1,"Q2",IF(MONTH(E3)=2,"Q2",IF(MONTH(E3)=3,"Q2",IF(MONTH(E3)=4,"Q3",IF(MONTH(E3)=5,"Q3",IF(MONTH(E3)=6,"Q3",IF(MONTH(E3)=7,"Q4",IF(MONTH(E3)=8,"Q4",IF(MONTH(E3)=9,"Q4","error"))))))))))))) | G3: =IF(YEAR(E3)>1980,IF(MONTH(E3)>9,YEAR(E3)+1,YEAR(E3)),"") | H3: =IF(ISERROR(VLOOKUP(L3,'RefNo Measure List'!$B$2:$E$60,2,FALSE)),"",VLOOKUP(L3,'RefNo Measure List'!$B$2:$E$60,2,FALSE)) | I3: =IF(ISERROR(VLOOKUP(K3,'RefNo Measure List'!$A$2:$E$60,5,FALSE)),"",VLOOKUP(K3,'RefNo Measure List'!$A$2:$E$60,5,FALSE)) | L3: =IF(ISERROR(VLOOKUP(K3,'RefNo Measure List'!$A$1:$E$60,2,FALSE)),"",VLOOKUP(K3,'RefNo Measure List'!$A$1:$C$60,2,FALSE)) | N3: =IF((B3)="State Income Qualified",M3*(VLOOKUP(L3,'RefNo Measure List'!$B$2:$J$60,9,FALSE)),"") -> #N/A | P3: =IF(C3<>"",(CONCATENATE("Income Qualified Savings Upload"," ",F3," ",G3))) -> FALSE | Q3: =IF(C3<>"",(CONCATENATE(C3," ","EEIQ Grant"," ",D3))) -> FALSE
A4: =IF(B4<>"",ROW(B3),"") -> 3 | B4: State Income Qualified | F4: =IF(E4=FALSE,"",IF(MONTH(E4)=10,"Q1",IF(MONTH(E4)=11,"Q1",IF(MONTH(E4)=12,"Q1",IF(MONTH(E4)=1,"Q2",IF(MONTH(E4)=2,"Q2",IF(MONTH(E4)=3,"Q2",IF(MONTH(E4)=4,"Q3",IF(MONTH(E4)=5,"Q3",IF(MONTH(E4)=6,"Q3",IF(MONTH(E4)=7,"Q4",IF(MONTH(E4)=8,"Q4",IF(MONTH(E4)=9,"Q4","error"))))))))))))) | G4: =IF(YEAR(E4)>1980,IF(MONTH(E4)>9,YEAR(E4)+1,YEAR(E4)),"") | H4: =IF(ISERROR(VLOOKUP(L4,'RefNo Measure List'!$B$2:$E$60,2,FALSE)),"",VLOOKUP(L4,'RefNo Measure List'!$B$2:$E$60,2,FALSE)) | I4: =IF(ISERROR(VLOOKUP(K4,'RefNo Measure List'!$A$2:$E$60,5,FALSE)),"",VLOOKUP(K4,'RefNo Measure List'!$A$2:$E$60,5,FALSE)) | L4: =IF(ISERROR(VLOOKUP(K4,'RefNo Measure List'!$A$1:$E$60,2,FALSE)),"",VLOOKUP(K4,'RefNo Measure List'!$A$1:$C$60,2,FALSE)) | N4: =IF((B4)="State Income Qualified",M4*(VLOOKUP(L4,'RefNo Measure List'!$B$2:$J$60,9,FALSE)),"") -> #N/A | P4: =IF(C4<>"",(CONCATENATE("Income Qualified Savings Upload"," ",F4," ",G4))) -> FALSE | Q4: =IF(C4<>"",(CONCATENATE(C4," ","EEIQ Grant"," ",D4))) -> FALSE
A5: =IF(B5<>"",ROW(B4),"") -> 4 | B5: State Income Qualified | F5: =IF(E5=FALSE,"",IF(MONTH(E5)=10,"Q1",IF(MONTH(E5)=11,"Q1",IF(MONTH(E5)=12,"Q1",IF(MONTH(E5)=1,"Q2",IF(MONTH(E5)=2,"Q2",IF(MONTH(E5)=3,"Q2",IF(MONTH(E5)=4,"Q3",IF(MONTH(E5)=5,"Q3",IF(MONTH(E5)=6,"Q3",IF(MONTH(E5)=7,"Q4",IF(MONTH(E5)=8,"Q4",IF(MONTH(E5)=9,"Q4","error"))))))))))))) | G5: =IF(YEAR(E5)>1980,IF(MONTH(E5)>9,YEAR(E5)+1,YEAR(E5)),"") | H5: =IF(ISERROR(VLOOKUP(L5,'RefNo Measure List'!$B$2:$E$60,2,FALSE)),"",VLOOKUP(L5,'RefNo Measure List'!$B$2:$E$60,2,FALSE)) | I5: =IF(ISERROR(VLOOKUP(K5,'RefNo Measure List'!$A$2:$E$60,5,FALSE)),"",VLOOKUP(K5,'RefNo Measure List'!$A$2:$E$60,5,FALSE)) | L5: =IF(ISERROR(VLOOKUP(K5,'RefNo Measure List'!$A$1:$E$60,2,FALSE)),"",VLOOKUP(K5,'RefNo Measure List'!$A$1:$C$60,2,FALSE)) | N5: =IF((B5)="State Income Qualified",M5*(VLOOKUP(L5,'RefNo Measure List'!$B$2:$J$60,9,FALSE)),"") -> #N/A | P5: =IF(C5<>"",(CONCATENATE("Income Qualified Savings Upload"," ",F5," ",G5))) -> FALSE | Q5: =IF(C5<>"",(CONCATENATE(C5," ","EEIQ Grant"," ",D5))) -> FALSE
A6: =IF(B6<>"",ROW(B5),"") -> 5 | B6: State Income Qualified | F6: =IF(E6=FALSE,"",IF(MONTH(E6)=10,"Q1",IF(MONTH(E6)=11,"Q1",IF(MONTH(E6)=12,"Q1",IF(MONTH(E6)=1,"Q2",IF(MONTH(E6)=2,"Q2",IF(MONTH(E6)=3,"Q2",IF(MONTH(E6)=4,"Q3",IF(MONTH(E6)=5,"Q3",IF(MONTH(E6)=6,"Q3",IF(MONTH(E6)=7,"Q4",IF(MONTH(E6)=8,"Q4",IF(MONTH(E6)=9,"Q4","error"))))))))))))) | G6: =IF(YEAR(E6)>1980,IF(MONTH(E6)>9,YEAR(E6)+1,YEAR(E6)),"") | H6: =IF(ISERROR(VLOOKUP(L6,'RefNo Measure List'!$B$2:$E$60,2,FALSE)),"",VLOOKUP(L6,'RefNo Measure List'!$B$2:$E$60,2,FALSE)) | I6: =IF(ISERROR(VLOOKUP(K6,'RefNo Measure List'!$A$2:$E$60,5,FALSE)),"",VLOOKUP(K6,'RefNo Measure List'!$A$2:$E$60,5,FALSE)) | L6: =IF(ISERROR(VLOOKUP(K6,'RefNo Measure List'!$A$1:$E$60,2,FALSE)),"",VLOOKUP(K6,'RefNo Measure List'!$A$1:$C$60,2,FALSE)) | N6: =IF((B6)="State Income Qualified",M6*(VLOOKUP(L6,'RefNo Measure List'!$B$2:$J$60,9,FALSE)),"") -> #N/A | P6: =IF(C6<>"",(CONCATENATE("Income Qualified Savings Upload"," ",F6," ",G6))) -> FALSE | Q6: =IF(C6<>"",(CONCATENATE(C6," ","EEIQ Grant"," ",D6))) -> FALSE
A7: =IF(B7<>"",ROW(B6),"") -> 6 | B7: State Income Qualified | F7: =IF(E7=FALSE,"",IF(MONTH(E7)=10,"Q1",IF(MONTH(E7)=11,"Q1",IF(MONTH(E7)=12,"Q1",IF(MONTH(E7)=1,"Q2",IF(MONTH(E7)=2,"Q2",IF(MONTH(E7)=3,"Q2",IF(MONTH(E7)=4,"Q3",IF(MONTH(E7)=5,"Q3",IF(MONTH(E7)=6,"Q3",IF(MONTH(E7)=7,"Q4",IF(MONTH(E7)=8,"Q4",IF(MONTH(E7)=9,"Q4","error"))))))))))))) | G7: =IF(YEAR(E7)>1980,IF(MONTH(E7)>9,YEAR(E7)+1,YEAR(E7)),"") | H7: =IF(ISERROR(VLOOKUP(L7,'RefNo Measure List'!$B$2:$E$60,2,FALSE)),"",VLOOKUP(L7,'RefNo Measure List'!$B$2:$E$60,2,FALSE)) | I7: =IF(ISERROR(VLOOKUP(K7,'RefNo Measure List'!$A$2:$E$60,5,FALSE)),"",VLOOKUP(K7,'RefNo Measure List'!$A$2:$E$60,5,FALSE)) | L7: =IF(ISERROR(VLOOKUP(K7,'RefNo Measure List'!$A$1:$E$60,2,FALSE)),"",VLOOKUP(K7,'RefNo Measure List'!$A$1:$C$60,2,FALSE)) | N7: =IF((B7)="State Income Qualified",M7*(VLOOKUP(L7,'RefNo Measure List'!$B$2:$J$60,9,FALSE)),"") -> #N/A | P7: =IF(C7<>"",(CONCATENATE("Income Qualified Savings Upload"," ",F7," ",G7))) -> FALSE | Q7: =IF(C7<>"",(CONCATENATE(C7," ","EEIQ Grant"," ",D7))) -> FALSE
A8: =IF(B8<>"",ROW(B7),"") -> 7 | B8: State Income Qualified | F8: =IF(E8=FALSE,"",IF(MONTH(E8)=10,"Q1",IF(MONTH(E8)=11,"Q1",IF(MONTH(E8)=12,"Q1",IF(MONTH(E8)=1,"Q2",IF(MONTH(E8)=2,"Q2",IF(MONTH(E8)=3,"Q2",IF(MONTH(E8)=4,"Q3",IF(MONTH(E8)=5,"Q3",IF(MONTH(E8)=6,"Q3",IF(MONTH(E8)=7,"Q4",IF(MONTH(E8)=8,"Q4",IF(MONTH(E8)=9,"Q4","error"))))))))))))) | G8: =IF(YEAR(E8)>1980,IF(MONTH(E8)>9,YEAR(E8)+1,YEAR(E8)),"") | H8: =IF(ISERROR(VLOOKUP(L8,'RefNo Measure List'!$B$2:$E$60,2,FALSE)),"",VLOOKUP(L8,'RefNo Measure List'!$B$2:$E$60,2,FALSE)) | I8: =IF(ISERROR(VLOOKUP(K8,'RefNo Measure List'!$A$2:$E$60,5,FALSE)),"",VLOOKUP(K8,'RefNo Measure List'!$A$2:$E$60,5,FALSE)) | L8: =IF(ISERROR(VLOOKUP(K8,'RefNo Measure List'!$A$1:$E$60,2,FALSE)),"",VLOOKUP(K8,'RefNo Measure List'!$A$1:$C$60,2,FALSE)) | N8: =IF((B8)="State Income Qualified",M8*(VLOOKUP(L8,'RefNo Measure List'!$B$2:$J$60,9,FALSE)),"") -> #N/A | P8: =IF(C8<>"",(CONCATENATE("Income Qualified Savings Upload"," ",F8," ",G8))) -> FALSE | Q8: =IF(C8<>"",(CONCATENATE(C8," ","EEIQ Grant"," ",D8))) -> FALSE
A9: =IF(B9<>"",ROW(B8),"") -> 8 | B9: State Income Qualified | F9: =IF(E9=FALSE,"",IF(MONTH(E9)=10,"Q1",IF(MONTH(E9)=11,"Q1",IF(MONTH(E9)=12,"Q1",IF(MONTH(E9)=1,"Q2",IF(MONTH(E9)=2,"Q2",IF(MONTH(E9)=3,"Q2",IF(MONTH(E9)=4,"Q3",IF(MONTH(E9)=5,"Q3",IF(MONTH(E9)=6,"Q3",IF(MONTH(E9)=7,"Q4",IF(MONTH(E9)=8,"Q4",IF(MONTH(E9)=9,"Q4","error"))))))))))))) | G9: =IF(YEAR(E9)>1980,IF(MONTH(E9)>9,YEAR(E9)+1,YEAR(E9)),"") | H9: =IF(ISERROR(VLOOKUP(L9,'RefNo Measure List'!$B$2:$E$60,2,FALSE)),"",VLOOKUP(L9,'RefNo Measure List'!$B$2:$E$60,2,FALSE)) | I9: =IF(ISERROR(VLOOKUP(K9,'RefNo Measure List'!$A$2:$E$60,5,FALSE)),"",VLOOKUP(K9,'RefNo Measure List'!$A$2:$E$60,5,FALSE)) | L9: =IF(ISERROR(VLOOKUP(K9,'RefNo Measure List'!$A$1:$E$60,2,FALSE)),"",VLOOKUP(K9,'RefNo Measure List'!$A$1:$C$60,2,FALSE)) | N9: =IF((B9)="State Income Qualified",M9*(VLOOKUP(L9,'RefNo Measure List'!$B$2:$J$60,9,FALSE)),"") -> #N/A | P9: =IF(C9<>"",(CONCATENATE("Income Qualified Savings Upload"," ",F9," ",G9))) -> FALSE | Q9: =IF(C9<>"",(CONCATENATE(C9," ","EEIQ Grant"," ",D9))) -> FALSE
A10: =IF(B10<>"",ROW(B9),"") -> 9 | B10: State Income Qualified | F10: =IF(E10=FALSE,"",IF(MONTH(E10)=10,"Q1",IF(MONTH(E10)=11,"Q1",IF(MONTH(E10)=12,"Q1",IF(MONTH(E10)=1,"Q2",IF(MONTH(E10)=2,"Q2",IF(MONTH(E10)=3,"Q2",IF(MONTH(E10)=4,"Q3",IF(MONTH(E10)=5,"Q3",IF(MONTH(E10)=6,"Q3",IF(MONTH(E10)=7,"Q4",IF(MONTH(E10)=8,"Q4",IF(MONTH(E10)=9,"Q4","error"))))))))))))) | G10: =IF(YEAR(E10)>1980,IF(MONTH(E10)>9,YEAR(E10)+1,YEAR(E10)),"") | H10: =IF(ISERROR(VLOOKUP(L10,'RefNo Measure List'!$B$2:$E$60,2,FALSE)),"",VLOOKUP(L10,'RefNo Measure List'!$B$2:$E$60,2,FALSE)) | I10: =IF(ISERROR(VLOOKUP(K10,'RefNo Measure List'!$A$2:$E$60,5,FALSE)),"",VLOOKUP(K10,'RefNo Measure List'!$A$2:$E$60,5,FALSE)) | L10: =IF(ISERROR(VLOOKUP(K10,'RefNo Measure List'!$A$1:$E$60,2,FALSE)),"",VLOOKUP(K10,'RefNo Measure List'!$A$1:$C$60,2,FALSE)) | N10: =IF((B10)="State Income Qualified",M10*(VLOOKUP(L10,'RefNo Measure List'!$B$2:$J$60,9,FALSE)),"") -> #N/A | P10: =IF(C10<>"",(CONCATENATE("Income Qualified Savings Upload"," ",F10," ",G10))) -> FALSE | Q10: =IF(C10<>"",(CONCATENATE(C10," ","EEIQ Grant"," ",D10))) -> FALSE
A11: =IF(B11<>"",ROW(B10),"") -> 10 | B11: State Income Qualified | F11: =IF(E11=FALSE,"",IF(MONTH(E11)=10,"Q1",IF(MONTH(E11)=11,"Q1",IF(MONTH(E11)=12,"Q1",IF(MONTH(E11)=1,"Q2",IF(MONTH(E11)=2,"Q2",IF(MONTH(E11)=3,"Q2",IF(MONTH(E11)=4,"Q3",IF(MONTH(E11)=5,"Q3",IF(MONTH(E11)=6,"Q3",IF(MONTH(E11)=7,"Q4",IF(MONTH(E11)=8,"Q4",IF(MONTH(E11)=9,"Q4","error"))))))))))))) | G11: =IF(YEAR(E11)>1980,IF(MONTH(E11)>9,YEAR(E11)+1,YEAR(E11)),"") | H11: =IF(ISERROR(VLOOKUP(L11,'RefNo Measure List'!$B$2:$E$60,2,FALSE)),"",VLOOKUP(L11,'RefNo Measure List'!$B$2:$E$60,2,FALSE)) | I11: =IF(ISERROR(VLOOKUP(K11,'RefNo Measure List'!$A$2:$E$60,5,FALSE)),"",VLOOKUP(K11,'RefNo Measure List'!$A$2:$E$60,5,FALSE)) | L11: =IF(ISERROR(VLOOKUP(K11,'RefNo Measure List'!$A$1:$E$60,2,FALSE)),"",VLOOKUP(K11,'RefNo Measure List'!$A$1:$C$60,2,FALSE)) | N11: =IF((B11)="State Income Qualified",M11*(VLOOKUP(L11,'RefNo Measure List'!$B$2:$J$60,9,FALSE)),"") -> #N/A | P11: =IF(C11<>"",(CONCATENATE("Income Qualified Savings Upload"," ",F11," ",G11))) -> FALSE | Q11: =IF(C11<>"",(CONCATENATE(C11," ","EEIQ Grant"," ",D11))) -> FALSE
A12: =IF(B12<>"",ROW(B11),"") -> 11 | B12: State Income Qualified | F12: =IF(E12=FALSE,"",IF(MONTH(E12)=10,"Q1",IF(MONTH(E12)=11,"Q1",IF(MONTH(E12)=12,"Q1",IF(MONTH(E12)=1,"Q2",IF(MONTH(E12)=2,"Q2",IF(MONTH(E12)=3,"Q2",IF(MONTH(E12)=4,"Q3",IF(MONTH(E12)=5,"Q3",IF(MONTH(E12)=6,"Q3",IF(MONTH(E12)=7,"Q4",IF(MONTH(E12)=8,"Q4",IF(MONTH(E12)=9,"Q4","error"))))))))))))) | G12: =IF(YEAR(E12)>1980,IF(MONTH(E12)>9,YEAR(E12)+1,YEAR(E12)),"") | H12: =IF(ISERROR(VLOOKUP(L12,'RefNo Measure List'!$B$2:$E$60,2,FALSE)),"",VLOOKUP(L12,'RefNo Measure List'!$B$2:$E$60,2,FALSE)) | I12: =IF(ISERROR(VLOOKUP(K12,'RefNo Measure List'!$A$2:$E$60,5,FALSE)),"",VLOOKUP(K12,'RefNo Measure List'!$A$2:$E$60,5,FALSE)) | L12: =IF(ISERROR(VLOOKUP(K12,'RefNo Measure List'!$A$1:$E$60,2,FALSE)),"",VLOOKUP(K12,'RefNo Measure List'!$A$1:$C$60,2,FALSE)) | N12: =IF((B12)="State Income Qualified",M12*(VLOOKUP(L12,'RefNo Measure List'!$B$2:$J$60,9,FALSE)),"") -> #N/A | P12: =IF(C12<>"",(CONCATENATE("Income Qualified Savings Upload"," ",F12," ",G12))) -> FALSE | Q12: =IF(C12<>"",(CONCATENATE(C12," ","EEIQ Grant"," ",D12))) -> FALSE
A13: =IF(B13<>"",ROW(B12),"") -> 12 | B13: State Income Qualified | F13: =IF(E13=FALSE,"",IF(MONTH(E13)=10,"Q1",IF(MONTH(E13)=11,"Q1",IF(MONTH(E13)=12,"Q1",IF(MONTH(E13)=1,"Q2",IF(MONTH(E13)=2,"Q2",IF(MONTH(E13)=3,"Q2",IF(MONTH(E13)=4,"Q3",IF(MONTH(E13)=5,"Q3",IF(MONTH(E13)=6,"Q3",IF(MONTH(E13)=7,"Q4",IF(MONTH(E13)=8,"Q4",IF(MONTH(E13)=9,"Q4","error"))))))))))))) | G13: =IF(YEAR(E13)>1980,IF(MONTH(E13)>9,YEAR(E13)+1,YEAR(E13)),"") | H13: =IF(ISERROR(VLOOKUP(L13,'RefNo Measure List'!$B$2:$E$60,2,FALSE)),"",VLOOKUP(L13,'RefNo Measure List'!$B$2:$E$60,2,FALSE)) | I13: =IF(ISERROR(VLOOKUP(K13,'RefNo Measure List'!$A$2:$E$60,5,FALSE)),"",VLOOKUP(K13,'RefNo Measure List'!$A$2:$E$60,5,FALSE)) | L13: =IF(ISERROR(VLOOKUP(K13,'RefNo Measure List'!$A$1:$E$60,2,FALSE)),"",VLOOKUP(K13,'RefNo Measure List'!$A$1:$C$60,2,FALSE)) | N13: =IF((B13)="State Income Qualified",M13*(VLOOKUP(L13,'RefNo Measure List'!$B$2:$J$60,9,FALSE)),"") -> #N/A | P13: =IF(C13<>"",(CONCATENATE("Income Qualified Savings Upload"," ",F13," ",G13))) -> FALSE | Q13: =IF(C13<>"",(CONCATENATE(C13," ","EEIQ Grant"," ",D13))) -> FALSE
A14: =IF(B14<>"",ROW(B13),"") -> 13 | B14: State Income Qualified | F14: =IF(E14=FALSE,"",IF(MONTH(E14)=10,"Q1",IF(MONTH(E14)=11,"Q1",IF(MONTH(E14)=12,"Q1",IF(MONTH(E14)=1,"Q2",IF(MONTH(E14)=2,"Q2",IF(MONTH(E14)=3,"Q2",IF(MONTH(E14)=4,"Q3",IF(MONTH(E14)=5,"Q3",IF(MONTH(E14)=6,"Q3",IF(MONTH(E14)=7,"Q4",IF(MONTH(E14)=8,"Q4",IF(MONTH(E14)=9,"Q4","error"))))))))))))) | G14: =IF(YEAR(E14)>1980,IF(MONTH(E14)>9,YEAR(E14)+1,YEAR(E14)),"") | H14: =IF(ISERROR(VLOOKUP(L14,'RefNo Measure List'!$B$2:$E$60,2,FALSE)),"",VLOOKUP(L14,'RefNo Measure List'!$B$2:$E$60,2,FALSE)) | I14: =IF(ISERROR(VLOOKUP(K14,'RefNo Measure List'!$A$2:$E$60,5,FALSE)),"",VLOOKUP(K14,'RefNo Measure List'!$A$2:$E$60,5,FALSE)) | L14: =IF(ISERROR(VLOOKUP(K14,'RefNo Measure List'!$A$1:$E$60,2,FALSE)),"",VLOOKUP(K14,'RefNo Measure List'!$A$1:$C$60,2,FALSE)) | N14: =IF((B14)="State Income Qualified",M14*(VLOOKUP(L14,'RefNo Measure List'!$B$2:$J$60,9,FALSE)),"") -> #N/A | P14: =IF(C14<>"",(CONCATENATE("Income Qualified Savings Upload"," ",F14," ",G14))) -> FALSE | Q14: =IF(C14<>"",(CONCATENATE(C14," ","EEIQ Grant"," ",D14))) -> FALSE
... A400: =IF(B400<>"",ROW(B399),"") -> 399 | B400: State Income Qualified | F400: =IF(E400=FALSE,"",IF(MONTH(E400)=10,"Q1",IF(MONTH(E400)=11,"Q1",IF(MONTH(E400)=12,"Q1",IF(MONTH(E400)=1,"Q2",IF(MONTH(E400)=2,"Q2",IF(MONTH(E400)=3,"Q2",IF(MONTH(E400)=4,"Q3",IF(MONTH(E400)=5,"Q3",IF(MONTH(E400)=6,"Q3",IF(MONTH(E400)=7,"Q4",IF(MONTH(E400)=8,"Q4",IF(MONTH(E400)=9,"Q4","error"))))))))))))) | G400: =IF(YEAR(E400)>1980,IF(MONTH(E400)>9,YEAR(E400)+1,YEAR(E400)),"") | H400: =IF(ISERROR(VLOOKUP(L400,'RefNo Measure List'!$B$2:$E$60,2,FALSE)),"",VLOOKUP(L400,'RefNo Measure List'!$B$2:$E$60,2,FALSE)) | I400: =IF(ISERROR(VLOOKUP(K400,'RefNo Measure List'!$A$2:$E$60,5,FALSE)),"",VLOOKUP(K400,'RefNo Measure List'!$A$2:$E$60,5,FALSE)) | L400: =IF(ISERROR(VLOOKUP(K400,'RefNo Measure List'!$A$1:$E$60,2,FALSE)),"",VLOOKUP(K400,'RefNo Measure List'!$A$1:$C$60,2,FALSE)) | N400: =IF((B400)="State Income Qualified",M400*(VLOOKUP(L400,'RefNo Measure List'!$B$2:$J$60,9,FALSE)),"") -> #N/A | P400: =IF(C400<>"",(CONCATENATE("Income Qualified Savings Upload"," ",F400," ",G400))) -> FALSE | Q400: =IF(C400<>"",(CONCATENATE(C400," ","EEIQ Grant"," ",D400))) -> FALSE

Sheet RefNo Measure List
A1: Measure Name | B1: Reference Number | C1: Program | D1: Resource Opportunity Type | E1: Sector | F1: End Use | G1: Technology/Activity/Practice | H1: Category | I1: Default Measure Life | J1: Busbar kWh
A2: Non-Tribal Ducted Heat Pumps Multifamily Commercial | B2: CMPSL82155 | C2: State Income Qualified | D2: R | E2: Commercial | F2: Managed Program | G2: Non-Tribal Ducted Heat Pumps Multifamily Commercial | H2: HVAC_Commercial | I2: 15 | J2: 1448
A3: Tribal Ducted Heat Pumps Multifamily Commercial | B3: CMPSL82156 | C3: State Income Qualified | D3: R | E3: Commercial | F3: Managed Program | G3: Tribal Ducted Heat Pumps Multifamily Commercial | H3: HVAC_Commercial | I3: 15 | J3: 1448
A4: Non-Tribal Thermostat Multifamily Commercial | B4: CMPSL82157 | C4: State Income Qualified | D4: R | E4: Commercial | F4: Managed Program | G4: Non-Tribal Thermostat Multifamily Commercial | H4: HVAC_Commercial | I4: 5 | J4: 658.1
A5: Tribal Thermostat Multi Family Commercial | B5: CMPSL82158 | C5: State Income Qualified | D5: R | E5: Commercial | F5: Managed Program | G5: Tribal Thermostat Multi Family Commercial | H5: HVAC_Commercial | I5: 5 | J5: 658.1
A6: Non-Tribal Ductless Heat Pumps Multifamily Commercial | B6: CMPSL82159 | C6: State Income Qualified | D6: R | E6: Commercial | F6: Managed Program | G6: Non-Tribal Ductless Heat Pumps Multifamily Commercial | H6: HVAC_Commercial | I6: 15 | J6: 1862.38
A7: Tribal Ductless Heat Pumps Multifamily Commercial | B7: CMPSL82160 | C7: State Income Qualified | D7: R | E7: Commercial | F7: Managed Program | G7: Tribal Ductless Heat Pumps Multifamily Commercial | H7: HVAC_Commercial | I7: 15 | J7: 1862.38
A8: Non-Tribal Weatherization Single Family | B8: RMPSL81126 | C8: State Income Qualified | D8: R | E8: Residential | F8: Managed Programs | G8: Non-Tribal Weatherization Single Family | H8: Weatherization | I8: 0 | J8: 3228
A9: Non-Tribal Weatherization Multifamily | B9: RMPSL81127 | C9: State Income Qualified | D9: R | E9: Residential | F9: Managed Programs | G9: Non-Tribal Weatherization Multifamily | H9: Weatherization | I9: 0 | J9: 3228
A10: Non-Tribal Weatherization Manufactured | B10: RMPSL81128 | C10: State Income Qualified | D10: R | E10: Residential | F10: Managed Programs | G10: Non-Tribal Weatherization Manufactured | H10: Weatherization | I10: 0 | J10: 2000
A11: Tribal Weatherization Single Family | B11: RMPSL81129 | C11: State Income Qualified | D11: R | E11: Residential | F11: Managed Programs | G11: Tribal Weatherization Single Family | H11: Weatherization | I11: 0 | J11: 3228
A12: Tribal Weatherization Multifamily | B12: RMPSL81130 | C12: State Income Qualified | D12: R | E12: Residential | F12: Managed Programs | G12: Tribal Weatherization Multifamily | H12: Weatherization | I12: 0 | J12: 3228
A13: Tribal Weatherization Manufactured | B13: RMPSL81131 | C13: State Income Qualified | D13: R | E13: Residential | F13: Managed Programs | G13: Tribal Weatherization Manufactured | H13: Weatherization | I13: 0 | J13: 2000
... A43: Tribal Manufactured Home Replacement | B43: RMPSL81180 | C43: State Income Qualified | D43: R | E43: Residential | F43: Managed Program | G43: Tribal Manufactured Home Replacement | H43: Manufactured Home Replacement | I43: 43 | J43: 5678.01

Sheet Utility List
A1: Grantee | B1: Idaho | C1: Montana | D1: Oregon | E1: Washington
A2: Washington | B2: City of Albion | C2: City of Troy | D2: Blachly-Lane Electric Cooperative | E2: Benton Rural Electric Association
A3: Oregon | B3: City of Bonners Ferry | C3: Flathead Electric Cooperative, Inc. | D3: Canby Utility Board | E3: Big Bend Electric Cooperative
A4: Montana | B4: City of Burley | C4: Glacier Electric Cooperative, Inc. | D4: Central Electric Cooperative, Inc. | E4: City of Blaine
A5: Idaho | B5: City of Declo | C5: Lincoln Electric Cooperative, Inc. | D5: Central Lincoln People's Utility District | E5: City of Centralia
B6: City of Heyburn | C6: Mission Valley Power | D6: City of Ashland | E6: City of Cheney
B7: City of Idaho Falls | C7: Missoula Electric Cooperative, Inc. | D7: City of Bandon | E7: City of Chewelah
B8: City of Minidoka | C8: Ravalli County Electric Cooperative, Inc. | D8: City of Cascade Locks | E8: City of Ellensburg
B9: City of Plummer | C9: Vigilante Electric Cooperative, Inc. | D9: City of Drain | E9: City of McCleary
B10: City of Rupert | D10: City of Forest Grove | E10: City of Milton
B11: City of Soda Springs | D11: City of Hermiston | E11: City of Port Angeles
B12: City of Weiser | D12: City of Milton-Freewater | E12: City of Richland, Washington
B13: Clearwater Power Company | D13: City of Monmouth | E13: City of Seattle, City Light Dept
B14: East End Mutual Electric Company, LTD | D14: Clatskanie People's Utility District | E14: City of Sumas
B15: Fall River Rural Electric Cooperative, Inc. | D15: Columbia Basin Electric Cooperative, Inc. | E15: Clark Public Utilities
B16: Farmers Electric Company, LTD | D16: Columbia Power Cooperative Association | E16: Columbia Rural Electric Association
B17: Idaho County Light & Power Cooperative Association, Inc. | D17: Columbia River People's Utility District | E17: Consolidated Irrigation District No. 19
B18: Kootenai Electric Cooperative, Inc. | D18: Consumers Power, Inc. | E18: Elmhurst Mutual Power & Light Company
B19: Lost River Electric Cooperative, Inc. | D19: Coos-Curry Electric Cooperative, Inc. | E19: Energy Northwest
B20: Northern Lights, Inc. | D20: Douglas Electric Cooperative, Inc. | E20: Fairchild Air Force Base
B21: Raft River Rural Electric Cooperative, Inc. | D21: Emerald People's Utility District | E21: Inland Power & Light Company
... B25: United Electric Co-op, Inc. | D25: Lane Electric Cooperative, Inc. | E25: Nespelem Valley Electric Cooperative, Inc.
D26: Midstate Electric Cooperative, Inc. | E26: Ohop Mutual Light Company
D27: Northern Wasco County People's Utility District | E27: Okanogan County Electric Cooperative, Inc.
D28: Oregon Trail Electric Consumers Cooperative, Inc. | E28: Okanogan County Public Utility District No. 1
D29: Salem Electric | E29: Orcas Power & Light Cooperative
D30: Springfield Utility Board | E30: Parkland Light & Water Company
D31: The City of McMinnville | E31: Pend Oreille County PUD No. 1
D32: Tillamook People's Utility District | E32: Peninsula Light Company
D33: Umatilla Electric Cooperative | E33: Port of Seattle - Seattle-Tacoma International Airport
D34: Umpqua Indian Utility Cooperative | E34: Public Utility District #1 of Skamania County
D35: US DOE Natl Energy Technology Lab | E35: Public Utility District No 1 of Whatcom County
D36: Wasco Electric Cooperative, Inc. | E36: Public Utility District No. 1 of Asotin County
D37: West Oregon Electric Cooperative, Inc. | E37: Public Utility District No. 1 of Benton County
E38: Public Utility District No. 1 of Clallam County
E39: Public Utility District No. 1 of Cowlitz County
E40: Public Utility District No. 1 of Ferry County
E41: Public Utility District No. 1 of Franklin County
E42: Public Utility District No. 1 of Grays Harbor County Washington
E43: Public Utility District No. 1 of Kittitas County
...

Sheet Projects by Category
A1: Project Category | C1: Weatherization | D1: HVAC_Residential | E1: Lighting | F1: Appliance | G1: Water_Heating | H1: Manufactured_Home_Replacement | I1: HVAC_Commercial
A2: Weatherization | C2: Non-Tribal Weatherization Single Family | D2: Non-Tribal Ductless Heat Pumps Single Family | E2: Non-Tribal LED units | F2: Non-Tribal Refrigerator | G2: Non-Tribal HPWH Units | H2: Non-Tribal Manufactured Home Replacement | I2: Non-Tribal Ducted Heat Pumps Multifamily Commercial
A3: HVAC_Residential | C3: Non-Tribal Weatherization Multifamily | D3: Non-Tribal Ductless Heat Pumps Multifamily | E3: Tribal LED units | F3: Tribal Refrigerator | G3: Tribal HPWH Units | H3: Tribal Manufactured Home Replacement | I3: Tribal Ducted Heat Pumps Multifamily Commercial
A4: Lighting | C4: Non-Tribal Weatherization Manufactured | D4: Non-Tribal Ductless Heat Pumps Manufactured | F4: Non-Tribal Clothes Washer | I4: Non-Tribal Thermostat Multifamily Commercial
A5: Appliance | C5: Tribal Weatherization Single Family | D5: Tribal Ductless Heat Pumps Single Family | F5: Tribal Clothes Washer | I5: Tribal Thermostat Multi Family Commercial
A6: Water_Heating | C6: Tribal Weatherization Multifamily | D6: Tribal Ductless Heat Pumps Multifamily | F6: Non-Tribal Clothes Dryer Replacements | I6: Non-Tribal Ductless Heat Pumps Multifamily Commercial
A7: Manufactured_Home_Replacement | C7: Tribal Weatherization Manufactured | D7: Tribal Ductless Heat Pumps Manufactured | F7: Tribal Clothes Dryer Replacements | I7: Tribal Ductless Heat Pumps Multifamily Commercial
A8: HVAC_Commercial | D8: Non-Tribal Ducted Heat Pumps Single Family
D9: Non-Tribal Ducted Heat Pumps Manufactured
D10: Tribal Ducted Heat Pumps Single Family
D11: Tribal Ducted Heat Pumps Manufactured
D12: Non-Tribal Central Air Conditioner Single Family
D13: Non-Tribal Central Air Conditioner Manufactured
D14: Tribal Central Air Conditioner Single Family
D15: Tribal Central Air Conditioner Manufactured
D16: Non-Tribal Thermostat Residential
D17: Tribal Thermostat Residential
D18: Non-Tribal Packaged Terminal Heat Pumps Multifamily
D19: Tribal Packaged Terminal Heat Pumps Multifamily
