Workbook
Name Building: Input!$V$2:$V$3
Name Building_Type: '[1]Lists & Tables'!$G$2:$G$12
Name Conditioning: '[1]Lists & Tables'!$D$2:$D$3
Name Heat: Input!$X$2:$X$3
Name None: Input!$Y$2
Name SelectedImageID: INDIRECT(#REF!)
Name Tier: Input!$W$2:$W$3

Sheet Disclaimer
A43: Trade Ally Network NW is sponsored by Bonneville Power Administration and its Northwest Utilities.

Sheet Input
A1: Measure Inputs | G1: Notes | V1: PTHP | W1: HRV | X1: Connected | Y1: None
V2: Lodging | W2: Tier 1 | X2: Gas Heat
G3: Select the HVAC program offering you are interested in evaluating | V3: Residential Care | W3: Tier 2 | X3: Electric Heat
E5: Tier 1 | G5: Necessary input only for Connected Tstat (heating type), PTHP (building type) and HRV (Tier). Otherwise leave blank
X6: Valid UES | Y6: =COUNTIF('UES Measures'!$A$2:$A$19,E3)>0 -> FALSE
E7: {=IFERROR(INDEX("$" & 'UES Measures'!$E$2:$E$19,Y10)& "/" &INDEX('UES Measures'!$F$2:$F$19,Y10),"")} | G7: Auto-populates the associated incentive units based on selected HVAC program offering | X7: Requires DC | Y7: =COUNTIF('UES Measures'!$A$2:$A$19,E3)>1 -> FALSE
X8: Valid DC | Y8: =OR(ISBLANK(E5),COUNTIF('UES Measures'!$B$2:$B$19,E5)>0) -> TRUE
G9: Input quantity (ex. tons, hp, CFM, etc.). For tons round to the nearest whole number | X9: Concatenation result | Y9: =CONCATENATE(E3,IF(Y7,E5,""))
X10: UES Match Row # | Y10: =MATCH(Y9,'UES Measures'!$C$2:$C$19,0) -> #N/A
G11: Input project cost to calculate simple payback | X11: Valid Concatenation | Y11: =COUNTIF('UES Measures'!$C$2:$C$19,Y9)=1 -> FALSE
X12: Show DC text? | Y12: =AND(Y11,Y7,Y8) -> FALSE
E13: 0.08 | G13: Default of $0.08/kWh. Adjust as needed for payback calculation | X13: Do Calc? | Y13: =Y11 -> FALSE
X14: Reveal savings output? | Y14: =AND(E9>0,Y13) -> FALSE
X15: Reveal incentive output? | Y15: =AND(Y14,E11>0,E13>0) -> FALSE

Sheet Output
A1: Savings Summary
A2: Total Energy Savings (kWh) | B2: =IF(Input!$Y$14,Input!E9*INDEX('UES Measures'!$D$2:$D$19,MATCH(Input!Y9,'UES Measures'!$C$2:$C$19,0)),"")
A3: Total Annual Savings ($) | B3: =IF(Input!$Y$14,B2*Input!$E$13,"")
A5: Payback Summary
A6: Install Cost ($) | B6: =IF(Input!$Y$15,Input!E11,"")
A7: Total Incentive ($) | B7: =IF(Input!$Y$15,INDEX('UES Measures'!$E$6:$E$17,MATCH(Input!$E$3,'UES Measures'!$A$6:$A$17,0))*Input!E9,"")
A8: Simple Payback (Years) | B8: =IF(Input!$Y$15,MAX(0,(B6-B7)/B3),"")

Sheet Incentive Form
A2: Eventually make a sheet that ties everything together similar to this.

Sheet UES Measures
A1: Measure | B1: Defining Characteristic | C1: Concatenate | D1: Annual Savings @ Site (kwh/yr) | E1: Incentive Amount ($/unit or instance or ton or hp) | F1: Unit
A2: Connected Thermostat Installation | B2: Electric Heat | C2: =CONCATENATE(A2,B2) -> Connected Thermostat InstallationElectric Heat | D2: 1004.8796 | E2: 150 | F2: Thermostat
A3: Connected Thermostat Verification | B3: Electric Heat | C3: =CONCATENATE(A3,B3) -> Connected Thermostat VerificationElectric Heat | D3: 251.12969 | E3: 50 | F3: Verification
A4: HRV Retrofit | B4: Tier 1 | C4: =CONCATENATE(A4,B4) -> HRV RetrofitTier 1 | D4: 10.29 | E4: 2 | F4: CFM
A5: HRV Upgrade | B5: Tier 1 | C5: =CONCATENATE(A5,B5) -> HRV UpgradeTier 1 | D5: 8.04 | E5: 3.5 | F5: CFM
A6: Connected Thermostat Installation | B6: Gas Heat | C6: =CONCATENATE(A6,B6) -> Connected Thermostat InstallationGas Heat | D6: 311.3126 | E6: 150 | F6: Thermostat
A7: Connected Thermostat Verification | B7: Gas Heat | C7: =CONCATENATE(A7,B7) -> Connected Thermostat VerificationGas Heat | D7: 78.705458 | E7: 50 | F7: Verification
A8: VRF (Existing Buildings only) | C8: =CONCATENATE(A8,B8) -> VRF (Existing Buildings only) | D8: 4683.5846 | E8: 1000 | F8: Ton
A9: Air-Source Heat Pumps Retrofit | C9: =CONCATENATE(A9,B9) -> Air-Source Heat Pumps Retrofit | D9: 4299.12 | E9: 700 | F9: Ton
A10: Ductless Heat Pumps Retrofit | C10: =CONCATENATE(A10,B10) -> Ductless Heat Pumps Retrofit | D10: 2761.0444 | E10: 1000 | F10: Ton
A11: Air-Source Heat Pumps Upgrade | C11: =CONCATENATE(A11,B11) -> Air-Source Heat Pumps Upgrade | D11: 453.77 | E11: 150 | F11: Ton
A12: HRV Retrofit | B12: Tier 2 | C12: =CONCATENATE(A12,B12) -> HRV RetrofitTier 2 | D12: 15.53 | E12: 2 | F12: CFM
A13: HRV Upgrade | B13: Tier 2 | C13: =CONCATENATE(A13,B13) -> HRV UpgradeTier 2 | D13: 13.25 | E13: 3.5 | F13: CFM
A14: Ductless Heat Pumps Upgrade | C14: =CONCATENATE(A14,B14) -> Ductless Heat Pumps Upgrade | D14: 963.71234 | E14: 300 | F14: Ton
A15: VFD installed on Existing Air Handling Unit | C15: =CONCATENATE(A15,B15) -> VFD installed on Existing Air Handling Unit | D15: 1669.52 | E15: 300 | F15: Horsepower (hp)
A16: PTHP Retrofit | B16: Lodging | C16: =CONCATENATE(A16,B16) -> PTHP RetrofitLodging | D16: 1041.5275 | E16: 600 | F16: Unit
A17: PTHP New Construction | B17: Lodging | C17: =CONCATENATE(A17,B17) -> PTHP New ConstructionLodging | D17: 1041.5275 | E17: 100 | F17: Unit
A18: PTHP Retrofit | B18: Residential Care | C18: =CONCATENATE(A18,B18) -> PTHP RetrofitResidential Care | D18: 2075.8093 | E18: 600 | F18: Unit
A19: PTHP New Construction | B19: Residential Care | C19: =CONCATENATE(A19,B19) -> PTHP New ConstructionResidential Care | D19: 2075.8093 | E19: 100 | F19: Unit
