Workbook
Name _ftn1: Summary!$A$31
Name _ftn2: Summary!#REF!
Name Busbar_Savings: #REF!
Name Busbar_Savings: #REF!
Name Life_Discount: #REF!
Name Life_Discount: #REF!
Name Life_Finance: #REF!
Name Life_Finance: #REF!
Name PC_Main: 'EE v Mid-C_Flat'!PC_Main
Name PC_Main: 'EE v Mid-C_FYQ3 Flat'!PC_Main
Name PC_Main: 'EE v Mid-C_FYQ4 Flat'!PC_Main
Name PC_Main: 'EE v Mid-C_High'!PC_Main
Name PC_Main: 'EE v Mid-C_HLH'!PC_Main
Name PC_Main: 'EE v Mid-C_LLH'!PC_Main
Name PC_Main: 'EE v Mid-C_Low'!PC_Main
Name PC_Main: Graphs!PC_Main
Name PC_Main: [0]!PC_Main
Name PV_Cap: #REF!
Name PV_Cap: #REF!
Name PV_CapFinanced: #REF!
Name PV_CapFinanced: #REF!
Name Rate_Discount: #REF!
Name Rate_Discount: #REF!
Name Rate_Finance: #REF!
Name Rate_Finance: #REF!

Sheet Summary
A1: The Value of Energy Efficiency Investments
A2: 41453
A4: Objective
A5: The objective of the analysis displayed in the "EE vs. Mid-C" tabs of the accompanying Excel file is to answer the following question: Were BPA’s costs lower as a result of investing in energy efficiency from 2001-2011 rather than purchasing the equivalent amount of energy from the market?
A10: Assumptions
A11: The analysis is based on the following assumptions/inputs: 1. Nominal dollar amounts for annual calculations 2. 6% nominal discount rate 3. 12 year average life of the energy efficiency measures (corresponds to the average measure life from the 6th Power Plan) 4. Energy efficiency investments are capitalized pursuant to BPA's capitalization policy, with a nominal interest rate of 6% (the rate used in the BPA Energy Efficiency Action Plan) 5. Includes only programmatic energy savings (i.e., BPA-funded, utility-funded, market transformation and building codes for FY2001-2004 ) 6. Mid-C wholesale prices are used for 2001-2011 (nominal, Dow Jones) and are varied, such as flat, HLH, LLH, and quarterly, to arrive at different cost savings results 7. The shape of the savings from energy efficiency measures are matched to the chosen Mid-C prices 8. Mid-C wholesale prices for 2012-2022 are assumed to be $20-$30/MWh (nominal, conservatively estimated) 9. No new energy efficiency investments are made after 2011
A24: Conclusions
A31: *The analysis considers only cost savings but not the rate impacts of BPA’s FY 2001 through FY2011 investments in energy efficiency.

Sheet EE v Mid-C_Flat
A1: Energy Efficiency vs. Mid-C Analysis | Y1: 2001-2020 for Investments made through 2011
A2: (Dollar figures are nominal and in millions unless otherwise denoted)
A4: Assumptions
A5: Nominal Interest Rate | B5: 0.06
A6: Nominal Discount Rate | B6: =B5 -> 0.06
A7: Average Measure Life (years)* | B7: 12
A8: Percent of Savings Persistence** | B8: 0
A10: Fiscal Year | C10: 2001 | D10: 2002 | E10: 2003 | F10: 2004 | G10: 2005 | H10: 2006 | I10: 2007 | J10: 2008 | K10: 2009 | L10: 2010 | M10: 2011 | N10: 2012 | O10: 2013 | P10: 2014 | Q10: 2015 | R10: 2016 | S10: 2017 | T10: 2018 | U10: 2019 | V10: 2020 | W10: 2021 | X10: 2022
C11: ($ mil) | D11: ($ mil) | E11: ($ mil) | F11: ($ mil) | G11: ($ mil) | H11: ($ mil) | I11: ($ mil) | J11: ($ mil) | K11: ($ mil) | L11: ($ mil) | M11: ($ mil) | N11: ($ mil) | O11: ($ mil) | P11: ($ mil) | Q11: ($ mil) | R11: ($ mil) | S11: ($ mil) | T11: ($ mil) | U11: ($ mil) | V11: ($ mil) | W11: ($ mil) | X11: ($ mil)
A12: Capital EE Investments
A13: Amount Borrowed and Invested for EE | C13: 27.072 | D13: 0.96 | E13: 25.459 | F13: 15.348277 | G13: 14.922681 | H13: 23.713743 | I13: 3.1647565 | J13: 8.2188602 | K13: 19.182273 | L13: 55.311286 | M13: 161.75412 | N13: 0 | O13: 0 | P13: 0 | Q13: 0 | R13: 0 | S13: 0 | T13: 0 | U13: 0 | V13: 0 | W13: 0 | X13: 0 | Y13: =SUM(C13:X13) -> 355.10699 | Z13: Total Capital Cost of EE 2001 - 2011
A15: Amortization Payment (calculated using PMT function, based on amortization periods below) | B15: FY
A16: 20 | B16: 2001 | C16: =PMT($B$5,$A$16,-C13) -> 2.3602603 | D16: =C16 -> 2.3602603 | E16: =D16 -> 2.3602603 | F16: =E16 -> 2.3602603 | G16: =F16 -> 2.3602603 | H16: =G16 -> 2.3602603 | I16: =H16 -> 2.3602603 | J16: =I16 -> 2.3602603 | K16: =J16 -> 2.3602603 | ... V16: =U16 -> 2.3602603
A17: 10 | B17: 2002 | D17: =PMT($B$5,$A$17,-D13) -> 0.13043324 | E17: =D17 -> 0.13043324 | F17: =E17 -> 0.13043324 | G17: =F17 -> 0.13043324 | H17: =G17 -> 0.13043324 | I17: =H17 -> 0.13043324 | J17: =I17 -> 0.13043324 | K17: =J17 -> 0.13043324 | L17: =K17 -> 0.13043324 | M17: =L17 -> 0.13043324
A18: 9 | B18: 2003 | E18: =PMT($B$5,$A$18,-E13) -> 3.7430391 | F18: =E18 -> 3.7430391 | G18: =F18 -> 3.7430391 | H18: =G18 -> 3.7430391 | I18: =H18 -> 3.7430391 | J18: =I18 -> 3.7430391 | K18: =J18 -> 3.7430391 | L18: =K18 -> 3.7430391 | M18: =L18 -> 3.7430391
A19: 8 | B19: 2004 | F19: =PMT($B$5,$A$19,-F13) -> 2.4716242 | G19: =F19 -> 2.4716242 | H19: =G19 -> 2.4716242 | I19: =H19 -> 2.4716242 | J19: =I19 -> 2.4716242 | K19: =J19 -> 2.4716242 | L19: =K19 -> 2.4716242 | M19: =L19 -> 2.4716242
A20: 7 | B20: 2005 | G20: =PMT($B$5,$A$20,-G13) -> 2.6731748 | H20: =G20 -> 2.6731748 | I20: =H20 -> 2.6731748 | J20: =I20 -> 2.6731748 | K20: =J20 -> 2.6731748 | L20: =K20 -> 2.6731748 | M20: =L20 -> 2.6731748
A21: 6 | B21: 2006 | H21: =PMT($B$5,$A$21,-H13) -> 4.8224892 | I21: =H21 -> 4.8224892 | J21: =I21 -> 4.8224892 | K21: =J21 -> 4.8224892 | L21: =K21 -> 4.8224892 | M21: =L21 -> 4.8224892
A22: 5 | B22: 2007 | I22: =PMT($B$5,$A$22,-I13) -> 0.7513018 | J22: =I22 -> 0.7513018 | K22: =J22 -> 0.7513018 | L22: =K22 -> 0.7513018 | M22: =L22 -> 0.7513018
A23: 5 | B23: 2008 | J23: =PMT($B$5,$A$23,-J13) -> 1.9511278 | K23: =J23 -> 1.9511278 | L23: =K23 -> 1.9511278 | M23: =L23 -> 1.9511278 | N23: =M23 -> 1.9511278
A24: 5 | B24: 2009 | K24: =PMT($B$5,$A$24,-K13) -> 4.5538026 | L24: =K24 -> 4.5538026 | M24: =L24 -> 4.5538026 | N24: =M24 -> 4.5538026 | O24: =N24 -> 4.5538026
A25: 5 | B25: 2010 | L25: =PMT($B$5,$A$25,-L13) -> 13.1307 | M25: =L25 -> 13.1307 | N25: =M25 -> 13.1307 | O25: =N25 -> 13.1307 | P25: =O25 -> 13.1307
A26: 12 | B26: 2011 | M26: =PMT($B$5,$A$26,-M13) -> 19.29355 | N26: =M26 -> 19.29355 | O26: =N26 -> 19.29355 | P26: =O26 -> 19.29355 | Q26: =P26 -> 19.29355 | R26: =Q26 -> 19.29355 | S26: =R26 -> 19.29355 | T26: =S26 -> 19.29355 | U26: =T26 -> 19.29355 | ... X26: =W26 -> 19.29355
A27: EE Expenses
A28: Program Costs*** | C28: 13.051706 | D28: 48.242542 | E28: 55.546178 | F28: 50.851063 | G28: 47.193856 | H28: 52.841545 | I28: 50.905689 | J28: 44.130431 | K28: 45.20827 | L28: 52.663146 | M28: 53.74948
A29: Staff Costs | C29: 10.080307 | D29: 9.0374359 | E29: 6.2920587 | F29: 7.0045975 | G29: 7.1294753 | H29: 7.393775 | I29: 7.0169919 | J29: 8.2158451 | K29: 10.55793 | L29: 8.8698208 | M29: 9.9426776
A30: Total Expenses | C30: =SUM(C28:C29) -> 23.132013 | D30: =SUM(D28:D29) -> 57.279978 | E30: =SUM(E28:E29) -> 61.838236 | F30: =SUM(F28:F29) -> 57.855661 | G30: =SUM(G28:G29) -> 54.323332 | H30: =SUM(H28:H29) -> 60.23532 | I30: =SUM(I28:I29) -> 57.922681 | J30: =SUM(J28:J29) -> 52.346276 | ... M30: =SUM(M28:M29) -> 63.692158 | Y30: =SUM(C30:X30) -> 605.92482 | Z30: Total Expensed cost of EE 2001-2011 including Program/Staff costs
A32: EE Capital Costs
A33: Yearly Principal and Interest Paid on EE Borrowings since 2001**** | C33: =SUM(C16:C26) -> 2.3602603 | D33: =SUM(D16:D26) -> 2.4906936 | E33: =SUM(E16:E26) -> 6.2337326 | F33: =SUM(F16:F26) -> 8.7053568 | G33: =SUM(G16:G26) -> 11.378532 | H33: =SUM(H16:H26) -> 16.201021 | I33: =SUM(I16:I26) -> 16.952323 | J33: =SUM(J16:J26) -> 18.90345 | ... X33: =SUM(X16:X26) -> 19.29355 | Y33: =SUM(C33:X33) -> 483.07431 | Z33: Total Capital & Interest cost for investments in EE 2001-2022 (includes amortization of all investments 2001 - 2011)
A34: Annual Cost of EE Program | C34: =C30+C33 -> 25.492273 | D34: =D30+D33 -> 59.770671 | E34: =E30+E33 -> 68.071969 | F34: =F30+F33 -> 66.561018 | G34: =G30+G33 -> 65.701863 | H34: =H30+H33 -> 76.436341 | I34: =I30+I33 -> 74.875003 | J34: =J30+J33 -> 71.249726 | ... X34: =X30+X33 -> 19.29355
A35: BPA Booked Programmatic Savings (aMW) | C35: 28.8 | D35: 66 | E35: 61.1 | F35: 46.6 | G35: 40.7 | H35: 50.2 | I35: 54.1 | J35: 66.2 | K35: 61.1 | L35: 90.4 | M35: 117 | N35: 0 | O35: 0 | P35: 0 | Q35: 0 | R35: 0 | S35: 0 | T35: 0 | U35: 0 | V35: 0 | W35: 0 | X35: 0
A37: Annual Savings Per FY from EE | C37: =$C$35 -> 28.8 | D37: =$C$35 -> 28.8 | E37: =$C$35 -> 28.8 | F37: =$C$35 -> 28.8 | G37: =$C$35 -> 28.8 | H37: =$C$35 -> 28.8 | I37: =$C$35 -> 28.8 | J37: =$C$35 -> 28.8 | ... N37: =$C$35 -> 28.8 | O37: =$N$37*$B$8 -> 0 | P37: =$N$37*$B$8 -> 0 | Q37: =$N$37*$B$8 -> 0 | R37: =$N$37*$B$8 -> 0 | S37: =$N$37*$B$8 -> 0 | T37: =$N$37*$B$8 -> 0 | U37: =$N$37*$B$8 -> 0 | V37: =$N$37*$B$8 -> 0 | ... X37: =$N$37*$B$8 -> 0
A38: (assuming 12 year average measure life and persistence percentage) | D38: =$D$35 -> 66 | E38: =$D$35 -> 66 | F38: =$D$35 -> 66 | G38: =$D$35 -> 66 | H38: =$D$35 -> 66 | I38: =$D$35 -> 66 | J38: =$D$35 -> 66 | K38: =$D$35 -> 66 | ... O38: =$D$35 -> 66 | P38: =$O$38*$B$8 -> 0 | Q38: =$O$38*$B$8 -> 0 | R38: =$O$38*$B$8 -> 0 | S38: =$O$38*$B$8 -> 0 | T38: =$O$38*$B$8 -> 0 | U38: =$O$38*$B$8 -> 0 | V38: =$O$38*$B$8 -> 0 | W38: =$O$38*$B$8 -> 0 | X38: =$O$38*$B$8 -> 0
E39: =$E$35 -> 61.1 | F39: =$E$35 -> 61.1 | G39: =$E$35 -> 61.1 | H39: =$E$35 -> 61.1 | I39: =$E$35 -> 61.1 | J39: =$E$35 -> 61.1 | K39: =$E$35 -> 61.1 | L39: =$E$35 -> 61.1 | ... P39: =$E$35 -> 61.1 | Q39: =$P$39*$B$8 -> 0 | R39: =$P$39*$B$8 -> 0 | S39: =$P$39*$B$8 -> 0 | T39: =$P$39*$B$8 -> 0 | U39: =$P$39*$B$8 -> 0 | V39: =$P$39*$B$8 -> 0 | W39: =$P$39*$B$8 -> 0 | X39: =$P$39*$B$8 -> 0
F40: =$F$35 -> 46.6 | G40: =$F$35 -> 46.6 | H40: =$F$35 -> 46.6 | I40: =$F$35 -> 46.6 | J40: =$F$35 -> 46.6 | K40: =$F$35 -> 46.6 | L40: =$F$35 -> 46.6 | M40: =$F$35 -> 46.6 | ... Q40: =$F$35 -> 46.6 | R40: =$Q$40*$B$8 -> 0 | S40: =$Q$40*$B$8 -> 0 | T40: =$Q$40*$B$8 -> 0 | U40: =$Q$40*$B$8 -> 0 | V40: =$Q$40*$B$8 -> 0 | W40: =$Q$40*$B$8 -> 0 | X40: =$Q$40*$B$8 -> 0
G41: =$G$35 -> 40.7 | H41: =$G$35 -> 40.7 | I41: =$G$35 -> 40.7 | J41: =$G$35 -> 40.7 | K41: =$G$35 -> 40.7 | L41: =$G$35 -> 40.7 | M41: =$G$35 -> 40.7 | N41: =$G$35 -> 40.7 | ... R41: =$G$35 -> 40.7 | S41: =$R$41*$B$8 -> 0 | T41: =$R$41*$B$8 -> 0 | U41: =$R$41*$B$8 -> 0 | V41: =$R$41*$B$8 -> 0 | W41: =$R$41*$B$8 -> 0 | X41: =$R$41*$B$8 -> 0
H42: =$H$35 -> 50.2 | I42: =$H$35 -> 50.2 | J42: =$H$35 -> 50.2 | K42: =$H$35 -> 50.2 | L42: =$H$35 -> 50.2 | M42: =$H$35 -> 50.2 | N42: =$H$35 -> 50.2 | O42: =$H$35 -> 50.2 | ... S42: =$H$35 -> 50.2 | T42: =$S$42*$B$8 -> 0 | U42: =$S$42*$B$8 -> 0 | V42: =$S$42*$B$8 -> 0 | W42: =$S$42*$B$8 -> 0 | X42: =$S$42*$B$8 -> 0
I43: =$I$35 -> 54.1 | J43: =$I$35 -> 54.1 | K43: =$I$35 -> 54.1 | L43: =$I$35 -> 54.1 | M43: =$I$35 -> 54.1 | N43: =$I$35 -> 54.1 | O43: =$I$35 -> 54.1 | P43: =$I$35 -> 54.1 | ... T43: =$I$35 -> 54.1 | U43: =$T$43*$B$8 -> 0 | V43: =$T$43*$B$8 -> 0 | W43: =$T$43*$B$8 -> 0 | X43: =$T$43*$B$8 -> 0
J44: =$J$35 -> 66.2 | K44: =$J$35 -> 66.2 | L44: =$J$35 -> 66.2 | M44: =$J$35 -> 66.2 | N44: =$J$35 -> 66.2 | O44: =$J$35 -> 66.2 | P44: =$J$35 -> 66.2 | Q44: =$J$35 -> 66.2 | ... U44: =$J$35 -> 66.2 | V44: =$U$44*$B$8 -> 0 | W44: =$U$44*$B$8 -> 0 | X44: =$U$44*$B$8 -> 0
K45: =$K$35 -> 61.1 | L45: =$K$35 -> 61.1 | M45: =$K$35 -> 61.1 | N45: =$K$35 -> 61.1 | O45: =$K$35 -> 61.1 | P45: =$K$35 -> 61.1 | Q45: =$K$35 -> 61.1 | R45: =$K$35 -> 61.1 | ... V45: =$K$35 -> 61.1 | W45: =$V$45*$B$8 -> 0 | X45: =$V$45*$B$8 -> 0
...

Sheet EE v Mid-C_HLH
A1: Energy Efficiency vs. Mid-C Analysis | Y1: 2001-2020 for Investments made through 2011
A2: (Dollar figures are nominal and in millions unless otherwise denoted)
A4: Assumptions
A5: Nominal Interest Rate | B5: 0.06
A6: Nominal Discount Rate | B6: =B5 -> 0.06
A7: Average Measure Life (years)* | B7: 12
A8: Percent of Savings Persistence** | B8: 0
A10: Fiscal Year | C10: 2001 | D10: 2002 | E10: 2003 | F10: 2004 | G10: 2005 | H10: 2006 | I10: 2007 | J10: 2008 | K10: 2009 | L10: 2010 | M10: 2011 | N10: 2012 | O10: 2013 | P10: 2014 | Q10: 2015 | R10: 2016 | S10: 2017 | T10: 2018 | U10: 2019 | V10: 2020 | W10: 2021 | X10: 2022
C11: ($ mil) | D11: ($ mil) | E11: ($ mil) | F11: ($ mil) | G11: ($ mil) | H11: ($ mil) | I11: ($ mil) | J11: ($ mil) | K11: ($ mil) | L11: ($ mil) | M11: ($ mil) | N11: ($ mil) | O11: ($ mil) | P11: ($ mil) | Q11: ($ mil) | R11: ($ mil) | S11: ($ mil) | T11: ($ mil) | U11: ($ mil) | V11: ($ mil) | W11: ($ mil) | X11: ($ mil)
A12: Capital EE Investments
A13: Amount Borrowed and Invested for EE | C13: 27.072 | D13: 0.96 | E13: 25.459 | F13: 15.348277 | G13: 14.922681 | H13: 23.713743 | I13: 3.1647565 | J13: 8.2188602 | K13: 19.182273 | L13: 55.311286 | M13: 161.75412 | N13: 0 | O13: 0 | P13: 0 | Q13: 0 | R13: 0 | S13: 0 | T13: 0 | U13: 0 | V13: 0 | W13: 0 | X13: 0 | Y13: =SUM(C13:X13) -> 355.10699 | Z13: Total Capital Cost of EE 2001 - 2011
A15: Amortization Payment (calculated using PMT function, based on amortization periods below) | B15: FY
A16: 20 | B16: 2001 | C16: =PMT($B$5,$A$16,-C13) -> 2.3602603 | D16: =C16 -> 2.3602603 | E16: =D16 -> 2.3602603 | F16: =E16 -> 2.3602603 | G16: =F16 -> 2.3602603 | H16: =G16 -> 2.3602603 | I16: =H16 -> 2.3602603 | J16: =I16 -> 2.3602603 | K16: =J16 -> 2.3602603 | ... V16: =U16 -> 2.3602603
A17: 10 | B17: 2002 | D17: =PMT($B$5,$A$17,-D13) -> 0.13043324 | E17: =D17 -> 0.13043324 | F17: =E17 -> 0.13043324 | G17: =F17 -> 0.13043324 | H17: =G17 -> 0.13043324 | I17: =H17 -> 0.13043324 | J17: =I17 -> 0.13043324 | K17: =J17 -> 0.13043324 | L17: =K17 -> 0.13043324 | M17: =L17 -> 0.13043324
A18: 9 | B18: 2003 | E18: =PMT($B$5,$A$18,-E13) -> 3.7430391 | F18: =E18 -> 3.7430391 | G18: =F18 -> 3.7430391 | H18: =G18 -> 3.7430391 | I18: =H18 -> 3.7430391 | J18: =I18 -> 3.7430391 | K18: =J18 -> 3.7430391 | L18: =K18 -> 3.7430391 | M18: =L18 -> 3.7430391
A19: 8 | B19: 2004 | F19: =PMT($B$5,$A$19,-F13) -> 2.4716242 | G19: =F19 -> 2.4716242 | H19: =G19 -> 2.4716242 | I19: =H19 -> 2.4716242 | J19: =I19 -> 2.4716242 | K19: =J19 -> 2.4716242 | L19: =K19 -> 2.4716242 | M19: =L19 -> 2.4716242
A20: 7 | B20: 2005 | G20: =PMT($B$5,$A$20,-G13) -> 2.6731748 | H20: =G20 -> 2.6731748 | I20: =H20 -> 2.6731748 | J20: =I20 -> 2.6731748 | K20: =J20 -> 2.6731748 | L20: =K20 -> 2.6731748 | M20: =L20 -> 2.6731748
A21: 6 | B21: 2006 | H21: =PMT($B$5,$A$21,-H13) -> 4.8224892 | I21: =H21 -> 4.8224892 | J21: =I21 -> 4.8224892 | K21: =J21 -> 4.8224892 | L21: =K21 -> 4.8224892 | M21: =L21 -> 4.8224892
A22: 5 | B22: 2007 | I22: =PMT($B$5,$A$22,-I13) -> 0.7513018 | J22: =I22 -> 0.7513018 | K22: =J22 -> 0.7513018 | L22: =K22 -> 0.7513018 | M22: =L22 -> 0.7513018
A23: 5 | B23: 2008 | J23: =PMT($B$5,$A$23,-J13) -> 1.9511278 | K23: =J23 -> 1.9511278 | L23: =K23 -> 1.9511278 | M23: =L23 -> 1.9511278 | N23: =M23 -> 1.9511278
A24: 5 | B24: 2009 | K24: =PMT($B$5,$A$24,-K13) -> 4.5538026 | L24: =K24 -> 4.5538026 | M24: =L24 -> 4.5538026 | N24: =M24 -> 4.5538026 | O24: =N24 -> 4.5538026
A25: 5 | B25: 2010 | L25: =PMT($B$5,$A$25,-L13) -> 13.1307 | M25: =L25 -> 13.1307 | N25: =M25 -> 13.1307 | O25: =N25 -> 13.1307 | P25: =O25 -> 13.1307
A26: 12 | B26: 2011 | M26: =PMT($B$5,$A$26,-M13) -> 19.29355 | N26: =M26 -> 19.29355 | O26: =N26 -> 19.29355 | P26: =O26 -> 19.29355 | Q26: =P26 -> 19.29355 | R26: =Q26 -> 19.29355 | S26: =R26 -> 19.29355 | T26: =S26 -> 19.29355 | U26: =T26 -> 19.29355 | ... X26: =W26 -> 19.29355
A27: EE Expenses
A28: Program Costs*** | C28: 13.051706 | D28: 48.242542 | E28: 55.546178 | F28: 50.851063 | G28: 47.193856 | H28: 52.841545 | I28: 50.905689 | J28: 44.130431 | K28: 45.20827 | L28: 52.663146 | M28: 53.74948
A29: Staff Costs | C29: 10.080307 | D29: 9.0374359 | E29: 6.2920587 | F29: 7.0045975 | G29: 7.1294753 | H29: 7.393775 | I29: 7.0169919 | J29: 8.2158451 | K29: 10.55793 | L29: 8.8698208 | M29: 9.9426776
A30: Total Expenses | C30: =SUM(C28:C29) -> 23.132013 | D30: =SUM(D28:D29) -> 57.279978 | E30: =SUM(E28:E29) -> 61.838236 | F30: =SUM(F28:F29) -> 57.855661 | G30: =SUM(G28:G29) -> 54.323332 | H30: =SUM(H28:H29) -> 60.23532 | I30: =SUM(I28:I29) -> 57.922681 | J30: =SUM(J28:J29) -> 52.346276 | ... M30: =SUM(M28:M29) -> 63.692158 | Y30: =SUM(C30:X30) -> 605.92482 | Z30: Total Expensed cost of EE 2001-2011 including Program/Staff costs
A32: EE Capital Costs
A33: Yearly Principal and Interest Paid on EE Borrowings since 2001**** | C33: =SUM(C16:C26) -> 2.3602603 | D33: =SUM(D16:D26) -> 2.4906936 | E33: =SUM(E16:E26) -> 6.2337326 | F33: =SUM(F16:F26) -> 8.7053568 | G33: =SUM(G16:G26) -> 11.378532 | H33: =SUM(H16:H26) -> 16.201021 | I33: =SUM(I16:I26) -> 16.952323 | J33: =SUM(J16:J26) -> 18.90345 | ... X33: =SUM(X16:X26) -> 19.29355 | Y33: =SUM(C33:X33) -> 483.07431 | Z33: Total Capital & Interest cost for investments in EE 2001-2022 (includes amortization of all investments 2001 - 2011)
A34: Annual Cost of EE Program | C34: =C30+C33 -> 25.492273 | D34: =D30+D33 -> 59.770671 | E34: =E30+E33 -> 68.071969 | F34: =F30+F33 -> 66.561018 | G34: =G30+G33 -> 65.701863 | H34: =H30+H33 -> 76.436341 | I34: =I30+I33 -> 74.875003 | J34: =J30+J33 -> 71.249726 | ... X34: =X30+X33 -> 19.29355
A35: BPA Booked Programmatic Savings (aMW) | C35: 28.8 | D35: 66 | E35: 61.1 | F35: 46.6 | G35: 40.7 | H35: 50.2 | I35: 54.1 | J35: 66.2 | K35: 61.1 | L35: 90.4 | M35: 117 | N35: 0 | O35: 0 | P35: 0 | Q35: 0 | R35: 0 | S35: 0 | T35: 0 | U35: 0 | V35: 0 | W35: 0 | X35: 0
A37: Annual Savings Per FY from EE | C37: =$C$35 -> 28.8 | D37: =$C$35 -> 28.8 | E37: =$C$35 -> 28.8 | F37: =$C$35 -> 28.8 | G37: =$C$35 -> 28.8 | H37: =$C$35 -> 28.8 | I37: =$C$35 -> 28.8 | J37: =$C$35 -> 28.8 | ... N37: =$C$35 -> 28.8 | O37: =$N$37*$B$8 -> 0 | P37: =$N$37*$B$8 -> 0 | Q37: =$N$37*$B$8 -> 0 | R37: =$N$37*$B$8 -> 0 | S37: =$N$37*$B$8 -> 0 | T37: =$N$37*$B$8 -> 0 | U37: =$N$37*$B$8 -> 0 | V37: =$N$37*$B$8 -> 0 | ... X37: =$N$37*$B$8 -> 0
A38: (assuming 12 year average measure life and persistence percentage) | D38: =$D$35 -> 66 | E38: =$D$35 -> 66 | F38: =$D$35 -> 66 | G38: =$D$35 -> 66 | H38: =$D$35 -> 66 | I38: =$D$35 -> 66 | J38: =$D$35 -> 66 | K38: =$D$35 -> 66 | ... O38: =$D$35 -> 66 | P38: =$O$38*$B$8 -> 0 | Q38: =$O$38*$B$8 -> 0 | R38: =$O$38*$B$8 -> 0 | S38: =$O$38*$B$8 -> 0 | T38: =$O$38*$B$8 -> 0 | U38: =$O$38*$B$8 -> 0 | V38: =$O$38*$B$8 -> 0 | W38: =$O$38*$B$8 -> 0 | X38: =$O$38*$B$8 -> 0
E39: =$E$35 -> 61.1 | F39: =$E$35 -> 61.1 | G39: =$E$35 -> 61.1 | H39: =$E$35 -> 61.1 | I39: =$E$35 -> 61.1 | J39: =$E$35 -> 61.1 | K39: =$E$35 -> 61.1 | L39: =$E$35 -> 61.1 | ... P39: =$E$35 -> 61.1 | Q39: =$P$39*$B$8 -> 0 | R39: =$P$39*$B$8 -> 0 | S39: =$P$39*$B$8 -> 0 | T39: =$P$39*$B$8 -> 0 | U39: =$P$39*$B$8 -> 0 | V39: =$P$39*$B$8 -> 0 | W39: =$P$39*$B$8 -> 0 | X39: =$P$39*$B$8 -> 0
F40: =$F$35 -> 46.6 | G40: =$F$35 -> 46.6 | H40: =$F$35 -> 46.6 | I40: =$F$35 -> 46.6 | J40: =$F$35 -> 46.6 | K40: =$F$35 -> 46.6 | L40: =$F$35 -> 46.6 | M40: =$F$35 -> 46.6 | ... Q40: =$F$35 -> 46.6 | R40: =$Q$40*$B$8 -> 0 | S40: =$Q$40*$B$8 -> 0 | T40: =$Q$40*$B$8 -> 0 | U40: =$Q$40*$B$8 -> 0 | V40: =$Q$40*$B$8 -> 0 | W40: =$Q$40*$B$8 -> 0 | X40: =$Q$40*$B$8 -> 0
G41: =$G$35 -> 40.7 | H41: =$G$35 -> 40.7 | I41: =$G$35 -> 40.7 | J41: =$G$35 -> 40.7 | K41: =$G$35 -> 40.7 | L41: =$G$35 -> 40.7 | M41: =$G$35 -> 40.7 | N41: =$G$35 -> 40.7 | ... R41: =$G$35 -> 40.7 | S41: =$R$41*$B$8 -> 0 | T41: =$R$41*$B$8 -> 0 | U41: =$R$41*$B$8 -> 0 | V41: =$R$41*$B$8 -> 0 | W41: =$R$41*$B$8 -> 0 | X41: =$R$41*$B$8 -> 0
H42: =$H$35 -> 50.2 | I42: =$H$35 -> 50.2 | J42: =$H$35 -> 50.2 | K42: =$H$35 -> 50.2 | L42: =$H$35 -> 50.2 | M42: =$H$35 -> 50.2 | N42: =$H$35 -> 50.2 | O42: =$H$35 -> 50.2 | ... S42: =$H$35 -> 50.2 | T42: =$S$42*$B$8 -> 0 | U42: =$S$42*$B$8 -> 0 | V42: =$S$42*$B$8 -> 0 | W42: =$S$42*$B$8 -> 0 | X42: =$S$42*$B$8 -> 0
I43: =$I$35 -> 54.1 | J43: =$I$35 -> 54.1 | K43: =$I$35 -> 54.1 | L43: =$I$35 -> 54.1 | M43: =$I$35 -> 54.1 | N43: =$I$35 -> 54.1 | O43: =$I$35 -> 54.1 | P43: =$I$35 -> 54.1 | ... T43: =$I$35 -> 54.1 | U43: =$T$43*$B$8 -> 0 | V43: =$T$43*$B$8 -> 0 | W43: =$T$43*$B$8 -> 0 | X43: =$T$43*$B$8 -> 0
J44: =$J$35 -> 66.2 | K44: =$J$35 -> 66.2 | L44: =$J$35 -> 66.2 | M44: =$J$35 -> 66.2 | N44: =$J$35 -> 66.2 | O44: =$J$35 -> 66.2 | P44: =$J$35 -> 66.2 | Q44: =$J$35 -> 66.2 | ... U44: =$J$35 -> 66.2 | V44: =$U$44*$B$8 -> 0 | W44: =$U$44*$B$8 -> 0 | X44: =$U$44*$B$8 -> 0
K45: =$K$35 -> 61.1 | L45: =$K$35 -> 61.1 | M45: =$K$35 -> 61.1 | N45: =$K$35 -> 61.1 | O45: =$K$35 -> 61.1 | P45: =$K$35 -> 61.1 | Q45: =$K$35 -> 61.1 | R45: =$K$35 -> 61.1 | ... V45: =$K$35 -> 61.1 | W45: =$V$45*$B$8 -> 0 | X45: =$V$45*$B$8 -> 0
...

Sheet EE v Mid-C_LLH
A1: Energy Efficiency vs. Mid-C Analysis | Y1: 2001-2020 for Investments made through 2011
A2: (Dollar figures are nominal and in millions unless otherwise denoted)
A4: Assumptions
A5: Nominal Interest Rate | B5: 0.06
A6: Nominal Discount Rate | B6: =B5 -> 0.06
A7: Average Measure Life (years)* | B7: 12
A8: Percent of Savings Persistence** | B8: 0
A10: Fiscal Year | C10: 2001 | D10: 2002 | E10: 2003 | F10: 2004 | G10: 2005 | H10: 2006 | I10: 2007 | J10: 2008 | K10: 2009 | L10: 2010 | M10: 2011 | N10: 2012 | O10: 2013 | P10: 2014 | Q10: 2015 | R10: 2016 | S10: 2017 | T10: 2018 | U10: 2019 | V10: 2020 | W10: 2021 | X10: 2022
C11: ($ mil) | D11: ($ mil) | E11: ($ mil) | F11: ($ mil) | G11: ($ mil) | H11: ($ mil) | I11: ($ mil) | J11: ($ mil) | K11: ($ mil) | L11: ($ mil) | M11: ($ mil) | N11: ($ mil) | O11: ($ mil) | P11: ($ mil) | Q11: ($ mil) | R11: ($ mil) | S11: ($ mil) | T11: ($ mil) | U11: ($ mil) | V11: ($ mil) | W11: ($ mil) | X11: ($ mil)
A12: Capital EE Investments
A13: Amount Borrowed and Invested for EE | C13: 27.072 | D13: 0.96 | E13: 25.459 | F13: 15.348277 | G13: 14.922681 | H13: 23.713743 | I13: 3.1647565 | J13: 8.2188602 | K13: 19.182273 | L13: 55.311286 | M13: 161.75412 | N13: 0 | O13: 0 | P13: 0 | Q13: 0 | R13: 0 | S13: 0 | T13: 0 | U13: 0 | V13: 0 | W13: 0 | X13: 0 | Y13: =SUM(C13:X13) -> 355.10699 | Z13: Total Capital Cost of EE 2001 - 2011
A15: Amortization Payment (calculated using PMT function, based on amortization periods below) | B15: FY
A16: 20 | B16: 2001 | C16: =PMT($B$5,$A$16,-C13) -> 2.3602603 | D16: =C16 -> 2.3602603 | E16: =D16 -> 2.3602603 | F16: =E16 -> 2.3602603 | G16: =F16 -> 2.3602603 | H16: =G16 -> 2.3602603 | I16: =H16 -> 2.3602603 | J16: =I16 -> 2.3602603 | K16: =J16 -> 2.3602603 | ... V16: =U16 -> 2.3602603
A17: 10 | B17: 2002 | D17: =PMT($B$5,$A$17,-D13) -> 0.13043324 | E17: =D17 -> 0.13043324 | F17: =E17 -> 0.13043324 | G17: =F17 -> 0.13043324 | H17: =G17 -> 0.13043324 | I17: =H17 -> 0.13043324 | J17: =I17 -> 0.13043324 | K17: =J17 -> 0.13043324 | L17: =K17 -> 0.13043324 | M17: =L17 -> 0.13043324
A18: 9 | B18: 2003 | E18: =PMT($B$5,$A$18,-E13) -> 3.7430391 | F18: =E18 -> 3.7430391 | G18: =F18 -> 3.7430391 | H18: =G18 -> 3.7430391 | I18: =H18 -> 3.7430391 | J18: =I18 -> 3.7430391 | K18: =J18 -> 3.7430391 | L18: =K18 -> 3.7430391 | M18: =L18 -> 3.7430391
A19: 8 | B19: 2004 | F19: =PMT($B$5,$A$19,-F13) -> 2.4716242 | G19: =F19 -> 2.4716242 | H19: =G19 -> 2.4716242 | I19: =H19 -> 2.4716242 | J19: =I19 -> 2.4716242 | K19: =J19 -> 2.4716242 | L19: =K19 -> 2.4716242 | M19: =L19 -> 2.4716242
A20: 7 | B20: 2005 | G20: =PMT($B$5,$A$20,-G13) -> 2.6731748 | H20: =G20 -> 2.6731748 | I20: =H20 -> 2.6731748 | J20: =I20 -> 2.6731748 | K20: =J20 -> 2.6731748 | L20: =K20 -> 2.6731748 | M20: =L20 -> 2.6731748
A21: 6 | B21: 2006 | H21: =PMT($B$5,$A$21,-H13) -> 4.8224892 | I21: =H21 -> 4.8224892 | J21: =I21 -> 4.8224892 | K21: =J21 -> 4.8224892 | L21: =K21 -> 4.8224892 | M21: =L21 -> 4.8224892
A22: 5 | B22: 2007 | I22: =PMT($B$5,$A$22,-I13) -> 0.7513018 | J22: =I22 -> 0.7513018 | K22: =J22 -> 0.7513018 | L22: =K22 -> 0.7513018 | M22: =L22 -> 0.7513018
A23: 5 | B23: 2008 | J23: =PMT($B$5,$A$23,-J13) -> 1.9511278 | K23: =J23 -> 1.9511278 | L23: =K23 -> 1.9511278 | M23: =L23 -> 1.9511278 | N23: =M23 -> 1.9511278
A24: 5 | B24: 2009 | K24: =PMT($B$5,$A$24,-K13) -> 4.5538026 | L24: =K24 -> 4.5538026 | M24: =L24 -> 4.5538026 | N24: =M24 -> 4.5538026 | O24: =N24 -> 4.5538026
A25: 5 | B25: 2010 | L25: =PMT($B$5,$A$25,-L13) -> 13.1307 | M25: =L25 -> 13.1307 | N25: =M25 -> 13.1307 | O25: =N25 -> 13.1307 | P25: =O25 -> 13.1307
A26: 12 | B26: 2011 | M26: =PMT($B$5,$A$26,-M13) -> 19.29355 | N26: =M26 -> 19.29355 | O26: =N26 -> 19.29355 | P26: =O26 -> 19.29355 | Q26: =P26 -> 19.29355 | R26: =Q26 -> 19.29355 | S26: =R26 -> 19.29355 | T26: =S26 -> 19.29355 | U26: =T26 -> 19.29355 | ... X26: =W26 -> 19.29355
A27: EE Expenses
A28: Program Costs*** | C28: 13.051706 | D28: 48.242542 | E28: 55.546178 | F28: 50.851063 | G28: 47.193856 | H28: 52.841545 | I28: 50.905689 | J28: 44.130431 | K28: 45.20827 | L28: 52.663146 | M28: 53.74948
A29: Staff Costs | C29: 10.080307 | D29: 9.0374359 | E29: 6.2920587 | F29: 7.0045975 | G29: 7.1294753 | H29: 7.393775 | I29: 7.0169919 | J29: 8.2158451 | K29: 10.55793 | L29: 8.8698208 | M29: 9.9426776
A30: Total Expenses | C30: =SUM(C28:C29) -> 23.132013 | D30: =SUM(D28:D29) -> 57.279978 | E30: =SUM(E28:E29) -> 61.838236 | F30: =SUM(F28:F29) -> 57.855661 | G30: =SUM(G28:G29) -> 54.323332 | H30: =SUM(H28:H29) -> 60.23532 | I30: =SUM(I28:I29) -> 57.922681 | J30: =SUM(J28:J29) -> 52.346276 | ... M30: =SUM(M28:M29) -> 63.692158 | Y30: =SUM(C30:X30) -> 605.92482 | Z30: Total Expensed cost of EE 2001-2011 including Program/Staff costs
A32: EE Capital Costs
A33: Yearly Principal and Interest Paid on EE Borrowings since 2001**** | C33: =SUM(C16:C26) -> 2.3602603 | D33: =SUM(D16:D26) -> 2.4906936 | E33: =SUM(E16:E26) -> 6.2337326 | F33: =SUM(F16:F26) -> 8.7053568 | G33: =SUM(G16:G26) -> 11.378532 | H33: =SUM(H16:H26) -> 16.201021 | I33: =SUM(I16:I26) -> 16.952323 | J33: =SUM(J16:J26) -> 18.90345 | ... X33: =SUM(X16:X26) -> 19.29355 | Y33: =SUM(C33:X33) -> 483.07431 | Z33: Total Capital & Interest cost for investments in EE 2001-2022 (includes amortization of all investments 2001 - 2011)
A34: Annual Cost of EE Program | C34: =C30+C33 -> 25.492273 | D34: =D30+D33 -> 59.770671 | E34: =E30+E33 -> 68.071969 | F34: =F30+F33 -> 66.561018 | G34: =G30+G33 -> 65.701863 | H34: =H30+H33 -> 76.436341 | I34: =I30+I33 -> 74.875003 | J34: =J30+J33 -> 71.249726 | ... X34: =X30+X33 -> 19.29355
A35: BPA Booked Programmatic Savings (aMW) | C35: 28.8 | D35: 66 | E35: 61.1 | F35: 46.6 | G35: 40.7 | H35: 50.2 | I35: 54.1 | J35: 66.2 | K35: 61.1 | L35: 90.4 | M35: 117 | N35: 0 | O35: 0 | P35: 0 | Q35: 0 | R35: 0 | S35: 0 | T35: 0 | U35: 0 | V35: 0 | W35: 0 | X35: 0
A37: Annual Savings Per FY from EE | C37: =$C$35 -> 28.8 | D37: =$C$35 -> 28.8 | E37: =$C$35 -> 28.8 | F37: =$C$35 -> 28.8 | G37: =$C$35 -> 28.8 | H37: =$C$35 -> 28.8 | I37: =$C$35 -> 28.8 | J37: =$C$35 -> 28.8 | ... N37: =$C$35 -> 28.8 | O37: =$N$37*$B$8 -> 0 | P37: =$N$37*$B$8 -> 0 | Q37: =$N$37*$B$8 -> 0 | R37: =$N$37*$B$8 -> 0 | S37: =$N$37*$B$8 -> 0 | T37: =$N$37*$B$8 -> 0 | U37: =$N$37*$B$8 -> 0 | V37: =$N$37*$B$8 -> 0 | ... X37: =$N$37*$B$8 -> 0
A38: (assuming 12 year average measure life and persistence percentage) | D38: =$D$35 -> 66 | E38: =$D$35 -> 66 | F38: =$D$35 -> 66 | G38: =$D$35 -> 66 | H38: =$D$35 -> 66 | I38: =$D$35 -> 66 | J38: =$D$35 -> 66 | K38: =$D$35 -> 66 | ... O38: =$D$35 -> 66 | P38: =$O$38*$B$8 -> 0 | Q38: =$O$38*$B$8 -> 0 | R38: =$O$38*$B$8 -> 0 | S38: =$O$38*$B$8 -> 0 | T38: =$O$38*$B$8 -> 0 | U38: =$O$38*$B$8 -> 0 | V38: =$O$38*$B$8 -> 0 | W38: =$O$38*$B$8 -> 0 | X38: =$O$38*$B$8 -> 0
E39: =$E$35 -> 61.1 | F39: =$E$35 -> 61.1 | G39: =$E$35 -> 61.1 | H39: =$E$35 -> 61.1 | I39: =$E$35 -> 61.1 | J39: =$E$35 -> 61.1 | K39: =$E$35 -> 61.1 | L39: =$E$35 -> 61.1 | ... P39: =$E$35 -> 61.1 | Q39: =$P$39*$B$8 -> 0 | R39: =$P$39*$B$8 -> 0 | S39: =$P$39*$B$8 -> 0 | T39: =$P$39*$B$8 -> 0 | U39: =$P$39*$B$8 -> 0 | V39: =$P$39*$B$8 -> 0 | W39: =$P$39*$B$8 -> 0 | X39: =$P$39*$B$8 -> 0
F40: =$F$35 -> 46.6 | G40: =$F$35 -> 46.6 | H40: =$F$35 -> 46.6 | I40: =$F$35 -> 46.6 | J40: =$F$35 -> 46.6 | K40: =$F$35 -> 46.6 | L40: =$F$35 -> 46.6 | M40: =$F$35 -> 46.6 | ... Q40: =$F$35 -> 46.6 | R40: =$Q$40*$B$8 -> 0 | S40: =$Q$40*$B$8 -> 0 | T40: =$Q$40*$B$8 -> 0 | U40: =$Q$40*$B$8 -> 0 | V40: =$Q$40*$B$8 -> 0 | W40: =$Q$40*$B$8 -> 0 | X40: =$Q$40*$B$8 -> 0
G41: =$G$35 -> 40.7 | H41: =$G$35 -> 40.7 | I41: =$G$35 -> 40.7 | J41: =$G$35 -> 40.7 | K41: =$G$35 -> 40.7 | L41: =$G$35 -> 40.7 | M41: =$G$35 -> 40.7 | N41: =$G$35 -> 40.7 | ... R41: =$G$35 -> 40.7 | S41: =$R$41*$B$8 -> 0 | T41: =$R$41*$B$8 -> 0 | U41: =$R$41*$B$8 -> 0 | V41: =$R$41*$B$8 -> 0 | W41: =$R$41*$B$8 -> 0 | X41: =$R$41*$B$8 -> 0
H42: =$H$35 -> 50.2 | I42: =$H$35 -> 50.2 | J42: =$H$35 -> 50.2 | K42: =$H$35 -> 50.2 | L42: =$H$35 -> 50.2 | M42: =$H$35 -> 50.2 | N42: =$H$35 -> 50.2 | O42: =$H$35 -> 50.2 | ... S42: =$H$35 -> 50.2 | T42: =$S$42*$B$8 -> 0 | U42: =$S$42*$B$8 -> 0 | V42: =$S$42*$B$8 -> 0 | W42: =$S$42*$B$8 -> 0 | X42: =$S$42*$B$8 -> 0
I43: =$I$35 -> 54.1 | J43: =$I$35 -> 54.1 | K43: =$I$35 -> 54.1 | L43: =$I$35 -> 54.1 | M43: =$I$35 -> 54.1 | N43: =$I$35 -> 54.1 | O43: =$I$35 -> 54.1 | P43: =$I$35 -> 54.1 | ... T43: =$I$35 -> 54.1 | U43: =$T$43*$B$8 -> 0 | V43: =$T$43*$B$8 -> 0 | W43: =$T$43*$B$8 -> 0 | X43: =$T$43*$B$8 -> 0
J44: =$J$35 -> 66.2 | K44: =$J$35 -> 66.2 | L44: =$J$35 -> 66.2 | M44: =$J$35 -> 66.2 | N44: =$J$35 -> 66.2 | O44: =$J$35 -> 66.2 | P44: =$J$35 -> 66.2 | Q44: =$J$35 -> 66.2 | ... U44: =$J$35 -> 66.2 | V44: =$U$44*$B$8 -> 0 | W44: =$U$44*$B$8 -> 0 | X44: =$U$44*$B$8 -> 0
K45: =$K$35 -> 61.1 | L45: =$K$35 -> 61.1 | M45: =$K$35 -> 61.1 | N45: =$K$35 -> 61.1 | O45: =$K$35 -> 61.1 | P45: =$K$35 -> 61.1 | Q45: =$K$35 -> 61.1 | R45: =$K$35 -> 61.1 | ... V45: =$K$35 -> 61.1 | W45: =$V$45*$B$8 -> 0 | X45: =$V$45*$B$8 -> 0
...

Sheet EE v Mid-C_FYQ3 Flat
A1: Energy Efficiency vs. Mid-C Analysis | Y1: 2001-2020 for Investments made through 2011
A2: (Dollar figures are nominal and in millions unless otherwise denoted)
A4: Assumptions
A5: Nominal Interest Rate | B5: 0.06
A6: Nominal Discount Rate | B6: =B5 -> 0.06
A7: Average Measure Life (years)* | B7: 12
A8: Percent of Savings Persistence** | B8: 0
A10: Fiscal Year | C10: 2001 | D10: 2002 | E10: 2003 | F10: 2004 | G10: 2005 | H10: 2006 | I10: 2007 | J10: 2008 | K10: 2009 | L10: 2010 | M10: 2011 | N10: 2012 | O10: 2013 | P10: 2014 | Q10: 2015 | R10: 2016 | S10: 2017 | T10: 2018 | U10: 2019 | V10: 2020 | W10: 2021 | X10: 2022
C11: ($ mil) | D11: ($ mil) | E11: ($ mil) | F11: ($ mil) | G11: ($ mil) | H11: ($ mil) | I11: ($ mil) | J11: ($ mil) | K11: ($ mil) | L11: ($ mil) | M11: ($ mil) | N11: ($ mil) | O11: ($ mil) | P11: ($ mil) | Q11: ($ mil) | R11: ($ mil) | S11: ($ mil) | T11: ($ mil) | U11: ($ mil) | V11: ($ mil) | W11: ($ mil) | X11: ($ mil)
A12: Capital EE Investments
A13: Amount Borrowed and Invested for EE | C13: 27.072 | D13: 0.96 | E13: 25.459 | F13: 15.348277 | G13: 14.922681 | H13: 23.713743 | I13: 3.1647565 | J13: 8.2188602 | K13: 19.182273 | L13: 55.311286 | M13: 161.75412 | N13: 0 | O13: 0 | P13: 0 | Q13: 0 | R13: 0 | S13: 0 | T13: 0 | U13: 0 | V13: 0 | W13: 0 | X13: 0 | Y13: =SUM(C13:X13) -> 355.10699 | Z13: Total Capital Cost of EE 2001 - 2011
A15: Amortization Payment (calculated using PMT function, based on amortization periods below) | B15: FY
A16: 20 | B16: 2001 | C16: =PMT($B$5,$A$16,-C13) -> 2.3602603 | D16: =C16 -> 2.3602603 | E16: =D16 -> 2.3602603 | F16: =E16 -> 2.3602603 | G16: =F16 -> 2.3602603 | H16: =G16 -> 2.3602603 | I16: =H16 -> 2.3602603 | J16: =I16 -> 2.3602603 | K16: =J16 -> 2.3602603 | ... V16: =U16 -> 2.3602603
A17: 10 | B17: 2002 | D17: =PMT($B$5,$A$17,-D13) -> 0.13043324 | E17: =D17 -> 0.13043324 | F17: =E17 -> 0.13043324 | G17: =F17 -> 0.13043324 | H17: =G17 -> 0.13043324 | I17: =H17 -> 0.13043324 | J17: =I17 -> 0.13043324 | K17: =J17 -> 0.13043324 | L17: =K17 -> 0.13043324 | M17: =L17 -> 0.13043324
A18: 9 | B18: 2003 | E18: =PMT($B$5,$A$18,-E13) -> 3.7430391 | F18: =E18 -> 3.7430391 | G18: =F18 -> 3.7430391 | H18: =G18 -> 3.7430391 | I18: =H18 -> 3.7430391 | J18: =I18 -> 3.7430391 | K18: =J18 -> 3.7430391 | L18: =K18 -> 3.7430391 | M18: =L18 -> 3.7430391
A19: 8 | B19: 2004 | F19: =PMT($B$5,$A$19,-F13) -> 2.4716242 | G19: =F19 -> 2.4716242 | H19: =G19 -> 2.4716242 | I19: =H19 -> 2.4716242 | J19: =I19 -> 2.4716242 | K19: =J19 -> 2.4716242 | L19: =K19 -> 2.4716242 | M19: =L19 -> 2.4716242
A20: 7 | B20: 2005 | G20: =PMT($B$5,$A$20,-G13) -> 2.6731748 | H20: =G20 -> 2.6731748 | I20: =H20 -> 2.6731748 | J20: =I20 -> 2.6731748 | K20: =J20 -> 2.6731748 | L20: =K20 -> 2.6731748 | M20: =L20 -> 2.6731748
A21: 6 | B21: 2006 | H21: =PMT($B$5,$A$21,-H13) -> 4.8224892 | I21: =H21 -> 4.8224892 | J21: =I21 -> 4.8224892 | K21: =J21 -> 4.8224892 | L21: =K21 -> 4.8224892 | M21: =L21 -> 4.8224892
A22: 5 | B22: 2007 | I22: =PMT($B$5,$A$22,-I13) -> 0.7513018 | J22: =I22 -> 0.7513018 | K22: =J22 -> 0.7513018 | L22: =K22 -> 0.7513018 | M22: =L22 -> 0.7513018
A23: 5 | B23: 2008 | J23: =PMT($B$5,$A$23,-J13) -> 1.9511278 | K23: =J23 -> 1.9511278 | L23: =K23 -> 1.9511278 | M23: =L23 -> 1.9511278 | N23: =M23 -> 1.9511278
A24: 5 | B24: 2009 | K24: =PMT($B$5,$A$24,-K13) -> 4.5538026 | L24: =K24 -> 4.5538026 | M24: =L24 -> 4.5538026 | N24: =M24 -> 4.5538026 | O24: =N24 -> 4.5538026
A25: 5 | B25: 2010 | L25: =PMT($B$5,$A$25,-L13) -> 13.1307 | M25: =L25 -> 13.1307 | N25: =M25 -> 13.1307 | O25: =N25 -> 13.1307 | P25: =O25 -> 13.1307
A26: 12 | B26: 2011 | M26: =PMT($B$5,$A$26,-M13) -> 19.29355 | N26: =M26 -> 19.29355 | O26: =N26 -> 19.29355 | P26: =O26 -> 19.29355 | Q26: =P26 -> 19.29355 | R26: =Q26 -> 19.29355 | S26: =R26 -> 19.29355 | T26: =S26 -> 19.29355 | U26: =T26 -> 19.29355 | ... X26: =W26 -> 19.29355
A27: EE Expenses
A28: Program Costs*** | C28: 13.051706 | D28: 48.242542 | E28: 55.546178 | F28: 50.851063 | G28: 47.193856 | H28: 52.841545 | I28: 50.905689 | J28: 44.130431 | K28: 45.20827 | L28: 52.663146 | M28: 53.74948
A29: Staff Costs | C29: 10.080307 | D29: 9.0374359 | E29: 6.2920587 | F29: 7.0045975 | G29: 7.1294753 | H29: 7.393775 | I29: 7.0169919 | J29: 8.2158451 | K29: 10.55793 | L29: 8.8698208 | M29: 9.9426776
A30: Total Expenses | C30: =SUM(C28:C29) -> 23.132013 | D30: =SUM(D28:D29) -> 57.279978 | E30: =SUM(E28:E29) -> 61.838236 | F30: =SUM(F28:F29) -> 57.855661 | G30: =SUM(G28:G29) -> 54.323332 | H30: =SUM(H28:H29) -> 60.23532 | I30: =SUM(I28:I29) -> 57.922681 | J30: =SUM(J28:J29) -> 52.346276 | ... M30: =SUM(M28:M29) -> 63.692158 | Y30: =SUM(C30:X30) -> 605.92482 | Z30: Total Expensed cost of EE 2001-2011 including Program/Staff costs
A32: EE Capital Costs
A33: Yearly Principal and Interest Paid on EE Borrowings since 2001**** | C33: =SUM(C16:C26) -> 2.3602603 | D33: =SUM(D16:D26) -> 2.4906936 | E33: =SUM(E16:E26) -> 6.2337326 | F33: =SUM(F16:F26) -> 8.7053568 | G33: =SUM(G16:G26) -> 11.378532 | H33: =SUM(H16:H26) -> 16.201021 | I33: =SUM(I16:I26) -> 16.952323 | J33: =SUM(J16:J26) -> 18.90345 | ... X33: =SUM(X16:X26) -> 19.29355 | Y33: =SUM(C33:X33) -> 483.07431 | Z33: Total Capital & Interest cost for investments in EE 2001-2022 (includes amortization of all investments 2001 - 2011)
A34: Annual Cost of EE Program | C34: =C30+C33 -> 25.492273 | D34: =D30+D33 -> 59.770671 | E34: =E30+E33 -> 68.071969 | F34: =F30+F33 -> 66.561018 | G34: =G30+G33 -> 65.701863 | H34: =H30+H33 -> 76.436341 | I34: =I30+I33 -> 74.875003 | J34: =J30+J33 -> 71.249726 | ... X34: =X30+X33 -> 19.29355
A35: BPA Booked Programmatic Savings (aMW) | C35: 28.8 | D35: 66 | E35: 61.1 | F35: 46.6 | G35: 40.7 | H35: 50.2 | I35: 54.1 | J35: 66.2 | K35: 61.1 | L35: 90.4 | M35: 117 | N35: 0 | O35: 0 | P35: 0 | Q35: 0 | R35: 0 | S35: 0 | T35: 0 | U35: 0 | V35: 0 | W35: 0 | X35: 0
A37: Annual Savings Per FY from EE | C37: =$C$35 -> 28.8 | D37: =$C$35 -> 28.8 | E37: =$C$35 -> 28.8 | F37: =$C$35 -> 28.8 | G37: =$C$35 -> 28.8 | H37: =$C$35 -> 28.8 | I37: =$C$35 -> 28.8 | J37: =$C$35 -> 28.8 | ... N37: =$C$35 -> 28.8 | O37: =$N$37*$B$8 -> 0 | P37: =$N$37*$B$8 -> 0 | Q37: =$N$37*$B$8 -> 0 | R37: =$N$37*$B$8 -> 0 | S37: =$N$37*$B$8 -> 0 | T37: =$N$37*$B$8 -> 0 | U37: =$N$37*$B$8 -> 0 | V37: =$N$37*$B$8 -> 0 | ... X37: =$N$37*$B$8 -> 0
A38: (assuming 12 year average measure life and persistence percentage) | D38: =$D$35 -> 66 | E38: =$D$35 -> 66 | F38: =$D$35 -> 66 | G38: =$D$35 -> 66 | H38: =$D$35 -> 66 | I38: =$D$35 -> 66 | J38: =$D$35 -> 66 | K38: =$D$35 -> 66 | ... O38: =$D$35 -> 66 | P38: =$O$38*$B$8 -> 0 | Q38: =$O$38*$B$8 -> 0 | R38: =$O$38*$B$8 -> 0 | S38: =$O$38*$B$8 -> 0 | T38: =$O$38*$B$8 -> 0 | U38: =$O$38*$B$8 -> 0 | V38: =$O$38*$B$8 -> 0 | W38: =$O$38*$B$8 -> 0 | X38: =$O$38*$B$8 -> 0
E39: =$E$35 -> 61.1 | F39: =$E$35 -> 61.1 | G39: =$E$35 -> 61.1 | H39: =$E$35 -> 61.1 | I39: =$E$35 -> 61.1 | J39: =$E$35 -> 61.1 | K39: =$E$35 -> 61.1 | L39: =$E$35 -> 61.1 | ... P39: =$E$35 -> 61.1 | Q39: =$P$39*$B$8 -> 0 | R39: =$P$39*$B$8 -> 0 | S39: =$P$39*$B$8 -> 0 | T39: =$P$39*$B$8 -> 0 | U39: =$P$39*$B$8 -> 0 | V39: =$P$39*$B$8 -> 0 | W39: =$P$39*$B$8 -> 0 | X39: =$P$39*$B$8 -> 0
F40: =$F$35 -> 46.6 | G40: =$F$35 -> 46.6 | H40: =$F$35 -> 46.6 | I40: =$F$35 -> 46.6 | J40: =$F$35 -> 46.6 | K40: =$F$35 -> 46.6 | L40: =$F$35 -> 46.6 | M40: =$F$35 -> 46.6 | ... Q40: =$F$35 -> 46.6 | R40: =$Q$40*$B$8 -> 0 | S40: =$Q$40*$B$8 -> 0 | T40: =$Q$40*$B$8 -> 0 | U40: =$Q$40*$B$8 -> 0 | V40: =$Q$40*$B$8 -> 0 | W40: =$Q$40*$B$8 -> 0 | X40: =$Q$40*$B$8 -> 0
G41: =$G$35 -> 40.7 | H41: =$G$35 -> 40.7 | I41: =$G$35 -> 40.7 | J41: =$G$35 -> 40.7 | K41: =$G$35 -> 40.7 | L41: =$G$35 -> 40.7 | M41: =$G$35 -> 40.7 | N41: =$G$35 -> 40.7 | ... R41: =$G$35 -> 40.7 | S41: =$R$41*$B$8 -> 0 | T41: =$R$41*$B$8 -> 0 | U41: =$R$41*$B$8 -> 0 | V41: =$R$41*$B$8 -> 0 | W41: =$R$41*$B$8 -> 0 | X41: =$R$41*$B$8 -> 0
H42: =$H$35 -> 50.2 | I42: =$H$35 -> 50.2 | J42: =$H$35 -> 50.2 | K42: =$H$35 -> 50.2 | L42: =$H$35 -> 50.2 | M42: =$H$35 -> 50.2 | N42: =$H$35 -> 50.2 | O42: =$H$35 -> 50.2 | ... S42: =$H$35 -> 50.2 | T42: =$S$42*$B$8 -> 0 | U42: =$S$42*$B$8 -> 0 | V42: =$S$42*$B$8 -> 0 | W42: =$S$42*$B$8 -> 0 | X42: =$S$42*$B$8 -> 0
I43: =$I$35 -> 54.1 | J43: =$I$35 -> 54.1 | K43: =$I$35 -> 54.1 | L43: =$I$35 -> 54.1 | M43: =$I$35 -> 54.1 | N43: =$I$35 -> 54.1 | O43: =$I$35 -> 54.1 | P43: =$I$35 -> 54.1 | ... T43: =$I$35 -> 54.1 | U43: =$T$43*$B$8 -> 0 | V43: =$T$43*$B$8 -> 0 | W43: =$T$43*$B$8 -> 0 | X43: =$T$43*$B$8 -> 0
J44: =$J$35 -> 66.2 | K44: =$J$35 -> 66.2 | L44: =$J$35 -> 66.2 | M44: =$J$35 -> 66.2 | N44: =$J$35 -> 66.2 | O44: =$J$35 -> 66.2 | P44: =$J$35 -> 66.2 | Q44: =$J$35 -> 66.2 | ... U44: =$J$35 -> 66.2 | V44: =$U$44*$B$8 -> 0 | W44: =$U$44*$B$8 -> 0 | X44: =$U$44*$B$8 -> 0
K45: =$K$35 -> 61.1 | L45: =$K$35 -> 61.1 | M45: =$K$35 -> 61.1 | N45: =$K$35 -> 61.1 | O45: =$K$35 -> 61.1 | P45: =$K$35 -> 61.1 | Q45: =$K$35 -> 61.1 | R45: =$K$35 -> 61.1 | ... V45: =$K$35 -> 61.1 | W45: =$V$45*$B$8 -> 0 | X45: =$V$45*$B$8 -> 0
...

Sheet EE v Mid-C_FYQ4 Flat
A1: Energy Efficiency vs. Mid-C Analysis | Y1: 2001-2020 for Investments made through 2011
A2: (Dollar figures are nominal and in millions unless otherwise denoted)
A4: Assumptions
A5: Nominal Interest Rate | B5: 0.06
A6: Nominal Discount Rate | B6: =B5 -> 0.06
A7: Average Measure Life (years)* | B7: 12
A8: Percent of Savings Persistence** | B8: 0
A10: Fiscal Year | C10: 2001 | D10: 2002 | E10: 2003 | F10: 2004 | G10: 2005 | H10: 2006 | I10: 2007 | J10: 2008 | K10: 2009 | L10: 2010 | M10: 2011 | N10: 2012 | O10: 2013 | P10: 2014 | Q10: 2015 | R10: 2016 | S10: 2017 | T10: 2018 | U10: 2019 | V10: 2020 | W10: 2021 | X10: 2022
C11: ($ mil) | D11: ($ mil) | E11: ($ mil) | F11: ($ mil) | G11: ($ mil) | H11: ($ mil) | I11: ($ mil) | J11: ($ mil) | K11: ($ mil) | L11: ($ mil) | M11: ($ mil) | N11: ($ mil) | O11: ($ mil) | P11: ($ mil) | Q11: ($ mil) | R11: ($ mil) | S11: ($ mil) | T11: ($ mil) | U11: ($ mil) | V11: ($ mil) | W11: ($ mil) | X11: ($ mil)
A12: Capital EE Investments
A13: Amount Borrowed and Invested for EE | C13: 27.072 | D13: 0.96 | E13: 25.459 | F13: 15.348277 | G13: 14.922681 | H13: 23.713743 | I13: 3.1647565 | J13: 8.2188602 | K13: 19.182273 | L13: 55.311286 | M13: 161.75412 | N13: 0 | O13: 0 | P13: 0 | Q13: 0 | R13: 0 | S13: 0 | T13: 0 | U13: 0 | V13: 0 | W13: 0 | X13: 0 | Y13: =SUM(C13:X13) -> 355.10699 | Z13: Total Capital Cost of EE 2001 - 2011
A15: Amortization Payment (calculated using PMT function, based on amortization periods below) | B15: FY
A16: 20 | B16: 2001 | C16: =PMT($B$5,$A$16,-C13) -> 2.3602603 | D16: =C16 -> 2.3602603 | E16: =D16 -> 2.3602603 | F16: =E16 -> 2.3602603 | G16: =F16 -> 2.3602603 | H16: =G16 -> 2.3602603 | I16: =H16 -> 2.3602603 | J16: =I16 -> 2.3602603 | K16: =J16 -> 2.3602603 | ... V16: =U16 -> 2.3602603
A17: 10 | B17: 2002 | D17: =PMT($B$5,$A$17,-D13) -> 0.13043324 | E17: =D17 -> 0.13043324 | F17: =E17 -> 0.13043324 | G17: =F17 -> 0.13043324 | H17: =G17 -> 0.13043324 | I17: =H17 -> 0.13043324 | J17: =I17 -> 0.13043324 | K17: =J17 -> 0.13043324 | L17: =K17 -> 0.13043324 | M17: =L17 -> 0.13043324
A18: 9 | B18: 2003 | E18: =PMT($B$5,$A$18,-E13) -> 3.7430391 | F18: =E18 -> 3.7430391 | G18: =F18 -> 3.7430391 | H18: =G18 -> 3.7430391 | I18: =H18 -> 3.7430391 | J18: =I18 -> 3.7430391 | K18: =J18 -> 3.7430391 | L18: =K18 -> 3.7430391 | M18: =L18 -> 3.7430391
A19: 8 | B19: 2004 | F19: =PMT($B$5,$A$19,-F13) -> 2.4716242 | G19: =F19 -> 2.4716242 | H19: =G19 -> 2.4716242 | I19: =H19 -> 2.4716242 | J19: =I19 -> 2.4716242 | K19: =J19 -> 2.4716242 | L19: =K19 -> 2.4716242 | M19: =L19 -> 2.4716242
A20: 7 | B20: 2005 | G20: =PMT($B$5,$A$20,-G13) -> 2.6731748 | H20: =G20 -> 2.6731748 | I20: =H20 -> 2.6731748 | J20: =I20 -> 2.6731748 | K20: =J20 -> 2.6731748 | L20: =K20 -> 2.6731748 | M20: =L20 -> 2.6731748
A21: 6 | B21: 2006 | H21: =PMT($B$5,$A$21,-H13) -> 4.8224892 | I21: =H21 -> 4.8224892 | J21: =I21 -> 4.8224892 | K21: =J21 -> 4.8224892 | L21: =K21 -> 4.8224892 | M21: =L21 -> 4.8224892
A22: 5 | B22: 2007 | I22: =PMT($B$5,$A$22,-I13) -> 0.7513018 | J22: =I22 -> 0.7513018 | K22: =J22 -> 0.7513018 | L22: =K22 -> 0.7513018 | M22: =L22 -> 0.7513018
A23: 5 | B23: 2008 | J23: =PMT($B$5,$A$23,-J13) -> 1.9511278 | K23: =J23 -> 1.9511278 | L23: =K23 -> 1.9511278 | M23: =L23 -> 1.9511278 | N23: =M23 -> 1.9511278
A24: 5 | B24: 2009 | K24: =PMT($B$5,$A$24,-K13) -> 4.5538026 | L24: =K24 -> 4.5538026 | M24: =L24 -> 4.5538026 | N24: =M24 -> 4.5538026 | O24: =N24 -> 4.5538026
A25: 5 | B25: 2010 | L25: =PMT($B$5,$A$25,-L13) -> 13.1307 | M25: =L25 -> 13.1307 | N25: =M25 -> 13.1307 | O25: =N25 -> 13.1307 | P25: =O25 -> 13.1307
A26: 12 | B26: 2011 | M26: =PMT($B$5,$A$26,-M13) -> 19.29355 | N26: =M26 -> 19.29355 | O26: =N26 -> 19.29355 | P26: =O26 -> 19.29355 | Q26: =P26 -> 19.29355 | R26: =Q26 -> 19.29355 | S26: =R26 -> 19.29355 | T26: =S26 -> 19.29355 | U26: =T26 -> 19.29355 | ... X26: =W26 -> 19.29355
A27: EE Expenses
A28: Program Costs*** | C28: 13.051706 | D28: 48.242542 | E28: 55.546178 | F28: 50.851063 | G28: 47.193856 | H28: 52.841545 | I28: 50.905689 | J28: 44.130431 | K28: 45.20827 | L28: 52.663146 | M28: 53.74948
A29: Staff Costs | C29: 10.080307 | D29: 9.0374359 | E29: 6.2920587 | F29: 7.0045975 | G29: 7.1294753 | H29: 7.393775 | I29: 7.0169919 | J29: 8.2158451 | K29: 10.55793 | L29: 8.8698208 | M29: 9.9426776
A30: Total Expenses | C30: =SUM(C28:C29) -> 23.132013 | D30: =SUM(D28:D29) -> 57.279978 | E30: =SUM(E28:E29) -> 61.838236 | F30: =SUM(F28:F29) -> 57.855661 | G30: =SUM(G28:G29) -> 54.323332 | H30: =SUM(H28:H29) -> 60.23532 | I30: =SUM(I28:I29) -> 57.922681 | J30: =SUM(J28:J29) -> 52.346276 | ... M30: =SUM(M28:M29) -> 63.692158 | Y30: =SUM(C30:X30) -> 605.92482 | Z30: Total Expensed cost of EE 2001-2011 including Program/Staff costs
A32: EE Capital Costs
A33: Yearly Principal and Interest Paid on EE Borrowings since 2001**** | C33: =SUM(C16:C26) -> 2.3602603 | D33: =SUM(D16:D26) -> 2.4906936 | E33: =SUM(E16:E26) -> 6.2337326 | F33: =SUM(F16:F26) -> 8.7053568 | G33: =SUM(G16:G26) -> 11.378532 | H33: =SUM(H16:H26) -> 16.201021 | I33: =SUM(I16:I26) -> 16.952323 | J33: =SUM(J16:J26) -> 18.90345 | ... X33: =SUM(X16:X26) -> 19.29355 | Y33: =SUM(C33:X33) -> 483.07431 | Z33: Total Capital & Interest cost for investments in EE 2001-2022 (includes amortization of all investments 2001 - 2011)
A34: Annual Cost of EE Program | C34: =C30+C33 -> 25.492273 | D34: =D30+D33 -> 59.770671 | E34: =E30+E33 -> 68.071969 | F34: =F30+F33 -> 66.561018 | G34: =G30+G33 -> 65.701863 | H34: =H30+H33 -> 76.436341 | I34: =I30+I33 -> 74.875003 | J34: =J30+J33 -> 71.249726 | ... X34: =X30+X33 -> 19.29355
A35: BPA Booked Programmatic Savings (aMW) | C35: 28.8 | D35: 66 | E35: 61.1 | F35: 46.6 | G35: 40.7 | H35: 50.2 | I35: 54.1 | J35: 66.2 | K35: 61.1 | L35: 90.4 | M35: 117 | N35: 0 | O35: 0 | P35: 0 | Q35: 0 | R35: 0 | S35: 0 | T35: 0 | U35: 0 | V35: 0 | W35: 0 | X35: 0
A37: Annual Savings Per FY from EE | C37: =$C$35 -> 28.8 | D37: =$C$35 -> 28.8 | E37: =$C$35 -> 28.8 | F37: =$C$35 -> 28.8 | G37: =$C$35 -> 28.8 | H37: =$C$35 -> 28.8 | I37: =$C$35 -> 28.8 | J37: =$C$35 -> 28.8 | ... N37: =$C$35 -> 28.8 | O37: =$N$37*$B$8 -> 0 | P37: =$N$37*$B$8 -> 0 | Q37: =$N$37*$B$8 -> 0 | R37: =$N$37*$B$8 -> 0 | S37: =$N$37*$B$8 -> 0 | T37: =$N$37*$B$8 -> 0 | U37: =$N$37*$B$8 -> 0 | V37: =$N$37*$B$8 -> 0 | ... X37: =$N$37*$B$8 -> 0
A38: (assuming 12 year average measure life and persistence percentage) | D38: =$D$35 -> 66 | E38: =$D$35 -> 66 | F38: =$D$35 -> 66 | G38: =$D$35 -> 66 | H38: =$D$35 -> 66 | I38: =$D$35 -> 66 | J38: =$D$35 -> 66 | K38: =$D$35 -> 66 | ... O38: =$D$35 -> 66 | P38: =$O$38*$B$8 -> 0 | Q38: =$O$38*$B$8 -> 0 | R38: =$O$38*$B$8 -> 0 | S38: =$O$38*$B$8 -> 0 | T38: =$O$38*$B$8 -> 0 | U38: =$O$38*$B$8 -> 0 | V38: =$O$38*$B$8 -> 0 | W38: =$O$38*$B$8 -> 0 | X38: =$O$38*$B$8 -> 0
E39: =$E$35 -> 61.1 | F39: =$E$35 -> 61.1 | G39: =$E$35 -> 61.1 | H39: =$E$35 -> 61.1 | I39: =$E$35 -> 61.1 | J39: =$E$35 -> 61.1 | K39: =$E$35 -> 61.1 | L39: =$E$35 -> 61.1 | ... P39: =$E$35 -> 61.1 | Q39: =$P$39*$B$8 -> 0 | R39: =$P$39*$B$8 -> 0 | S39: =$P$39*$B$8 -> 0 | T39: =$P$39*$B$8 -> 0 | U39: =$P$39*$B$8 -> 0 | V39: =$P$39*$B$8 -> 0 | W39: =$P$39*$B$8 -> 0 | X39: =$P$39*$B$8 -> 0
F40: =$F$35 -> 46.6 | G40: =$F$35 -> 46.6 | H40: =$F$35 -> 46.6 | I40: =$F$35 -> 46.6 | J40: =$F$35 -> 46.6 | K40: =$F$35 -> 46.6 | L40: =$F$35 -> 46.6 | M40: =$F$35 -> 46.6 | ... Q40: =$F$35 -> 46.6 | R40: =$Q$40*$B$8 -> 0 | S40: =$Q$40*$B$8 -> 0 | T40: =$Q$40*$B$8 -> 0 | U40: =$Q$40*$B$8 -> 0 | V40: =$Q$40*$B$8 -> 0 | W40: =$Q$40*$B$8 -> 0 | X40: =$Q$40*$B$8 -> 0
G41: =$G$35 -> 40.7 | H41: =$G$35 -> 40.7 | I41: =$G$35 -> 40.7 | J41: =$G$35 -> 40.7 | K41: =$G$35 -> 40.7 | L41: =$G$35 -> 40.7 | M41: =$G$35 -> 40.7 | N41: =$G$35 -> 40.7 | ... R41: =$G$35 -> 40.7 | S41: =$R$41*$B$8 -> 0 | T41: =$R$41*$B$8 -> 0 | U41: =$R$41*$B$8 -> 0 | V41: =$R$41*$B$8 -> 0 | W41: =$R$41*$B$8 -> 0 | X41: =$R$41*$B$8 -> 0
H42: =$H$35 -> 50.2 | I42: =$H$35 -> 50.2 | J42: =$H$35 -> 50.2 | K42: =$H$35 -> 50.2 | L42: =$H$35 -> 50.2 | M42: =$H$35 -> 50.2 | N42: =$H$35 -> 50.2 | O42: =$H$35 -> 50.2 | ... S42: =$H$35 -> 50.2 | T42: =$S$42*$B$8 -> 0 | U42: =$S$42*$B$8 -> 0 | V42: =$S$42*$B$8 -> 0 | W42: =$S$42*$B$8 -> 0 | X42: =$S$42*$B$8 -> 0
I43: =$I$35 -> 54.1 | J43: =$I$35 -> 54.1 | K43: =$I$35 -> 54.1 | L43: =$I$35 -> 54.1 | M43: =$I$35 -> 54.1 | N43: =$I$35 -> 54.1 | O43: =$I$35 -> 54.1 | P43: =$I$35 -> 54.1 | ... T43: =$I$35 -> 54.1 | U43: =$T$43*$B$8 -> 0 | V43: =$T$43*$B$8 -> 0 | W43: =$T$43*$B$8 -> 0 | X43: =$T$43*$B$8 -> 0
J44: =$J$35 -> 66.2 | K44: =$J$35 -> 66.2 | L44: =$J$35 -> 66.2 | M44: =$J$35 -> 66.2 | N44: =$J$35 -> 66.2 | O44: =$J$35 -> 66.2 | P44: =$J$35 -> 66.2 | Q44: =$J$35 -> 66.2 | ... U44: =$J$35 -> 66.2 | V44: =$U$44*$B$8 -> 0 | W44: =$U$44*$B$8 -> 0 | X44: =$U$44*$B$8 -> 0
K45: =$K$35 -> 61.1 | L45: =$K$35 -> 61.1 | M45: =$K$35 -> 61.1 | N45: =$K$35 -> 61.1 | O45: =$K$35 -> 61.1 | P45: =$K$35 -> 61.1 | Q45: =$K$35 -> 61.1 | R45: =$K$35 -> 61.1 | ... V45: =$K$35 -> 61.1 | W45: =$V$45*$B$8 -> 0 | X45: =$V$45*$B$8 -> 0
...

Sheet EE v Mid-C_High
A1: Energy Efficiency vs. Mid-C Analysis | Y1: 2001-2020 for Investments made through 2011
A2: (Dollar figures are nominal and in millions unless otherwise denoted)
A4: Assumptions
A5: Nominal Interest Rate | B5: 0.06
A6: Nominal Discount Rate | B6: =B5 -> 0.06
A7: Average Measure Life (years)* | B7: 12
A8: Percent of Savings Persistence** | B8: 0
A10: Fiscal Year | C10: 2001 | D10: 2002 | E10: 2003 | F10: 2004 | G10: 2005 | H10: 2006 | I10: 2007 | J10: 2008 | K10: 2009 | L10: 2010 | M10: 2011 | N10: 2012 | O10: 2013 | P10: 2014 | Q10: 2015 | R10: 2016 | S10: 2017 | T10: 2018 | U10: 2019 | V10: 2020 | W10: 2021 | X10: 2022
C11: ($ mil) | D11: ($ mil) | E11: ($ mil) | F11: ($ mil) | G11: ($ mil) | H11: ($ mil) | I11: ($ mil) | J11: ($ mil) | K11: ($ mil) | L11: ($ mil) | M11: ($ mil) | N11: ($ mil) | O11: ($ mil) | P11: ($ mil) | Q11: ($ mil) | R11: ($ mil) | S11: ($ mil) | T11: ($ mil) | U11: ($ mil) | V11: ($ mil) | W11: ($ mil) | X11: ($ mil)
A12: Capital EE Investments
A13: Amount Borrowed and Invested for EE | C13: 27.072 | D13: 0.96 | E13: 25.459 | F13: 15.348277 | G13: 14.922681 | H13: 23.713743 | I13: 3.1647565 | J13: 8.2188602 | K13: 19.182273 | L13: 55.311286 | M13: 161.75412 | N13: 0 | O13: 0 | P13: 0 | Q13: 0 | R13: 0 | S13: 0 | T13: 0 | U13: 0 | V13: 0 | W13: 0 | X13: 0 | Y13: =SUM(C13:X13) -> 355.10699 | Z13: Total Capital Cost of EE 2001 - 2011
A15: Amortization Payment (calculated using PMT function, based on amortization periods below) | B15: FY
A16: 20 | B16: 2001 | C16: =PMT($B$5,$A$16,-C13) -> 2.3602603 | D16: =C16 -> 2.3602603 | E16: =D16 -> 2.3602603 | F16: =E16 -> 2.3602603 | G16: =F16 -> 2.3602603 | H16: =G16 -> 2.3602603 | I16: =H16 -> 2.3602603 | J16: =I16 -> 2.3602603 | K16: =J16 -> 2.3602603 | ... V16: =U16 -> 2.3602603
A17: 10 | B17: 2002 | D17: =PMT($B$5,$A$17,-D13) -> 0.13043324 | E17: =D17 -> 0.13043324 | F17: =E17 -> 0.13043324 | G17: =F17 -> 0.13043324 | H17: =G17 -> 0.13043324 | I17: =H17 -> 0.13043324 | J17: =I17 -> 0.13043324 | K17: =J17 -> 0.13043324 | L17: =K17 -> 0.13043324 | M17: =L17 -> 0.13043324
A18: 9 | B18: 2003 | E18: =PMT($B$5,$A$18,-E13) -> 3.7430391 | F18: =E18 -> 3.7430391 | G18: =F18 -> 3.7430391 | H18: =G18 -> 3.7430391 | I18: =H18 -> 3.7430391 | J18: =I18 -> 3.7430391 | K18: =J18 -> 3.7430391 | L18: =K18 -> 3.7430391 | M18: =L18 -> 3.7430391
A19: 8 | B19: 2004 | F19: =PMT($B$5,$A$19,-F13) -> 2.4716242 | G19: =F19 -> 2.4716242 | H19: =G19 -> 2.4716242 | I19: =H19 -> 2.4716242 | J19: =I19 -> 2.4716242 | K19: =J19 -> 2.4716242 | L19: =K19 -> 2.4716242 | M19: =L19 -> 2.4716242
A20: 7 | B20: 2005 | G20: =PMT($B$5,$A$20,-G13) -> 2.6731748 | H20: =G20 -> 2.6731748 | I20: =H20 -> 2.6731748 | J20: =I20 -> 2.6731748 | K20: =J20 -> 2.6731748 | L20: =K20 -> 2.6731748 | M20: =L20 -> 2.6731748
A21: 6 | B21: 2006 | H21: =PMT($B$5,$A$21,-H13) -> 4.8224892 | I21: =H21 -> 4.8224892 | J21: =I21 -> 4.8224892 | K21: =J21 -> 4.8224892 | L21: =K21 -> 4.8224892 | M21: =L21 -> 4.8224892
A22: 5 | B22: 2007 | I22: =PMT($B$5,$A$22,-I13) -> 0.7513018 | J22: =I22 -> 0.7513018 | K22: =J22 -> 0.7513018 | L22: =K22 -> 0.7513018 | M22: =L22 -> 0.7513018
A23: 5 | B23: 2008 | J23: =PMT($B$5,$A$23,-J13) -> 1.9511278 | K23: =J23 -> 1.9511278 | L23: =K23 -> 1.9511278 | M23: =L23 -> 1.9511278 | N23: =M23 -> 1.9511278
A24: 5 | B24: 2009 | K24: =PMT($B$5,$A$24,-K13) -> 4.5538026 | L24: =K24 -> 4.5538026 | M24: =L24 -> 4.5538026 | N24: =M24 -> 4.5538026 | O24: =N24 -> 4.5538026
A25: 5 | B25: 2010 | L25: =PMT($B$5,$A$25,-L13) -> 13.1307 | M25: =L25 -> 13.1307 | N25: =M25 -> 13.1307 | O25: =N25 -> 13.1307 | P25: =O25 -> 13.1307
A26: 12 | B26: 2011 | M26: =PMT($B$5,$A$26,-M13) -> 19.29355 | N26: =M26 -> 19.29355 | O26: =N26 -> 19.29355 | P26: =O26 -> 19.29355 | Q26: =P26 -> 19.29355 | R26: =Q26 -> 19.29355 | S26: =R26 -> 19.29355 | T26: =S26 -> 19.29355 | U26: =T26 -> 19.29355 | ... X26: =W26 -> 19.29355
A27: EE Expenses
A28: Program Costs*** | C28: 13.051706 | D28: 48.242542 | E28: 55.546178 | F28: 50.851063 | G28: 47.193856 | H28: 52.841545 | I28: 50.905689 | J28: 44.130431 | K28: 45.20827 | L28: 52.663146 | M28: 53.74948
A29: Staff Costs | C29: 10.080307 | D29: 9.0374359 | E29: 6.2920587 | F29: 7.0045975 | G29: 7.1294753 | H29: 7.393775 | I29: 7.0169919 | J29: 8.2158451 | K29: 10.55793 | L29: 8.8698208 | M29: 9.9426776
A30: Total Expenses | C30: =SUM(C28:C29) -> 23.132013 | D30: =SUM(D28:D29) -> 57.279978 | E30: =SUM(E28:E29) -> 61.838236 | F30: =SUM(F28:F29) -> 57.855661 | G30: =SUM(G28:G29) -> 54.323332 | H30: =SUM(H28:H29) -> 60.23532 | I30: =SUM(I28:I29) -> 57.922681 | J30: =SUM(J28:J29) -> 52.346276 | ... M30: =SUM(M28:M29) -> 63.692158 | Y30: =SUM(C30:X30) -> 605.92482 | Z30: Total Expensed cost of EE 2001-2011 including Program/Staff costs
A32: EE Capital Costs
A33: Yearly Principal and Interest Paid on EE Borrowings since 2001**** | C33: =SUM(C16:C26) -> 2.3602603 | D33: =SUM(D16:D26) -> 2.4906936 | E33: =SUM(E16:E26) -> 6.2337326 | F33: =SUM(F16:F26) -> 8.7053568 | G33: =SUM(G16:G26) -> 11.378532 | H33: =SUM(H16:H26) -> 16.201021 | I33: =SUM(I16:I26) -> 16.952323 | J33: =SUM(J16:J26) -> 18.90345 | ... X33: =SUM(X16:X26) -> 19.29355 | Y33: =SUM(C33:X33) -> 483.07431 | Z33: Total Capital & Interest cost for investments in EE 2001-2022 (includes amortization of all investments 2001 - 2011)
A34: Annual Cost of EE Program | C34: =C30+C33 -> 25.492273 | D34: =D30+D33 -> 59.770671 | E34: =E30+E33 -> 68.071969 | F34: =F30+F33 -> 66.561018 | G34: =G30+G33 -> 65.701863 | H34: =H30+H33 -> 76.436341 | I34: =I30+I33 -> 74.875003 | J34: =J30+J33 -> 71.249726 | ... X34: =X30+X33 -> 19.29355
A35: BPA Booked Programmatic Savings (aMW) | C35: 28.8 | D35: 66 | E35: 61.1 | F35: 46.6 | G35: 40.7 | H35: 50.2 | I35: 54.1 | J35: 66.2 | K35: 61.1 | L35: 90.4 | M35: 117 | N35: 0 | O35: 0 | P35: 0 | Q35: 0 | R35: 0 | S35: 0 | T35: 0 | U35: 0 | V35: 0 | W35: 0 | X35: 0
A37: Annual Savings Per FY from EE | C37: =$C$35 -> 28.8 | D37: =$C$35 -> 28.8 | E37: =$C$35 -> 28.8 | F37: =$C$35 -> 28.8 | G37: =$C$35 -> 28.8 | H37: =$C$35 -> 28.8 | I37: =$C$35 -> 28.8 | J37: =$C$35 -> 28.8 | ... N37: =$C$35 -> 28.8 | O37: =$N$37*$B$8 -> 0 | P37: =$N$37*$B$8 -> 0 | Q37: =$N$37*$B$8 -> 0 | R37: =$N$37*$B$8 -> 0 | S37: =$N$37*$B$8 -> 0 | T37: =$N$37*$B$8 -> 0 | U37: =$N$37*$B$8 -> 0 | V37: =$N$37*$B$8 -> 0 | ... X37: =$N$37*$B$8 -> 0
A38: (assuming 12 year average measure life and persistence percentage) | D38: =$D$35 -> 66 | E38: =$D$35 -> 66 | F38: =$D$35 -> 66 | G38: =$D$35 -> 66 | H38: =$D$35 -> 66 | I38: =$D$35 -> 66 | J38: =$D$35 -> 66 | K38: =$D$35 -> 66 | ... O38: =$D$35 -> 66 | P38: =$O$38*$B$8 -> 0 | Q38: =$O$38*$B$8 -> 0 | R38: =$O$38*$B$8 -> 0 | S38: =$O$38*$B$8 -> 0 | T38: =$O$38*$B$8 -> 0 | U38: =$O$38*$B$8 -> 0 | V38: =$O$38*$B$8 -> 0 | W38: =$O$38*$B$8 -> 0 | X38: =$O$38*$B$8 -> 0
E39: =$E$35 -> 61.1 | F39: =$E$35 -> 61.1 | G39: =$E$35 -> 61.1 | H39: =$E$35 -> 61.1 | I39: =$E$35 -> 61.1 | J39: =$E$35 -> 61.1 | K39: =$E$35 -> 61.1 | L39: =$E$35 -> 61.1 | ... P39: =$E$35 -> 61.1 | Q39: =$P$39*$B$8 -> 0 | R39: =$P$39*$B$8 -> 0 | S39: =$P$39*$B$8 -> 0 | T39: =$P$39*$B$8 -> 0 | U39: =$P$39*$B$8 -> 0 | V39: =$P$39*$B$8 -> 0 | W39: =$P$39*$B$8 -> 0 | X39: =$P$39*$B$8 -> 0
F40: =$F$35 -> 46.6 | G40: =$F$35 -> 46.6 | H40: =$F$35 -> 46.6 | I40: =$F$35 -> 46.6 | J40: =$F$35 -> 46.6 | K40: =$F$35 -> 46.6 | L40: =$F$35 -> 46.6 | M40: =$F$35 -> 46.6 | ... Q40: =$F$35 -> 46.6 | R40: =$Q$40*$B$8 -> 0 | S40: =$Q$40*$B$8 -> 0 | T40: =$Q$40*$B$8 -> 0 | U40: =$Q$40*$B$8 -> 0 | V40: =$Q$40*$B$8 -> 0 | W40: =$Q$40*$B$8 -> 0 | X40: =$Q$40*$B$8 -> 0
G41: =$G$35 -> 40.7 | H41: =$G$35 -> 40.7 | I41: =$G$35 -> 40.7 | J41: =$G$35 -> 40.7 | K41: =$G$35 -> 40.7 | L41: =$G$35 -> 40.7 | M41: =$G$35 -> 40.7 | N41: =$G$35 -> 40.7 | ... R41: =$G$35 -> 40.7 | S41: =$R$41*$B$8 -> 0 | T41: =$R$41*$B$8 -> 0 | U41: =$R$41*$B$8 -> 0 | V41: =$R$41*$B$8 -> 0 | W41: =$R$41*$B$8 -> 0 | X41: =$R$41*$B$8 -> 0
H42: =$H$35 -> 50.2 | I42: =$H$35 -> 50.2 | J42: =$H$35 -> 50.2 | K42: =$H$35 -> 50.2 | L42: =$H$35 -> 50.2 | M42: =$H$35 -> 50.2 | N42: =$H$35 -> 50.2 | O42: =$H$35 -> 50.2 | ... S42: =$H$35 -> 50.2 | T42: =$S$42*$B$8 -> 0 | U42: =$S$42*$B$8 -> 0 | V42: =$S$42*$B$8 -> 0 | W42: =$S$42*$B$8 -> 0 | X42: =$S$42*$B$8 -> 0
I43: =$I$35 -> 54.1 | J43: =$I$35 -> 54.1 | K43: =$I$35 -> 54.1 | L43: =$I$35 -> 54.1 | M43: =$I$35 -> 54.1 | N43: =$I$35 -> 54.1 | O43: =$I$35 -> 54.1 | P43: =$I$35 -> 54.1 | ... T43: =$I$35 -> 54.1 | U43: =$T$43*$B$8 -> 0 | V43: =$T$43*$B$8 -> 0 | W43: =$T$43*$B$8 -> 0 | X43: =$T$43*$B$8 -> 0
J44: =$J$35 -> 66.2 | K44: =$J$35 -> 66.2 | L44: =$J$35 -> 66.2 | M44: =$J$35 -> 66.2 | N44: =$J$35 -> 66.2 | O44: =$J$35 -> 66.2 | P44: =$J$35 -> 66.2 | Q44: =$J$35 -> 66.2 | ... U44: =$J$35 -> 66.2 | V44: =$U$44*$B$8 -> 0 | W44: =$U$44*$B$8 -> 0 | X44: =$U$44*$B$8 -> 0
K45: =$K$35 -> 61.1 | L45: =$K$35 -> 61.1 | M45: =$K$35 -> 61.1 | N45: =$K$35 -> 61.1 | O45: =$K$35 -> 61.1 | P45: =$K$35 -> 61.1 | Q45: =$K$35 -> 61.1 | R45: =$K$35 -> 61.1 | ... V45: =$K$35 -> 61.1 | W45: =$V$45*$B$8 -> 0 | X45: =$V$45*$B$8 -> 0
...

Sheet EE v Mid-C_Low
A1: Energy Efficiency vs. Mid-C Analysis | Y1: 2001-2020 for Investments made through 2011
A2: (Dollar figures are nominal and in millions unless otherwise denoted)
A4: Assumptions
A5: Nominal Interest Rate | B5: 0.12
A6: Nominal Discount Rate | B6: 0.06
A7: Average Measure Life (years)* | B7: 10
A8: Percent of Savings Persistence** | B8: 0
A10: Fiscal Year | C10: 2001 | D10: 2002 | E10: 2003 | F10: 2004 | G10: 2005 | H10: 2006 | I10: 2007 | J10: 2008 | K10: 2009 | L10: 2010 | M10: 2011 | N10: 2012 | O10: 2013 | P10: 2014 | Q10: 2015 | R10: 2016 | S10: 2017 | T10: 2018 | U10: 2019 | V10: 2020 | W10: 2021 | X10: 2022
C11: ($ mil) | D11: ($ mil) | E11: ($ mil) | F11: ($ mil) | G11: ($ mil) | H11: ($ mil) | I11: ($ mil) | J11: ($ mil) | K11: ($ mil) | L11: ($ mil) | M11: ($ mil) | N11: ($ mil) | O11: ($ mil) | P11: ($ mil) | Q11: ($ mil) | R11: ($ mil) | S11: ($ mil) | T11: ($ mil) | U11: ($ mil) | V11: ($ mil) | W11: ($ mil) | X11: ($ mil)
A12: Capital EE Investments
A13: Amount Borrowed and Invested for EE | C13: 27.072 | D13: 0.96 | E13: 25.459 | F13: 15.348277 | G13: 14.922681 | H13: 23.713743 | I13: 3.1647565 | J13: 8.2188602 | K13: 19.182273 | L13: 55.311286 | M13: 161.75412 | N13: 0 | O13: 0 | P13: 0 | Q13: 0 | R13: 0 | S13: 0 | T13: 0 | U13: 0 | V13: 0 | W13: 0 | X13: 0 | Y13: =SUM(C13:X13) -> 355.10699 | Z13: Total Capital Cost of EE 2001 - 2011
A15: Amortization Payment (calculated using PMT function, based on amortization periods below) | B15: FY
A16: 20 | B16: 2001 | C16: =PMT($B$5,$A$16,-C13) -> 3.6243663 | D16: =C16 -> 3.6243663 | E16: =D16 -> 3.6243663 | F16: =E16 -> 3.6243663 | G16: =F16 -> 3.6243663 | H16: =G16 -> 3.6243663 | I16: =H16 -> 3.6243663 | J16: =I16 -> 3.6243663 | K16: =J16 -> 3.6243663 | ... V16: =U16 -> 3.6243663
A17: 10 | B17: 2002 | D17: =PMT($B$5,$A$17,-D13) -> 0.1699048 | E17: =D17 -> 0.1699048 | F17: =E17 -> 0.1699048 | G17: =F17 -> 0.1699048 | H17: =G17 -> 0.1699048 | I17: =H17 -> 0.1699048 | J17: =I17 -> 0.1699048 | K17: =J17 -> 0.1699048 | L17: =K17 -> 0.1699048 | M17: =L17 -> 0.1699048
A18: 9 | B18: 2003 | E18: =PMT($B$5,$A$18,-E13) -> 4.7781168 | F18: =E18 -> 4.7781168 | G18: =F18 -> 4.7781168 | H18: =G18 -> 4.7781168 | I18: =H18 -> 4.7781168 | J18: =I18 -> 4.7781168 | K18: =J18 -> 4.7781168 | L18: =K18 -> 4.7781168 | M18: =L18 -> 4.7781168
A19: 8 | B19: 2004 | F19: =PMT($B$5,$A$19,-F13) -> 3.0896517 | G19: =F19 -> 3.0896517 | H19: =G19 -> 3.0896517 | I19: =H19 -> 3.0896517 | J19: =I19 -> 3.0896517 | K19: =J19 -> 3.0896517 | L19: =K19 -> 3.0896517 | M19: =L19 -> 3.0896517
A20: 7 | B20: 2005 | G20: =PMT($B$5,$A$20,-G13) -> 3.2698241 | H20: =G20 -> 3.2698241 | I20: =H20 -> 3.2698241 | J20: =I20 -> 3.2698241 | K20: =J20 -> 3.2698241 | L20: =K20 -> 3.2698241 | M20: =L20 -> 3.2698241
A21: 6 | B21: 2006 | H21: =PMT($B$5,$A$21,-H13) -> 5.7677922 | I21: =H21 -> 5.7677922 | J21: =I21 -> 5.7677922 | K21: =J21 -> 5.7677922 | L21: =K21 -> 5.7677922 | M21: =L21 -> 5.7677922
A22: 5 | B22: 2007 | I22: =PMT($B$5,$A$22,-I13) -> 0.87793426 | J22: =I22 -> 0.87793426 | K22: =J22 -> 0.87793426 | L22: =K22 -> 0.87793426 | M22: =L22 -> 0.87793426
