Workbook
Name BlockList: #REF!
Name BlockList: #REF!
Name BlockScheduleList: '[1]Block Schedules'!$E$21:$E$22
Name BlockScheduleList: '[2]Block Schedules'!$E$21:$E$22
Name CHWM: #REF!
Name CustomerList: #REF!
Name Customers: #REF!
Name Customers: #REF!
Name loadstart: #REF!
Name options: 'Net Req Block Only'!#REF!
Name RHWMlock: #REF!
Name shape: 'Net Req Block Only'!#REF!
Name SliceList: #REF!
Name startmonth: #REF!
Name test: #REF!
Name YES: 'Net Req Block Only'!#REF!

Sheet Info
B2: Block with Shaping Capacity Model
B3: Contact Information: | C3: post2028@bpa.gov
B4: DateUpdated | C4: 45426
B6: Context:
B7: BPA has developed a tool to model the Block with Shaping Capacity product. This tool is for illustrative purposes and any data provided by BPA is subject to change.
B12: Table of Contents
B13: Tab | C13: Description | O13: Data and Calculations
B14: Customer Data | C14: This tab contains customer specific data and informs other tabs in the workbook. The calculation of a customer's annual net requirement, flat block, and diurnal shaped block, are shown on this tab. Percentages listed for % for Shaped Capacity as % of Block, Monthly Ramp Rate, and Max/Min Energy Delivery are BPA's proposed percentages. | O14: Data in orange are formula-based, either on energy Net Requirement calculations as they exist under Regional Dialogue, Provider of Choice slide material presented on November 14th 2023, or a combination of the two.
B15: Customer Specific Resources | C15: This tab calculates specified resources' QCC values based on generic assumed QCC percentages or customer specific inputted QCC percentages. | O15: WRAP QCC percentages are assumed for run of river, thermal, wind, solar, and storage hydro. If a customer knows their own WRAP QCC values, they may be entered under 'Other" in the table on the top right of the sheet.
B16: Load Data | C16: In this tab, customers may enter a given month's hourly forecast load and projected energy delivery amounts. Displayed at the top of the page are calculations that show if the energy delivery with capacity entered by the customer meets BPA's proposed criteria; maximum hourly ramp rate, minimum and maximum hourly energy delivery, monthly block energy taken, and whether 45% to 55% of the monthly block was taken in the first 14 calendar days of the month. This tab also feeds the Hourly and Daily Load Chart tabs. | O16: A customer must input their own hourly load forecast and projected energy delivery amounts. The formulas in this sheet calculate if any hour fails one of BPA's proposed criteria.
B17: Shaping Capacity XX% of Block | C17: This tab shows the calculation for the Block with Shaping Capacity up to XX % option. This option allows a customer to shape its block up to XX% in any given month. Block amounts will continue to be set based on Dedicated Resource energy amounts. No Peak Net Requirement implication.
B18: Shaping Capacity using PNR | C18: This tab shows the calculation for Block with Shaping Capacity above XX% up to P50. This option is tied directly to a customer's forecast monthly P50 peak amount. BPA will use Peak Net Requirement calculation to determine the amount of additional capacity a customer can access up to its P50.
B19: Hourly Load Chart | C19: Visual of customer's hourly load during one month as entered into the 'Load Data' tab. | O19: These data are fed from customer data input into the 'Load Data' tab
B20: Daily Load Chart | C20: Visual of customer's daily load during one month as entered into the 'Load Data' tab. | O20: These data are fed from customer data input into the 'Load Data' tab
B21: Net Req Block Only | C21: Performs background calculation and feeds into other tabs | O21: These data are fed directly from the 'Customer Data' tab and perform monthly block amounts as the calculation exists under Regional Dialogue.
B23: Instructions
B24: 1 | C24: Enter your data in the 'Customer Data' tab. Fields in green are customer specific data. Fields in orange perform calculations. Enter assumed HWM, Tier 2 service option if applicable. Select Ramp Rate option and enter ramp rate percentages. Enter monthly TRL load and P50 peak forecast data and monthly Existing, New and NLSL resource amounts. Enter diurnal monthly block shaping factors.
B25: 2 | C25: Enter Specified Resource data in the 'Customer Specific Resources' tab. Use the drop-down list in the Existing and New resource columns and associated maps if necessary to select the resource type. Enter the resource nameplate MW for each resource. If you would like to enter your own QCC values, please use the "Other" options in the drop down menu for column B/D and add QCC values to applicable line in table T14:AF23.
B26: 3 | C26: In the 'Load Data' tab, select appropriate month in cell C1 and desired Capacity Scenario in cell C2. Enter forecasted hourly load data in Column C. Calculate hourly energy delivery with capacity shaping outside of this tool and enter data into column E.
B27: 4 | C27: See blue 'Shaping Capacity XX% of Block' and 'Shaping Capacity using PNR' for numerical outcomes.
B28: 5 | C28: See pink 'Hourly Load Chart' and 'Daily Load Chart' for visual representation of the 'Load Data' tab.

Sheet Customer Data
B2: Fiscal Year | C2: 2024 | E2: Ramp Rate Options | N2: Flat Ramp Rate
B3: Customer Name | E3: Flat Ramp Rate | L3: <---- Toggle button | N3: Seasonal Ramp Rates
B4: TRL Forecast aMW | C4: =P23 -> 0 | L4: BPA Tier 2 | N4: Different Up/Down Ramp Rates
B5: HWM aMW
B6: Gross Annual Net Requirement | C6: =P23-P26-P27-P29 -> 0
B7: Annual Net Requirement MWh | C7: =ROUND(C6*O22,0) -> 0
B8: Above or Below HWM | C8: =IF(C5>C6,"Below HWM","Above HWM") -> Above HWM
B9: Above HWM Load Service | C9: New Resource | D9: <---- Toggle button
B10: Shaping Capacity as XX% of Monthly Block | C10: 0.1
B11: Flat Ramp Rate | C11: 0.2
B12: Min Energy Delivery | C12: 0.6
C14: 10 | D14: 11 | E14: 12 | F14: 1 | G14: 2 | H14: 3 | I14: 4 | J14: 5 | K14: 6 | L14: 7 | M14: 8 | N14: 9
B15: Seasonal Ramp Rates
B17: Up Ramp Rate
B18: Down Ramp Rate
B20: Calendar Year | C20: 2023 | D20: 2023 | E20: 2023 | F20: 2024 | G20: 2024 | H20: 2024 | I20: 2024 | J20: 2024 | K20: 2024 | L20: 2024 | M20: 2024 | N20: 2024
B21: Month | C21: 10 | D21: 11 | E21: 12 | F21: 1 | G21: 2 | H21: 3 | I21: 4 | J21: 5 | K21: 6 | L21: 7 | M21: 8 | N21: 9 | O21: Annual | P21: aMW
B22: Month Hours | C22: 744 | D22: 721 | E22: 744 | F22: 744 | G22: 696 | H22: 743 | I22: 720 | J22: 744 | K22: 720 | L22: 744 | M22: 744 | N22: 720 | O22: 8784
B23: TRL Forecast - Energy (MWh) | O23: =SUM(C23:N23) -> 0 | P23: =ROUND(O23/$O$22,3) -> 0
B24: TRL P50 Forecast Peak (MW)
B25: Load Factor | C25: =(C23/C22)/C24 -> #DIV/0! | D25: =(D23/D22)/D24 -> #DIV/0! | E25: =(E23/E22)/E24 -> #DIV/0! | F25: =(F23/F22)/F24 -> #DIV/0! | G25: =(G23/G22)/G24 -> #DIV/0! | H25: =(H23/H22)/H24 -> #DIV/0! | I25: =(I23/I22)/I24 -> #DIV/0! | J25: =(J23/J22)/J24 -> #DIV/0! | ... N25: =(N23/N22)/N24 -> #DIV/0!
B26: Existing Resources (MWh) | O26: =SUM(C26:N26) -> 0 | P26: =O26/O22 -> 0
B27: New Resources (MWh) | O27: =SUM(C27:N27) -> 0 | P27: =O27/O22 -> 0
B28: Additional Tier 2 New Resources (MWh) | C28: ='Net Req Block Only'!D60 -> 0 | D28: ='Net Req Block Only'!E60 -> 0 | E28: ='Net Req Block Only'!F60 -> 0 | F28: ='Net Req Block Only'!G60 -> 0 | G28: ='Net Req Block Only'!H60 -> 0 | H28: ='Net Req Block Only'!I60 -> 0 | I28: ='Net Req Block Only'!J60 -> 0 | J28: ='Net Req Block Only'!K60 -> 0 | ... N28: ='Net Req Block Only'!O60 -> 0 | O28: =SUM(C28:N28) -> 0 | P28: =O28/O22 -> 0
B29: NLSL Resources (MWh) | O29: =SUM(C29:N29) -> 0 | P29: =O29/O22 -> 0
B31: Calculation of Flat Block Amount | C31: 10 | D31: 11 | E31: 12 | F31: 1 | G31: 2 | H31: 3 | I31: 4 | J31: 5 | K31: 6 | L31: 7 | M31: 8 | N31: 9
B32: Monthly Block Shaping Factors | C32: =ROUND((C23-C26)/($O$23-$O$26),3) -> #DIV/0! | D32: =ROUND((D23-D26)/($O$23-$O$26),3) -> #DIV/0! | E32: =ROUND((E23-E26)/($O$23-$O$26),3) -> #DIV/0! | F32: =ROUND((F23-F26)/($O$23-$O$26),3) -> #DIV/0! | G32: =ROUND((G23-G26)/($O$23-$O$26),3) -> #DIV/0! | H32: =ROUND((H23-H26)/($O$23-$O$26),3) -> #DIV/0! | I32: =ROUND((I23-I26)/($O$23-$O$26),3) -> #DIV/0! | J32: =ROUND((J23-J26)/($O$23-$O$26),3) -> #DIV/0! | ... N32: =ROUND((N23-N26)/($O$23-$O$26),3) -> #DIV/0! | O32: =ROUND(SUM(C32:N32),) -> #DIV/0!
B33: Monthly T1 Block Amounts (MWh) | C33: ='Net Req Block Only'!D33 -> #DIV/0! | D33: ='Net Req Block Only'!E33 -> #DIV/0! | E33: ='Net Req Block Only'!F33 -> #DIV/0! | F33: ='Net Req Block Only'!G33 -> #DIV/0! | G33: ='Net Req Block Only'!H33 -> #DIV/0! | H33: ='Net Req Block Only'!I33 -> #DIV/0! | I33: ='Net Req Block Only'!J33 -> #DIV/0! | J33: ='Net Req Block Only'!K33 -> #DIV/0! | ... N33: ='Net Req Block Only'!O33 -> #DIV/0! | O33: =SUM(C33:N33) -> #DIV/0! | P33: =$O$33/$O$22 -> #DIV/0!
B34: Monthly T1 Block Amounts (MW/hr) | C34: =ROUND(C33/C22,0) -> #DIV/0! | D34: =ROUND(D33/D22,0) -> #DIV/0! | E34: =ROUND(E33/E22,0) -> #DIV/0! | F34: =ROUND(F33/F22,0) -> #DIV/0! | G34: =ROUND(G33/G22,0) -> #DIV/0! | H34: =ROUND(H33/H22,0) -> #DIV/0! | I34: =ROUND(I33/I22,0) -> #DIV/0! | J34: =ROUND(J33/J22,0) -> #DIV/0! | ... N34: =ROUND(N33/N22,0) -> #DIV/0!
B35: Tier 2 Block Amounts (MWh) | C35: ='Net Req Block Only'!D34 -> 0 | D35: ='Net Req Block Only'!E34 -> 0 | E35: ='Net Req Block Only'!F34 -> 0 | F35: ='Net Req Block Only'!G34 -> 0 | G35: ='Net Req Block Only'!H34 -> 0 | H35: ='Net Req Block Only'!I34 -> 0 | I35: ='Net Req Block Only'!J34 -> 0 | J35: ='Net Req Block Only'!K34 -> 0 | ... N35: ='Net Req Block Only'!O34 -> 0 | O35: =SUM(C35:N35) -> 0 | P35: =$O$35/$O$22 -> 0
B36: Tier 2 Blocks Amount (MW/hr) | C36: =ROUND(C35/C22,0) -> 0 | D36: =ROUND(D35/D22,0) -> 0 | E36: =ROUND(E35/E22,0) -> 0 | F36: =ROUND(F35/F22,0) -> 0 | G36: =ROUND(G35/G22,0) -> 0 | H36: =ROUND(H35/H22,0) -> 0 | I36: =ROUND(I35/I22,0) -> 0 | J36: =ROUND(J35/J22,0) -> 0 | ... N36: =ROUND(N35/N22,0) -> 0 | P36: =O36/O22 -> 0
B37: Total BPA Block Amount (MW/hr) | C37: =C34+C36 -> #DIV/0! | D37: =D34+D36 -> #DIV/0! | E37: =E34+E36 -> #DIV/0! | F37: =F34+F36 -> #DIV/0! | G37: =G34+G36 -> #DIV/0! | H37: =H34+H36 -> #DIV/0! | I37: =I34+I36 -> #DIV/0! | J37: =J34+J36 -> #DIV/0! | ... N37: =N34+N36 -> #DIV/0!
B39: Calculation of Diurnal Shaped Block* | C39: 10 | D39: 11 | E39: 12 | F39: 1 | G39: 2 | H39: 3 | I39: 4 | J39: 5 | K39: 6 | L39: 7 | M39: 8 | N39: 9
B40: Monthly Block Shaping Factors | C40: =C32 -> #DIV/0! | D40: =D32 -> #DIV/0! | E40: =E32 -> #DIV/0! | F40: =F32 -> #DIV/0! | G40: =G32 -> #DIV/0! | H40: =H32 -> #DIV/0! | I40: =I32 -> #DIV/0! | J40: =J32 -> #DIV/0! | ... N40: =N32 -> #DIV/0! | O40: =ROUND(SUM(C40:N40),0) -> #DIV/0!
B41: Monthly Block HLH Shaping Factors | C41: 0.6 | D41: 0.6 | E41: 0.6 | F41: 0.6 | G41: 0.6 | H41: 0.6 | I41: 0.6 | J41: 0.6 | K41: 0.6 | L41: 0.6 | M41: 0.6 | N41: 0.6
B42: Monthly Block LLH Shaping Factors | C42: 0.4 | D42: 0.4 | E42: 0.4 | F42: 0.4 | G42: 0.4 | H42: 0.4 | I42: 0.4 | J42: 0.4 | K42: 0.4 | L42: 0.4 | M42: 0.4 | N42: 0.4
B43: Monthly T1 Block Amounts (MW/hr) | C43: ='Net Req Block Only'!D41 -> #DIV/0! | D43: ='Net Req Block Only'!E41 -> #DIV/0! | E43: ='Net Req Block Only'!F41 -> #DIV/0! | F43: ='Net Req Block Only'!G41 -> #DIV/0! | G43: ='Net Req Block Only'!H41 -> #DIV/0! | H43: ='Net Req Block Only'!I41 -> #DIV/0! | I43: ='Net Req Block Only'!J41 -> #DIV/0! | J43: ='Net Req Block Only'!K41 -> #DIV/0! | ... N43: ='Net Req Block Only'!O41 -> #DIV/0! | O43: =SUM(C43:N43) -> #DIV/0! | P43: =$O$33/$O$22 -> #DIV/0!
B44: HLH - T1 Block Amounts (MW/hr) | C44: ='Net Req Block Only'!D42 -> #DIV/0! | D44: ='Net Req Block Only'!E42 -> #DIV/0! | E44: ='Net Req Block Only'!F42 -> #DIV/0! | F44: ='Net Req Block Only'!G42 -> #DIV/0! | G44: ='Net Req Block Only'!H42 -> #DIV/0! | H44: ='Net Req Block Only'!I42 -> #DIV/0! | I44: ='Net Req Block Only'!J42 -> #DIV/0! | J44: ='Net Req Block Only'!K42 -> #DIV/0! | ... N44: ='Net Req Block Only'!O42 -> #DIV/0!
B45: LLH - T1 Block Amounts (MW/hr) | C45: ='Net Req Block Only'!D43 -> #DIV/0! | D45: ='Net Req Block Only'!E43 -> #DIV/0! | E45: ='Net Req Block Only'!F43 -> #DIV/0! | F45: ='Net Req Block Only'!G43 -> #DIV/0! | G45: ='Net Req Block Only'!H43 -> #DIV/0! | H45: ='Net Req Block Only'!I43 -> #DIV/0! | I45: ='Net Req Block Only'!J43 -> #DIV/0! | J45: ='Net Req Block Only'!K43 -> #DIV/0! | ... N45: ='Net Req Block Only'!O43 -> #DIV/0! | O45: =SUM(C45:N45) -> #DIV/0! | P45: =$O$35/$O$22 -> 0
B46: Tier 2 Blocks Amount (MW/hr) | C46: =C36 -> 0 | D46: =D36 -> 0 | E46: =E36 -> 0 | F46: =F36 -> 0 | G46: =G36 -> 0 | H46: =H36 -> 0 | I46: =I36 -> 0 | J46: =J36 -> 0 | ... N46: =N36 -> 0
...

Sheet Customer Specific Resources
B2: Select a resource type from the drop down menu. | C2: Enter resource nameplate MW | D2: Select a resource type from the drop down menu | E2: Enter resource nameplate MW | T2: Assumed WRAP QCC values
B3: Existing Resource Type | C3: Existing Resource Nameplate (MW) | D3: New Resource Type | E3: New Resource Nameplate (MW) | F3: Solar Zone | M3: Wind Zone | T3: Resource Type | U3: Oct | V3: Nov | W3: Dec | X3: Jan | Y3: Feb | Z3: Mar | AA3: Apr | AB3: May | AC3: Jun | AD3: Jul | AE3: Aug | AF3: Sep
A4: 1 | T4: Run of River | U4: 0 | V4: 0.279 | W4: 0.278 | X4: 0.255 | Y4: 0.244 | Z4: 0.234 | AA4: 0 | AB4: 0 | AC4: =AVERAGE(0.71,0.3) -> 0.505 | AD4: =AVERAGE(0.71,0.26) -> 0.485 | AE4: =AVERAGE(0.63,0.21) -> 0.42 | AF4: =AVERAGE(0.63,0.2) -> 0.415
A5: 2 | T5: Thermal | U5: 0 | V5: 0.98 | W5: 0.98 | X5: 0.98 | Y5: 0.98 | Z5: 0.98 | AA5: 0 | AB5: 0 | AC5: 0.98 | AD5: 0.98 | AE5: 0.98 | AF5: 0.98
A6: 3 | T6: Wind Zone 1 | U6: 0 | V6: 0.088 | W6: 0.073 | X6: 0.056 | Y6: 0.086 | Z6: 0.137 | AA6: 0 | AB6: 0 | AC6: 0.19 | AD6: 0.22 | AE6: 0.18 | AF6: 0.13
A7: 4 | T7: Wind Zone 2 | U7: 0 | V7: 0.216 | W7: 0.236 | X7: 0.212 | Y7: 0.276 | Z7: 0.279 | AA7: 0 | AB7: 0 | AC7: 0.18 | AD7: 0.18 | AE7: 0.16 | AF7: 0.16
A8: 5 | T8: Wind Zone 3 | U8: 0 | V8: 0.471 | W8: 0.462 | X8: 0.305 | Y8: 0.231 | Z8: 0.362 | AA8: 0 | AB8: 0 | AC8: 0.13 | AD8: 0.12 | AE8: 0.13 | AF8: 0.14
A9: 6 | T9: Wind Zone 4 | U9: 0 | V9: 0.317 | W9: 0.332 | X9: 0.267 | Y9: 0.248 | Z9: 0.302 | AA9: 0 | AB9: 0 | AC9: 0.15 | AD9: 0.16 | AE9: 0.14 | AF9: 0.14
A10: 7 | T10: Solar Zone 1 | U10: 0 | V10: 0.013 | W10: 0.031 | X10: 0.033 | Y10: 0.031 | Z10: 0.051 | AA10: 0 | AB10: 0 | AC10: =AVERAGE(0.23,0.16) -> 0.195 | AD10: =AVERAGE(0.3,0.24) -> 0.27 | AE10: =AVERAGE(0.24,0.23) -> 0.235 | AF10: =AVERAGE(0.13,0.11) -> 0.12
A11: 8 | T11: Solar Zone 1A | U11: 0 | V11: 0.9 | W11: 0.019 | X11: 0.022 | Y11: 0.031 | Z11: 0.031 | AA11: 0 | AB11: 0 | AC11: =AVERAGE(0.23,0.16) -> 0.195 | AD11: =AVERAGE(0.3,0.24) -> 0.27 | AE11: =AVERAGE(0.24,0.23) -> 0.235 | AF11: =AVERAGE(0.13,0.11) -> 0.12
A12: 9 | T12: Solar Zone 2 | U12: 0 | V12: 0.052 | W12: 0.104 | X12: 0.152 | Y12: 0.152 | Z12: 0.108 | AA12: 0 | AB12: 0 | AC12: =AVERAGE(0.23,0.16) -> 0.195 | AD12: =AVERAGE(0.3,0.24) -> 0.27 | AE12: =AVERAGE(0.24,0.23) -> 0.235 | AF12: =AVERAGE(0.13,0.11) -> 0.12
A13: 10 | T13: Storage Hydro | U13: 0 | V13: 0.71155461 | W13: 0.72460906 | X13: 0.72884937 | Y13: 0.74273651 | Z13: 0.74739093 | AA13: 0 | AB13: 0 | AC13: 0.68594618 | AD13: 0.66556681 | AE13: 0.61929817 | AF13: 0.63134421
A14: 11 | T14: Other 1
A15: 12 | T15: Other 2
A16: 13 | T16: Other 3
A17: 14 | T17: Other 4
A18: 15 | T18: Other 5
A19: 16 | T19: Other 6
A20: 17 | T20: Other 7
A21: 18 | T21: Other 8
A22: 19 | T22: Other 9
A23: 20 | T23: Other 10
A24: 21 | T24: If you would like to enter your own QCC values, please use the "Other" options in the drop down menu for column B/D and add QCC values to applicable line in table above.
A25: 22
A26: 23
A27: 24
A28: 25
A29: 26
A30: 27
A31: 28
A32: 29
A33: 30
C36: Sum of Nameplate MW
C37: Oct | D37: Nov | E37: Dec | F37: Jan | G37: Feb | H37: Mar | I37: Apr | J37: May | K37: Jun | L37: Jul | M37: Aug | N37: Sep
B38: Run of River | C38: =SUMIF($B$4:$B$33,$B$38,$C$4:$C$33)+SUMIF($D$4:$D$33,$B$38,$E$5:$E$33) -> 0 | D38: =SUMIF($B$4:$B$33,$B$38,$C$4:$C$33)+SUMIF($D$4:$D$33,$B$38,$E$5:$E$33) -> 0 | E38: =SUMIF($B$4:$B$33,$B$38,$C$4:$C$33)+SUMIF($D$4:$D$33,$B$38,$E$5:$E$33) -> 0 | F38: =SUMIF($B$4:$B$33,$B$38,$C$4:$C$33)+SUMIF($D$4:$D$33,$B$38,$E$5:$E$33) -> 0 | G38: =SUMIF($B$4:$B$33,$B$38,$C$4:$C$33)+SUMIF($D$4:$D$33,$B$38,$E$5:$E$33) -> 0 | H38: =SUMIF($B$4:$B$33,$B$38,$C$4:$C$33)+SUMIF($D$4:$D$33,$B$38,$E$5:$E$33) -> 0 | I38: =SUMIF($B$4:$B$33,$B$38,$C$4:$C$33)+SUMIF($D$4:$D$33,$B$38,$E$5:$E$33) -> 0 | J38: =SUMIF($B$4:$B$33,$B$38,$C$4:$C$33)+SUMIF($D$4:$D$33,$B$38,$E$5:$E$33) -> 0 | ... N38: =SUMIF($B$4:$B$33,$B$38,$C$4:$C$33)+SUMIF($D$4:$D$33,$B$38,$E$5:$E$33) -> 0
B39: Thermal | C39: =SUMIF($B$4:$B$33,$B39,$C$4:$C$33)+SUMIF($D$4:$D$33,$B39,$E$5:$E$33) -> 0 | D39: =SUMIF($B$4:$B$33,$B39,$C$4:$C$33)+SUMIF($D$4:$D$33,$B39,$E$5:$E$33) -> 0 | E39: =SUMIF($B$4:$B$33,$B39,$C$4:$C$33)+SUMIF($D$4:$D$33,$B39,$E$5:$E$33) -> 0 | F39: =SUMIF($B$4:$B$33,$B39,$C$4:$C$33)+SUMIF($D$4:$D$33,$B39,$E$5:$E$33) -> 0 | G39: =SUMIF($B$4:$B$33,$B39,$C$4:$C$33)+SUMIF($D$4:$D$33,$B39,$E$5:$E$33) -> 0 | H39: =SUMIF($B$4:$B$33,$B39,$C$4:$C$33)+SUMIF($D$4:$D$33,$B39,$E$5:$E$33) -> 0 | I39: =SUMIF($B$4:$B$33,$B39,$C$4:$C$33)+SUMIF($D$4:$D$33,$B39,$E$5:$E$33) -> 0 | J39: =SUMIF($B$4:$B$33,$B39,$C$4:$C$33)+SUMIF($D$4:$D$33,$B39,$E$5:$E$33) -> 0 | ... N39: =SUMIF($B$4:$B$33,$B39,$C$4:$C$33)+SUMIF($D$4:$D$33,$B39,$E$5:$E$33) -> 0
B40: Wind Zone 1 | C40: =SUMIF($B$4:$B$33,$B40,$C$4:$C$33)+SUMIF($D$4:$D$33,$B40,$E$5:$E$33) -> 0 | D40: =SUMIF($B$4:$B$33,$B40,$C$4:$C$33)+SUMIF($D$4:$D$33,$B40,$E$5:$E$33) -> 0 | E40: =SUMIF($B$4:$B$33,$B40,$C$4:$C$33)+SUMIF($D$4:$D$33,$B40,$E$5:$E$33) -> 0 | F40: =SUMIF($B$4:$B$33,$B40,$C$4:$C$33)+SUMIF($D$4:$D$33,$B40,$E$5:$E$33) -> 0 | G40: =SUMIF($B$4:$B$33,$B40,$C$4:$C$33)+SUMIF($D$4:$D$33,$B40,$E$5:$E$33) -> 0 | H40: =SUMIF($B$4:$B$33,$B40,$C$4:$C$33)+SUMIF($D$4:$D$33,$B40,$E$5:$E$33) -> 0 | I40: =SUMIF($B$4:$B$33,$B40,$C$4:$C$33)+SUMIF($D$4:$D$33,$B40,$E$5:$E$33) -> 0 | J40: =SUMIF($B$4:$B$33,$B40,$C$4:$C$33)+SUMIF($D$4:$D$33,$B40,$E$5:$E$33) -> 0 | ... N40: =SUMIF($B$4:$B$33,$B40,$C$4:$C$33)+SUMIF($D$4:$D$33,$B40,$E$5:$E$33) -> 0
B41: Wind Zone 2 | C41: =SUMIF($B$4:$B$33,$B41,$C$4:$C$33)+SUMIF($D$4:$D$33,$B41,$E$5:$E$33) -> 0 | D41: =SUMIF($B$4:$B$33,$B41,$C$4:$C$33)+SUMIF($D$4:$D$33,$B41,$E$5:$E$33) -> 0 | E41: =SUMIF($B$4:$B$33,$B41,$C$4:$C$33)+SUMIF($D$4:$D$33,$B41,$E$5:$E$33) -> 0 | F41: =SUMIF($B$4:$B$33,$B41,$C$4:$C$33)+SUMIF($D$4:$D$33,$B41,$E$5:$E$33) -> 0 | G41: =SUMIF($B$4:$B$33,$B41,$C$4:$C$33)+SUMIF($D$4:$D$33,$B41,$E$5:$E$33) -> 0 | H41: =SUMIF($B$4:$B$33,$B41,$C$4:$C$33)+SUMIF($D$4:$D$33,$B41,$E$5:$E$33) -> 0 | I41: =SUMIF($B$4:$B$33,$B41,$C$4:$C$33)+SUMIF($D$4:$D$33,$B41,$E$5:$E$33) -> 0 | J41: =SUMIF($B$4:$B$33,$B41,$C$4:$C$33)+SUMIF($D$4:$D$33,$B41,$E$5:$E$33) -> 0 | ... N41: =SUMIF($B$4:$B$33,$B41,$C$4:$C$33)+SUMIF($D$4:$D$33,$B41,$E$5:$E$33) -> 0
B42: Wind Zone 3 | C42: =SUMIF($B$4:$B$33,$B42,$C$4:$C$33)+SUMIF($D$4:$D$33,$B42,$E$5:$E$33) -> 0 | D42: =SUMIF($B$4:$B$33,$B42,$C$4:$C$33)+SUMIF($D$4:$D$33,$B42,$E$5:$E$33) -> 0 | E42: =SUMIF($B$4:$B$33,$B42,$C$4:$C$33)+SUMIF($D$4:$D$33,$B42,$E$5:$E$33) -> 0 | F42: =SUMIF($B$4:$B$33,$B42,$C$4:$C$33)+SUMIF($D$4:$D$33,$B42,$E$5:$E$33) -> 0 | G42: =SUMIF($B$4:$B$33,$B42,$C$4:$C$33)+SUMIF($D$4:$D$33,$B42,$E$5:$E$33) -> 0 | H42: =SUMIF($B$4:$B$33,$B42,$C$4:$C$33)+SUMIF($D$4:$D$33,$B42,$E$5:$E$33) -> 0 | I42: =SUMIF($B$4:$B$33,$B42,$C$4:$C$33)+SUMIF($D$4:$D$33,$B42,$E$5:$E$33) -> 0 | J42: =SUMIF($B$4:$B$33,$B42,$C$4:$C$33)+SUMIF($D$4:$D$33,$B42,$E$5:$E$33) -> 0 | ... N42: =SUMIF($B$4:$B$33,$B42,$C$4:$C$33)+SUMIF($D$4:$D$33,$B42,$E$5:$E$33) -> 0
B43: Wind Zone 4 | C43: =SUMIF($B$4:$B$33,$B43,$C$4:$C$33)+SUMIF($D$4:$D$33,$B43,$E$5:$E$33) -> 0 | D43: =SUMIF($B$4:$B$33,$B43,$C$4:$C$33)+SUMIF($D$4:$D$33,$B43,$E$5:$E$33) -> 0 | E43: =SUMIF($B$4:$B$33,$B43,$C$4:$C$33)+SUMIF($D$4:$D$33,$B43,$E$5:$E$33) -> 0 | F43: =SUMIF($B$4:$B$33,$B43,$C$4:$C$33)+SUMIF($D$4:$D$33,$B43,$E$5:$E$33) -> 0 | G43: =SUMIF($B$4:$B$33,$B43,$C$4:$C$33)+SUMIF($D$4:$D$33,$B43,$E$5:$E$33) -> 0 | H43: =SUMIF($B$4:$B$33,$B43,$C$4:$C$33)+SUMIF($D$4:$D$33,$B43,$E$5:$E$33) -> 0 | I43: =SUMIF($B$4:$B$33,$B43,$C$4:$C$33)+SUMIF($D$4:$D$33,$B43,$E$5:$E$33) -> 0 | J43: =SUMIF($B$4:$B$33,$B43,$C$4:$C$33)+SUMIF($D$4:$D$33,$B43,$E$5:$E$33) -> 0 | ... N43: =SUMIF($B$4:$B$33,$B43,$C$4:$C$33)+SUMIF($D$4:$D$33,$B43,$E$5:$E$33) -> 0
...

Sheet Load Data
B1: Select Month | C1: 12 | D1: Maximum Hourly Ramp | E1: Maximum Hourly Energy Delivery | F1: Minimum Hourly Energy Delivery | G1: Calculated Total Monthly Block Energy | H1: Total Monthly Block Energy Taken | I1: Energy Delta | J1: Energy Taken in First 14 Days | K1: Between 45-55% Taken in First 14 days of Month | L1: Max Up Ramp Rate | M1: Max Down Ramp Rate
B2: Select Capacity Option | C2: Shaping Capacity Using PNR | D2: =IF(C2="Shaping Capacity using PNR",HLOOKUP(C1,'Shaping Capacity using PNR'!C31:N35,5,FALSE),HLOOKUP(C1,'Shaping Capacity XX% of Block'!C32:N39,4,FALSE)) -> #DIV/0! | E2: =IF(C2="Shaping Capacity Using PNR",HLOOKUP(C1,'Shaping Capacity using PNR'!C31:N39,8,FALSE),HLOOKUP(C1,'Shaping Capacity XX% of Block'!C32:N39,7,FALSE)) -> #DIV/0! | F2: =IF(C2="Shaping Capacity Using PNR",HLOOKUP(C1,'Shaping Capacity using PNR'!C31:N39,9,FALSE),HLOOKUP(C1,'Shaping Capacity XX% of Block'!C32:N39,8,FALSE)) -> #DIV/0! | G2: =D6*HLOOKUP(C1,'Shaping Capacity using PNR'!C13:N14,2,FALSE) -> #DIV/0! | H2: =SUM(E6:E749) -> 0 | I2: =G2-H2 -> #DIV/0! | J2: =SUM(K5:K18) -> 0 | K2: =J2/SUM(K5:K35) -> #DIV/0! | L2: =IF(D2="",IF(C2="Shaping Capacity Using PNR",HLOOKUP(C1,'Shaping Capacity using PNR'!C31:N39,6,FALSE),HLOOKUP('Load Data'!C1,'Shaping Capacity XX% of Block'!C32:N39,5,FALSE)),D2) -> #DIV/0! | M2: =IF(D2="",IF(C2="Shaping Capacity Using PNR",HLOOKUP(C1,'Shaping Capacity using PNR'!C31:N39,7,FALSE),HLOOKUP('Load Data'!C1,'Shaping Capacity XX% of Block'!C32:N39,6,FALSE)),D2) -> #DIV/0!
O3: Data for Charts
C4: Forecasted Load | D4: Flat Monthly Block Energy Delivery | E4: Energy Delivery with Capacity Shaping | F4: Up Ramp Violation? | G4: Down Ramp Violation? | H4: Max Hourly Energy Violation? | I4: Min Hourly Energy Violation? | J4: Days | K4: Daily Energy Delivery w/Shaping Capacity | L4: =VLOOKUP('Load Data'!C1,'Shaping Capacity XX% of Block'!C32:N39,5,FALSE) -> #N/A | O4: Days | P4: Flat Block | Q4: Flat Resource | R4: Shaping Capacity Used | S4: Additional Resource Needed | U4: Days | V4: Block w/Shaping Capacity | W4: Resources | X4: TRL
B5: Hour | C5: MWh | D5: MWh | E5: MWh | F5: Yes/No | G5: Yes/No | H5: Yes/No | I5: Yes/No | J5: 1 | K5: =SUM(E6:E29) -> 0 | O5: 1 | P5: =D6*24 -> #DIV/0! | Q5: =ROUND((HLOOKUP(C1,'Shaping Capacity using PNR'!C13:N21,6,FALSE)+HLOOKUP(C1,'Shaping Capacity using PNR'!C13:N21,7,FALSE)+HLOOKUP(C1,'Shaping Capacity using PNR'!C13:N21,8,FALSE)+HLOOKUP(C1,'Shaping Capacity using PNR'!C13:N21,9,FALSE))/HLOOKUP(C1,'Shaping Capacity using PNR'!C13:N14,2,FALSE),0)*24 -> 0 | R5: =K5-P5 -> #DIV/0! | S5: =SUM(C6:C29)-P5-Q5-R5 -> #DIV/0! | U5: 1 | V5: =P5+R5 -> #DIV/0! | W5: =Q5+S5 -> #DIV/0! | X5: =V5+W5 -> #DIV/0!
B6: 1 | D6: =IF(B6="","",HLOOKUP($C$1,'Shaping Capacity using PNR'!$C$23:$N$26,4,FALSE)+HLOOKUP($C$1,'Shaping Capacity using PNR'!$C$23:$N$28,6,FALSE)) -> #DIV/0! | F6: =IF(E6>D6,IF(ABS(E6-D6)>$L$2,"Yes","No"),"") -> #DIV/0! | G6: =IF(E6<D6,IF(ABS(E6-D6)>$M$2,"Yes","No"),"") -> #DIV/0! | H6: =IF(E6>$E$2,"Yes","No") -> #DIV/0! | I6: =IF(E6<$F$2,"Yes","No") -> #DIV/0! | J6: 2 | K6: =SUM(E30:E53) -> 0 | O6: 2 | P6: =P5 -> #DIV/0! | Q6: =Q5 -> 0 | R6: =K6-P6 -> #DIV/0! | S6: =SUM(C30:C53)-P6-Q6-R6 -> #DIV/0! | U6: 2 | V6: =P6+R6 -> #DIV/0! | W6: =Q6+S6 -> #DIV/0! | X6: =V6+W6 -> #DIV/0!
B7: 2 | D7: =IF(B7="","",HLOOKUP($C$1,'Shaping Capacity using PNR'!$C$23:$N$26,4,FALSE)+HLOOKUP($C$1,'Shaping Capacity using PNR'!$C$23:$N$28,6,FALSE)) -> #DIV/0! | F7: =IF(E7>E6,IF(ABS(E7-E6)>$L$2,"Yes","No"),"") | G7: =IF(E7<E6,IF(ABS(E7-E6)>$M$2,"Yes","No"),"") | H7: =IF(E7>$E$2,"Yes","No") -> #DIV/0! | I7: =IF(E7<$F$2,"Yes","No") -> #DIV/0! | J7: 3 | K7: =SUM(E54:E77) -> 0 | O7: 3 | P7: =P6 -> #DIV/0! | Q7: =Q6 -> 0 | R7: =K7-P7 -> #DIV/0! | S7: =SUM(C54:C77)-Q7-P7-R7 -> #DIV/0! | U7: 3 | V7: =P7+R7 -> #DIV/0! | W7: =Q7+S7 -> #DIV/0! | X7: =V7+W7 -> #DIV/0!
B8: 3 | D8: =IF(B8="","",HLOOKUP($C$1,'Shaping Capacity using PNR'!$C$23:$N$26,4,FALSE)+HLOOKUP($C$1,'Shaping Capacity using PNR'!$C$23:$N$28,6,FALSE)) -> #DIV/0! | F8: =IF(E8>E7,IF(ABS(E8-E7)>$L$2,"Yes","No"),"") | G8: =IF(E8<E7,IF(ABS(E8-E7)>$M$2,"Yes","No"),"") | H8: =IF(E8>$E$2,"Yes","No") -> #DIV/0! | I8: =IF(E8<$F$2,"Yes","No") -> #DIV/0! | J8: 4 | K8: =SUM(E78:E101) -> 0 | O8: 4 | P8: =P7 -> #DIV/0! | Q8: =Q7 -> 0 | R8: =K8-P8 -> #DIV/0! | S8: =SUM(C78:C101)-Q8-P8-R8 -> #DIV/0! | U8: 4 | V8: =P8+R8 -> #DIV/0! | W8: =Q8+S8 -> #DIV/0! | X8: =V8+W8 -> #DIV/0!
B9: 4 | D9: =IF(B9="","",HLOOKUP($C$1,'Shaping Capacity using PNR'!$C$23:$N$26,4,FALSE)+HLOOKUP($C$1,'Shaping Capacity using PNR'!$C$23:$N$28,6,FALSE)) -> #DIV/0! | F9: =IF(E9>E8,IF(ABS(E9-E8)>$L$2,"Yes","No"),"") | G9: =IF(E9<E8,IF(ABS(E9-E8)>$M$2,"Yes","No"),"") | H9: =IF(E9>$E$2,"Yes","No") -> #DIV/0! | I9: =IF(E9<$F$2,"Yes","No") -> #DIV/0! | J9: 5 | K9: =SUM(E102:E125) -> 0 | O9: 5 | P9: =P8 -> #DIV/0! | Q9: =Q8 -> 0 | R9: =K9-P9 -> #DIV/0! | S9: =SUM(C102:C125)-Q9-P9-R9 -> #DIV/0! | U9: 5 | V9: =P9+R9 -> #DIV/0! | W9: =Q9+S9 -> #DIV/0! | X9: =V9+W9 -> #DIV/0!
B10: 5 | D10: =IF(B10="","",HLOOKUP($C$1,'Shaping Capacity using PNR'!$C$23:$N$26,4,FALSE)+HLOOKUP($C$1,'Shaping Capacity using PNR'!$C$23:$N$28,6,FALSE)) -> #DIV/0! | F10: =IF(E10>E9,IF(ABS(E10-E9)>$L$2,"Yes","No"),"") | G10: =IF(E10<E9,IF(ABS(E10-E9)>$M$2,"Yes","No"),"") | H10: =IF(E10>$E$2,"Yes","No") -> #DIV/0! | I10: =IF(E10<$F$2,"Yes","No") -> #DIV/0! | J10: 6 | K10: =SUM(E126:E149) -> 0 | O10: 6 | P10: =P9 -> #DIV/0! | Q10: =Q9 -> 0 | R10: =K10-P10 -> #DIV/0! | S10: =SUM(C126:C149)-Q10-P10-R10 -> #DIV/0! | U10: 6 | V10: =P10+R10 -> #DIV/0! | W10: =Q10+S10 -> #DIV/0! | X10: =V10+W10 -> #DIV/0!
B11: 6 | D11: =IF(B11="","",HLOOKUP($C$1,'Shaping Capacity using PNR'!$C$23:$N$26,4,FALSE)+HLOOKUP($C$1,'Shaping Capacity using PNR'!$C$23:$N$28,6,FALSE)) -> #DIV/0! | F11: =IF(E11>E10,IF(ABS(E11-E10)>$L$2,"Yes","No"),"") | G11: =IF(E11<E10,IF(ABS(E11-E10)>$M$2,"Yes","No"),"") | H11: =IF(E11>$E$2,"Yes","No") -> #DIV/0! | I11: =IF(E11<$F$2,"Yes","No") -> #DIV/0! | J11: 7 | K11: =SUM(E150:E173) -> 0 | O11: 7 | P11: =P10 -> #DIV/0! | Q11: =Q10 -> 0 | R11: =K11-P11 -> #DIV/0! | S11: =SUM(C150:C173)-Q11-P11-R11 -> #DIV/0! | U11: 7 | V11: =P11+R11 -> #DIV/0! | W11: =Q11+S11 -> #DIV/0! | X11: =V11+W11 -> #DIV/0!
B12: 7 | D12: =IF(B12="","",HLOOKUP($C$1,'Shaping Capacity using PNR'!$C$23:$N$26,4,FALSE)+HLOOKUP($C$1,'Shaping Capacity using PNR'!$C$23:$N$28,6,FALSE)) -> #DIV/0! | F12: =IF(E12>E11,IF(ABS(E12-E11)>$L$2,"Yes","No"),"") | G12: =IF(E12<E11,IF(ABS(E12-E11)>$M$2,"Yes","No"),"") | H12: =IF(E12>$E$2,"Yes","No") -> #DIV/0! | I12: =IF(E12<$F$2,"Yes","No") -> #DIV/0! | J12: 8 | K12: =SUM(E174:E197) -> 0 | O12: 8 | P12: =P11 -> #DIV/0! | Q12: =Q11 -> 0 | R12: =K12-P12 -> #DIV/0! | S12: =SUM(C174:C197)-Q12-P12-R12 -> #DIV/0! | U12: 8 | V12: =P12+R12 -> #DIV/0! | W12: =Q12+S12 -> #DIV/0! | X12: =V12+W12 -> #DIV/0!
B13: 8 | D13: =IF(B13="","",HLOOKUP($C$1,'Shaping Capacity using PNR'!$C$23:$N$26,4,FALSE)+HLOOKUP($C$1,'Shaping Capacity using PNR'!$C$23:$N$28,6,FALSE)) -> #DIV/0! | F13: =IF(E13>E12,IF(ABS(E13-E12)>$L$2,"Yes","No"),"") | G13: =IF(E13<E12,IF(ABS(E13-E12)>$M$2,"Yes","No"),"") | H13: =IF(E13>$E$2,"Yes","No") -> #DIV/0! | I13: =IF(E13<$F$2,"Yes","No") -> #DIV/0! | J13: 9 | K13: =SUM(E198:E221) -> 0 | O13: 9 | P13: =P12 -> #DIV/0! | Q13: =Q12 -> 0 | R13: =K13-P13 -> #DIV/0! | S13: =SUM(C198:C221)-Q13-P13-R13 -> #DIV/0! | U13: 9 | V13: =P13+R13 -> #DIV/0! | W13: =Q13+S13 -> #DIV/0! | X13: =V13+W13 -> #DIV/0!
B14: 9 | D14: =IF(B14="","",HLOOKUP($C$1,'Shaping Capacity using PNR'!$C$23:$N$26,4,FALSE)+HLOOKUP($C$1,'Shaping Capacity using PNR'!$C$23:$N$28,6,FALSE)) -> #DIV/0! | F14: =IF(E14>E13,IF(ABS(E14-E13)>$L$2,"Yes","No"),"") | G14: =IF(E14<E13,IF(ABS(E14-E13)>$M$2,"Yes","No"),"") | H14: =IF(E14>$E$2,"Yes","No") -> #DIV/0! | I14: =IF(E14<$F$2,"Yes","No") -> #DIV/0! | J14: 10 | K14: =SUM(E222:E245) -> 0 | O14: 10 | P14: =P13 -> #DIV/0! | Q14: =Q13 -> 0 | R14: =K14-P14 -> #DIV/0! | S14: =SUM(C222:C245)-Q14-P14-R14 -> #DIV/0! | U14: 10 | V14: =P14+R14 -> #DIV/0! | W14: =Q14+S14 -> #DIV/0! | X14: =V14+W14 -> #DIV/0!
B15: 10 | D15: =IF(B15="","",HLOOKUP($C$1,'Shaping Capacity using PNR'!$C$23:$N$26,4,FALSE)+HLOOKUP($C$1,'Shaping Capacity using PNR'!$C$23:$N$28,6,FALSE)) -> #DIV/0! | F15: =IF(E15>E14,IF(ABS(E15-E14)>$L$2,"Yes","No"),"") | G15: =IF(E15<E14,IF(ABS(E15-E14)>$M$2,"Yes","No"),"") | H15: =IF(E15>$E$2,"Yes","No") -> #DIV/0! | I15: =IF(E15<$F$2,"Yes","No") -> #DIV/0! | J15: 11 | K15: =SUM(E246:E269) -> 0 | O15: 11 | P15: =P14 -> #DIV/0! | Q15: =Q14 -> 0 | R15: =K15-P15 -> #DIV/0! | S15: =SUM(C246:C269)-Q15-P15-R15 -> #DIV/0! | U15: 11 | V15: =P15+R15 -> #DIV/0! | W15: =Q15+S15 -> #DIV/0! | X15: =V15+W15 -> #DIV/0!
B16: 11 | D16: =IF(B16="","",HLOOKUP($C$1,'Shaping Capacity using PNR'!$C$23:$N$26,4,FALSE)+HLOOKUP($C$1,'Shaping Capacity using PNR'!$C$23:$N$28,6,FALSE)) -> #DIV/0! | F16: =IF(E16>E15,IF(ABS(E16-E15)>$L$2,"Yes","No"),"") | G16: =IF(E16<E15,IF(ABS(E16-E15)>$M$2,"Yes","No"),"") | H16: =IF(E16>$E$2,"Yes","No") -> #DIV/0! | I16: =IF(E16<$F$2,"Yes","No") -> #DIV/0! | J16: 12 | K16: =SUM(E270:E293) -> 0 | O16: 12 | P16: =P15 -> #DIV/0! | Q16: =Q15 -> 0 | R16: =K16-P16 -> #DIV/0! | S16: =SUM(C270:C293)-Q16-P16-R16 -> #DIV/0! | U16: 12 | V16: =P16+R16 -> #DIV/0! | W16: =Q16+S16 -> #DIV/0! | X16: =V16+W16 -> #DIV/0!
B17: 12 | D17: =IF(B17="","",HLOOKUP($C$1,'Shaping Capacity using PNR'!$C$23:$N$26,4,FALSE)+HLOOKUP($C$1,'Shaping Capacity using PNR'!$C$23:$N$28,6,FALSE)) -> #DIV/0! | F17: =IF(E17>E16,IF(ABS(E17-E16)>$L$2,"Yes","No"),"") | G17: =IF(E17<E16,IF(ABS(E17-E16)>$M$2,"Yes","No"),"") | H17: =IF(E17>$E$2,"Yes","No") -> #DIV/0! | I17: =IF(E17<$F$2,"Yes","No") -> #DIV/0! | J17: 13 | K17: =SUM(E294:E317) -> 0 | O17: 13 | P17: =P16 -> #DIV/0! | Q17: =Q16 -> 0 | R17: =K17-P17 -> #DIV/0! | S17: =SUM(C294:C317)-Q17-P17-R17 -> #DIV/0! | U17: 13 | V17: =P17+R17 -> #DIV/0! | W17: =Q17+S17 -> #DIV/0! | X17: =V17+W17 -> #DIV/0!
B18: 13 | D18: =IF(B18="","",HLOOKUP($C$1,'Shaping Capacity using PNR'!$C$23:$N$26,4,FALSE)+HLOOKUP($C$1,'Shaping Capacity using PNR'!$C$23:$N$28,6,FALSE)) -> #DIV/0! | F18: =IF(E18>E17,IF(ABS(E18-E17)>$L$2,"Yes","No"),"") | G18: =IF(E18<E17,IF(ABS(E18-E17)>$M$2,"Yes","No"),"") | H18: =IF(E18>$E$2,"Yes","No") -> #DIV/0! | I18: =IF(E18<$F$2,"Yes","No") -> #DIV/0! | J18: 14 | K18: =SUM(E318:E341) -> 0 | O18: 14 | P18: =P17 -> #DIV/0! | Q18: =Q17 -> 0 | R18: =K18-P18 -> #DIV/0! | S18: =SUM(C318:C341)-Q18-P18-R18 -> #DIV/0! | U18: 14 | V18: =P18+R18 -> #DIV/0! | W18: =Q18+S18 -> #DIV/0! | X18: =V18+W18 -> #DIV/0!
B19: 14 | D19: =IF(B19="","",HLOOKUP($C$1,'Shaping Capacity using PNR'!$C$23:$N$26,4,FALSE)+HLOOKUP($C$1,'Shaping Capacity using PNR'!$C$23:$N$28,6,FALSE)) -> #DIV/0! | F19: =IF(E19>E18,IF(ABS(E19-E18)>$L$2,"Yes","No"),"") | G19: =IF(E19<E18,IF(ABS(E19-E18)>$M$2,"Yes","No"),"") | H19: =IF(E19>$E$2,"Yes","No") -> #DIV/0! | I19: =IF(E19<$F$2,"Yes","No") -> #DIV/0! | J19: 15 | K19: =SUM(E342:E365) -> 0 | O19: 15 | P19: =P18 -> #DIV/0! | Q19: =Q18 -> 0 | R19: =K19-P19 -> #DIV/0! | S19: =SUM(C342:C365)-Q19-P19-R19 -> #DIV/0! | U19: 15 | V19: =P19+R19 -> #DIV/0! | W19: =Q19+S19 -> #DIV/0! | X19: =V19+W19 -> #DIV/0!
B20: 15 | D20: =IF(B20="","",HLOOKUP($C$1,'Shaping Capacity using PNR'!$C$23:$N$26,4,FALSE)+HLOOKUP($C$1,'Shaping Capacity using PNR'!$C$23:$N$28,6,FALSE)) -> #DIV/0! | F20: =IF(E20>E19,IF(ABS(E20-E19)>$L$2,"Yes","No"),"") | G20: =IF(E20<E19,IF(ABS(E20-E19)>$M$2,"Yes","No"),"") | H20: =IF(E20>$E$2,"Yes","No") -> #DIV/0! | I20: =IF(E20<$F$2,"Yes","No") -> #DIV/0! | J20: 16 | K20: =SUM(E366:E389) -> 0 | O20: 16 | P20: =P19 -> #DIV/0! | Q20: =Q19 -> 0 | R20: =K20-P20 -> #DIV/0! | S20: =SUM(C366:C389)-Q20-P20-R20 -> #DIV/0! | U20: 16 | V20: =P20+R20 -> #DIV/0! | W20: =Q20+S20 -> #DIV/0! | X20: =V20+W20 -> #DIV/0!
B21: 16 | D21: =IF(B21="","",HLOOKUP($C$1,'Shaping Capacity using PNR'!$C$23:$N$26,4,FALSE)+HLOOKUP($C$1,'Shaping Capacity using PNR'!$C$23:$N$28,6,FALSE)) -> #DIV/0! | F21: =IF(E21>E20,IF(ABS(E21-E20)>$L$2,"Yes","No"),"") | G21: =IF(E21<E20,IF(ABS(E21-E20)>$M$2,"Yes","No"),"") | H21: =IF(E21>$E$2,"Yes","No") -> #DIV/0! | I21: =IF(E21<$F$2,"Yes","No") -> #DIV/0! | J21: 17 | K21: =SUM(E390:E413) -> 0 | O21: 17 | P21: =P20 -> #DIV/0! | Q21: =Q20 -> 0 | R21: =K21-P21 -> #DIV/0! | S21: =SUM(C390:C413)-Q21-P21-R21 -> #DIV/0! | U21: 17 | V21: =P21+R21 -> #DIV/0! | W21: =Q21+S21 -> #DIV/0! | X21: =V21+W21 -> #DIV/0!
B22: 17 | D22: =IF(B22="","",HLOOKUP($C$1,'Shaping Capacity using PNR'!$C$23:$N$26,4,FALSE)+HLOOKUP($C$1,'Shaping Capacity using PNR'!$C$23:$N$28,6,FALSE)) -> #DIV/0! | F22: =IF(E22>E21,IF(ABS(E22-E21)>$L$2,"Yes","No"),"") | G22: =IF(E22<E21,IF(ABS(E22-E21)>$M$2,"Yes","No"),"") | H22: =IF(E22>$E$2,"Yes","No") -> #DIV/0! | I22: =IF(E22<$F$2,"Yes","No") -> #DIV/0! | J22: 18 | K22: =SUM(E414:E437) -> 0 | O22: 18 | P22: =P21 -> #DIV/0! | Q22: =Q21 -> 0 | R22: =K22-P22 -> #DIV/0! | S22: =SUM(C414:C437)-Q22-P22-R22 -> #DIV/0! | U22: 18 | V22: =P22+R22 -> #DIV/0! | W22: =Q22+S22 -> #DIV/0! | X22: =V22+W22 -> #DIV/0!
B23: 18 | D23: =IF(B23="","",HLOOKUP($C$1,'Shaping Capacity using PNR'!$C$23:$N$26,4,FALSE)+HLOOKUP($C$1,'Shaping Capacity using PNR'!$C$23:$N$28,6,FALSE)) -> #DIV/0! | F23: =IF(E23>E22,IF(ABS(E23-E22)>$L$2,"Yes","No"),"") | G23: =IF(E23<E22,IF(ABS(E23-E22)>$M$2,"Yes","No"),"") | H23: =IF(E23>$E$2,"Yes","No") -> #DIV/0! | I23: =IF(E23<$F$2,"Yes","No") -> #DIV/0! | J23: 19 | K23: =SUM(E438:E461) -> 0 | O23: 19 | P23: =P22 -> #DIV/0! | Q23: =Q22 -> 0 | R23: =K23-P23 -> #DIV/0! | S23: =SUM(C438:C461)-Q23-P23-R23 -> #DIV/0! | U23: 19 | V23: =P23+R23 -> #DIV/0! | W23: =Q23+S23 -> #DIV/0! | X23: =V23+W23 -> #DIV/0!
B24: 19 | D24: =IF(B24="","",HLOOKUP($C$1,'Shaping Capacity using PNR'!$C$23:$N$26,4,FALSE)+HLOOKUP($C$1,'Shaping Capacity using PNR'!$C$23:$N$28,6,FALSE)) -> #DIV/0! | F24: =IF(E24>E23,IF(ABS(E24-E23)>$L$2,"Yes","No"),"") | G24: =IF(E24<E23,IF(ABS(E24-E23)>$M$2,"Yes","No"),"") | H24: =IF(E24>$E$2,"Yes","No") -> #DIV/0! | I24: =IF(E24<$F$2,"Yes","No") -> #DIV/0! | J24: 20 | K24: =SUM(E462:E485) -> 0 | O24: 20 | P24: =P23 -> #DIV/0! | Q24: =Q23 -> 0 | R24: =K24-P24 -> #DIV/0! | S24: =SUM(C462:C485)-Q24-P24-R24 -> #DIV/0! | U24: 20 | V24: =P24+R24 -> #DIV/0! | W24: =Q24+S24 -> #DIV/0! | X24: =V24+W24 -> #DIV/0!
B25: 20 | D25: =IF(B25="","",HLOOKUP($C$1,'Shaping Capacity using PNR'!$C$23:$N$26,4,FALSE)+HLOOKUP($C$1,'Shaping Capacity using PNR'!$C$23:$N$28,6,FALSE)) -> #DIV/0! | F25: =IF(E25>E24,IF(ABS(E25-E24)>$L$2,"Yes","No"),"") | G25: =IF(E25<E24,IF(ABS(E25-E24)>$M$2,"Yes","No"),"") | H25: =IF(E25>$E$2,"Yes","No") -> #DIV/0! | I25: =IF(E25<$F$2,"Yes","No") -> #DIV/0! | J25: 21 | K25: =SUM(E486:E509) -> 0 | O25: 21 | P25: =P24 -> #DIV/0! | Q25: =Q24 -> 0 | R25: =K25-P25 -> #DIV/0! | S25: =SUM(C486:C509)-Q25-P25-R25 -> #DIV/0! | U25: 21 | V25: =P25+R25 -> #DIV/0! | W25: =Q25+S25 -> #DIV/0! | X25: =V25+W25 -> #DIV/0!
B26: 21 | D26: =IF(B26="","",HLOOKUP($C$1,'Shaping Capacity using PNR'!$C$23:$N$26,4,FALSE)+HLOOKUP($C$1,'Shaping Capacity using PNR'!$C$23:$N$28,6,FALSE)) -> #DIV/0! | F26: =IF(E26>E25,IF(ABS(E26-E25)>$L$2,"Yes","No"),"") | G26: =IF(E26<E25,IF(ABS(E26-E25)>$M$2,"Yes","No"),"") | H26: =IF(E26>$E$2,"Yes","No") -> #DIV/0! | I26: =IF(E26<$F$2,"Yes","No") -> #DIV/0! | J26: 22 | K26: =SUM(E510:E533) -> 0 | O26: 22 | P26: =P25 -> #DIV/0! | Q26: =Q25 -> 0 | R26: =K26-P26 -> #DIV/0! | S26: =SUM(C510:C533)-Q26-P26-R26 -> #DIV/0! | U26: 22 | V26: =P26+R26 -> #DIV/0! | W26: =Q26+S26 -> #DIV/0! | X26: =V26+W26 -> #DIV/0!
B27: 22 | D27: =IF(B27="","",HLOOKUP($C$1,'Shaping Capacity using PNR'!$C$23:$N$26,4,FALSE)+HLOOKUP($C$1,'Shaping Capacity using PNR'!$C$23:$N$28,6,FALSE)) -> #DIV/0! | F27: =IF(E27>E26,IF(ABS(E27-E26)>$L$2,"Yes","No"),"") | G27: =IF(E27<E26,IF(ABS(E27-E26)>$M$2,"Yes","No"),"") | H27: =IF(E27>$E$2,"Yes","No") -> #DIV/0! | I27: =IF(E27<$F$2,"Yes","No") -> #DIV/0! | J27: 23 | K27: =SUM(E534:E557) -> 0 | O27: 23 | P27: =P26 -> #DIV/0! | Q27: =Q26 -> 0 | R27: =K27-P27 -> #DIV/0! | S27: =SUM(C534:C557)-Q27-P27-R27 -> #DIV/0! | U27: 23 | V27: =P27+R27 -> #DIV/0! | W27: =Q27+S27 -> #DIV/0! | X27: =V27+W27 -> #DIV/0!
B28: 23 | D28: =IF(B28="","",HLOOKUP($C$1,'Shaping Capacity using PNR'!$C$23:$N$26,4,FALSE)+HLOOKUP($C$1,'Shaping Capacity using PNR'!$C$23:$N$28,6,FALSE)) -> #DIV/0! | F28: =IF(E28>E27,IF(ABS(E28-E27)>$L$2,"Yes","No"),"") | G28: =IF(E28<E27,IF(ABS(E28-E27)>$M$2,"Yes","No"),"") | H28: =IF(E28>$E$2,"Yes","No") -> #DIV/0! | I28: =IF(E28<$F$2,"Yes","No") -> #DIV/0! | J28: 24 | K28: =SUM(E558:E581) -> 0 | O28: 24 | P28: =P27 -> #DIV/0! | Q28: =Q27 -> 0 | R28: =K28-P28 -> #DIV/0! | S28: =SUM(C558:C581)-Q28-P28-R28 -> #DIV/0! | U28: 24 | V28: =P28+R28 -> #DIV/0! | W28: =Q28+S28 -> #DIV/0! | X28: =V28+W28 -> #DIV/0!
B29: 24 | D29: =IF(B29="","",HLOOKUP($C$1,'Shaping Capacity using PNR'!$C$23:$N$26,4,FALSE)+HLOOKUP($C$1,'Shaping Capacity using PNR'!$C$23:$N$28,6,FALSE)) -> #DIV/0! | F29: =IF(E29>E28,IF(ABS(E29-E28)>$L$2,"Yes","No"),"") | G29: =IF(E29<E28,IF(ABS(E29-E28)>$M$2,"Yes","No"),"") | H29: =IF(E29>$E$2,"Yes","No") -> #DIV/0! | I29: =IF(E29<$F$2,"Yes","No") -> #DIV/0! | J29: 25 | K29: =SUM(E582:E605) -> 0 | O29: 25 | P29: =P28 -> #DIV/0! | Q29: =Q28 -> 0 | R29: =K29-P29 -> #DIV/0! | S29: =SUM(C582:C605)-Q29-P29-R29 -> #DIV/0! | U29: 25 | V29: =P29+R29 -> #DIV/0! | W29: =Q29+S29 -> #DIV/0! | X29: =V29+W29 -> #DIV/0!
B30: 25 | D30: =IF(B30="","",HLOOKUP($C$1,'Shaping Capacity using PNR'!$C$23:$N$26,4,FALSE)+HLOOKUP($C$1,'Shaping Capacity using PNR'!$C$23:$N$28,6,FALSE)) -> #DIV/0! | F30: =IF(E30>E29,IF(ABS(E30-E29)>$L$2,"Yes","No"),"") | G30: =IF(E30<E29,IF(ABS(E30-E29)>$M$2,"Yes","No"),"") | H30: =IF(E30>$E$2,"Yes","No") -> #DIV/0! | I30: =IF(E30<$F$2,"Yes","No") -> #DIV/0! | J30: 26 | K30: =SUM(E606:E629) -> 0 | O30: 26 | P30: =P29 -> #DIV/0! | Q30: =Q29 -> 0 | R30: =K30-P30 -> #DIV/0! | S30: =SUM(C606:C629)-Q30-P30-R30 -> #DIV/0! | U30: 26 | V30: =P30+R30 -> #DIV/0! | W30: =Q30+S30 -> #DIV/0! | X30: =V30+W30 -> #DIV/0!
B31: 26 | D31: =IF(B31="","",HLOOKUP($C$1,'Shaping Capacity using PNR'!$C$23:$N$26,4,FALSE)+HLOOKUP($C$1,'Shaping Capacity using PNR'!$C$23:$N$28,6,FALSE)) -> #DIV/0! | F31: =IF(E31>E30,IF(ABS(E31-E30)>$L$2,"Yes","No"),"") | G31: =IF(E31<E30,IF(ABS(E31-E30)>$M$2,"Yes","No"),"") | H31: =IF(E31>$E$2,"Yes","No") -> #DIV/0! | I31: =IF(E31<$F$2,"Yes","No") -> #DIV/0! | J31: 27 | K31: =SUM(E630:E653) -> 0 | O31: 27 | P31: =P30 -> #DIV/0! | Q31: =Q30 -> 0 | R31: =K31-P31 -> #DIV/0! | S31: =SUM(C630:C653)-Q31-P31-R31 -> #DIV/0! | U31: 27 | V31: =P31+R31 -> #DIV/0! | W31: =Q31+S31 -> #DIV/0! | X31: =V31+W31 -> #DIV/0!
B32: 27 | D32: =IF(B32="","",HLOOKUP($C$1,'Shaping Capacity using PNR'!$C$23:$N$26,4,FALSE)+HLOOKUP($C$1,'Shaping Capacity using PNR'!$C$23:$N$28,6,FALSE)) -> #DIV/0! | F32: =IF(E32>E31,IF(ABS(E32-E31)>$L$2,"Yes","No"),"") | G32: =IF(E32<E31,IF(ABS(E32-E31)>$M$2,"Yes","No"),"") | H32: =IF(E32>$E$2,"Yes","No") -> #DIV/0! | I32: =IF(E32<$F$2,"Yes","No") -> #DIV/0! | J32: 28 | K32: =SUM(E654:E677) -> 0 | O32: 28 | P32: =P31 -> #DIV/0! | Q32: =Q31 -> 0 | R32: =K32-P32 -> #DIV/0! | S32: =SUM(C654:C677)-Q32-P32-R32 -> #DIV/0! | U32: 28 | V32: =P32+R32 -> #DIV/0! | W32: =Q32+S32 -> #DIV/0! | X32: =V32+W32 -> #DIV/0!
B33: 28 | D33: =IF(B33="","",HLOOKUP($C$1,'Shaping Capacity using PNR'!$C$23:$N$26,4,FALSE)+HLOOKUP($C$1,'Shaping Capacity using PNR'!$C$23:$N$28,6,FALSE)) -> #DIV/0! | F33: =IF(E33>E32,IF(ABS(E33-E32)>$L$2,"Yes","No"),"") | G33: =IF(E33<E32,IF(ABS(E33-E32)>$M$2,"Yes","No"),"") | H33: =IF(E33>$E$2,"Yes","No") -> #DIV/0! | I33: =IF(E33<$F$2,"Yes","No") -> #DIV/0! | J33: 29 | K33: =SUM(E678:E701) -> 0 | O33: 29 | P33: =P32 -> #DIV/0! | Q33: =Q32 -> 0 | R33: =K33-P33 -> #DIV/0! | S33: =SUM(C678:C701)-Q33-P33-R33 -> #DIV/0! | U33: 29 | V33: =P33+R33 -> #DIV/0! | W33: =Q33+S33 -> #DIV/0! | X33: =V33+W33 -> #DIV/0!
B34: 29 | D34: =IF(B34="","",HLOOKUP($C$1,'Shaping Capacity using PNR'!$C$23:$N$26,4,FALSE)+HLOOKUP($C$1,'Shaping Capacity using PNR'!$C$23:$N$28,6,FALSE)) -> #DIV/0! | F34: =IF(E34>E33,IF(ABS(E34-E33)>$L$2,"Yes","No"),"") | G34: =IF(E34<E33,IF(ABS(E34-E33)>$M$2,"Yes","No"),"") | H34: =IF(E34>$E$2,"Yes","No") -> #DIV/0! | I34: =IF(E34<$F$2,"Yes","No") -> #DIV/0! | J34: 30 | K34: =SUM(E702:E725) -> 0 | O34: 30 | P34: =P33 -> #DIV/0! | Q34: =Q33 -> 0 | R34: =K34-P34 -> #DIV/0! | S34: =SUM(C702:C725)-Q34-P34-R34 -> #DIV/0! | U34: 30 | V34: =P34+R34 -> #DIV/0! | W34: =Q34+S34 -> #DIV/0! | X34: =V34+W34 -> #DIV/0!
B35: 30 | D35: =IF(B35="","",HLOOKUP($C$1,'Shaping Capacity using PNR'!$C$23:$N$26,4,FALSE)+HLOOKUP($C$1,'Shaping Capacity using PNR'!$C$23:$N$28,6,FALSE)) -> #DIV/0! | F35: =IF(E35>E34,IF(ABS(E35-E34)>$L$2,"Yes","No"),"") | G35: =IF(E35<E34,IF(ABS(E35-E34)>$M$2,"Yes","No"),"") | H35: =IF(E35>$E$2,"Yes","No") -> #DIV/0! | I35: =IF(E35<$F$2,"Yes","No") -> #DIV/0! | J35: 31 | K35: =SUM(E726:E749) -> 0 | O35: 31 | P35: =P34 -> #DIV/0! | Q35: =Q34 -> 0 | R35: =K35-P35 -> #DIV/0! | S35: =SUM(C726:C749)-Q35-P35-R35 -> #DIV/0! | U35: 31 | V35: =P35+R35 -> #DIV/0! | W35: =Q35+S35 -> #DIV/0! | X35: =V35+W35 -> #DIV/0!
B36: 31 | D36: =IF(B36="","",HLOOKUP($C$1,'Shaping Capacity using PNR'!$C$23:$N$26,4,FALSE)+HLOOKUP($C$1,'Shaping Capacity using PNR'!$C$23:$N$28,6,FALSE)) -> #DIV/0! | F36: =IF(E36>E35,IF(ABS(E36-E35)>$L$2,"Yes","No"),"") | G36: =IF(E36<E35,IF(ABS(E36-E35)>$M$2,"Yes","No"),"") | H36: =IF(E36>$E$2,"Yes","No") -> #DIV/0! | I36: =IF(E36<$F$2,"Yes","No") -> #DIV/0!
B37: 32 | D37: =IF(B37="","",HLOOKUP($C$1,'Shaping Capacity using PNR'!$C$23:$N$26,4,FALSE)+HLOOKUP($C$1,'Shaping Capacity using PNR'!$C$23:$N$28,6,FALSE)) -> #DIV/0! | F37: =IF(E37>E36,IF(ABS(E37-E36)>$L$2,"Yes","No"),"") | G37: =IF(E37<E36,IF(ABS(E37-E36)>$M$2,"Yes","No"),"") | H37: =IF(E37>$E$2,"Yes","No") -> #DIV/0! | I37: =IF(E37<$F$2,"Yes","No") -> #DIV/0!
B38: 33 | D38: =IF(B38="","",HLOOKUP($C$1,'Shaping Capacity using PNR'!$C$23:$N$26,4,FALSE)+HLOOKUP($C$1,'Shaping Capacity using PNR'!$C$23:$N$28,6,FALSE)) -> #DIV/0! | F38: =IF(E38>E37,IF(ABS(E38-E37)>$L$2,"Yes","No"),"") | G38: =IF(E38<E37,IF(ABS(E38-E37)>$M$2,"Yes","No"),"") | H38: =IF(E38>$E$2,"Yes","No") -> #DIV/0! | I38: =IF(E38<$F$2,"Yes","No") -> #DIV/0!
B39: 34 | D39: =IF(B39="","",HLOOKUP($C$1,'Shaping Capacity using PNR'!$C$23:$N$26,4,FALSE)+HLOOKUP($C$1,'Shaping Capacity using PNR'!$C$23:$N$28,6,FALSE)) -> #DIV/0! | F39: =IF(E39>E38,IF(ABS(E39-E38)>$L$2,"Yes","No"),"") | G39: =IF(E39<E38,IF(ABS(E39-E38)>$M$2,"Yes","No"),"") | H39: =IF(E39>$E$2,"Yes","No") -> #DIV/0! | I39: =IF(E39<$F$2,"Yes","No") -> #DIV/0!
B40: 35 | D40: =IF(B40="","",HLOOKUP($C$1,'Shaping Capacity using PNR'!$C$23:$N$26,4,FALSE)+HLOOKUP($C$1,'Shaping Capacity using PNR'!$C$23:$N$28,6,FALSE)) -> #DIV/0! | F40: =IF(E40>E39,IF(ABS(E40-E39)>$L$2,"Yes","No"),"") | G40: =IF(E40<E39,IF(ABS(E40-E39)>$M$2,"Yes","No"),"") | H40: =IF(E40>$E$2,"Yes","No") -> #DIV/0! | I40: =IF(E40<$F$2,"Yes","No") -> #DIV/0!
...

Sheet Shaping Capacity XX% of Block
B2: Fiscal Year | C2: ='Customer Data'!C2 -> 2024 | F2: BPA Tier 2 | G2: New Resource
B3: Customer Name | C3: ='Customer Data'!C3 -> 0 | E3: Ramp Rate Options
B4: TRL Forecast | C4: =P16 -> 0 | E4: ='Customer Data'!E3 -> Flat Ramp Rate
B5: HWM | C5: ='Customer Data'!C5 -> 0
B6: Gross Annual Net Requirement | C6: =P16-P19-P20-P22 -> 0
B7: Annual Net Requirement MWh | C7: =ROUND(C6*O15,0) -> 0
B8: Above or Below HWM | C8: =IF(C5>C6,"Below HWM","Above HWM") -> Above HWM
B9: BPA Tier 2 or New Resource | C9: ='Customer Data'!C9 -> New Resource
B10: Shaping Capacity as XX% of Monthly Block | C10: ='Customer Data'!C10 -> 0.1
B11: Min Energy Delivery | C11: ='Customer Data'!C12 -> 0.6
B13: Calendar Year | C13: ='Customer Data'!C20 -> 2023 | D13: ='Customer Data'!D20 -> 2023 | E13: ='Customer Data'!E20 -> 2023 | F13: ='Customer Data'!F20 -> 2024 | G13: ='Customer Data'!G20 -> 2024 | H13: ='Customer Data'!H20 -> 2024 | I13: ='Customer Data'!I20 -> 2024 | J13: ='Customer Data'!J20 -> 2024 | ... N13: ='Customer Data'!N20 -> 2024
B14: Month | C14: ='Customer Data'!C21 -> 10 | D14: ='Customer Data'!D21 -> 11 | E14: ='Customer Data'!E21 -> 12 | F14: ='Customer Data'!F21 -> 1 | G14: ='Customer Data'!G21 -> 2 | H14: ='Customer Data'!H21 -> 3 | I14: ='Customer Data'!I21 -> 4 | J14: ='Customer Data'!J21 -> 5 | ... N14: ='Customer Data'!N21 -> 9 | O14: Annual | P14: aMW
B15: Month Hours | C15: ='Customer Data'!C22 -> 744 | D15: ='Customer Data'!D22 -> 721 | E15: ='Customer Data'!E22 -> 744 | F15: ='Customer Data'!F22 -> 744 | G15: ='Customer Data'!G22 -> 696 | H15: ='Customer Data'!H22 -> 743 | I15: ='Customer Data'!I22 -> 720 | J15: ='Customer Data'!J22 -> 744 | ... N15: ='Customer Data'!N22 -> 720 | O15: =SUM(C15:N15) -> 8784
B16: TRL Forecast - Energy (MWh) | C16: ='Customer Data'!C23 -> 0 | D16: ='Customer Data'!D23 -> 0 | E16: ='Customer Data'!E23 -> 0 | F16: ='Customer Data'!F23 -> 0 | G16: ='Customer Data'!G23 -> 0 | H16: ='Customer Data'!H23 -> 0 | I16: ='Customer Data'!I23 -> 0 | J16: ='Customer Data'!J23 -> 0 | ... N16: ='Customer Data'!N23 -> 0 | O16: =SUM(C16:N16) -> 0 | P16: =ROUND(O16/$O$15,3) -> 0
B17: TRL P50 Forecast Peak (MW) | C17: ='Customer Data'!C24 -> 0 | D17: ='Customer Data'!D24 -> 0 | E17: ='Customer Data'!E24 -> 0 | F17: ='Customer Data'!F24 -> 0 | G17: ='Customer Data'!G24 -> 0 | H17: ='Customer Data'!H24 -> 0 | I17: ='Customer Data'!I24 -> 0 | J17: ='Customer Data'!J24 -> 0 | ... N17: ='Customer Data'!N24 -> 0
B18: Load Factor | C18: =(C16/C15)/C17 -> #DIV/0! | D18: =(D16/D15)/D17 -> #DIV/0! | E18: =(E16/E15)/E17 -> #DIV/0! | F18: =(F16/F15)/F17 -> #DIV/0! | G18: =(G16/G15)/G17 -> #DIV/0! | H18: =(H16/H15)/H17 -> #DIV/0! | I18: =(I16/I15)/I17 -> #DIV/0! | J18: =(J16/J15)/J17 -> #DIV/0! | ... N18: =(N16/N15)/N17 -> #DIV/0!
B19: Existing Resources (MWh) | C19: ='Customer Data'!C26 -> 0 | D19: ='Customer Data'!D26 -> 0 | E19: ='Customer Data'!E26 -> 0 | F19: ='Customer Data'!F26 -> 0 | G19: ='Customer Data'!G26 -> 0 | H19: ='Customer Data'!H26 -> 0 | I19: ='Customer Data'!I26 -> 0 | J19: ='Customer Data'!J26 -> 0 | ... N19: ='Customer Data'!N26 -> 0 | O19: =SUM(C19:N19) -> 0 | P19: =O19/O15 -> 0
B20: New Resources (MWh) | C20: ='Customer Data'!C27 -> 0 | D20: ='Customer Data'!D27 -> 0 | E20: ='Customer Data'!E27 -> 0 | F20: ='Customer Data'!F27 -> 0 | G20: ='Customer Data'!G27 -> 0 | H20: ='Customer Data'!H27 -> 0 | I20: ='Customer Data'!I27 -> 0 | J20: ='Customer Data'!J27 -> 0 | ... N20: ='Customer Data'!N27 -> 0 | O20: =SUM(C20:N20) -> 0 | P20: =O20/O15 -> 0
B21: Additonal Tier 2 New Resources (MWh) | C21: ='Customer Data'!C28 -> 0 | D21: ='Customer Data'!D28 -> 0 | E21: ='Customer Data'!E28 -> 0 | F21: ='Customer Data'!F28 -> 0 | G21: ='Customer Data'!G28 -> 0 | H21: ='Customer Data'!H28 -> 0 | I21: ='Customer Data'!I28 -> 0 | J21: ='Customer Data'!J28 -> 0 | ... N21: ='Customer Data'!N28 -> 0 | O21: =SUM(C21:N21) -> 0 | P21: =O21/O15 -> 0
B22: NLSL Resources (MWh) | C22: ='Customer Data'!C29 -> 0 | D22: ='Customer Data'!D29 -> 0 | E22: ='Customer Data'!E29 -> 0 | F22: ='Customer Data'!F29 -> 0 | G22: ='Customer Data'!G29 -> 0 | H22: ='Customer Data'!H29 -> 0 | I22: ='Customer Data'!I29 -> 0 | J22: ='Customer Data'!J29 -> 0 | ... N22: ='Customer Data'!N29 -> 0 | O22: =SUM(C22:N22) -> 0 | P22: =O22/O15 -> 0
B24: Calculation of Flat Block Amount | C24: 10 | D24: 11 | E24: 12 | F24: 1 | G24: 2 | H24: 3 | I24: 4 | J24: 5 | K24: 6 | L24: 7 | M24: 8 | N24: 9
B25: Monthly Block Shaping Factors | C25: =ROUND((C16-C19)/($O$16-$O$19),3) -> #DIV/0! | D25: =ROUND((D16-D19)/($O$16-$O$19),3) -> #DIV/0! | E25: =ROUND((E16-E19)/($O$16-$O$19),3) -> #DIV/0! | F25: =ROUND((F16-F19)/($O$16-$O$19),3) -> #DIV/0! | G25: =ROUND((G16-G19)/($O$16-$O$19),3) -> #DIV/0! | H25: =ROUND((H16-H19)/($O$16-$O$19),3) -> #DIV/0! | I25: =ROUND((I16-I19)/($O$16-$O$19),3) -> #DIV/0! | J25: =ROUND((J16-J19)/($O$16-$O$19),3) -> #DIV/0! | ... N25: =ROUND((N16-N19)/($O$16-$O$19),3) -> #DIV/0! | O25: =SUM(C25:N25) -> #DIV/0!
B26: Monthly T1 Block Amounts (MWh) | C26: ='Net Req Block Only'!D33 -> #DIV/0! | D26: ='Net Req Block Only'!E33 -> #DIV/0! | E26: ='Net Req Block Only'!F33 -> #DIV/0! | F26: ='Net Req Block Only'!G33 -> #DIV/0! | G26: ='Net Req Block Only'!H33 -> #DIV/0! | H26: ='Net Req Block Only'!I33 -> #DIV/0! | I26: ='Net Req Block Only'!J33 -> #DIV/0! | J26: ='Net Req Block Only'!K33 -> #DIV/0! | ... N26: ='Net Req Block Only'!O33 -> #DIV/0! | O26: =SUM(C26:N26) -> #DIV/0! | P26: =$O$26/$O$15 -> #DIV/0!
B27: Monthly T1 Block Amounts (MW/hr) | C27: =ROUND(C26/C15,0) -> #DIV/0! | D27: =ROUND(D26/D15,0) -> #DIV/0! | E27: =ROUND(E26/E15,0) -> #DIV/0! | F27: =ROUND(F26/F15,0) -> #DIV/0! | G27: =ROUND(G26/G15,0) -> #DIV/0! | H27: =ROUND(H26/H15,0) -> #DIV/0! | I27: =ROUND(I26/I15,0) -> #DIV/0! | J27: =ROUND(J26/J15,0) -> #DIV/0! | ... N27: =ROUND(N26/N15,0) -> #DIV/0!
B28: Tier 2 Block Amounts (MWh) | C28: ='Net Req Block Only'!D34 -> 0 | D28: ='Net Req Block Only'!E34 -> 0 | E28: ='Net Req Block Only'!F34 -> 0 | F28: ='Net Req Block Only'!G34 -> 0 | G28: ='Net Req Block Only'!H34 -> 0 | H28: ='Net Req Block Only'!I34 -> 0 | I28: ='Net Req Block Only'!J34 -> 0 | J28: ='Net Req Block Only'!K34 -> 0 | ... N28: ='Net Req Block Only'!O34 -> 0 | O28: =SUM(C28:N28) -> 0 | P28: =$O$28/$O$15 -> 0
B29: Tier 2 Blocks Amount (MW/hr) | C29: =ROUND(C28/C15,0) -> 0 | D29: =ROUND(D28/D15,0) -> 0 | E29: =ROUND(E28/E15,0) -> 0 | F29: =ROUND(F28/F15,0) -> 0 | G29: =ROUND(G28/G15,0) -> 0 | H29: =ROUND(H28/H15,0) -> 0 | I29: =ROUND(I28/I15,0) -> 0 | J29: =ROUND(J28/J15,0) -> 0 | ... N29: =ROUND(N28/N15,0) -> 0 | P29: =O29/O15 -> 0
B30: Total BPA Block Amount (MW/hr) | C30: =C27+C29 -> #DIV/0! | D30: =D27+D29 -> #DIV/0! | E30: =E27+E29 -> #DIV/0! | F30: =F27+F29 -> #DIV/0! | G30: =G27+G29 -> #DIV/0! | H30: =H27+H29 -> #DIV/0! | I30: =I27+I29 -> #DIV/0! | J30: =J27+J29 -> #DIV/0! | ... N30: =N27+N29 -> #DIV/0!
B32: Calculation of Monthly Capacity Amounts | C32: 10 | D32: 11 | E32: 12 | F32: 1 | G32: 2 | H32: 3 | I32: 4 | J32: 5 | K32: 6 | L32: 7 | M32: 8 | N32: 9
B33: Dedicated Resource Peak (MW) | C33: ='Customer Specific Resources'!C82 -> 0 | D33: ='Customer Specific Resources'!D82 -> 0 | E33: ='Customer Specific Resources'!E82 -> 0 | F33: ='Customer Specific Resources'!F82 -> 0 | G33: ='Customer Specific Resources'!G82 -> 0 | H33: ='Customer Specific Resources'!H82 -> 0 | I33: ='Customer Specific Resources'!I82 -> 0 | J33: ='Customer Specific Resources'!J82 -> 0 | ... N33: ='Customer Specific Resources'!N82 -> 0
B34: Monthly Shaping Capacity Available (MW) | C34: =ROUND(C27*$C$10,0) -> #DIV/0! | D34: =ROUND(D27*$C$10,0) -> #DIV/0! | E34: =ROUND(E27*$C$10,0) -> #DIV/0! | F34: =ROUND(F27*$C$10,0) -> #DIV/0! | G34: =ROUND(G27*$C$10,0) -> #DIV/0! | H34: =ROUND(H27*$C$10,0) -> #DIV/0! | I34: =ROUND(I27*$C$10,0) -> #DIV/0! | J34: =ROUND(J27*$C$10,0) -> #DIV/0! | ... N34: =ROUND(N27*$C$10,0) -> #DIV/0!
B35: Monthly Ramp Rate (MW) | C35: =IF($E$4="Flat Ramp Rate",ROUND('Customer Data'!$C$11*C34,0),IF($E$4="Seasonal Ramp Rates",ROUND('Customer Data'!C15*C34,0),"")) -> #DIV/0! | D35: =IF($E$4="Flat Ramp Rate",ROUND('Customer Data'!$C$11*D34,0),IF($E$4="Seasonal Ramp Rates",ROUND('Customer Data'!D15*D34,0),"")) -> #DIV/0! | E35: =IF($E$4="Flat Ramp Rate",ROUND('Customer Data'!$C$11*E34,0),IF($E$4="Seasonal Ramp Rates",ROUND('Customer Data'!E15*E34,0),"")) -> #DIV/0! | F35: =IF($E$4="Flat Ramp Rate",ROUND('Customer Data'!$C$11*F34,0),IF($E$4="Seasonal Ramp Rates",ROUND('Customer Data'!F15*F34,0),"")) -> #DIV/0! | G35: =IF($E$4="Flat Ramp Rate",ROUND('Customer Data'!$C$11*G34,0),IF($E$4="Seasonal Ramp Rates",ROUND('Customer Data'!G15*G34,0),"")) -> #DIV/0! | H35: =IF($E$4="Flat Ramp Rate",ROUND('Customer Data'!$C$11*H34,0),IF($E$4="Seasonal Ramp Rates",ROUND('Customer Data'!H15*H34,0),"")) -> #DIV/0! | I35: =IF($E$4="Flat Ramp Rate",ROUND('Customer Data'!$C$11*I34,0),IF($E$4="Seasonal Ramp Rates",ROUND('Customer Data'!I15*I34,0),"")) -> #DIV/0! | J35: =IF($E$4="Flat Ramp Rate",ROUND('Customer Data'!$C$11*J34,0),IF($E$4="Seasonal Ramp Rates",ROUND('Customer Data'!J15*J34,0),"")) -> #DIV/0! | ... N35: =IF($E$4="Flat Ramp Rate",ROUND('Customer Data'!$C$11*N34,0),IF($E$4="Seasonal Ramp Rates",ROUND('Customer Data'!N15*N34,0),"")) -> #DIV/0!
B36: Monthly Up Ramp Rate (MW) | C36: =IF('Customer Data'!$E$3="Different Up/Down Ramp Rates",ROUND('Customer Data'!$C$17*'Shaping Capacity XX% of Block'!C34,0),"") | D36: =IF('Customer Data'!$E$3="Different Up/Down Ramp Rates",ROUND('Customer Data'!$C$17*'Shaping Capacity XX% of Block'!D34,0),"") | E36: =IF('Customer Data'!$E$3="Different Up/Down Ramp Rates",ROUND('Customer Data'!$C$17*'Shaping Capacity XX% of Block'!E34,0),"") | F36: =IF('Customer Data'!$E$3="Different Up/Down Ramp Rates",ROUND('Customer Data'!$C$17*'Shaping Capacity XX% of Block'!F34,0),"") | G36: =IF('Customer Data'!$E$3="Different Up/Down Ramp Rates",ROUND('Customer Data'!$C$17*'Shaping Capacity XX% of Block'!G34,0),"") | H36: =IF('Customer Data'!$E$3="Different Up/Down Ramp Rates",ROUND('Customer Data'!$C$17*'Shaping Capacity XX% of Block'!H34,0),"") | I36: =IF('Customer Data'!$E$3="Different Up/Down Ramp Rates",ROUND('Customer Data'!$C$17*'Shaping Capacity XX% of Block'!I34,0),"") | J36: =IF('Customer Data'!$E$3="Different Up/Down Ramp Rates",ROUND('Customer Data'!$C$17*'Shaping Capacity XX% of Block'!J34,0),"") | ... N36: =IF('Customer Data'!$E$3="Different Up/Down Ramp Rates",ROUND('Customer Data'!$C$17*'Shaping Capacity XX% of Block'!N34,0),"")
B37: Monthly Down Ramp Rate (MW) | C37: =IF('Customer Data'!$E$3="Different Up/Down Ramp Rates",ROUND('Customer Data'!$C$18*'Shaping Capacity XX% of Block'!C34,0),"") | D37: =IF('Customer Data'!$E$3="Different Up/Down Ramp Rates",ROUND('Customer Data'!$C$18*'Shaping Capacity XX% of Block'!D34,0),"") | E37: =IF('Customer Data'!$E$3="Different Up/Down Ramp Rates",ROUND('Customer Data'!$C$18*'Shaping Capacity XX% of Block'!E34,0),"") | F37: =IF('Customer Data'!$E$3="Different Up/Down Ramp Rates",ROUND('Customer Data'!$C$18*'Shaping Capacity XX% of Block'!F34,0),"") | G37: =IF('Customer Data'!$E$3="Different Up/Down Ramp Rates",ROUND('Customer Data'!$C$18*'Shaping Capacity XX% of Block'!G34,0),"") | H37: =IF('Customer Data'!$E$3="Different Up/Down Ramp Rates",ROUND('Customer Data'!$C$18*'Shaping Capacity XX% of Block'!H34,0),"") | I37: =IF('Customer Data'!$E$3="Different Up/Down Ramp Rates",ROUND('Customer Data'!$C$18*'Shaping Capacity XX% of Block'!I34,0),"") | J37: =IF('Customer Data'!$E$3="Different Up/Down Ramp Rates",ROUND('Customer Data'!$C$18*'Shaping Capacity XX% of Block'!J34,0),"") | ... N37: =IF('Customer Data'!$E$3="Different Up/Down Ramp Rates",ROUND('Customer Data'!$C$18*'Shaping Capacity XX% of Block'!N34,0),"")
B38: Maximum Hourly Energy Delivery (MW/h) | C38: =ROUND(C27+C34,0) -> #DIV/0! | D38: =ROUND(D27+D34,0) -> #DIV/0! | E38: =ROUND(E27+E34,0) -> #DIV/0! | F38: =ROUND(F27+F34,0) -> #DIV/0! | G38: =ROUND(G27+G34,0) -> #DIV/0! | H38: =ROUND(H27+H34,0) -> #DIV/0! | I38: =ROUND(I27+I34,0) -> #DIV/0! | J38: =ROUND(J27+J34,0) -> #DIV/0! | ... N38: =ROUND(N27+N34,0) -> #DIV/0!
B39: Minimum Hourly Energy Delivery (MW/h | C39: =ROUND(MAX(C27-C34,C27*$C$11),0) -> #DIV/0! | D39: =ROUND(MAX(D27-D34,D27*$C$11),0) -> #DIV/0! | E39: =ROUND(MAX(E27-E34,E27*$C$11),0) -> #DIV/0! | F39: =ROUND(MAX(F27-F34,F27*$C$11),0) -> #DIV/0! | G39: =ROUND(MAX(G27-G34,G27*$C$11),0) -> #DIV/0! | H39: =ROUND(MAX(H27-H34,H27*$C$11),0) -> #DIV/0! | I39: =ROUND(MAX(I27-I34,I27*$C$11),0) -> #DIV/0! | J39: =ROUND(MAX(J27-J34,J27*$C$11),0) -> #DIV/0! | ... N39: =ROUND(MAX(N27-N34,N27*$C$11),0) -> #DIV/0!

Sheet Shaping Capacity using PNR
B2: Fiscal Year | C2: ='Customer Data'!C2 -> 2024
B3: Customer Name | C3: ='Customer Data'!C3 -> 0 | E3: Ramp Rate Options
B4: TRL Forecast | C4: =P15 -> 0 | E4: ='Customer Data'!E3 -> Flat Ramp Rate
B5: HWM | C5: ='Customer Data'!C5 -> 0
B6: Gross Annual Net Requirement | C6: =P15-P18-P19-P21 -> 0
B7: Annual Net Requirement MWh | C7: =ROUND(C6*O14,0) -> 0
B8: Above or Below HWM | C8: =IF(C5>C6,"Below HWM","Above HWM") -> Above HWM
B9: BPA Tier 2 or New Resource | C9: ='Customer Data'!C9 -> New Resource
B10: Min Energy Delivery | C10: ='Customer Data'!C12 -> 0.6
B12: Calendar Year | C12: ='Customer Data'!C20 -> 2023 | D12: ='Customer Data'!D20 -> 2023 | E12: ='Customer Data'!E20 -> 2023 | F12: ='Customer Data'!F20 -> 2024 | G12: ='Customer Data'!G20 -> 2024 | H12: ='Customer Data'!H20 -> 2024 | I12: ='Customer Data'!I20 -> 2024 | J12: ='Customer Data'!J20 -> 2024 | ... N12: ='Customer Data'!N20 -> 2024
B13: Month | C13: ='Customer Data'!C21 -> 10 | D13: ='Customer Data'!D21 -> 11 | E13: ='Customer Data'!E21 -> 12 | F13: ='Customer Data'!F21 -> 1 | G13: ='Customer Data'!G21 -> 2 | H13: ='Customer Data'!H21 -> 3 | I13: ='Customer Data'!I21 -> 4 | J13: ='Customer Data'!J21 -> 5 | ... N13: ='Customer Data'!N21 -> 9 | O13: Annual | P13: aMW
B14: Month Hours | C14: ='Customer Data'!C22 -> 744 | D14: ='Customer Data'!D22 -> 721 | E14: ='Customer Data'!E22 -> 744 | F14: ='Customer Data'!F22 -> 744 | G14: ='Customer Data'!G22 -> 696 | H14: ='Customer Data'!H22 -> 743 | I14: ='Customer Data'!I22 -> 720 | J14: ='Customer Data'!J22 -> 744 | ... N14: ='Customer Data'!N22 -> 720 | O14: =SUM(C14:N14) -> 8784
B15: TRL Forecast - Energy (MWh) | C15: ='Customer Data'!C23 -> 0 | D15: ='Customer Data'!D23 -> 0 | E15: ='Customer Data'!E23 -> 0 | F15: ='Customer Data'!F23 -> 0 | G15: ='Customer Data'!G23 -> 0 | H15: ='Customer Data'!H23 -> 0 | I15: ='Customer Data'!I23 -> 0 | J15: ='Customer Data'!J23 -> 0 | ... N15: ='Customer Data'!N23 -> 0 | O15: =SUM(C15:N15) -> 0 | P15: =ROUND(O15/$O$14,3) -> 0
B16: TRL P50 Forecast Peak (MW) | C16: ='Customer Data'!C24 -> 0 | D16: ='Customer Data'!D24 -> 0 | E16: ='Customer Data'!E24 -> 0 | F16: ='Customer Data'!F24 -> 0 | G16: ='Customer Data'!G24 -> 0 | H16: ='Customer Data'!H24 -> 0 | I16: ='Customer Data'!I24 -> 0 | J16: ='Customer Data'!J24 -> 0 | ... N16: ='Customer Data'!N24 -> 0
B17: Load Factor | C17: =(C15/C14)/C16 -> #DIV/0! | D17: =(D15/D14)/D16 -> #DIV/0! | E17: =(E15/E14)/E16 -> #DIV/0! | F17: =(F15/F14)/F16 -> #DIV/0! | G17: =(G15/G14)/G16 -> #DIV/0! | H17: =(H15/H14)/H16 -> #DIV/0! | I17: =(I15/I14)/I16 -> #DIV/0! | J17: =(J15/J14)/J16 -> #DIV/0! | ... N17: =(N15/N14)/N16 -> #DIV/0!
B18: Existing Resources (MWh) | C18: ='Customer Data'!C26 -> 0 | D18: ='Customer Data'!D26 -> 0 | E18: ='Customer Data'!E26 -> 0 | F18: ='Customer Data'!F26 -> 0 | G18: ='Customer Data'!G26 -> 0 | H18: ='Customer Data'!H26 -> 0 | I18: ='Customer Data'!I26 -> 0 | J18: ='Customer Data'!J26 -> 0 | ... N18: ='Customer Data'!N26 -> 0 | O18: =SUM(C18:N18) -> 0 | P18: =O18/O14 -> 0
B19: New Resources (MWh) | C19: ='Customer Data'!C27 -> 0 | D19: ='Customer Data'!D27 -> 0 | E19: ='Customer Data'!E27 -> 0 | F19: ='Customer Data'!F27 -> 0 | G19: ='Customer Data'!G27 -> 0 | H19: ='Customer Data'!H27 -> 0 | I19: ='Customer Data'!I27 -> 0 | J19: ='Customer Data'!J27 -> 0 | ... N19: ='Customer Data'!N27 -> 0 | O19: =SUM(C19:N19) -> 0 | P19: =O19/O14 -> 0
B20: Additional Tier 2 New Resources (MWh) | C20: ='Customer Data'!C28 -> 0 | D20: ='Customer Data'!D28 -> 0 | E20: ='Customer Data'!E28 -> 0 | F20: ='Customer Data'!F28 -> 0 | G20: ='Customer Data'!G28 -> 0 | H20: ='Customer Data'!H28 -> 0 | I20: ='Customer Data'!I28 -> 0 | J20: ='Customer Data'!J28 -> 0 | ... N20: ='Customer Data'!N28 -> 0 | O20: =SUM(C20:N20) -> 0 | P20: =O20/O14 -> 0
