Workbook

Sheet Info
B2: Contract High Water Mark Calculation Model
B3: Contact information: | C3: post2028@bpa.gov
B4: Date released | C4: 45720
B5: Version Changes | C5: (1) Draft Final CHWM Implementation Policy Attachment A values used for non-federal resource amounts and changes to how depicted in calculation; (2) NEEA savings updated with CY 2023 data
B7: Disclaimer:
B8: None of the data included in this model is considered final numbers that will be used for the FY 2026 CHWM calculation. Please note this model is for illustrative purposes only and CHWMs provided are considered estimates based on best data available at time of publishing. The model does not include the rigorous data scrubbing that will be conducted during the FY 2026 CHWM Calculation process to calculate final CHWMs. Updates to the data in the model are meant to provide the best available information to support customers during contract development.
B10: Context:
B11: Bonneville developed an updated CHWM calculation model to reflect the CHWM calculation described in the Provider of Choice Policy. As a reminder, CHWMs are an allocation of Tier 1 costs, not an allocation of the system or physical resources. For questions about this spreadsheet, please email the Provider of Choice team at post2028@bpa.gov and/or reach out to your Power Account Executive.
B13: Table of Contents
B14: Tab | C14: Description
B15: Info | C15: Tab provides context, calculations and description and source of all data included in the workbook.
B16: Calculation | C16: Tab provides the estimated CHWM calculation including preliminary determination for PF-eligible load.
B17: Data | C17: Hidden tab includes the conservation data included in the conservation adjustment in the Calculation tab. The tab also includes data for potenital economic adjustments and resource removals as requested in October 2024.
B18: Attachment A | C18: Hidden tab includes the draft final CHWM Implementation Policy Attachment A values as well as pivot table to sum values by customer. If a resource note suggests a formula approach, formula is calculated in the appropriate cells and highlighted.
B19: Proportional Share Calculation | C19: Hidden tab that computes the proportional share calculation for the Calculation tab.
B21: PF-Eligible Load Equation
B26: CHWM Equation:
B30: Above-CHWM Equation
B36: Data
B37: Category | C37: Description of Data | D37: Source Data | E37: Source Tab | F37: Where data will be discussed
B38: Index Year | C38: The index year, FY 2023, is the year used to establish PF-eligible load in the CHWM calculation. | D38: N/A | E38: N/A | F38: The index year was established in the Provider of Choice Policy.
B39: Total Retail Load | C39: Total retail load data is based on actual total retail loads for FY 2023. Data has not been scrubbed or weather normalized. | D39: N/A | E39: N/A | F39: The Provider of Choice Policy and the CHWM Implementation Policy provide any adjustments that Bonneville will make to total retail load amounts including the weather normalization process. Customers will have an opportunity to comment on their loads during the weather normalization process. Customers will be able to comment on the accuracy of the math during the FY 2026 CHWM Calculation Process.
B40: Economic Adjustment | C40: The economic adjustment reflects how loads would be adjusted if a consumer load qualified for the economic adjustment to total retail load. There are currently no loads identified for the adjustment but users are welcome to input their own assumptions. If "No" is selected, no data will show. If "Yes" is selected, the maximum economic adjustment amounts a customer is eligible will be added to a customer's total retail load. | D40: N/A | E40: N/A | F40: The adjustment was determined in the Provider of Choice Policy. Customers who believe they qualified for the adjustment were required to notify Bonneville by Oct. 1, 2024. Eligible cusotmers will be required to submit final data in the fall of 2025 for the FY 2026 CHWM calculation. Customers will be able to comment on the accuracy of the math during the FY 2026 CHWM Calculation Process. Data included in the model is the maximum adjustment a customer could qualify for based on Bonneville staff evaluations of data submitted. Actual adjustment will be based on actual loads.
B41: New Large Single Loads | C41: New large single load data is based on actual loads for FY 2023. Data has not been scrubbed or weather normalized. | D41: N/A | E41: N/A | F41: Customers will have a chance to discuss the NLSL data values with their Power AE in parallel to the TRL weather normalization process. Customers will be able to comment on the accuracy of the math during the FY 2026 CHWM Calculation Process.
B42: Non-federal Existing and Other (SNEER, COR, and Green Exception Resources. | C42: Existing resources are based on existing resources included in the Regional Dialogue contract Exhibit A. Other resources include Small Non-dispatchable New Resource Treated Equivalently to an Existing Resource (SNEER), consumer-owned resource and green exception resource amounts are included in the Regional Dialogue contract Exhibit A. Data is based on Attachment A of the CHWM Implementation Policy. The March 4, 2025, version of the CHWM model includes estimates for any resource notes that result in an equation. | D42: Draft Final CHWM Implementation Policy (no link) | E42: I_ER | F42: Attachment A will identify which non-federal resources will be included in the FY 2026 CHWM Calculation and the resource amounts that will be used.
B43: Non-federal New Specified Resources | C43: New specified resources, under Regional Dialogue, are resources added after September 30, 2006, and included in Regional Dialogue contract Exhibit A as new resources. ata is based on Attachment A of the CHWM Implementation Policy. | D43: Draft Final CHWM Implementation Policy (no link) | E43: N/A | F43: Attachment A will identify which non-federal resources will be included in the FY 2026 CHWM Calculation and the resource amounts that will be used.
B44: Resource Removal | C44: Customers could request a permanent removal of a specified resource, provided consistent with 5(b)9(c) Policy, by October 1, 2024. If the resource removal request was for a date before the expiration of the Regional Dialogue contracts and made by the deadline, the resource would no longer be deducted from a customer's net requirements calculation for purposes of the CHWM determination. For purposes of this model, the approved resource removal amount is added back to a customer's PF-eligible load. Customers may request a resource removal determination later but it may not qualify for removal in the calculation.Data is based on Attachment A of the CHWM Implementation Policy. If "No" is selected, no resource removals will show. If "Yes" is selected, all requested resource removals will show. Resource removal determinations will be made by the final CHWM Implementation Policy release in August 2025. Note prior approved resource removals (Clark and Mission Valley Power) are captured in Attachment A data and will no longer appear in this column. | D44: Draft Final CHWM Implementation Policy (no link) | E44: N/A | F44: Attachment A will identify which non-federal resources will be included in the FY 2026 CHWM Calculation. If a customer requested a determination for permanent resource removal by October 1, 2024, and if the resource is granted permanent discontinuance, the resource amount will show as 0 aMW.
B45: Base Allowance | C45: The base allowance is the amount from which all adjustments are added or subtracted. The base allowance is equal to customers' 2024 Rate-Period High Water Mark (RHWM) values from the bi-annual RHWM process. | D45: 2024 RHWM Final Outputs | E45: RHWM | F45: The base allowance was determined in the Provider of Choice Policy. The amounts were determined in the 2024 RHWM process that concluded in August 2022.
B46: Headroom Adjustment | C46: The headroom adjustment applies to customers whose PF-eligible load is lower than their base allowance. It reduces their base allowance to their PF-eligible load by subtracting out headroom. | D46: N/A | E46: N/A | F46: The adjustment was determined in the Provider of Choice Policy. Customers will be able to comment on the accuracy of the math during the FY 2026 CHWM Calculation Process.
B47: Conservation Adjustment | C47: The conservation adjustment takes into account self-funded conservation achievements approved by Bonneville during a defined time horizon of the Regional Dialogue contract period. The adjustment credits a customer 50% of their self-funded achievements. The first type of qualifying data is self-funded conservation that is reported to Bonneville and meets the eligibility and reporting requirements of the Bonneville Energy Efficiency Implementation Manual. The data includes actuals for FY 2012 through FY 2023 based on reporting approved through January 2024. FY 2022 and FY 2023 data may be reported through September 2025. The second type of data included is self-funded Northwest Energy Efficiency Alliance (NEEA) savings. The amount is based on a customer's self-funded savings proportional to each direct funding utility's annual funding percentage of the annual regional savings reported by NEEA. The data includes actuals for calendar year (CY) 2012 through CY 2023. | D47: Hidden Conservation Tab | E47: N/A | F47: The adjustment was determined in the Provider of Choice Policy. Customers will be able to comment on the accuracy of the math during the FY 2026 CHWM Calculation Process. Conservation data will be updated in the FY 2026 CHWM calculation to include any self-funded conservation reported by the September 30, 2025, deadline.
B48: New Specified Resource Adjustment | C48: The new specified resource adjustment applies to customers who added new specified resources, defined under Regional Dialogue as resources added after September 30, 2006. The adjustment adds 50% of the aMW amount of the resource to the Provider of Choice CHWM for any new resource dedicated in a customer's Regional Dialogue Exhibit A and noted as a new resource. | D48: BP-24 Billing Determinants Model | E48: I_NR | F48: The adjustment was determined in the Provider of Choice Policy. Customers will be able to comment on the accuracy of the math during the FY 2026 CHWM Calculation Process. Attachment A will identify which non-federal resources will qualify for the adjustment and the resource amounts that will be used in the FY 2026 CHWM calculation.
... B50: Proportional Share Adjustment | C50: The proportional share adjustment provides an equitable adjustment to all customers as part of the CHWM calculation. The adjustment increases individual CHWMs (as calculated prior to the proportional adjustment being applied) by an amount equal to the customer's pro rata share where a customer's share is based on its individual CHWM relative to the aggregate CHWMs of all customers. The adjustment is limited so that aggregated CHWMs do not exceed 7,250 aMW. If the initial aggregate CHWMs is greater than 7,250 aMW, the proportional share adjustment will not apply. | D50: The calculation is available on the Proportional Share Calculation tab. | E50: N/A | F50: The adjustment was determined in the Provider of Choice Policy. Customers will be able to comment on the accuracy of the math during the FY 2026 CHWM Calculation Process.
B51: Exceptions
B52: Returning Public Utility (Grant) | C52: Grant provided preliminary load and resource amounts that are included in the model. The data is not pulled from the billing determinant model. Bonneville is in the process of vetting these numbers and Grant will be subject to the same net requirements process as other customers. The base load assumption is set equal to the last Block purchase amount Grant made from Bonneville prior to Regional Dialogue. Data has been updated to reflect best available information for actuals and non-federal resource amounts. | D52: N/A | E52: N/A | F52: Data inputs for the CHWM calculation will be final similar to those described above unless an exception is noted in the Provider of Choice Policy or CHWM Implementation Policy.
B53: Flathead | C53: Flathead's CHWM has been adjusted to account for the Weyerhaeuser NLSL that qualifies for the Offsite Green Exception. This amount is subject to changed based on Flathead's election of how to serve the load under Provider of Choice. If Flathead elects the exception, Bonneville intends to set the resource amount for the contract period, which would be reflected in the CHWM calculation. If Flathead elects to sunset the exception, the Weyerhaeuser NLSL would be deducted in its entirety from the CHWM calculation. For more information, see Issue 105 in the Provider of Choice Policy ROD. | D53: N/A | E53: N/A | F53: The election will be made at contract signing. The resource amounts that would be used in the CHWM calculation if Flathead elects to maintain the Offsite Green Exception will be updated in the FY 2026 CHWM calculation if applicable.
B54: Glacier | C54: Glacier's existing resource has been removed from the CHWM calculation consistent with the Provider of Choice Policy ROD. For more information on the exception, see Issue 53. | D54: N/A | E54: N/A | F54: This exception is documented in Attachment A of the CHWM Implementation Policy.
B55: Alder Mutual and Ohop Mutual Light Company | C55: Alder Mutual and Ohop Mutual Light Company merged and Alder Mutual’s Regional Dialogue contract was assigned to Ohop Mutual Light Company. Bonneville expects to complete contract actions in April 2024 and thereafter terminate the Alder Regional Dialogue contract. Therefore, Bonneville has aggregated their FY 2023 load and 2024 RHWMs for purpose of the calculation. The calculation now only reflects Ohop Mutual Light Company. This is consistent with how Bonneville intends to treat annexations between two existing customers as described in Issue 66 of the Provider of Choice Policy ROD. | D55: N/A | E55: N/A | F55: N/A

Sheet Calculation
C1: PF-Eligible Load in Index Year Calculation | J1: CHWM Calculation
C2: Total Retail Load | D2: Economic Adjustment | E2: New Large Single Load | F2: Non-Federal Resource | I2: PF-Eligible Load in Index Year | J2: Base Allowance (2024 RWHM) | K2: Headroom Adjustment (100%) | L2: Conservation Adjustment (50%) | M2: New Specified Resource Adjustment (50%) | N2: Load Growth Adjustment (25%) | O2: Proportional Share Adjustment (Up to 7,250 aMW) | P2: Provider of Choice CHWM | Q2: Provider of Choice Above-CHWM load in the index year
F3: Existing and Other (SNEERS, CORs, Green Exception) | G3: New Specified | H3: Removal
B5: Note: All data is in aMW
A6: BES | B6: Customer | D6: No | H6: Yes
A7: 10015 | B7: Asotin County PUD #1 | C7: 0.5493153 | D7: =IF(D$6 ="No",0,IF(D$6="Yes",Data!C3,Data!C3+Data!#REF!)) -> 0 | E7: 0 | F7: =Data!D3 -> 0 | G7: =Data!E3 -> 0 | H7: =IF(H$6="Yes",Data!G3,0) -> 0 | I7: =IF((C7+D7-SUM(E7:G7)+H7)>0,C7+D7-SUM(E7:G7)+H7,0) -> 0.5493153 | J7: 0.573 | K7: =IF(I7<J7,I7-J7,0) -> -0.023684703 | L7: =0.5*Data!O3 -> 0 | M7: =IF(H$6="Yes",Data!F3*0.5,G7*0.5) -> 0 | N7: =IF(I7>J7,(I7-J7)*0.25,0) -> 0 | O7: ='Proportional Share Calculation'!E4 -> 0.0058421449 | P7: =SUM(J7:O7) -> 0.55515744 | Q7: =I7-P7 -> -0.0058421449
A8: 10024 | B8: Benton County PUD #1 | C8: 221.69614 | D8: =IF(D$6 ="No",0,IF(D$6="Yes",Data!C4,Data!C4+Data!#REF!)) -> 0 | E8: 0 | F8: =Data!D4 -> 0.919 | G8: =Data!E4 -> 0 | H8: =IF(H$6="Yes",Data!G4,0) -> 0 | I8: =IF((C8+D8-SUM(E8:G8)+H8)>0,C8+D8-SUM(E8:G8)+H8,0) -> 220.77714 | J8: 200.923 | K8: =IF(I8<J8,I8-J8,0) -> 0 | L8: =0.5*Data!O4 -> 1.425202 | M8: =IF(H$6="Yes",Data!F4*0.5,G8*0.5) -> 0 | N8: =IF(I8>J8,(I8-J8)*0.25,0) -> 4.9635352 | O8: ='Proportional Share Calculation'!E5 -> 2.204827 | P8: =SUM(J8:O8) -> 209.51656 | Q8: =I8-P8 -> 11.260577
A9: 10025 | B9: Benton REA | C9: 75.20087 | D9: =IF(D$6 ="No",0,IF(D$6="Yes",Data!C5,Data!C5+Data!#REF!)) -> 0 | E9: 0 | F9: =Data!D5 -> 0 | G9: =Data!E5 -> 0 | H9: =IF(H$6="Yes",Data!G5,0) -> 0 | I9: =IF((C9+D9-SUM(E9:G9)+H9)>0,C9+D9-SUM(E9:G9)+H9,0) -> 75.20087 | J9: 59.659 | K9: =IF(I9<J9,I9-J9,0) -> 0 | L9: =0.5*Data!O5 -> 0.56422775 | M9: =IF(H$6="Yes",Data!F5*0.5,G9*0.5) -> 0 | N9: =IF(I9>J9,(I9-J9)*0.25,0) -> 3.8854675 | O9: ='Proportional Share Calculation'!E6 -> 0.6818166 | P9: =SUM(J9:O9) -> 64.790512 | Q9: =I9-P9 -> 10.410358
A10: 10027 | B10: Big Bend Elec Coop | C10: 69.948346 | D10: =IF(D$6 ="No",0,IF(D$6="Yes",Data!C6,Data!C6+Data!#REF!)) -> 0 | E10: 0 | F10: =Data!D6 -> 0 | G10: =Data!E6 -> 0 | H10: =IF(H$6="Yes",Data!G6,0) -> 0 | I10: =IF((C10+D10-SUM(E10:G10)+H10)>0,C10+D10-SUM(E10:G10)+H10,0) -> 69.948346 | J10: 61.194 | K10: =IF(I10<J10,I10-J10,0) -> 0 | L10: =0.5*Data!O6 -> 0.025006324 | M10: =IF(H$6="Yes",Data!F6*0.5,G10*0.5) -> 0 | N10: =IF(I10>J10,(I10-J10)*0.25,0) -> 2.1885864 | O10: ='Proportional Share Calculation'!E7 -> 0.67436015 | P10: =SUM(J10:O10) -> 64.081953 | Q10: =I10-P10 -> 5.8663929
A11: 10029 | B11: Blachly Lane Elec Coop | C11: 22.377976 | D11: =IF(D$6 ="No",0,IF(D$6="Yes",Data!C7,Data!C7+Data!#REF!)) -> 0 | E11: 0 | F11: =Data!D7 -> 0 | G11: =Data!E7 -> 0 | H11: =IF(H$6="Yes",Data!G7,0) -> 0 | I11: =IF((C11+D11-SUM(E11:G11)+H11)>0,C11+D11-SUM(E11:G11)+H11,0) -> 22.377976 | J11: 17.616 | K11: =IF(I11<J11,I11-J11,0) -> 0 | L11: =0.5*Data!O7 -> 0 | M11: =IF(H$6="Yes",Data!F7*0.5,G11*0.5) -> 0 | N11: =IF(I11>J11,(I11-J11)*0.25,0) -> 1.190494 | O11: ='Proportional Share Calculation'!E8 -> 0.20001311 | P11: =SUM(J11:O11) -> 19.006507 | Q11: =I11-P11 -> 3.3714689
A12: 10044 | B12: Canby, City of | C12: 22.533899 | D12: =IF(D$6 ="No",0,IF(D$6="Yes",Data!C8,Data!C8+Data!#REF!)) -> 0 | E12: 0 | F12: =Data!D8 -> 0 | G12: =Data!E8 -> 0 | H12: =IF(H$6="Yes",Data!G8,0) -> 0 | I12: =IF((C12+D12-SUM(E12:G12)+H12)>0,C12+D12-SUM(E12:G12)+H12,0) -> 22.533899 | J12: 20.309 | K12: =IF(I12<J12,I12-J12,0) -> 0 | L12: =0.5*Data!O8 -> 0 | M12: =IF(H$6="Yes",Data!F8*0.5,G12*0.5) -> 0 | N12: =IF(I12>J12,(I12-J12)*0.25,0) -> 0.55622474 | O12: ='Proportional Share Calculation'!E9 -> 0.22190838 | P12: =SUM(J12:O12) -> 21.087133 | Q12: =I12-P12 -> 1.4467659
A13: 10046 | B13: Central Electric Coop | C13: 100.08066 | D13: =IF(D$6 ="No",0,IF(D$6="Yes",Data!C9,Data!C9+Data!#REF!)) -> 0 | E13: 0 | F13: =Data!D9 -> 0 | G13: =Data!E9 -> 0 | H13: =IF(H$6="Yes",Data!G9,0) -> 0 | I13: =IF((C13+D13-SUM(E13:G13)+H13)>0,C13+D13-SUM(E13:G13)+H13,0) -> 100.08066 | J13: 81.851 | K13: =IF(I13<J13,I13-J13,0) -> 0 | L13: =0.5*Data!O9 -> 0.14950805 | M13: =IF(H$6="Yes",Data!F9*0.5,G13*0.5) -> 0 | N13: =IF(I13>J13,(I13-J13)*0.25,0) -> 4.5574161 | O13: ='Proportional Share Calculation'!E10 -> 0.92057137 | P13: =SUM(J13:O13) -> 87.478496 | Q13: =I13-P13 -> 12.602169
A14: 10047 | B14: Central Lincoln PUD | C14: 146.23509 | D14: =IF(D$6 ="No",0,IF(D$6="Yes",Data!C10,Data!C10+Data!#REF!)) -> 0 | E14: 0 | F14: =Data!D10 -> 0 | G14: =Data!E10 -> 0 | H14: =IF(H$6="Yes",Data!G10,0) -> 0 | I14: =IF((C14+D14-SUM(E14:G14)+H14)>0,C14+D14-SUM(E14:G14)+H14,0) -> 146.23509 | J14: 156.673 | K14: =IF(I14<J14,I14-J14,0) -> -10.437913 | L14: =0.5*Data!O10 -> 0.073780985 | M14: =IF(H$6="Yes",Data!F10*0.5,G14*0.5) -> 0 | N14: =IF(I14>J14,(I14-J14)*0.25,0) -> 0 | O14: ='Proportional Share Calculation'!E11 -> 1.5560419 | P14: =SUM(J14:O14) -> 147.86491 | Q14: =I14-P14 -> -1.6298229
A15: 10055 | B15: Albion, City of | C15: 0.47929863 | D15: =IF(D$6 ="No",0,IF(D$6="Yes",Data!C11,Data!C11+Data!#REF!)) -> 0 | E15: 0 | F15: =Data!D11 -> 0 | G15: =Data!E11 -> 0 | H15: =IF(H$6="Yes",Data!G11,0) -> 0 | I15: =IF((C15+D15-SUM(E15:G15)+H15)>0,C15+D15-SUM(E15:G15)+H15,0) -> 0.47929863 | J15: 0.398 | K15: =IF(I15<J15,I15-J15,0) -> 0 | L15: =0.5*Data!O11 -> 0 | M15: =IF(H$6="Yes",Data!F11*0.5,G15*0.5) -> 0 | N15: =IF(I15>J15,(I15-J15)*0.25,0) -> 0.020324658 | O15: ='Proportional Share Calculation'!E12 -> 0.0044490173 | P15: =SUM(J15:O15) -> 0.42277367 | Q15: =I15-P15 -> 0.056524955
A16: 10057 | B16: Ashland, City of | C16: 20.239493 | D16: =IF(D$6 ="No",0,IF(D$6="Yes",Data!C12,Data!C12+Data!#REF!)) -> 0 | E16: 0 | F16: =Data!D12 -> 0 | G16: =Data!E12 -> 0 | H16: =IF(H$6="Yes",Data!G12,0) -> 0 | I16: =IF((C16+D16-SUM(E16:G16)+H16)>0,C16+D16-SUM(E16:G16)+H16,0) -> 20.239493 | J16: 21.069 | K16: =IF(I16<J16,I16-J16,0) -> -0.82950719 | L16: =0.5*Data!O12 -> 0 | M16: =IF(H$6="Yes",Data!F12*0.5,G16*0.5) -> 0 | N16: =IF(I16>J16,(I16-J16)*0.25,0) -> 0 | O16: ='Proportional Share Calculation'!E13 -> 0.21525352 | P16: =SUM(J16:O16) -> 20.454746 | Q16: =I16-P16 -> -0.21525352
A17: 10059 | B17: Bandon, City of | C17: 8.3196743 | D17: =IF(D$6 ="No",0,IF(D$6="Yes",Data!C13,Data!C13+Data!#REF!)) -> 0 | E17: 0 | F17: =Data!D13 -> 0 | G17: =Data!E13 -> 0 | H17: =IF(H$6="Yes",Data!G13,0) -> 0 | I17: =IF((C17+D17-SUM(E17:G17)+H17)>0,C17+D17-SUM(E17:G17)+H17,0) -> 8.3196743 | J17: 7.639 | K17: =IF(I17<J17,I17-J17,0) -> 0 | L17: =0.5*Data!O13 -> 0 | M17: =IF(H$6="Yes",Data!F13*0.5,G17*0.5) -> 0 | N17: =IF(I17>J17,(I17-J17)*0.25,0) -> 0.17016858 | O17: ='Proportional Share Calculation'!E14 -> 0.08305302 | P17: =SUM(J17:O17) -> 7.8922216 | Q17: =I17-P17 -> 0.42745272
A18: 10061 | B18: Blaine, City of | C18: 9.7767847 | D18: =IF(D$6 ="No",0,IF(D$6="Yes",Data!C14,Data!C14+Data!#REF!)) -> 0 | E18: 0 | F18: =Data!D14 -> 0 | G18: =Data!E14 -> 0 | H18: =IF(H$6="Yes",Data!G14,0) -> 0 | I18: =IF((C18+D18-SUM(E18:G18)+H18)>0,C18+D18-SUM(E18:G18)+H18,0) -> 9.7767847 | J18: 8.747 | K18: =IF(I18<J18,I18-J18,0) -> 0 | L18: =0.5*Data!O14 -> 0 | M18: =IF(H$6="Yes",Data!F14*0.5,G18*0.5) -> 0 | N18: =IF(I18>J18,(I18-J18)*0.25,0) -> 0.25744618 | O18: ='Proportional Share Calculation'!E15 -> 0.095765182 | P18: =SUM(J18:O18) -> 9.1002114 | Q18: =I18-P18 -> 0.67657335
... A92: 10278 | B92: Northern Lights | C92: 46.834499 | D92: =IF(D$6 ="No",0,IF(D$6="Yes",Data!C88,Data!C88+Data!#REF!)) -> 0 | E92: 0 | F92: =Data!D88 -> 1.53 | G92: =Data!E88 -> 0 | H92: =IF(H$6="Yes",Data!G88,0) -> 0 | I92: =IF((C92+D92-SUM(E92:G92)+H92)>0,C92+D92-SUM(E92:G92)+H92,0) -> 45.304499 | J92: 35.928 | K92: =IF(I92<J92,I92-J92,0) -> 0 | L92: =0.5*Data!O88 -> 0.035353184 | M92: =IF(H$6="Yes",Data!F88*0.5,G92*0.5) -> 0 | N92: =IF(I92>J92,(I92-J92)*0.25,0) -> 2.3441247 | O92: ='Proportional Share Calculation'!E89 -> 0.40741235 | P92: =SUM(J92:O92) -> 38.71489 | Q92: =I92-P92 -> 6.5896086
A93: 10279 | B93: Northern Wasco County PUD | C93: 144.81289 | D93: =IF(D$6 ="No",0,IF(D$6="Yes",Data!C89,Data!C89+Data!#REF!)) -> 0 | E93: =63.86+0.729 -> 64.589 | F93: =Data!D89 -> 4.404 | G93: =Data!E89 -> 0 | H93: =IF(H$6="Yes",Data!G89,0) -> 0 | I93: =IF((C93+D93-SUM(E93:G93)+H93)>0,C93+D93-SUM(E93:G93)+H93,0) -> 75.819892 | J93: 64.765 | K93: =IF(I93<J93,I93-J93,0) -> 0 | L93: =0.5*Data!O89 -> 0.11576818 | M93: =IF(H$6="Yes",Data!F89*0.5,G93*0.5) -> 0 | N93: =IF(I93>J93,(I93-J93)*0.25,0) -> 2.7637229 | O93: ='Proportional Share Calculation'!E90 -> 0.71942093 | P93: =SUM(J93:O93) -> 68.363912 | Q93: =I93-P93 -> 7.4559797
A94: 10284 | B94: Ohop Mutual Light Company | C94: 12.104999 | D94: =IF(D$6 ="No",0,IF(D$6="Yes",Data!C90,Data!C90+Data!#REF!)) -> 0 | E94: 0 | F94: =Data!D90 -> 0 | G94: =Data!E90 -> 0 | H94: =IF(H$6="Yes",Data!G90,0) -> 0 | I94: =IF((C94+D94-SUM(E94:G94)+H94)>0,C94+D94-SUM(E94:G94)+H94,0) -> 12.104999 | J94: 10.158 | K94: =IF(I94<J94,I94-J94,0) -> 0 | L94: =0.5*Data!O90 -> 0 | M94: =IF(H$6="Yes",Data!F90*0.5,G94*0.5) -> 0 | N94: =IF(I94>J94,(I94-J94)*0.25,0) -> 0.48674982 | O94: ='Proportional Share Calculation'!E91 -> 0.11321034 | P94: =SUM(J94:O94) -> 10.75796 | Q94: =I94-P94 -> 1.3470391
A95: 10285 | B95: Okanogan County Elec Coop | C95: 8.8368568 | D95: =IF(D$6 ="No",0,IF(D$6="Yes",Data!C91,Data!C91+Data!#REF!)) -> 0 | E95: 0 | F95: =Data!D91 -> 0 | G95: =Data!E91 -> 0 | H95: =IF(H$6="Yes",Data!G91,0) -> 0 | I95: =IF((C95+D95-SUM(E95:G95)+H95)>0,C95+D95-SUM(E95:G95)+H95,0) -> 8.8368568 | J95: 6.529 | K95: =IF(I95<J95,I95-J95,0) -> 0 | L95: =0.5*Data!O91 -> 0 | M95: =IF(H$6="Yes",Data!F91*0.5,G95*0.5) -> 0 | N95: =IF(I95>J95,(I95-J95)*0.25,0) -> 0.57696421 | O95: ='Proportional Share Calculation'!E92 -> 0.075574216 | P95: =SUM(J95:O95) -> 7.1815384 | Q95: =I95-P95 -> 1.6553184
A96: 10286 | B96: Okanogan County PUD #1 | C96: 77.533968 | D96: =IF(D$6 ="No",0,IF(D$6="Yes",Data!C92,Data!C92+Data!#REF!)) -> 0 | E96: 0 | F96: =Data!D92 -> 24.13 | G96: =Data!E92 -> 0 | H96: =IF(H$6="Yes",Data!G92,0) -> 0 | I96: =IF((C96+D96-SUM(E96:G96)+H96)>0,C96+D96-SUM(E96:G96)+H96,0) -> 53.403968 | J96: 45.911 | K96: =IF(I96<J96,I96-J96,0) -> 0 | L96: =0.5*Data!O92 -> 0.16880236 | M96: =IF(H$6="Yes",Data!F92*0.5,G96*0.5) -> 0 | N96: =IF(I96>J96,(I96-J96)*0.25,0) -> 1.873242 | O96: ='Proportional Share Calculation'!E93 -> 0.50999606 | P96: =SUM(J96:O96) -> 48.46304 | Q96: =I96-P96 -> 4.9409276
A97: 10288 | B97: Orcas P & L | C97: 25.959024 | D97: =IF(D$6 ="No",0,IF(D$6="Yes",Data!C93,Data!C93+Data!#REF!)) -> 0 | E97: 0 | F97: =Data!D93 -> 0 | G97: =Data!E93 -> 0 | H97: =IF(H$6="Yes",Data!G93,0) -> 0 | I97: =IF((C97+D97-SUM(E97:G97)+H97)>0,C97+D97-SUM(E97:G97)+H97,0) -> 25.959024 | J97: 24.734 | K97: =IF(I97<J97,I97-J97,0) -> 0 | L97: =0.5*Data!O93 -> 0.024140584 | M97: =IF(H$6="Yes",Data!F93*0.5,G97*0.5) -> 0 | N97: =IF(I97>J97,(I97-J97)*0.25,0) -> 0.30625599 | O97: ='Proportional Share Calculation'!E94 -> 0.26656792 | P97: =SUM(J97:O97) -> 25.330964 | Q97: =I97-P97 -> 0.62805947
A98: 10291 | B98: Oregon Trail Coop | C98: 81.807347 | D98: =IF(D$6 ="No",0,IF(D$6="Yes",Data!C94,Data!C94+Data!#REF!)) -> 0 | E98: 0 | F98: =Data!D94 -> 0 | G98: =Data!E94 -> 0 | H98: =IF(H$6="Yes",Data!G94,0) -> 0 | I98: =IF((C98+D98-SUM(E98:G98)+H98)>0,C98+D98-SUM(E98:G98)+H98,0) -> 81.807347 | J98: 79.182 | K98: =IF(I98<J98,I98-J98,0) -> 0 | L98: =0.5*Data!O94 -> 0 | M98: =IF(H$6="Yes",Data!F94*0.5,G98*0.5) -> 0 | N98: =IF(I98>J98,(I98-J98)*0.25,0) -> 0.65633664 | O98: ='Proportional Share Calculation'!E95 -> 0.8491064 | P98: =SUM(J98:O98) -> 80.687443 | Q98: =I98-P98 -> 1.1199035
A99: 10294 | B99: Pacific County PUD #2 | C99: 37.994881 | D99: =IF(D$6 ="No",0,IF(D$6="Yes",Data!C95,Data!C95+Data!#REF!)) -> 0 | E99: 0 | F99: =Data!D95 -> 0 | G99: =Data!E95 -> 0 | H99: =IF(H$6="Yes",Data!G95,0) -> 0 | I99: =IF((C99+D99-SUM(E99:G99)+H99)>0,C99+D99-SUM(E99:G99)+H99,0) -> 37.994881 | J99: 36.327 | K99: =IF(I99<J99,I99-J99,0) -> 0 | L99: =0.5*Data!O95 -> 0.05623942 | M99: =IF(H$6="Yes",Data!F95*0.5,G99*0.5) -> 0 | N99: =IF(I99>J99,(I99-J99)*0.25,0) -> 0.41697026 | O99: ='Proportional Share Calculation'!E96 -> 0.39138207 | P99: =SUM(J99:O99) -> 37.191592 | Q99: =I99-P99 -> 0.8032893
A100: 10304 | B100: Parkland L & W | C100: 13.621837 | D100: =IF(D$6 ="No",0,IF(D$6="Yes",Data!C96,Data!C96+Data!#REF!)) -> 0 | E100: 0 | F100: =Data!D96 -> 0 | G100: =Data!E96 -> 0 | H100: =IF(H$6="Yes",Data!G96,0) -> 0 | I100: =IF((C100+D100-SUM(E100:G100)+H100)>0,C100+D100-SUM(E100:G100)+H100,0) -> 13.621837 | J100: 14.068 | K100: =IF(I100<J100,I100-J100,0) -> -0.4461629 | L100: =0.5*Data!O96 -> 0 | M100: =IF(H$6="Yes",Data!F96*0.5,G100*0.5) -> 0 | N100: =IF(I100>J100,(I100-J100)*0.25,0) -> 0 | O100: ='Proportional Share Calculation'!E97 -> 0.14487262 | P100: =SUM(J100:O100) -> 13.76671 | Q100: =I100-P100 -> -0.14487262
A101: 10306 | B101: Pend Oreille County PUD #1 | C101: 84.485164 | D101: =IF(D$6 ="No",0,IF(D$6="Yes",Data!C97,Data!C97+Data!#REF!)) -> 0 | E101: 50.347 | F101: =Data!D97 -> 36.001 | G101: =Data!E97 -> 0 | H101: =IF(H$6="Yes",Data!G97,0) -> 0 | I101: =IF((C101+D101-SUM(E101:G101)+H101)>0,C101+D101-SUM(E101:G101)+H101,0) -> 0 | J101: 25.769 | K101: =IF(I101<J101,I101-J101,0) -> -25.769 | L101: =0.5*Data!O97 -> 0.0031615541 | M101: =IF(H$6="Yes",Data!F97*0.5,G101*0.5) -> 0 | N101: =IF(I101>J101,(I101-J101)*0.25,0) -> 0 | O101: ='Proportional Share Calculation'!E98 -> 3.3624146e-05 | P101: =SUM(J101:O101) -> 0.0031951783 | Q101: =I101-P101 -> -0.0031951783
A102: 10307 | B102: Peninsula Light Company | C102: 74.482336 | D102: =IF(D$6 ="No",0,IF(D$6="Yes",Data!C98,Data!C98+Data!#REF!)) -> 0 | E102: 0 | F102: =Data!D98 -> 0 | G102: =Data!E98 -> 5 | H102: =IF(H$6="Yes",Data!G98,0) -> 5 | I102: =IF((C102+D102-SUM(E102:G102)+H102)>0,C102+D102-SUM(E102:G102)+H102,0) -> 74.482336 | J102: 71.985 | K102: =IF(I102<J102,I102-J102,0) -> 0 | L102: =0.5*Data!O98 -> 0.29851517 | M102: =IF(H$6="Yes",Data!F98*0.5,G102*0.5) -> 0 | N102: =IF(I102>J102,(I102-J102)*0.25,0) -> 0.6243339 | O102: ='Proportional Share Calculation'!E99 -> 0.77539843 | P102: =SUM(J102:O102) -> 73.683248 | Q102: =I102-P102 -> 0.7990881
A103: 10326 | B103: U.S. Naval Base, Bremerton | C103: 22.648668 | D103: =IF(D$6 ="No",0,IF(D$6="Yes",Data!C99,Data!C99+Data!#REF!)) -> 0 | E103: 0 | F103: =Data!D99 -> 0 | G103: =Data!E99 -> 0 | H103: =IF(H$6="Yes",Data!G99,0) -> 0 | I103: =IF((C103+D103-SUM(E103:G103)+H103)>0,C103+D103-SUM(E103:G103)+H103,0) -> 22.648668 | J103: 30.46 | K103: =IF(I103<J103,I103-J103,0) -> -7.8113318 | L103: =0.5*Data!O99 -> 0 | M103: =IF(H$6="Yes",Data!F99*0.5,G103*0.5) -> 0 | N103: =IF(I103>J103,(I103-J103)*0.25,0) -> 0 | O103: ='Proportional Share Calculation'!E100 -> 0.24087587 | P103: =SUM(J103:O103) -> 22.889544 | Q103: =I103-P103 -> -0.24087587
A104: 10331 | B104: Raft River Elec Coop | C104: 37.974088 | D104: =IF(D$6 ="No",0,IF(D$6="Yes",Data!C100,Data!C100+Data!#REF!)) -> 0 | E104: 0 | F104: =Data!D100 -> 0 | G104: =Data!E100 -> 0 | H104: =IF(H$6="Yes",Data!G100,0) -> 0 | I104: =IF((C104+D104-SUM(E104:G104)+H104)>0,C104+D104-SUM(E104:G104)+H104,0) -> 37.974088 | J104: 36.602 | K104: =IF(I104<J104,I104-J104,0) -> 0 | L104: =0.5*Data!O100 -> 0.076908904 | M104: =IF(H$6="Yes",Data!F100*0.5,G104*0.5) -> 0 | N104: =IF(I104>J104,(I104-J104)*0.25,0) -> 0.34302197 | O104: ='Proportional Share Calculation'!E101 -> 0.39374015 | P104: =SUM(J104:O104) -> 37.415671 | Q104: =I104-P104 -> 0.55841687
A105: 10333 | B105: Ravalli County Elec Coop | C105: 23.559062 | D105: =IF(D$6 ="No",0,IF(D$6="Yes",Data!C101,Data!C101+Data!#REF!)) -> 0 | E105: 0 | F105: =Data!D101 -> 0 | G105: =Data!E101 -> 0 | H105: =IF(H$6="Yes",Data!G101,0) -> 0 | I105: =IF((C105+D105-SUM(E105:G105)+H105)>0,C105+D105-SUM(E105:G105)+H105,0) -> 23.559062 | J105: 18.515 | K105: =IF(I105<J105,I105-J105,0) -> 0 | L105: =0.5*Data!O101 -> 0.001686073 | M105: =IF(H$6="Yes",Data!F101*0.5,G105*0.5) -> 0 | N105: =IF(I105>J105,(I105-J105)*0.25,0) -> 1.2610154 | O105: ='Proportional Share Calculation'!E102 -> 0.21034222 | P105: =SUM(J105:O105) -> 19.988044 | Q105: =I105-P105 -> 3.5710179
... A139: 12026 | B139: Jefferson County PUD #1 | C139: 46.685728 | D139: =IF(D$6 ="No",0,IF(D$6="Yes",Data!C135,Data!C135+Data!#REF!)) -> 0 | E139: 0 | F139: =Data!D135 -> 0 | G139: =Data!E135 -> 0 | H139: =IF(H$6="Yes",Data!G135,0) -> 0 | I139: =IF((C139+D139-SUM(E139:G139)+H139)>0,C139+D139-SUM(E139:G139)+H139,0) -> 46.685728 | J139: 45.173 | K139: =IF(I139<J139,I139-J139,0) -> 0 | L139: =0.5*Data!O135 -> 0.17204076 | M139: =IF(H$6="Yes",Data!F135*0.5,G139*0.5) -> 0 | N139: =IF(I139>J139,(I139-J139)*0.25,0) -> 0.37818188 | O139: ='Proportional Share Calculation'!E136 -> 0.48628118 | P139: =SUM(J139:O139) -> 46.209504 | Q139: =I139-P139 -> 0.47622369
B140: Customer Aggregate | C140: =SUM(C7:C139) -> 9916.3662 | D140: =SUM(D7:D139) -> 0 | E140: =SUM(E7:E139) -> 969.233 | F140: =SUM(F7:F139) -> 1390.275 | G140: =SUM(G7:G139) -> 20.192 | H140: =SUM(H7:H139) -> 14.656 | I140: =SUM(I7:I139) -> 7553.185 | J140: =SUM(J7:J139) -> 7244.686 | ... Q140: =SUM(Q7:Q139) -> 303.18503
P142: Headroom | Q142: =SUMIF(Q$7:Q$139,"<0") -> -121.20143
P143: Above-CHWM | Q143: =SUMIF(Q$7:Q$139,">0") -> 424.38646

Sheet Data
A1: All data is in average megawatts (aMW) | C1: Economic Adjustment | D1: Existing and Other (SNEERS, CORs, Green Exception) | E1: New Specified | F1: New Specified with Removal | G1: Resource Removal | H1: Self-Funded Conservation | N1: NEEA | O1: NEEA + Self-Funded Aggregate
A2: BES | B2: Customer | H2: BP-12 | I2: BP-14 | J2: BP-16 | K2: BP-18 | L2: BP-20 | M2: BP-22 | N2: CY 12 - CY 23
A3: 10015 | B3: Asotin County PUD #1 | C3: 0 | D3: 0 | E3: 0 | F3: 0 | G3: 0 | H3: 0 | I3: 0 | J3: 0 | K3: 0 | L3: 0 | M3: 0 | N3: 0 | O3: =SUM(H3:N3) -> 0
A4: 10024 | B4: Benton County PUD #1 | C4: 0 | D4: 0.919 | E4: 0 | F4: 0 | G4: 0 | H4: 2.2945662 | I4: 0.06695695 | J4: 0.15217126 | K4: 0.30998996 | L4: 0.026719646 | M4: 0 | N4: 0 | O4: =SUM(H4:N4) -> 2.850404
A5: 10025 | B5: Benton REA | C5: 0 | D5: 0 | E5: 0 | F5: 0 | G5: 0 | H5: 0.01486071 | I5: 0.008123901 | J5: 0.038697809 | K5: 0.48420659 | L5: 0.047757245 | M5: 0.53480925 | N5: 0 | O5: =SUM(H5:N5) -> 1.1284555
A6: 10027 | B6: Big Bend Elec Coop | C6: 0 | D6: 0 | E6: 0 | F6: 0 | G6: 0 | H6: 0.0062270604 | I6: 0 | J6: 0 | K6: 0 | L6: 0 | M6: 0.043785588 | N6: 0 | O6: =SUM(H6:N6) -> 0.050012648
A7: 10029 | B7: Blachly Lane Elec Coop | C7: 0 | D7: 0 | E7: 0 | F7: 0 | G7: 0 | H7: 0 | I7: 0 | J7: 0 | K7: 0 | L7: 0 | M7: 0 | N7: 0 | O7: =SUM(H7:N7) -> 0
A8: 10044 | B8: Canby, City of | C8: 0 | D8: 0 | E8: 0 | F8: 0 | G8: 0 | H8: 0 | I8: 0 | J8: 0 | K8: 0 | L8: 0 | M8: 0 | N8: 0 | O8: =SUM(H8:N8) -> 0
A9: 10046 | B9: Central Electric Coop | C9: 0 | D9: 0 | E9: 0 | F9: 0 | G9: 0 | H9: 0.011906276 | I9: 0.05084542 | J9: 0 | K9: 0.085307462 | L9: 0.14510368 | M9: 0.0058532546 | N9: 0 | O9: =SUM(H9:N9) -> 0.29901609
A10: 10047 | B10: Central Lincoln PUD | C10: 10.742 | D10: 0 | E10: 0 | F10: 0 | G10: 0 | H10: 0 | I10: 0 | J10: 0.0021164313 | K10: 0.076511821 | L10: 0.068933718 | M10: 0 | N10: 0 | O10: =SUM(H10:N10) -> 0.14756197
A11: 10055 | B11: Albion, City of | C11: 0 | D11: 0 | E11: 0 | F11: 0 | G11: 0 | H11: 0 | I11: 0 | J11: 0 | K11: 0 | L11: 0 | M11: 0 | N11: 0 | O11: =SUM(H11:N11) -> 0
A12: 10057 | B12: Ashland, City of | C12: 0 | D12: 0 | E12: 0 | F12: 0 | G12: 0 | H12: 0 | I12: 0 | J12: 0 | K12: 0 | L12: 0 | M12: 0 | N12: 0 | O12: =SUM(H12:N12) -> 0
A13: 10059 | B13: Bandon, City of | C13: 0 | D13: 0 | E13: 0 | F13: 0 | G13: 0 | H13: 0 | I13: 0 | J13: 0 | K13: 0 | L13: 0 | M13: 0 | N13: 0 | O13: =SUM(H13:N13) -> 0
A14: 10061 | B14: Blaine, City of | C14: 0 | D14: 0 | E14: 0 | F14: 0 | G14: 0 | H14: 0 | I14: 0 | J14: 0 | K14: 0 | L14: 0 | M14: 0 | N14: 0 | O14: =SUM(H14:N14) -> 0
... A135: 12026 | B135: Jefferson County PUD #1 | C135: 0 | D135: 0 | E135: 0 | F135: 0 | G135: 0 | H135: 0 | I135: 0 | J135: 0 | K135: 0 | L135: 0.24668032 | M135: 0.097401205 | N135: 0 | O135: =SUM(H135:N135) -> 0.34408152
B136: Aggregate | C136: =SUM(C3:C135) -> 89.123 | D136: =SUM(D3:D135) -> 1390.275 | E136: =SUM(E3:E135) -> 20.192 | F136: =SUM(F3:F135) -> 14.272 | G136: =SUM(G3:G135) -> 14.656 | H136: =SUM(H3:H135) -> 41.215534 | I136: =SUM(I3:I135) -> 38.723077 | J136: =SUM(J3:J135) -> 43.145348 | ... O136: =SUM(O3:O135) -> 238.65421

Sheet Attachment A
A1: BES | B1: Customer Name | C1: Resource Name | D1: FY 2023 Exhibit A Amount (aMW) | E1: CHWM Calculation Amount (aMW) | F1: Resource Notes | G1: Existing and Other (SNEERS, CORs, Green Exception) | H1: New Resource (No Removal) (aMW) | I1: New Resource (With Removal) (aMW) | O1: Row Labels | P1: Sum of Existing and Other (SNEERS, CORs, Green Exception) | Q1: Sum of New Resource (No Removal) (aMW) | R1: Sum of New Resource (With Removal) (aMW)
A2: 10055 | B2: Albion, City of | C2: [None] | D2: - | E2: - | G2: =IF(E2="-",0,E2-H2) -> 0 | H2: =IF(F2="A",E2,0) -> 0 | I2: =H2 -> 0 | M2: =O2=N2 -> TRUE | N2: 10015 | O2: 10015 | P2: 0 | Q2: 0 | R2: 0
A3: 10057 | B3: Ashland, City of | C3: Reeder Gulch | D3: 0.158 | E3: 0 | F3: B | G3: =IF(E3="-",0,E3-H3) -> 0 | H3: =IF(F3="A",E3,0) -> 0 | I3: =H3 -> 0 | M3: =O3=N3 -> TRUE | N3: 10024 | O3: 10024 | P3: 0.919 | Q3: 0 | R3: 0
A4: 10015 | B4: Asotin County PUD #1 | C4: [None] | D4: - | E4: - | G4: =IF(E4="-",0,E4-H4) -> 0 | H4: =IF(F4="A",E4,0) -> 0 | I4: =H4 -> 0 | M4: =O4=N4 -> TRUE | N4: 10025 | O4: 10025 | P4: 0 | Q4: 0 | R4: 0
A5: 10059 | B5: Bandon, City of | C5: [None] | D5: - | E5: - | G5: =IF(E5="-",0,E5-H5) -> 0 | H5: =IF(F5="A",E5,0) -> 0 | I5: =H5 -> 0 | M5: =O5=N5 -> TRUE | N5: 10027 | O5: 10027 | P5: 0 | Q5: 0 | R5: 0
A6: 10024 | B6: Benton County PUD #1 | C6: Packwood | D6: 0.919 | E6: 0.919 | F6: J | G6: =IF(E6="-",0,E6-H6) -> 0.919 | H6: =IF(F6="A",E6,0) -> 0 | I6: =H6 -> 0 | M6: =O6=N6 -> TRUE | N6: 10029 | O6: 10029 | P6: 0 | Q6: 0 | R6: 0
A7: 10025 | B7: Benton REA | C7: [None] | D7: - | E7: - | G7: =IF(E7="-",0,E7-H7) -> 0 | H7: =IF(F7="A",E7,0) -> 0 | I7: =H7 -> 0 | M7: =O7=N7 -> TRUE | N7: 10044 | O7: 10044 | P7: 0 | Q7: 0 | R7: 0
A8: 10027 | B8: Big Bend Elec Coop | C8: [None] | D8: - | E8: - | G8: =IF(E8="-",0,E8-H8) -> 0 | H8: =IF(F8="A",E8,0) -> 0 | I8: =H8 -> 0 | M8: =O8=N8 -> TRUE | N8: 10046 | O8: 10046 | P8: 0 | Q8: 0 | R8: 0
A9: 10029 | B9: Blachly Lane Elec Coop | C9: [None] | D9: - | E9: - | G9: =IF(E9="-",0,E9-H9) -> 0 | H9: =IF(F9="A",E9,0) -> 0 | I9: =H9 -> 0 | M9: =O9=N9 -> TRUE | N9: 10047 | O9: 10047 | P9: 0 | Q9: 0 | R9: 0
A10: 10061 | B10: Blaine, City of | C10: [None] | D10: - | E10: - | G10: =IF(E10="-",0,E10-H10) -> 0 | H10: =IF(F10="A",E10,0) -> 0 | I10: =H10 -> 0 | M10: =O10=N10 -> TRUE | N10: 10055 | O10: 10055 | P10: 0 | Q10: 0 | R10: 0
A11: 10062 | B11: Bonners Ferry, City of | C11: Moyie | D11: 1.881 | E11: 1.881 | G11: =IF(E11="-",0,E11-H11) -> 1.881 | H11: =IF(F11="A",E11,0) -> 0 | I11: =H11 -> 0 | M11: =O11=N11 -> TRUE | N11: 10057 | O11: 10057 | P11: 0 | Q11: 0 | R11: 0
A12: 10064 | B12: Burley, City of | C12: [None] | D12: - | E12: - | G12: =IF(E12="-",0,E12-H12) -> 0 | H12: =IF(F12="A",E12,0) -> 0 | I12: =H12 -> 0 | M12: =O12=N12 -> TRUE | N12: 10059 | O12: 10059 | P12: 0 | Q12: 0 | R12: 0
A13: 10044 | B13: Canby, City of | C13: [None] | D13: - | E13: - | G13: =IF(E13="-",0,E13-H13) -> 0 | H13: =IF(F13="A",E13,0) -> 0 | I13: =H13 -> 0 | M13: =O13=N13 -> TRUE | N13: 10061 | O13: 10061 | P13: 0 | Q13: 0 | R13: 0
A14: 10065 | B14: Cascade Locks, City of | C14: [None] | D14: - | E14: - | G14: =IF(E14="-",0,E14-H14) -> 0 | H14: =IF(F14="A",E14,0) -> 0 | I14: =H14 -> 0 | M14: =O14=N14 -> TRUE | N14: 10062 | O14: 10062 | P14: 1.881 | Q14: 0 | R14: 0
A15: 10046 | B15: Central Electric Coop | C15: Three Sisters Irrigation District Hydro | D15: 0.354 | E15: 0 | F15: M, B | G15: =IF(E15="-",0,E15-H15) -> 0 | H15: =IF(F15="A",E15,0) -> 0 | I15: =H15 -> 0 | M15: =O15=N15 -> TRUE | N15: 10064 | O15: 10064 | P15: 0 | Q15: 0 | R15: 0
A16: 10047 | B16: Central Lincoln PUD | C16: Georgia Pacific Toledo | D16: 8.238 | E16: 0 | F16: M | G16: =IF(E16="-",0,E16-H16) -> 0 | H16: =IF(F16="A",E16,0) -> 0 | I16: =H16 -> 0 | M16: =O16=N16 -> TRUE | N16: 10065 | O16: 10065 | P16: 0 | Q16: 0 | R16: 0
A17: 10066 | B17: Centralia, City of | C17: Yelm | D17: 7.114 | E17: 7.114 | G17: =IF(E17="-",0,E17-H17) -> 7.114 | H17: =IF(F17="A",E17,0) -> 0 | I17: =H17 -> 0 | M17: =O17=N17 -> TRUE | N17: 10066 | O17: 10066 | P17: 7.114 | Q17: 0 | R17: 0
A18: 10067 | B18: Cheney, City of | C18: [None] | D18: - | E18: - | G18: =IF(E18="-",0,E18-H18) -> 0 | H18: =IF(F18="A",E18,0) -> 0 | I18: =H18 -> 0 | M18: =O18=N18 -> TRUE | N18: 10067 | O18: 10067 | P18: 0 | Q18: 0 | R18: 0
A19: 10068 | B19: Chewelah, City of | C19: [None] | D19: - | E19: - | G19: =IF(E19="-",0,E19-H19) -> 0 | H19: =IF(F19="A",E19,0) -> 0 | I19: =H19 -> 0 | M19: =O19=N19 -> TRUE | N19: 10068 | O19: 10068 | P19: 0 | Q19: 0 | R19: 0
A20: 10101 | B20: Clallam County PUD #1 | C20: Packwood | D20: 0.46 | E20: 0.46 | F20: J | G20: =IF(E20="-",0,E20-H20) -> 0.46 | H20: =IF(F20="A",E20,0) -> 0 | I20: =H20 -> 0 | M20: =O20=N20 -> TRUE | N20: 10070 | O20: 10070 | P20: 0 | Q20: 0 | R20: 0
A21: 10101 | B21: Clallam County PUD #1 | C21: Packwood Assigned Shares | D21: 0.214 | E21: 0 | F21: I | G21: =IF(E21="-",0,E21-H21) -> 0 | H21: =IF(F21="A",E21,0) -> 0 | I21: =H21 -> 0 | M21: =O21=N21 -> TRUE | N21: 10071 | O21: 10071 | P21: 0 | Q21: 0 | R21: 0
A22: 10103 | B22: Clark County PUD #1 | C22: Packwood | D22: 1.181 | E22: 1.181 | F22: J | G22: =IF(E22="-",0,E22-H22) -> 1.181 | H22: =IF(F22="A",E22,0) -> 0 | I22: =H22 -> 0 | M22: =O22=N22 -> TRUE | N22: 10072 | O22: 10072 | P22: 0 | Q22: 0 | R22: 0
A23: 10103 | B23: Clark County PUD #1 | C23: River Road | D23: 224.767 | E23: 102 | F23: N | G23: =IF(E23="-",0,E23-H23) -> 102 | H23: =IF(F23="A",E23,0) -> 0 | I23: =H23 -> 0 | M23: =O23=N23 -> TRUE | N23: 10074 | O23: 10074 | P23: 2.941 | Q23: 0 | R23: 0
A24: 10105 | B24: Clatskanie PUD | C24: [None] | D24: - | E24: - | G24: =IF(E24="-",0,E24-H24) -> 0 | H24: =IF(F24="A",E24,0) -> 0 | I24: =H24 -> 0 | M24: =O24=N24 -> TRUE | N24: 10076 | O24: 10076 | P24: 0 | Q24: 0 | R24: 0
A25: 10106 | B25: Clearwater Power | C25: [None] | D25: - | E25: - | G25: =IF(E25="-",0,E25-H25) -> 0 | H25: =IF(F25="A",E25,0) -> 0 | I25: =H25 -> 0 | M25: =O25=N25 -> TRUE | N25: 10078 | O25: 10078 | P25: 0 | Q25: 0 | R25: 0
A26: 10109 | B26: Columbia Basin Elec Coop | C26: [None] | D26: - | E26: - | G26: =IF(E26="-",0,E26-H26) -> 0 | H26: =IF(F26="A",E26,0) -> 0 | I26: =H26 -> 0 | M26: =O26=N26 -> TRUE | N26: 10079 | O26: 10079 | P26: 2.941 | Q26: 4.015 | R26: 4.015
A27: 10111 | B27: Columbia Power Coop | C27: [None] | D27: - | E27: - | G27: =IF(E27="-",0,E27-H27) -> 0 | H27: =IF(F27="A",E27,0) -> 0 | I27: =H27 -> 0 | M27: =O27=N27 -> TRUE | N27: 10080 | O27: 10080 | P27: 0 | Q27: 0 | R27: 0
A28: 10113 | B28: Columbia REA | C28: Walla Walla Hydro | D28: 1.231 | E28: 1.231 | F28: A | G28: =IF(E28="-",0,E28-H28) -> 0 | H28: =IF(F28="A",E28,0) -> 1.231 | I28: =H28 -> 1.231 | M28: =O28=N28 -> TRUE | N28: 10081 | O28: 10081 | P28: 2.941 | Q28: 0 | R28: 0
A29: 10112 | B29: Columbia River PUD | C29: [None] | D29: - | E29: - | G29: =IF(E29="-",0,E29-H29) -> 0 | H29: =IF(F29="A",E29,0) -> 0 | I29: =H29 -> 0 | M29: =O29=N29 -> TRUE | N29: 10082 | O29: 10082 | P29: 0 | Q29: 0 | R29: 0
A30: 10116 | B30: Consolidated Irrigation District #19 | C30: [None] | D30: - | E30: - | G30: =IF(E30="-",0,E30-H30) -> 0 | H30: =IF(F30="A",E30,0) -> 0 | I30: =H30 -> 0 | M30: =O30=N30 -> TRUE | N30: 10083 | O30: 10083 | P30: 0 | Q30: 0 | R30: 0
A31: 10118 | B31: Consumers Power | C31: Coffin Butte Phase 1 | D31: 0 | E31: 0 | F31: C | G31: =IF(E31="-",0,E31-H31) -> 0 | H31: =IF(F31="A",E31,0) -> 0 | I31: =H31 -> 0 | M31: =O31=N31 -> TRUE | N31: 10086 | O31: 10086 | P31: 0 | Q31: 0 | R31: 0
A32: 10118 | B32: Consumers Power | C32: Coffin Butte Phase 1 Replacement | D32: 2.363 | E32: 2.363 | F32: C | G32: =IF(E32="-",0,E32-H32) -> 2.363 | H32: =IF(F32="A",E32,0) -> 0 | I32: =H32 -> 0 | M32: =O32=N32 -> TRUE | N32: 10087 | O32: 10087 | P32: 0 | Q32: 0 | R32: 0
A33: 10121 | B33: Coos Curry Elec Coop | C33: [None] | D33: - | E33: - | G33: =IF(E33="-",0,E33-H33) -> 0 | H33: =IF(F33="A",E33,0) -> 0 | I33: =H33 -> 0 | M33: =O33=N33 -> TRUE | N33: 10089 | O33: 10089 | P33: 0 | Q33: 0.582 | R33: 0.582
A34: 10378 | B34: Coulee Dam, City of | C34: [None] | D34: - | E34: - | G34: =IF(E34="-",0,E34-H34) -> 0 | H34: =IF(F34="A",E34,0) -> 0 | I34: =H34 -> 0 | M34: =O34=N34 -> TRUE | N34: 10091 | O34: 10091 | P34: 0 | Q34: 0 | R34: 0
A35: 10123 | B35: Cowlitz County PUD #1 | C35: Priest Rapids | D35: 0.601 | E35: 0.555 | F35: L | G35: =IF(E35="-",0,E35-H35) -> 0.555 | H35: =IF(F35="A",E35,0) -> 0 | I35: =H35 -> 0 | M35: =O35=N35 -> TRUE | N35: 10094 | O35: 10094 | P35: 0 | Q35: 0 | R35: 0
A36: 10123 | B36: Cowlitz County PUD #1 | C36: Swift | D36: 14.599 | E36: 14.599 | G36: =IF(E36="-",0,E36-H36) -> 14.599 | H36: =IF(F36="A",E36,0) -> 0 | I36: =H36 -> 0 | M36: =O36=N36 -> TRUE | N36: 10095 | O36: 10095 | P36: 0 | Q36: 0 | R36: 0
A37: 10123 | B37: Cowlitz County PUD #1 | C37: Wanapum | D37: 0.61 | E37: 0.566 | F37: L | G37: =IF(E37="-",0,E37-H37) -> 0.566 | H37: =IF(F37="A",E37,0) -> 0 | I37: =H37 -> 0 | M37: =O37=N37 -> TRUE | N37: 10097 | O37: 10097 | P37: 0 | Q37: 0 | R37: 0
A38: 10123 | B38: Cowlitz County PUD #1 | C38: Longview Fibre 1 (#3 - #7) | D38: 35 | E38: 0 | F38: M | G38: =IF(E38="-",0,E38-H38) -> 0 | H38: =IF(F38="A",E38,0) -> 0 | I38: =H38 -> 0 | M38: =O38=N38 -> TRUE | N38: 10101 | O38: 10101 | P38: 0.46 | Q38: 0 | R38: 0
A39: 10123 | B39: Cowlitz County PUD #1 | C39: Longview Fibre 2 (#8) | D39: 0 | E39: 0 | F39: M | G39: =IF(E39="-",0,E39-H39) -> 0 | H39: =IF(F39="A",E39,0) -> 0 | I39: =H39 -> 0 | M39: =O39=N39 -> TRUE | N39: 10103 | O39: 10103 | P39: 103.181 | Q39: 0 | R39: 0
A40: 10123 | B40: Cowlitz County PUD #1 | C40: Weyerhaeuser | D40: 35 | E40: 0 | F40: M | G40: =IF(E40="-",0,E40-H40) -> 0 | H40: =IF(F40="A",E40,0) -> 0 | I40: =H40 -> 0 | M40: =O40=N40 -> TRUE | N40: 10105 | O40: 10105 | P40: 0 | Q40: 0 | R40: 0
A41: 10070 | B41: Declo, City of | C41: [None] | D41: - | E41: - | G41: =IF(E41="-",0,E41-H41) -> 0 | H41: =IF(F41="A",E41,0) -> 0 | I41: =H41 -> 0 | M41: =O41=N41 -> TRUE | N41: 10106 | O41: 10106 | P41: 0 | Q41: 0 | R41: 0
A42: 10136 | B42: Douglas Electric Cooperative | C42: [None] | D42: - | E42: - | G42: =IF(E42="-",0,E42-H42) -> 0 | H42: =IF(F42="A",E42,0) -> 0 | I42: =H42 -> 0 | M42: =O42=N42 -> TRUE | N42: 10109 | O42: 10109 | P42: 0 | Q42: 0 | R42: 0
A43: 10071 | B43: Drain, City of | C43: [None] | D43: - | E43: - | G43: =IF(E43="-",0,E43-H43) -> 0 | H43: =IF(F43="A",E43,0) -> 0 | I43: =H43 -> 0 | M43: =O43=N43 -> TRUE | N43: 10111 | O43: 10111 | P43: 0 | Q43: 0 | R43: 0
A44: 10142 | B44: East End Mutual Electric | C44: [None] | D44: - | E44: - | G44: =IF(E44="-",0,E44-H44) -> 0 | H44: =IF(F44="A",E44,0) -> 0 | I44: =H44 -> 0 | M44: =O44=N44 -> TRUE | N44: 10112 | O44: 10112 | P44: 0 | Q44: 0 | R44: 0
A45: 10144 | B45: Eatonville, City of | C45: [None] | D45: - | E45: - | G45: =IF(E45="-",0,E45-H45) -> 0 | H45: =IF(F45="A",E45,0) -> 0 | I45: =H45 -> 0 | M45: =O45=N45 -> TRUE | N45: 10113 | O45: 10113 | P45: 0 | Q45: 1.231 | R45: 1.231
A46: 10072 | B46: Ellensburg, City of | C46: [None] | D46: - | E46: - | G46: =IF(E46="-",0,E46-H46) -> 0 | H46: =IF(F46="A",E46,0) -> 0 | I46: =H46 -> 0 | M46: =O46=N46 -> TRUE | N46: 10116 | O46: 10116 | P46: 0 | Q46: 0 | R46: 0
A47: 10156 | B47: Elmhurst Mutual P & L | C47: [None] | D47: - | E47: - | G47: =IF(E47="-",0,E47-H47) -> 0 | H47: =IF(F47="A",E47,0) -> 0 | I47: =H47 -> 0 | M47: =O47=N47 -> TRUE | N47: 10118 | O47: 10118 | P47: 2.363 | Q47: 0 | R47: 0
A48: 10157 | B48: Emerald PUD | C48: Short Mountain | D48: 2.549 | E48: 2.549 | F48: C | G48: =IF(E48="-",0,E48-H48) -> 2.549 | H48: =IF(F48="A",E48,0) -> 0 | I48: =H48 -> 0 | M48: =O48=N48 -> TRUE | N48: 10121 | O48: 10121 | P48: 0 | Q48: 0 | R48: 0
A49: 10158 | B49: Energy Northwest | C49: [None] | D49: - | E49: - | G49: =IF(E49="-",0,E49-H49) -> 0 | H49: =IF(F49="A",E49,0) -> 0 | I49: =H49 -> 0 | M49: =O49=N49 -> TRUE | N49: 10123 | O49: 10123 | P49: 15.72 | Q49: 0 | R49: 0
A50: 10170 | B50: Eugene Water & Electric Board | C50: Carmen-Smith | D50: 15.425 | E50: 15.425 | G50: =IF(E50="-",0,E50-H50) -> 15.425 | H50: =IF(F50="A",E50,0) -> 0 | I50: =H50 -> 0 | M50: =O50=N50 -> TRUE | N50: 10136 | O50: 10136 | P50: 0 | Q50: 0 | R50: 0
A51: 10170 | B51: Eugene Water & Electric Board | C51: Foote Creek I | D51: N/A | E51: 0 | F51: N | G51: =IF(E51="-",0,E51-H51) -> 0 | H51: =IF(F51="A",E51,0) -> 0 | I51: =H51 -> 0 | M51: =O51=N51 -> TRUE | N51: 10142 | O51: 10142 | P51: 0 | Q51: 0 | R51: 0
A52: 10170 | B52: Eugene Water & Electric Board | C52: Replacement for Foote Creek I | D52: 2.086 | E52: 0 | F52: N | G52: =IF(E52="-",0,E52-H52) -> 0 | H52: =IF(F52="A",E52,0) -> 0 | I52: =H52 -> 0 | M52: =O52=N52 -> TRUE | N52: 10144 | O52: 10144 | P52: 0 | Q52: 0 | R52: 0
A53: 10170 | B53: Eugene Water & Electric Board | C53: Leaburg | D53: 0 | E53: 0 | F53: N | G53: =IF(E53="-",0,E53-H53) -> 0 | H53: =IF(F53="A",E53,0) -> 0 | I53: =H53 -> 0 | M53: =O53=N53 -> TRUE | N53: 10156 | O53: 10156 | P53: 0 | Q53: 0 | R53: 0
A54: 10170 | B54: Eugene Water & Electric Board | C54: Priest Rapids | D54: 0.526 | E54: 0.494 | F54: L | G54: =IF(E54="-",0,E54-H54) -> 0.494 | H54: =IF(F54="A",E54,0) -> 0 | I54: =H54 -> 0 | M54: =O54=N54 -> TRUE | N54: 10157 | O54: 10157 | P54: 2.549 | Q54: 0 | R54: 0
A55: 10170 | B55: Eugene Water & Electric Board | C55: Smith Creek | D55: N/A | E55: 0 | F55: N | G55: =IF(E55="-",0,E55-H55) -> 0 | H55: =IF(F55="A",E55,0) -> 0 | I55: =H55 -> 0 | M55: =O55=N55 -> TRUE | N55: 10158 | O55: 10158 | P55: 0 | Q55: 0 | R55: 0
A56: 10170 | B56: Eugene Water & Electric Board | C56: Replacement for Smith Creek | D56: 6.985 | E56: 6.985 | G56: =IF(E56="-",0,E56-H56) -> 6.985 | H56: =IF(F56="A",E56,0) -> 0 | I56: =H56 -> 0 | M56: =O56=N56 -> TRUE | N56: 10170 | O56: 10170 | P56: 32.263 | Q56: 0 | R56: 0
A57: 10170 | B57: Eugene Water & Electric Board | C57: Stone Creek | D57: 3.484 | E57: 0 | F57: H | G57: =IF(E57="-",0,E57-H57) -> 0 | H57: =IF(F57="A",E57,0) -> 0 | I57: =H57 -> 0 | M57: =O57=N57 -> TRUE | N57: 10172 | O57: 10172 | P57: 0 | Q57: 0 | R57: 0
A58: 10170 | B58: Eugene Water & Electric Board | C58: Trailbridge | D58: 3.282 | E58: 3.282 | F58: C | G58: =IF(E58="-",0,E58-H58) -> 3.282 | H58: =IF(F58="A",E58,0) -> 0 | I58: =H58 -> 0 | M58: =O58=N58 -> TRUE | N58: 10173 | O58: 10173 | P58: 0.992 | Q58: 0.967 | R58: 0.967
A59: 10170 | B59: Eugene Water & Electric Board | C59: Walterville | D59: 5.591 | E59: 5.591 | G59: =IF(E59="-",0,E59-H59) -> 5.591 | H59: =IF(F59="A",E59,0) -> 0 | I59: =H59 -> 0 | M59: =O59=N59 -> TRUE | N59: 10174 | O59: 10174 | P59: 0 | Q59: 0 | R59: 0
A60: 10170 | B60: Eugene Water & Electric Board | C60: Wanapum | D60: 0.533 | E60: 0.486 | F60: L | G60: =IF(E60="-",0,E60-H60) -> 0.486 | H60: =IF(F60="A",E60,0) -> 0 | I60: =H60 -> 0 | M60: =O60=N60 -> TRUE | N60: 10177 | O60: 10177 | P60: 0.066 | Q60: 0 | R60: 0
A61: 10170 | B61: Eugene Water & Electric Board | C61: Industrial Finishes | D61: 0.057 | E61: 0 | F61: B | G61: =IF(E61="-",0,E61-H61) -> 0 | H61: =IF(F61="A",E61,0) -> 0 | I61: =H61 -> 0 | M61: =O61=N61 -> TRUE | N61: 10179 | O61: 10179 | P61: 9.404 | Q61: 3.577 | R61: 3.577
A62: 10170 | B62: Eugene Water & Electric Board | C62: International Paper | D62: 17.678 | E62: 0 | F62: M | G62: =IF(E62="-",0,E62-H62) -> 0 | H62: =IF(F62="A",E62,0) -> 0 | I62: =H62 -> 0 | M62: =O62=N62 -> TRUE | N62: 10183 | O62: 10183 | P62: 0.689 | Q62: 0 | R62: 0
A63: 10170 | B63: Eugene Water & Electric Board | C63: Willamette Beverage (Pepsi-Cola) | D63: 0.031 | E63: 0 | F63: B | G63: =IF(E63="-",0,E63-H63) -> 0 | H63: =IF(F63="A",E63,0) -> 0 | I63: =H63 -> 0 | M63: =O63=N63 -> TRUE | N63: 10186 | O63: 10186 | P63: 0 | Q63: 0 | R63: 0
A64: 10170 | B64: Eugene Water & Electric Board | C64: Kendall Dealership Holdings LLC | D64: 0.025 | E64: 0 | F64: B | G64: =IF(E64="-",0,E64-H64) -> 0 | H64: =IF(F64="A",E64,0) -> 0 | I64: =H64 -> 0 | M64: =O64=N64 -> TRUE | N64: 10190 | O64: 10190 | P64: 306.41 | Q64: 0 | R64: 0
A65: 10170 | B65: Eugene Water & Electric Board | C65: Metropolitan Wastewater Management Commission | D65: 0.57 | E65: 0 | F65: B | G65: =IF(E65="-",0,E65-H65) -> 0 | H65: =IF(F65="A",E65,0) -> 0 | I65: =H65 -> 0 | M65: =O65=N65 -> TRUE | N65: 10191 | O65: 10191 | P65: 0 | Q65: 0 | R65: 0
A66: 10172 | B66: U.S. Airforce Base, Fairchild | C66: [None] | D66: - | E66: - | G66: =IF(E66="-",0,E66-H66) -> 0 | H66: =IF(F66="A",E66,0) -> 0 | I66: =H66 -> 0 | M66: =O66=N66 -> TRUE | N66: 10197 | O66: 10197 | P66: 0 | Q66: 0 | R66: 0
A67: 10173 | B67: Fall River Elec Coop | C67: Buffalo Hydro | D67: 0.135 | E67: 0 | F67: B | G67: =IF(E67="-",0,E67-H67) -> 0 | H67: =IF(F67="A",E67,0) -> 0 | I67: =H67 -> 0 | M67: =O67=N67 -> TRUE | N67: 10202 | O67: 10202 | P67: 0 | Q67: 0 | R67: 0
A68: 10173 | B68: Fall River Elec Coop | C68: Chester Hydro | D68: 0.967 | E68: 0.967 | F68: A | G68: =IF(E68="-",0,E68-H68) -> 0 | H68: =IF(F68="A",E68,0) -> 0.967 | I68: =H68 -> 0.967 | M68: =O68=N68 -> TRUE | N68: 10203 | O68: 10203 | P68: 0 | Q68: 0 | R68: 0
A69: 10173 | B69: Fall River Elec Coop | C69: Island Park | D69: 0.992 | E69: 0.992 | G69: =IF(E69="-",0,E69-H69) -> 0.992 | H69: =IF(F69="A",E69,0) -> 0 | I69: =H69 -> 0 | M69: =O69=N69 -> TRUE | N69: 10204 | O69: 10204 | P69: 17.322 | Q69: 0.518 | R69: 0.518
A70: 10174 | B70: Farmers Elec Coop | C70: [None] | D70: - | E70: - | G70: =IF(E70="-",0,E70-H70) -> 0 | H70: =IF(F70="A",E70,0) -> 0 | I70: =H70 -> 0 | M70: =O70=N70 -> TRUE | N70: 10209 | O70: 10209 | P70: 0 | Q70: 0 | R70: 0
A71: 10177 | B71: Ferry County PUD #1 | C71: Packwood | D71: 0 | E71: 0.066 | F71: J, Q | G71: =IF(E71="-",0,E71-H71) -> 0.066 | H71: =IF(F71="A",E71,0) -> 0 | I71: =H71 -> 0 | M71: =O71=N71 -> TRUE | N71: 10230 | O71: 10230 | P71: 0.996 | Q71: 0 | R71: 0
A72: 10179 | B72: Flathead Elec Coop | C72: Land Fill Gas To Energy LFGTE, Flathead County Solid Waste | D72: 1.077 | E72: 1.077 | F72: A | G72: =IF(E72="-",0,E72-H72) -> 0 | H72: =IF(F72="A",E72,0) -> 1.077 | I72: =H72 -> 1.077 | M72: =O72=N72 -> TRUE | N72: 10231 | O72: 10231 | P72: 4.419 | Q72: 0 | R72: 0
A73: 10179 | B73: Flathead Elec Coop | C73: Stolze Biomass | D73: 2.5 | E73: 2.5 | F73: A | G73: =IF(E73="-",0,E73-H73) -> 0 | H73: =IF(F73="A",E73,0) -> 2.5 | I73: =H73 -> 2.5 | M73: =O73=N73 -> TRUE | N73: 10234 | O73: 10234 | P73: 0 | Q73: 0 | R73: 0
A74: 10179 | B74: Flathead Elec Coop | C74: Stoltze Biomass | D74: 2.5 | E74: 0 | F74: M | G74: =IF(E74="-",0,E74-H74) -> 0 | H74: =IF(F74="A",E74,0) -> 0 | I74: =H74 -> 0 | M74: =O74=N74 -> TRUE | N74: 10235 | O74: 10235 | P74: 0 | Q74: 0 | R74: 0
A75: 10179 | B75: Flathead Elec Coop | C75: Sierra Pacific Industries (“SPI”) – Aberdeen, WA (purchased from Public Utility District No. 1 of Grays Harbor County) | D75: 9.404 | E75: 9.404 | F75: G | G75: =IF(E75="-",0,E75-H75) -> 9.404 | H75: =IF(F75="A",E75,0) -> 0 | I75: =H75 -> 0 | M75: =O75=N75 -> TRUE | N75: 10236 | O75: 10236 | P75: 0 | Q75: 0 | R75: 0
A76: 10179 | B76: Flathead Elec Coop | C76: Nippon Paper Industries USA Co., Ltd. – Port Angeles, WA | D76: 0 | E76: 0 | F76: G | G76: =IF(E76="-",0,E76-H76) -> 0 | H76: =IF(F76="A",E76,0) -> 0 | I76: =H76 -> 0 | M76: =O76=N76 -> TRUE | N76: 10237 | O76: 10237 | P76: 0.936 | Q76: 0 | R76: 0
A77: 10074 | B77: Forest Grove, City of | C77: Priest Rapids | D77: 1.577 | E77: 1.457 | F77: L | G77: =IF(E77="-",0,E77-H77) -> 1.457 | H77: =IF(F77="A",E77,0) -> 0 | I77: =H77 -> 0 | M77: =O77=N77 -> TRUE | N77: 10239 | O77: 10239 | P77: 0 | Q77: 0 | R77: 0
A78: 10074 | B78: Forest Grove, City of | C78: Wanapum | D78: 1.6 | E78: 1.484 | F78: L | G78: =IF(E78="-",0,E78-H78) -> 1.484 | H78: =IF(F78="A",E78,0) -> 0 | I78: =H78 -> 0 | M78: =O78=N78 -> TRUE | N78: 10242 | O78: 10242 | P78: 0 | Q78: 0 | R78: 0
A79: 10183 | B79: Franklin County PUD #1 | C79: Packwood | D79: 0.689 | E79: 0.689 | F79: J | G79: =IF(E79="-",0,E79-H79) -> 0.689 | H79: =IF(F79="A",E79,0) -> 0 | I79: =H79 -> 0 | M79: =O79=N79 -> TRUE | N79: 10244 | O79: 10244 | P79: 1.03 | Q79: 2.573 | R79: 2.573
A80: 10186 | B80: Glacier Elec Coop | C80: Western Area Power Administration (WAPA) Blackfeet Tribal Allocation | D80: 3.316 | E80: 0 | F80: D | G80: =IF(E80="-",0,E80-H80) -> 0 | H80: =IF(F80="A",E80,0) -> 0 | I80: =H80 -> 0 | M80: =O80=N80 -> TRUE | N80: 10246 | O80: 10246 | P80: 0.542 | Q80: 0 | R80: 0
A81: 10190 | B81: Grant County PUD #2 | C81: Priest Rapids Project | D81: 300.73 | E81: 300.73 | F81: F, L, S | G81: =IF(E81="-",0,E81-H81) -> 300.73 | H81: =IF(F81="A",E81,0) -> 0 | I81: =H81 -> 0 | M81: =O81=N81 -> TRUE | N81: 10247 | O81: 10247 | P81: 0.656 | Q81: 1.729 | R81: 0.809
A82: 10190 | B82: Grant County PUD #2 | C82: Priest Rapids Project - NLSL | D82: 153.648 | E82: 0 | F82: F, H, L | G82: =IF(E82="-",0,E82-H82) -> 0 | H82: =IF(F82="A",E82,0) -> 0 | I82: =H82 -> 0 | M82: =O82=N82 -> TRUE | N82: 10256 | O82: 10256 | P82: 0 | Q82: 0 | R82: 0
... A87: 10191 | B87: Grays Harbor PUD #1 | C87: Sierra Pacific Industries-Aberdeen, WA | D87: 14.446 | E87: 0 | F87: M | G87: =IF(E87="-",0,E87-H87) -> 0 | H87: =IF(F87="A",E87,0) -> 0 | I87: =H87 -> 0 | M87: =O87=N87 -> TRUE | N87: 10278 | O87: 10278 | P87: 1.53 | Q87: 0 | R87: 0
A88: 10197 | B88: Harney Elec Coop | C88: [None] | D88: - | E88: - | G88: =IF(E88="-",0,E88-H88) -> 0 | H88: =IF(F88="A",E88,0) -> 0 | I88: =H88 -> 0 | M88: =O88=N88 -> TRUE | N88: 10279 | O88: 10279 | P88: 4.404 | Q88: 0 | R88: 0
A89: 10597 | B89: Hermiston, City of | C89: [None] | D89: - | E89: - | G89: =IF(E89="-",0,E89-H89) -> 0 | H89: =IF(F89="A",E89,0) -> 0 | I89: =H89 -> 0 | M89: =O89=N89 -> TRUE | N89: 10284 | O89: 10284 | P89: 0 | Q89: 0 | R89: 0
A90: 10076 | B90: Heyburn, City of | C90: [None] | D90: - | E90: - | G90: =IF(E90="-",0,E90-H90) -> 0 | H90: =IF(F90="A",E90,0) -> 0 | I90: =H90 -> 0 | M90: =O90=N90 -> TRUE | N90: 10285 | O90: 10285 | P90: 0 | Q90: 0 | R90: 0
A91: 10202 | B91: Hood River Elec Coop | C91: Middle Fork Irrigation | D91: 2.686 | E91: 0 | F91: M | G91: =IF(E91="-",0,E91-H91) -> 0 | H91: =IF(F91="A",E91,0) -> 0 | I91: =H91 -> 0 | M91: =O91=N91 -> TRUE | N91: 10286 | O91: 10286 | P91: 24.13 | Q91: 0 | R91: 0
A92: 10203 | B92: Idaho County L & P | C92: [None] | D92: - | E92: - | G92: =IF(E92="-",0,E92-H92) -> 0 | H92: =IF(F92="A",E92,0) -> 0 | I92: =H92 -> 0 | M92: =O92=N92 -> TRUE | N92: 10288 | O92: 10288 | P92: 0 | Q92: 0 | R92: 0
A93: 10204 | B93: Idaho Falls Power | C93: Bulb Turbines | D93: 11.528 | E93: 11.528 | G93: =IF(E93="-",0,E93-H93) -> 11.528 | H93: =IF(F93="A",E93,0) -> 0 | I93: =H93 -> 0 | M93: =O93=N93 -> TRUE | N93: 10291 | O93: 10291 | P93: 0 | Q93: 0 | R93: 0
A94: 10204 | B94: Idaho Falls Power | C94: Gem State | D94: 5.794 | E94: 5.794 | G94: =IF(E94="-",0,E94-H94) -> 5.794 | H94: =IF(F94="A",E94,0) -> 0 | I94: =H94 -> 0 | M94: =O94=N94 -> TRUE | N94: 10294 | O94: 10294 | P94: 0 | Q94: 0 | R94: 0
A95: 10204 | B95: Idaho Falls Power | C95: Horse Butte | D95: 0.518 | E95: 0.518 | F95: A | G95: =IF(E95="-",0,E95-H95) -> 0 | H95: =IF(F95="A",E95,0) -> 0.518 | I95: =H95 -> 0.518 | M95: =O95=N95 -> TRUE | N95: 10304 | O95: 10304 | P95: 0 | Q95: 0 | R95: 0
A96: 10209 | B96: Inland P & L | C96: [None] | D96: - | E96: - | G96: =IF(E96="-",0,E96-H96) -> 0 | H96: =IF(F96="A",E96,0) -> 0 | I96: =H96 -> 0 | M96: =O96=N96 -> TRUE | N96: 10306 | O96: 10306 | P96: 36.001 | Q96: 0 | R96: 0
A97: 12026 | B97: Jefferson County PUD #1 | C97: [None] | D97: - | E97: - | G97: =IF(E97="-",0,E97-H97) -> 0 | H97: =IF(F97="A",E97,0) -> 0 | I97: =H97 -> 0 | M97: =O97=N97 -> TRUE | N97: 10307 | O97: 10307 | P97: 0 | Q97: 5 | R97: 0
A98: 13927 | B98: Kalispel Tribe Utility | C98: [None] | D98: - | E98: - | G98: =IF(E98="-",0,E98-H98) -> 0 | H98: =IF(F98="A",E98,0) -> 0 | I98: =H98 -> 0 | M98: =O98=N98 -> TRUE | N98: 10326 | O98: 10326 | P98: 0 | Q98: 0 | R98: 0
A99: 10230 | B99: Kittitas County PUD #1 | C99: Priest Rapids | D99: 0.526 | E99: 0.486 | F99: L | G99: =IF(E99="-",0,E99-H99) -> 0.486 | H99: =IF(F99="A",E99,0) -> 0 | I99: =H99 -> 0 | M99: =O99=N99 -> TRUE | N99: 10331 | O99: 10331 | P99: 0 | Q99: 0 | R99: 0
A100: 10230 | B100: Kittitas County PUD #1 | C100: Wanapum | D100: 0.533 | E100: 0.494 | F100: L | G100: =IF(E100="-",0,E100-H100) -> 0.494 | H100: =IF(F100="A",E100,0) -> 0 | I100: =H100 -> 0 | M100: =O100=N100 -> TRUE | N100: 10333 | O100: 10333 | P100: 0 | Q100: 0 | R100: 0
A101: 10230 | B101: Kittitas County PUD #1 | C101: Packwood | D101: 0 | E101: 0.016 | F101: J, Q | G101: =IF(E101="-",0,E101-H101) -> 0.016 | H101: =IF(F101="A",E101,0) -> 0 | I101: =H101 -> 0 | M101: =O101=N101 -> TRUE | N101: 10338 | O101: 10338 | P101: 0 | Q101: 0 | R101: 0
A102: 10231 | B102: Klickitat County PUD #1 | C102: McNary Fishway | D102: 4.222 | E102: 4.222 | G102: =IF(E102="-",0,E102-H102) -> 4.222 | H102: =IF(F102="A",E102,0) -> 0 | I102: =H102 -> 0 | M102: =O102=N102 -> TRUE | N102: 10342 | O102: 10342 | P102: 0 | Q102: 0 | R102: 0
A103: 10231 | B103: Klickitat County PUD #1 | C103: Packwood | D103: 0.197 | E103: 0.197 | F103: J | G103: =IF(E103="-",0,E103-H103) -> 0.197 | H103: =IF(F103="A",E103,0) -> 0 | I103: =H103 -> 0 | M103: =O103=N103 -> TRUE | N103: 10343 | O103: 10343 | P103: 0 | Q103: 0 | R103: 0
A104: 10231 | B104: Klickitat County PUD #1 | C104: SDS Lumber | D104: 1.256 | E104: 0 | F104: M | G104: =IF(E104="-",0,E104-H104) -> 0 | H104: =IF(F104="A",E104,0) -> 0 | I104: =H104 -> 0 | M104: =O104=N104 -> TRUE | N104: 10349 | O104: 10349 | P104: 588.606 | Q104: 0 | R104: 0
...

Sheet Proportional Share Calculation
B1: Unscaled System Size | C1: =SUM(Calculation!J7:N139) -> 7173.7053
A2: All data is in average megawatts (aMW)
A3: BES | B3: Customer | C3: CHWM w/adjustments | D3: Adjustment Share | E3: Proportional Share Adjustment
A4: 10015 | B4: Asotin County PUD #1 | C4: =SUM(Calculation!J7:N7) -> 0.5493153 | D4: =C4/$C$1 -> 7.657344e-05 | E4: =IF($C$1<7250,$D4*(7250-$C$1),0) -> 0.0058421449
A5: 10024 | B5: Benton County PUD #1 | C5: =SUM(Calculation!J8:N8) -> 207.31174 | D5: =C5/$C$1 -> 0.028898836 | E5: =IF($C$1<7250,$D5*(7250-$C$1),0) -> 2.204827
A6: 10025 | B6: Benton REA | C6: =SUM(Calculation!J9:N9) -> 64.108695 | D6: =C6/$C$1 -> 0.0089366223 | E6: =IF($C$1<7250,$D6*(7250-$C$1),0) -> 0.6818166
A7: 10027 | B7: Big Bend Elec Coop | C7: =SUM(Calculation!J10:N10) -> 63.407593 | D7: =C7/$C$1 -> 0.0088388901 | E7: =IF($C$1<7250,$D7*(7250-$C$1),0) -> 0.67436015
A8: 10029 | B8: Blachly Lane Elec Coop | C8: =SUM(Calculation!J11:N11) -> 18.806494 | D8: =C8/$C$1 -> 0.0026215872 | E8: =IF($C$1<7250,$D8*(7250-$C$1),0) -> 0.20001311
A9: 10044 | B9: Canby, City of | C9: =SUM(Calculation!J12:N12) -> 20.865225 | D9: =C9/$C$1 -> 0.0029085701 | E9: =IF($C$1<7250,$D9*(7250-$C$1),0) -> 0.22190838
A10: 10046 | B10: Central Electric Coop | C10: =SUM(Calculation!J13:N13) -> 86.557924 | D10: =C10/$C$1 -> 0.012065999 | E10: =IF($C$1<7250,$D10*(7250-$C$1),0) -> 0.92057137
A11: 10047 | B11: Central Lincoln PUD | C11: =SUM(Calculation!J14:N14) -> 146.30887 | D11: =C11/$C$1 -> 0.02039516 | E11: =IF($C$1<7250,$D11*(7250-$C$1),0) -> 1.5560419
A12: 10055 | B12: Albion, City of | C12: =SUM(Calculation!J15:N15) -> 0.41832466 | D12: =C12/$C$1 -> 5.831361e-05 | E12: =IF($C$1<7250,$D12*(7250-$C$1),0) -> 0.0044490173
A13: 10057 | B13: Ashland, City of | C13: =SUM(Calculation!J16:N16) -> 20.239493 | D13: =C13/$C$1 -> 0.0028213443 | E13: =IF($C$1<7250,$D13*(7250-$C$1),0) -> 0.21525352
A14: 10059 | B14: Bandon, City of | C14: =SUM(Calculation!J17:N17) -> 7.8091686 | D14: =C14/$C$1 -> 0.0010885823 | E14: =IF($C$1<7250,$D14*(7250-$C$1),0) -> 0.08305302
A15: 10061 | B15: Blaine, City of | C15: =SUM(Calculation!J18:N18) -> 9.0044462 | D15: =C15/$C$1 -> 0.0012552016 | E15: =IF($C$1<7250,$D15*(7250-$C$1),0) -> 0.095765182
... A136: 12026 | B136: Jefferson County PUD #1 | C136: =SUM(Calculation!J139:N139) -> 45.723223 | D136: =C136/$C$1 -> 0.0063737247 | E136: =IF($C$1<7250,$D136*(7250-$C$1),0) -> 0.48628118

Sheet Lists
A1: Button | B1: Button
A2: Yes | B2: No
A3: No | B3: Yes
