Workbook

Sheet Info
B2: Contract High Water Mark Calculation Model
B3: Contact information: | C3: post2028@bpa.gov
B4: Date released | C4: 45572
B6: Disclaimer:
B7: None of the data included in this model is considered final numbers that will be used for the FY 2026 CHWM calculation. Please note this model is for illustrative purposes only and CHWMs provided are considered estimates based on best data available at time of publishing. The model does not include the rigorous data scrubbing that will be conducted during the FY 2026 CHWM Calculation process to calculate final CHWMs. Updates to the data in the model are meant to provide the best available information to support customers during contract development.
B9: Context:
B10: Bonneville developed an updated CHWM calculation model to reflect the CHWM calculation described in the Provider of Choice Policy. As a reminder, CHWMs are an allocation of Tier 1 costs, not an allocation of the system or physical resources. For questions about this spreadsheet, please email the Provider of Choice team at post2028@bpa.gov and/or reach out to your Power Account Executive.
B12: Table of Contents
B13: Tab | C13: Description
B14: Info | C14: Tab provides context, calculations and description and source of all data included in the workbook.
B15: Calculation | C15: Tab provides the estimated CHWM calculation including preliminary determination for PF-eligible load.
B16: Conservation Data | C16: Hidden tab includes the conservation data included in the conservation adjustment in the Calculation tab.
B17: Proportional Share Calculation | C17: Hidden tab that computes the proportional share calculation for the Calculation tab.
B19: PF-Eligible Load Equation
B24: CHWM Equation:
B28: Above-CHWM Equation
B34: Data
B35: Category | C35: Description of Data | D35: Source Data | E35: Source Tab | F35: Where data will be discussed
B36: Index Year | C36: The index year, FY 2023, is the year used to establish PF-eligible load in the CHWM calculation. | D36: N/A | E36: N/A | F36: The index year was established in the Provider of Choice Policy.
B37: Total Retail Load | C37: Total retail load data is based on actual total retail loads for FY 2023. Data has not been scrubbed or weather normalized. | D37: N/A | E37: N/A | F37: The Provider of Choice Policy and the CHWM Implementation Policy provide any adjustments that Bonneville will make to total retail load amounts including the weather normalization process. Customers will have an opportunity to comment on their loads during the weather normalization process. Customers will be able to comment on the accuracy of the math during the FY 2026 CHWM Calculation Process.
B38: Economic Adjustment | C38: The economic adjustment reflects how loads would be adjusted if a consumer load qualified for the economic adjustment to total retail load. There are currently no loads identified for the adjustment but users are welcome to input their own assumptions. | D38: N/A | E38: N/A | F38: The adjustment was determined in the Provider of Choice Policy. Customers who believe they qualified for the adjustment were required to notify Bonneville by Oct. 1, 2024. Eligible cusotmers will be required to submit final data in the fall of 2025 for the FY 2026 CHWM calculation. Customers will be able to comment on the accuracy of the math during the FY 2026 CHWM Calculation Process.
B39: New Large Single Loads | C39: New large single load data is based on actual loads for FY 2023. Data has not been scrubbed or weather normalized. | D39: N/A | E39: N/A | F39: Customers will have a chance to discuss the NLSL data values with their Power AE in parallel to the TRL weather normalization process. Customers will be able to comment on the accuracy of the math during the FY 2026 CHWM Calculation Process.
B40: Non-federal Existing Resources | C40: Existing resources are based on existing resources included in the Regional Dialogue contract Exhibit A. Data is based on the data provided in the BP-24 Initial Proposal. | D40: BP-24 Billing Determinants Model | E40: I_ER | F40: Attachment A will identify which non-federal resources will be included in the FY 2026 CHWM Calculation and the resource amounts that will be used.
B41: Non-federal SNEER, COR and Green Exception Resources | C41: Small Non-dispatchable New Resource Treated Equivalently to an Existing Resource (SNEER), consumer-owned resource and green exception resource amounts are included in the Regional Dialogue contract Exhibit A. Data is based on the data provided in the BP-24 Initial Proposal. | D41: BP-24 Billing Determinants Model | E41: I_ER_other | F41: Attachment A will identify which non-federal resources will be included in the FY 2026 CHWM Calculation and the resource amounts that will be used.
B42: Non-federal New Specified Resources | C42: New specified resources, under Regional Dialogue, are resources added after September 30, 2006, and included in Regional Dialogue contract Exhibit A as new resources. Data is based on the data provided in the BP-24 Initial Proposal. | D42: BP-24 Billing Determinants Model | E42: I_NR | F42: Attachment A will identify which non-federal resources will be included in the FY 2026 CHWM Calculation and the resource amounts that will be used.
B43: Resource Removal | C43: Customers may request a permanent removal of a specified resource, provided consistent with 5(b)9(c) Policy, before the expiration of the Regional Dialogue contracts. The resource would no longer be deducted from a customer's net requirements calculation. For purposes of this model, the approved resource removal amount is added back to a customer's PF-eligible load. The data included in this model is limited to what has been made publicly available, but users are welcome to input their own assumptions. This includes resource removals approved for Clark in 2022 and Mission Valley Power in 2023. | D43: September 2022 BPA Decision Letter | E43: N/A | F43: Attachment A will identify which non-federal resources will be included in the FY 2026 CHWM Calculation. If a customer requested a determination for permanent resource removal by Oct. 1, 2024, and if the resource is granted permanent discontinuance, the resource amount will show as 0 aMW. Customers may request a resource removal determination later but it may not qualify for removal in the calculation.
B44: Base Allowance | C44: The base allowance is the amount from which all adjustments are added or subtracted. The base allowance is equal to customers' 2024 Rate-Period High Water Mark (RHWM) values from the bi-annual RHWM process. | D44: 2024 RHWM Final Outputs | E44: RHWM | F44: The base allowance was determined in the Provider of Choice Policy. The amounts were determined in the 2024 RHWM process that concluded in August 2022.
B45: Headroom Adjustment | C45: The headroom adjustment applies to customers whose PF-eligible load is lower than their base allowance. It reduces their base allowance to their PF-eligible load by subtracting out headroom. | D45: N/A | E45: N/A | F45: The adjustment was determined in the Provider of Choice Policy. Customers will be able to comment on the accuracy of the math during the FY 2026 CHWM Calculation Process.
B46: Conservation Adjustment | C46: The conservation adjustment takes into account self-funded conservation achievements approved by Bonneville during a defined time horizon of the Regional Dialogue contract period. The adjustment credits a customer 50% of their self-funded achievements. The first type of qualifying data is self-funded conservation that is reported to Bonneville and meets the eligibility and reporting requirements of the Bonneville Energy Efficiency Implementation Manual. The data includes actuals for FY 2012 through FY 2023 based on reporting approved through January 2024. FY 2022 and FY 2023 data may be reported through September 2025. The second type of data included is self-funded Northwest Energy Efficiency Alliance (NEEA) savings. The amount is based on a customer's self-funded savings proportional to each direct funding utility's annual funding percentage of the annual regional savings reported by NEEA. The data includes actuals for calendar year (CY) 2012 through CY 2022. CY 2023 data was not available at time of publishing but will be included in the FY 2026 CHWM calculation. | D46: Hidden Conservation Tab | E46: N/A | F46: The adjustment was determined in the Provider of Choice Policy. Customers will be able to comment on the accuracy of the math during the FY 2026 CHWM Calculation Process. Conservation data will be updated in the FY 2026 CHWM calculation to include (1) any self-funded conservation reported by the September 30, 2025, deadline and approved and (2) NEEA savings through CY 2023.
... B49: Proportional Share Adjustment | C49: The proportional share adjustment provides an equitable adjustment to all customers as part of the CHWM calculation. The adjustment increases individual CHWMs (as calculated prior to the proportional adjustment being applied) by an amount equal to the customer's pro rata share where a customer's share is based on its individual CHWM relative to the aggregate CHWMs of all customers. The adjustment is limited so that aggregated CHWMs do not exceed 7,250 aMW. If the initial aggregate CHWMs is greater than 7,250 aMW, the proportional share adjustment will not apply. | D49: The calculation is available on the Proportional Share Calculation tab. | E49: N/A | F49: The adjustment was determined in the Provider of Choice Policy. Customers will be able to comment on the accuracy of the math during the FY 2026 CHWM Calculation Process.
B50: Exceptions
B51: Returning Public Utility (Grant) | C51: Grant provided preliminary load and resource amounts that are included in the model. The data is not pulled from the billing determinant model. Bonneville is in the process of vetting these numbers and Grant will be subject to the same net requirements process as other customers. The base load assumption is set equal to the last Block purchase amount Grant made from Bonneville prior to Regional Dialogue. This data has not been updated to reflect actuals. | D51: N/A | E51: N/A | F51: Data inputs for the CHWM calculation will be final similar to those described above unless an exception is noted in the Provider of Choice Policy or CHWM Implementation Policy.
B52: Flathead | C52: Flathead's CHWM has been adjusted to account for the Weyerhaeuser NLSL that qualifies for the Offsite Green Exception. This amount is subject to changed based on Flathead's election of how to serve the load under Provider of Choice. If Flathead elects the exception, Bonneville intends to fix the resource amount, which would be reflected in the CHWM calculation. If Flathead elects to sunset the exception, the Weyerhaeuser NLSL would be deducted in its entirety from the CHWM calculation. For more information, see Issue 105 in the Provider of Choice Policy ROD. | D52: N/A | E52: N/A | F52: The election will be made at contract signing. Attachment A will include the resource amounts that would be used in the CHWM calculation if Flathead elects to maintain the Offsite Green Exception.
B53: Glacier | C53: Glacier's existing resource has been removed from the CHWM calculation consistent with the Provider of Choice Policy ROD. For more information on the exception, see Issue 53. | D53: N/A | E53: N/A | F53: This exception is documented in Attachment A of the CHWM Implementation Policy.
B54: Alder Mutual and Ohop Mutual Light Company | C54: Alder Mutual and Ohop Mutual Light Company merged and Alder Mutual’s Regional Dialogue contract was assigned to Ohop Mutual Light Company. Bonneville expects to complete contract actions in April 2024 and thereafter terminate the Alder Regional Dialogue contract. Therefore, Bonneville has aggregated their FY 2023 load and 2024 RHWMs for purpose of the calculation. The calculation now only reflects Ohop Mutual Light Company. This is consistent with how Bonneville intends to treat annexations between two existing customers as described in Issue 66 of the Provider of Choice Policy ROD. | D54: N/A | E54: N/A | F54: N/A

Sheet Calculation
C1: PF-Eligible Load in FY 2023 Calculation | K1: CHWM Calculation
B2: Note: All data is in aMW | C2: Total Retail Load | D2: Economic Adjustment | E2: New Large Single Load | F2: Non-Federal Resource | J2: PF-Eligible Load in Index Year | K2: Base Allowance (2024 RHWM) | L2: Headroom Adjustment (100%) | M2: Conservation Adjustment (50%) | N2: New Specified Resource Adjustment (50%) | O2: Load Growth Adjustment (25%) | P2: Proportional Share Adjustment (Up to 7,250 aMW) | Q2: Provider of Choice CHWM | R2: Provider of Choice Above-CHWM load in the index year
A3: BES | B3: Customer | F3: Existing | G3: Other (SNEERS, CORs, Green Exception) | H3: New Specified | I3: Removal
A4: 10015 | B4: Asotin County PUD #1 | C4: 0.5493153 | D4: 0 | E4: 0 | F4: 0 | G4: 0 | H4: 0 | I4: 0 | J4: =IF((C4+D4-SUM(E4:H4)+I4)>0,C4+D4-SUM(E4:H4)+I4,0) -> 0.5493153 | K4: 0.573 | L4: =IF(K4>J4,J4-K4,0) -> -0.023684703 | M4: ='Conservation Data'!J3*0.5 -> 0 | N4: =H4*0.5 -> 0 | O4: =IF(J4>K4, (J4-K4)*0.25,0) -> 0 | P4: ='Proportional Share Calculation'!E4 -> 0.0080711673 | Q4: =SUM(K4:P4) -> 0.55738646 | R4: =J4-Q4 -> -0.0080711673
A5: 10024 | B5: Benton County PUD #1 | C5: 221.69614 | D5: 0 | E5: 0 | F5: 0.91883562 | G5: 0 | H5: 0 | I5: 0 | J5: =IF((C5+D5-SUM(E5:H5)+I5)>0,C5+D5-SUM(E5:H5)+I5,0) -> 220.77731 | K5: 200.923 | L5: =IF(K5>J5,J5-K5,0) -> 0 | M5: ='Conservation Data'!J4*0.5 -> 1.425202 | N5: =H5*0.5 -> 0 | O5: =IF(J5>K5, (J5-K5)*0.25,0) -> 4.9635763 | P5: ='Proportional Share Calculation'!E5 -> 3.0460613 | Q5: =SUM(K5:P5) -> 210.35784 | R5: =J5-Q5 -> 10.419466
A6: 10025 | B6: Benton REA | C6: 75.20087 | D6: 0 | E6: 0 | F6: 0 | G6: 0 | H6: 0 | I6: 0 | J6: =IF((C6+D6-SUM(E6:H6)+I6)>0,C6+D6-SUM(E6:H6)+I6,0) -> 75.20087 | K6: 59.659 | L6: =IF(K6>J6,J6-K6,0) -> 0 | M6: ='Conservation Data'!J5*0.5 -> 0.56422775 | N6: =H6*0.5 -> 0 | O6: =IF(J6>K6, (J6-K6)*0.25,0) -> 3.8854675 | P6: ='Proportional Share Calculation'!E6 -> 0.94195812 | Q6: =SUM(K6:P6) -> 65.050653 | R6: =J6-Q6 -> 10.150217
A7: 10027 | B7: Big Bend Elec Coop | C7: 69.948346 | D7: 0 | E7: 0 | F7: 0 | G7: 0 | H7: 0 | I7: 0 | J7: =IF((C7+D7-SUM(E7:H7)+I7)>0,C7+D7-SUM(E7:H7)+I7,0) -> 69.948346 | K7: 61.194 | L7: =IF(K7>J7,J7-K7,0) -> 0 | M7: ='Conservation Data'!J6*0.5 -> 0.025006324 | N7: =H7*0.5 -> 0 | O7: =IF(J7>K7, (J7-K7)*0.25,0) -> 2.1885864 | P7: ='Proportional Share Calculation'!E7 -> 0.93165673 | Q7: =SUM(K7:P7) -> 64.339249 | R7: =J7-Q7 -> 5.6090963
A8: 10029 | B8: Blachly Lane Elec Coop | C8: 22.377976 | D8: 0 | E8: 0 | F8: 0 | G8: 0 | H8: 0 | I8: 0 | J8: =IF((C8+D8-SUM(E8:H8)+I8)>0,C8+D8-SUM(E8:H8)+I8,0) -> 22.377976 | K8: 17.616 | L8: =IF(K8>J8,J8-K8,0) -> 0 | M8: ='Conservation Data'!J7*0.5 -> 0 | N8: =H8*0.5 -> 0 | O8: =IF(J8>K8, (J8-K8)*0.25,0) -> 1.190494 | P8: ='Proportional Share Calculation'!E8 -> 0.27632648 | Q8: =SUM(K8:P8) -> 19.08282 | R8: =J8-Q8 -> 3.2951555
A9: 10044 | B9: Canby, City of | C9: 22.533899 | D9: 0 | E9: 0 | F9: 0 | G9: 0 | H9: 0 | I9: 0 | J9: =IF((C9+D9-SUM(E9:H9)+I9)>0,C9+D9-SUM(E9:H9)+I9,0) -> 22.533899 | K9: 20.309 | L9: =IF(K9>J9,J9-K9,0) -> 0 | M9: ='Conservation Data'!J8*0.5 -> 0 | N9: =H9*0.5 -> 0 | O9: =IF(J9>K9, (J9-K9)*0.25,0) -> 0.55622474 | P9: ='Proportional Share Calculation'!E9 -> 0.3065757 | Q9: =SUM(K9:P9) -> 21.1718 | R9: =J9-Q9 -> 1.3620985
A10: 10046 | B10: Central Electric Coop | C10: 100.08066 | D10: 0 | E10: 0 | F10: 0 | G10: 0 | H10: 0 | I10: 0 | J10: =IF((C10+D10-SUM(E10:H10)+I10)>0,C10+D10-SUM(E10:H10)+I10,0) -> 100.08066 | K10: 81.851 | L10: =IF(K10>J10,J10-K10,0) -> 0 | M10: ='Conservation Data'!J9*0.5 -> 0.14950805 | N10: =H10*0.5 -> 0 | O10: =IF(J10>K10, (J10-K10)*0.25,0) -> 4.5574161 | P10: ='Proportional Share Calculation'!E10 -> 1.2718078 | Q10: =SUM(K10:P10) -> 87.829732 | R10: =J10-Q10 -> 12.250932
A11: 10047 | B11: Central Lincoln PUD | C11: 146.23509 | D11: 0 | E11: 0 | F11: 0 | G11: 0 | H11: 0 | I11: 0 | J11: =IF((C11+D11-SUM(E11:H11)+I11)>0,C11+D11-SUM(E11:H11)+I11,0) -> 146.23509 | K11: 156.673 | L11: =IF(K11>J11,J11-K11,0) -> -10.437913 | M11: ='Conservation Data'!J10*0.5 -> 0.073780985 | N11: =H11*0.5 -> 0 | O11: =IF(J11>K11, (J11-K11)*0.25,0) -> 0 | P11: ='Proportional Share Calculation'!E11 -> 2.1497369 | Q11: =SUM(K11:P11) -> 148.45861 | R11: =J11-Q11 -> -2.2235179
A12: 10055 | B12: Albion, City of | C12: 0.47929863 | D12: 0 | E12: 0 | F12: 0 | G12: 0 | H12: 0 | I12: 0 | J12: =IF((C12+D12-SUM(E12:H12)+I12)>0,C12+D12-SUM(E12:H12)+I12,0) -> 0.47929863 | K12: 0.398 | L12: =IF(K12>J12,J12-K12,0) -> 0 | M12: ='Conservation Data'!J11*0.5 -> 0 | N12: =H12*0.5 -> 0 | O12: =IF(J12>K12, (J12-K12)*0.25,0) -> 0.020324658 | P12: ='Proportional Share Calculation'!E12 -> 0.0061465033 | Q12: =SUM(K12:P12) -> 0.42447116 | R12: =J12-Q12 -> 0.054827469
A13: 10057 | B13: Ashland, City of | C13: 20.239493 | D13: 0 | E13: 0 | F13: 0.15810502 | G13: 0 | H13: 0 | I13: 0 | J13: =IF((C13+D13-SUM(E13:H13)+I13)>0,C13+D13-SUM(E13:H13)+I13,0) -> 20.081388 | K13: 21.069 | L13: =IF(K13>J13,J13-K13,0) -> -0.98761221 | M13: ='Conservation Data'!J12*0.5 -> 0 | N13: =H13*0.5 -> 0 | O13: =IF(J13>K13, (J13-K13)*0.25,0) -> 0 | P13: ='Proportional Share Calculation'!E13 -> 0.29505867 | Q13: =SUM(K13:P13) -> 20.376446 | R13: =J13-Q13 -> -0.29505867
A14: 10059 | B14: Bandon, City of | C14: 8.3196743 | D14: 0 | E14: 0 | F14: 0 | G14: 0 | H14: 0 | I14: 0 | J14: =IF((C14+D14-SUM(E14:H14)+I14)>0,C14+D14-SUM(E14:H14)+I14,0) -> 8.3196743 | K14: 7.639 | L14: =IF(K14>J14,J14-K14,0) -> 0 | M14: ='Conservation Data'!J13*0.5 -> 0 | N14: =H14*0.5 -> 0 | O14: =IF(J14>K14, (J14-K14)*0.25,0) -> 0.17016858 | P14: ='Proportional Share Calculation'!E14 -> 0.11474122 | Q14: =SUM(K14:P14) -> 7.9239098 | R14: =J14-Q14 -> 0.39576452
A15: 10061 | B15: Blaine, City of | C15: 9.7767847 | D15: 0 | E15: 0 | F15: 0 | G15: 0 | H15: 0 | I15: 0 | J15: =IF((C15+D15-SUM(E15:H15)+I15)>0,C15+D15-SUM(E15:H15)+I15,0) -> 9.7767847 | K15: 8.747 | L15: =IF(K15>J15,J15-K15,0) -> 0 | M15: ='Conservation Data'!J14*0.5 -> 0 | N15: =H15*0.5 -> 0 | O15: =IF(J15>K15, (J15-K15)*0.25,0) -> 0.25744618 | P15: ='Proportional Share Calculation'!E15 -> 0.1323036 | Q15: =SUM(K15:P15) -> 9.1367498 | R15: =J15-Q15 -> 0.64003493
... A89: 10278 | B89: Northern Lights | C89: 46.834499 | D89: 0 | E89: 0 | F89: 1.5296804 | G89: 0 | H89: 0 | I89: 0 | J89: =IF((C89+D89-SUM(E89:H89)+I89)>0,C89+D89-SUM(E89:H89)+I89,0) -> 45.304818 | K89: 35.928 | L89: =IF(K89>J89,J89-K89,0) -> 0 | M89: ='Conservation Data'!J88*0.5 -> 0.035353184 | N89: =H89*0.5 -> 0 | O89: =IF(J89>K89, (J89-K89)*0.25,0) -> 2.3442046 | P89: ='Proportional Share Calculation'!E89 -> 0.56285836 | Q89: =SUM(K89:P89) -> 38.870416 | R89: =J89-Q89 -> 6.4344023
A90: 10279 | B90: Northern Wasco County PUD | C90: 144.81289 | D90: 0 | E90: =63.86+0.729 -> 64.589 | F90: 4.4044521 | G90: 0 | H90: 0 | I90: 0 | J90: =IF((C90+D90-SUM(E90:H90)+I90)>0,C90+D90-SUM(E90:H90)+I90,0) -> 75.81944 | K90: 64.765 | L90: =IF(K90>J90,J90-K90,0) -> 0 | M90: ='Conservation Data'!J89*0.5 -> 0.11576818 | N90: =H90*0.5 -> 0 | O90: =IF(J90>K90, (J90-K90)*0.25,0) -> 2.7636099 | P90: ='Proportional Share Calculation'!E90 -> 0.99390841 | Q90: =SUM(K90:P90) -> 68.638287 | R90: =J90-Q90 -> 7.1811532
A91: 10284 | B91: Ohop Mutual Light Company | C91: 12.104999 | D91: 0 | E91: 0 | F91: 0 | G91: 0 | H91: 0 | I91: 0 | J91: =IF((C91+D91-SUM(E91:H91)+I91)>0,C91+D91-SUM(E91:H91)+I91,0) -> 12.104999 | K91: 10.706 | L91: =IF(K91>J91,J91-K91,0) -> 0 | M91: ='Conservation Data'!J90*0.5 -> 0 | N91: =H91*0.5 -> 0 | O91: =IF(J91>K91, (J91-K91)*0.25,0) -> 0.34974982 | P91: ='Proportional Share Calculation'!E91 -> 0.1624437 | Q91: =SUM(K91:P91) -> 11.218194 | R91: =J91-Q91 -> 0.88680578
A92: 10285 | B92: Okanogan County Elec Coop | C92: 8.8368568 | D92: 0 | E92: 0 | F92: 0 | G92: 0 | H92: 0 | I92: 0 | J92: =IF((C92+D92-SUM(E92:H92)+I92)>0,C92+D92-SUM(E92:H92)+I92,0) -> 8.8368568 | K92: 6.529 | L92: =IF(K92>J92,J92-K92,0) -> 0 | M92: ='Conservation Data'!J91*0.5 -> 0 | N92: =H92*0.5 -> 0 | O92: =IF(J92>K92, (J92-K92)*0.25,0) -> 0.57696421 | P92: ='Proportional Share Calculation'!E92 -> 0.10440894 | Q92: =SUM(K92:P92) -> 7.2103731 | R92: =J92-Q92 -> 1.6264837
A93: 10286 | B93: Okanogan County PUD #1 | C93: 77.533968 | D93: 0 | E93: 0 | F93: 24.130708 | G93: 0 | H93: 0 | I93: 0 | J93: =IF((C93+D93-SUM(E93:H93)+I93)>0,C93+D93-SUM(E93:H93)+I93,0) -> 53.40326 | K93: 45.911 | L93: =IF(K93>J93,J93-K93,0) -> 0 | M93: ='Conservation Data'!J92*0.5 -> 0.16880236 | N93: =H93*0.5 -> 0 | O93: =IF(J93>K93, (J93-K93)*0.25,0) -> 1.8730651 | P93: ='Proportional Share Calculation'!E93 -> 0.70457826 | Q93: =SUM(K93:P93) -> 48.657446 | R93: =J93-Q93 -> 4.7458146
A94: 10288 | B94: Orcas P & L | C94: 25.959024 | D94: 0 | E94: 0 | F94: 0.066210046 | G94: 0 | H94: 0 | I94: 0 | J94: =IF((C94+D94-SUM(E94:H94)+I94)>0,C94+D94-SUM(E94:H94)+I94,0) -> 25.892814 | K94: 24.734 | L94: =IF(K94>J94,J94-K94,0) -> 0 | M94: ='Conservation Data'!J93*0.5 -> 0.024140584 | N94: =H94*0.5 -> 0 | O94: =IF(J94>K94, (J94-K94)*0.25,0) -> 0.28970348 | P94: ='Proportional Share Calculation'!E94 -> 0.36803151 | Q94: =SUM(K94:P94) -> 25.415876 | R94: =J94-Q94 -> 0.47693835
A95: 10291 | B95: Oregon Trail Coop | C95: 81.807347 | D95: 0 | E95: 0 | F95: 0 | G95: 0 | H95: 0 | I95: 0 | J95: =IF((C95+D95-SUM(E95:H95)+I95)>0,C95+D95-SUM(E95:H95)+I95,0) -> 81.807347 | K95: 79.182 | L95: =IF(K95>J95,J95-K95,0) -> 0 | M95: ='Conservation Data'!J94*0.5 -> 0 | N95: =H95*0.5 -> 0 | O95: =IF(J95>K95, (J95-K95)*0.25,0) -> 0.65633664 | P95: ='Proportional Share Calculation'!E95 -> 1.173076 | Q95: =SUM(K95:P95) -> 81.011413 | R95: =J95-Q95 -> 0.79593396
A96: 10294 | B96: Pacific County PUD #2 | C96: 37.994881 | D96: 0 | E96: 0 | F96: 0 | G96: 0 | H96: 0 | I96: 0 | J96: =IF((C96+D96-SUM(E96:H96)+I96)>0,C96+D96-SUM(E96:H96)+I96,0) -> 37.994881 | K96: 36.327 | L96: =IF(K96>J96,J96-K96,0) -> 0 | M96: ='Conservation Data'!J95*0.5 -> 0.05623942 | N96: =H96*0.5 -> 0 | O96: =IF(J96>K96, (J96-K96)*0.25,0) -> 0.41697026 | P96: ='Proportional Share Calculation'!E96 -> 0.54071068 | Q96: =SUM(K96:P96) -> 37.34092 | R96: =J96-Q96 -> 0.65396068
A97: 10304 | B97: Parkland L & W | C97: 13.621837 | D97: 0 | E97: 0 | F97: 0 | G97: 0 | H97: 0 | I97: 0 | J97: =IF((C97+D97-SUM(E97:H97)+I97)>0,C97+D97-SUM(E97:H97)+I97,0) -> 13.621837 | K97: 14.068 | L97: =IF(K97>J97,J97-K97,0) -> -0.4461629 | M97: ='Conservation Data'!J96*0.5 -> 0 | N97: =H97*0.5 -> 0 | O97: =IF(J97>K97, (J97-K97)*0.25,0) -> 0 | P97: ='Proportional Share Calculation'!E97 -> 0.20014758 | Q97: =SUM(K97:P97) -> 13.821985 | R97: =J97-Q97 -> -0.20014758
A98: 10306 | B98: Pend Oreille County PUD #1 | C98: 84.485164 | D98: 0 | E98: 50.347 | F98: 29.999772 | G98: 57.46 | H98: 0 | I98: 0 | J98: =IF((C98+D98-SUM(E98:H98)+I98)>0,C98+D98-SUM(E98:H98)+I98,0) -> 0 | K98: 25.769 | L98: =IF(K98>J98,J98-K98,0) -> -25.769 | M98: ='Conservation Data'!J97*0.5 -> 0.0031615541 | N98: =H98*0.5 -> 0 | O98: =IF(J98>K98, (J98-K98)*0.25,0) -> 0 | P98: ='Proportional Share Calculation'!E98 -> 4.6453162e-05 | Q98: =SUM(K98:P98) -> 0.0032080073 | R98: =J98-Q98 -> -0.0032080073
A99: 10307 | B99: Peninsula Light Company | C99: 74.482336 | D99: 0 | E99: 0 | F99: 0 | G99: 0 | H99: 5 | I99: 0 | J99: =IF((C99+D99-SUM(E99:H99)+I99)>0,C99+D99-SUM(E99:H99)+I99,0) -> 69.482336 | K99: 71.985 | L99: =IF(K99>J99,J99-K99,0) -> -2.5026644 | M99: ='Conservation Data'!J98*0.5 -> 0.29851517 | N99: =H99*0.5 -> 2.5 | O99: =IF(J99>K99, (J99-K99)*0.25,0) -> 0 | P99: ='Proportional Share Calculation'!E99 -> 1.0620328 | Q99: =SUM(K99:P99) -> 73.342884 | R99: =J99-Q99 -> -3.8605479
A100: 10326 | B100: U.S. Naval Base, Bremerton | C100: 22.648668 | D100: 0 | E100: 0 | F100: 0 | G100: 0 | H100: 0 | I100: 0 | J100: =IF((C100+D100-SUM(E100:H100)+I100)>0,C100+D100-SUM(E100:H100)+I100,0) -> 22.648668 | K100: 30.46 | L100: =IF(K100>J100,J100-K100,0) -> -7.8113318 | M100: ='Conservation Data'!J99*0.5 -> 0 | N100: =H100*0.5 -> 0 | O100: =IF(J100>K100, (J100-K100)*0.25,0) -> 0 | P100: ='Proportional Share Calculation'!E100 -> 0.33278008 | Q100: =SUM(K100:P100) -> 22.981448 | R100: =J100-Q100 -> -0.33278008
A101: 10331 | B101: Raft River Elec Coop | C101: 37.974088 | D101: 0 | E101: 0 | F101: 0 | G101: 0 | H101: 0 | I101: 0 | J101: =IF((C101+D101-SUM(E101:H101)+I101)>0,C101+D101-SUM(E101:H101)+I101,0) -> 37.974088 | K101: 36.602 | L101: =IF(K101>J101,J101-K101,0) -> 0 | M101: ='Conservation Data'!J100*0.5 -> 0.076908904 | N101: =H101*0.5 -> 0 | O101: =IF(J101>K101, (J101-K101)*0.25,0) -> 0.34302197 | P101: ='Proportional Share Calculation'!E101 -> 0.54396847 | Q101: =SUM(K101:P101) -> 37.565899 | R101: =J101-Q101 -> 0.40818855
A102: 10333 | B102: Ravalli County Elec Coop | C102: 23.559062 | D102: 0 | E102: 0 | F102: 0 | G102: 0 | H102: 0 | I102: 0 | J102: =IF((C102+D102-SUM(E102:H102)+I102)>0,C102+D102-SUM(E102:H102)+I102,0) -> 23.559062 | K102: 18.515 | L102: =IF(K102>J102,J102-K102,0) -> 0 | M102: ='Conservation Data'!J101*0.5 -> 0.001686073 | N102: =H102*0.5 -> 0 | O102: =IF(J102>K102, (J102-K102)*0.25,0) -> 1.2610154 | P102: ='Proportional Share Calculation'!E102 -> 0.29059656 | Q102: =SUM(K102:P102) -> 20.068298 | R102: =J102-Q102 -> 3.4907636
... A136: 12026 | B136: Jefferson County PUD #1 | C136: 46.685728 | D136: 0 | E136: 0 | F136: 0 | G136: 0 | H136: 0 | I136: 0 | J136: =IF((C136+D136-SUM(E136:H136)+I136)>0,C136+D136-SUM(E136:H136)+I136,0) -> 46.685728 | K136: 45.173 | L136: =IF(K136>J136,J136-K136,0) -> 0 | M136: ='Conservation Data'!J135*0.5 -> 0.17204076 | N136: =H136*0.5 -> 0 | O136: =IF(J136>K136, (J136-K136)*0.25,0) -> 0.37818188 | P136: ='Proportional Share Calculation'!E136 -> 0.67181778 | Q136: =SUM(K136:P136) -> 46.39504 | R136: =J136-Q136 -> 0.2906871
B137: Customer Aggregate | C137: =SUM(C4:C136) -> 9959.8462 | D137: =SUM(D4:D136) -> 0 | E137: =SUM(E4:E136) -> 983.713 | F137: =SUM(F4:F136) -> 1493.9832 | G137: =SUM(G4:G136) -> 70.162059 | H137: =SUM(H4:H136) -> 49.529795 | I137: =SUM(I4:I136) -> 130.5 | J137: =SUM(J4:J136) -> 7546.2798 | ... R137: =SUM(R4:R136) -> 296.27978
Q139: Headroom | R139: =SUMIF(R$4:R$136,"<0") -> -155.91774
Q140: Above-CHWM | R140: =SUMIF(R$4:R$136,">0") -> 452.19751

Sheet Conservation Data
A1: All data is in average megawatts (aMW) | C1: Self-Funded Conservation | I1: NEEA
A2: BES | B2: Customer | C2: BP-12 | D2: BP-14 | E2: BP-16 | F2: BP-18 | G2: BP-20 | H2: BP-22 | I2: CY 12 - CY 22 | J2: NEEA + Self-Funded Aggregate
A3: 10015 | B3: Asotin County PUD #1 | C3: 0 | D3: 0 | E3: 0 | F3: 0 | G3: 0 | H3: 0 | J3: =SUM(C3:I3) -> 0
A4: 10024 | B4: Benton County PUD #1 | C4: 2.2945662 | D4: 0.06695695 | E4: 0.15217126 | F4: 0.30998996 | G4: 0.026719646 | H4: 0 | J4: =SUM(C4:I4) -> 2.850404
A5: 10025 | B5: Benton REA | C5: 0.01486071 | D5: 0.008123901 | E5: 0.038697809 | F5: 0.48420659 | G5: 0.047757245 | H5: 0.53480925 | J5: =SUM(C5:I5) -> 1.1284555
A6: 10027 | B6: Big Bend Elec Coop | C6: 0.0062270604 | D6: 0 | E6: 0 | F6: 0 | G6: 0 | H6: 0.043785588 | J6: =SUM(C6:I6) -> 0.050012648
A7: 10029 | B7: Blachly Lane Elec Coop | C7: 0 | D7: 0 | E7: 0 | F7: 0 | G7: 0 | H7: 0 | J7: =SUM(C7:I7) -> 0
A8: 10044 | B8: Canby, City of | C8: 0 | D8: 0 | E8: 0 | F8: 0 | G8: 0 | H8: 0 | J8: =SUM(C8:I8) -> 0
A9: 10046 | B9: Central Electric Coop | C9: 0.011906276 | D9: 0.05084542 | E9: 0 | F9: 0.085307462 | G9: 0.14510368 | H9: 0.0058532546 | J9: =SUM(C9:I9) -> 0.29901609
A10: 10047 | B10: Central Lincoln PUD | C10: 0 | D10: 0 | E10: 0.0021164313 | F10: 0.076511821 | G10: 0.068933718 | H10: 0 | J10: =SUM(C10:I10) -> 0.14756197
A11: 10055 | B11: Albion, City of | C11: 0 | D11: 0 | E11: 0 | F11: 0 | G11: 0 | H11: 0 | J11: =SUM(C11:I11) -> 0
A12: 10057 | B12: Ashland, City of | C12: 0 | D12: 0 | E12: 0 | F12: 0 | G12: 0 | H12: 0 | J12: =SUM(C12:I12) -> 0
A13: 10059 | B13: Bandon, City of | C13: 0 | D13: 0 | E13: 0 | F13: 0 | G13: 0 | H13: 0 | J13: =SUM(C13:I13) -> 0
A14: 10061 | B14: Blaine, City of | C14: 0 | D14: 0 | E14: 0 | F14: 0 | G14: 0 | H14: 0 | J14: =SUM(C14:I14) -> 0
... A39: 10101 | B39: Clallam County PUD #1 | C39: 0.5534317 | D39: 0.71818607 | E39: 0.34166674 | F39: 0.48973943 | G39: 0.12086305 | H39: 0.18884906 | J39: =SUM(C39:I39) -> 2.412736
A40: 10103 | B40: Clark County PUD #1 | C40: 5.827983 | D40: 5.7230845 | E40: 9.9490505 | F40: 8.9204183 | G40: 4.6441858 | H40: 4.9041236 | I40: 9.1631 | J40: =SUM(C40:I40) -> 49.131946
A41: 10105 | B41: Clatskanie PUD | C41: 0 | D41: 0 | E41: 0 | F41: 0 | G41: 0 | H41: 0 | J41: =SUM(C41:I41) -> 0
A42: 10106 | B42: Clearwater Power | C42: 0 | D42: 0 | E42: 0 | F42: 0 | G42: 0 | H42: 0 | J42: =SUM(C42:I42) -> 0
A43: 10109 | B43: Columbia Basin Elec Coop | C43: 0 | D43: 0 | E43: 0 | F43: 0.035777648 | G43: 0 | H43: 0 | J43: =SUM(C43:I43) -> 0.035777648
A44: 10111 | B44: Columbia Power Coop | C44: 0 | D44: 0 | E44: 0 | F44: 0 | G44: 0 | H44: 0 | J44: =SUM(C44:I44) -> 0
A45: 10112 | B45: Columbia River PUD | C45: 0.85624372 | D45: 3.4e-09 | E45: 0.037243158 | F45: 0.038913028 | G45: 3.72224e-05 | H45: 1.1e-09 | J45: =SUM(C45:I45) -> 0.93243714
A46: 10113 | B46: Columbia REA | C46: 0 | D46: 0 | E46: 0 | F46: 0.002153286 | G46: 0.031700169 | H46: 0 | J46: =SUM(C46:I46) -> 0.033853455
A47: 10116 | B47: Consolidated Irrigation District #19 | C47: 0.0029799509 | D47: 0 | E47: 0.0015446568 | F47: 0.0005484406 | G47: 0 | H47: 0 | J47: =SUM(C47:I47) -> 0.0050730483
A48: 10118 | B48: Consumers Power | C48: 0 | D48: 0.049941271 | E48: 0.012254106 | F48: 0.11033801 | G48: 0.21472208 | H48: 0 | J48: =SUM(C48:I48) -> 0.38725547
A49: 10121 | B49: Coos Curry Elec Coop | C49: 0 | D49: 0 | E49: 0 | F49: 0 | G49: 0 | H49: 0 | J49: =SUM(C49:I49) -> 0
A50: 10123 | B50: Cowlitz County PUD #1 | C50: 2.849128 | D50: 1.1964885 | E50: 3.6552662 | F50: 1.1299759 | G50: 0.091333928 | H50: 7.2914504 | I50: 1.63 | J50: =SUM(C50:I50) -> 17.843643
A51: 10136 | B51: Douglas Electric Cooperative | C51: 0 | D51: 0 | E51: 0 | F51: 0.0021435879 | G51: 0 | H51: 0 | J51: =SUM(C51:I51) -> 0.0021435879
A52: 10142 | B52: East End Mutual Electric | C52: 0 | D52: 0 | E52: 0 | F52: 0 | G52: 0 | H52: 0 | J52: =SUM(C52:I52) -> 0
A53: 10144 | B53: Eatonville, City of | C53: 0 | D53: 0 | E53: 0 | F53: 0 | G53: 0 | H53: 0 | J53: =SUM(C53:I53) -> 0
A54: 10156 | B54: Elmhurst Mutual P & L | C54: 0 | D54: 0 | E54: 0 | F54: 0 | G54: 0.0035857545 | H54: 0 | J54: =SUM(C54:I54) -> 0.0035857545
A55: 10157 | B55: Emerald PUD | C55: 0.02080724 | D55: 0.0030347549 | E55: 0.15865353 | F55: 0.1358759 | G55: 0.1334331 | H55: 0.070895661 | J55: =SUM(C55:I55) -> 0.52270019
A56: 10158 | B56: Energy Northwest | C56: 0 | D56: 0 | E56: 0 | F56: 0 | G56: 0 | H56: 0 | J56: =SUM(C56:I56) -> 0
A57: 10170 | B57: Eugene Water & Electric Board | C57: 2.2978192 | D57: 0.33916631 | E57: 0 | F57: 0 | G57: 0.21641065 | H57: 0.093568952 | I57: 2.04 | J57: =SUM(C57:I57) -> 4.9869651
A58: 10172 | B58: U.S. Airforce Base, Fairchild | C58: 0 | D58: 0 | E58: 0 | F58: 0 | G58: 0 | H58: 0 | J58: =SUM(C58:I58) -> 0
A59: 10173 | B59: Fall River Elec Coop | C59: 0 | D59: 0 | E59: 0 | F59: 0 | G59: 0 | H59: 0.034660511 | J59: =SUM(C59:I59) -> 0.034660511
A60: 10174 | B60: Farmers Elec Coop | C60: 0 | D60: 0 | E60: 0 | F60: 0 | G60: 0 | H60: 0 | J60: =SUM(C60:I60) -> 0
A61: 10177 | B61: Ferry County PUD #1 | C61: 0 | D61: 0 | E61: 0 | F61: 0 | G61: 0 | H61: 0 | J61: =SUM(C61:I61) -> 0
A62: 10179 | B62: Flathead Elec Coop | C62: 0.57302306 | D62: 0.66722648 | E62: 0.88711473 | F62: 0.50653397 | G62: 0 | H62: 0.0053606906 | J62: =SUM(C62:I62) -> 2.6392589
A63: 10183 | B63: Franklin County PUD #1 | C63: 0.81438655 | D63: 0.79699057 | E63: 0.1213774 | F63: -0.095923591 | G63: 0.72621937 | H63: 0.54953778 | J63: =SUM(C63:I63) -> 2.9125881
A64: 10186 | B64: Glacier Elec Coop | C64: 0 | D64: 0 | E64: 0 | F64: 0.0034854566 | G64: 0 | H64: 0 | J64: =SUM(C64:I64) -> 0.0034854566
A65: 10190 | B65: Grant County PUD #2 | C65: 0.017500145 | D65: 0 | E65: 0 | F65: 0 | G65: 0 | H65: 0 | J65: =SUM(C65:I65) -> 0.017500145
A66: 10191 | B66: Grays Harbor PUD #1 | C66: 0 | D66: 0.000531621 | E66: 0.00411425 | F66: 0.0010920444 | G66: 0.1579813 | H66: 0.075428259 | J66: =SUM(C66:I66) -> 0.23914747
A67: 10197 | B67: Harney Elec Coop | C67: 0 | D67: 0 | E67: 0 | F67: 0 | G67: 0 | H67: 0 | J67: =SUM(C67:I67) -> 0
A68: 10202 | B68: Hood River Elec Coop | C68: 0 | D68: 0 | E68: 0 | F68: 0.35667812 | G68: 0.040224319 | H68: 0 | J68: =SUM(C68:I68) -> 0.39690244
A69: 10203 | B69: Idaho County L & P | C69: 0.0003182648 | D69: 0 | E69: 0 | F69: 0 | G69: 0 | H69: 0 | J69: =SUM(C69:I69) -> 0.0003182648
... A104: 10343 | B104: Salmon River Elec Coop | C104: 0 | D104: 0 | E104: 0 | F104: 0 | G104: 0 | H104: 0 | J104: =SUM(C104:I104) -> 0
A105: 10349 | B105: Seattle City Light | C105: 11.315802 | D105: 18.261255 | E105: 16.925327 | F105: 10.026677 | G105: 2.0672424 | H105: 0 | I105: 24.8045 | J105: =SUM(C105:I105) -> 83.400804
A106: 10352 | B106: Skamania County PUD #1 | C106: 0.0004720399 | D106: 0 | E106: 0 | F106: 0 | G106: 0 | H106: 0 | J106: =SUM(C106:I106) -> 0.0004720399
A107: 10354 | B107: Snohomish County PUD #1 | C107: 1.5580135 | D107: 1.6409977 | E107: 2.37345 | F107: 2.6351991 | G107: 0.84816493 | H107: 1.189934 | I107: 5.0309 | J107: =SUM(C107:I107) -> 15.276659
A108: 10360 | B108: Southside Elec Lines | C108: 0 | D108: 0 | E108: 0 | F108: 0 | G108: 0 | H108: 0 | J108: =SUM(C108:I108) -> 0
A109: 10363 | B109: Springfield Utility Board | C109: 0 | D109: 0 | E109: 0 | F109: 0.12252593 | G109: 0 | H109: 0 | J109: =SUM(C109:I109) -> 0.12252593
A110: 10369 | B110: Surprise Valley Elec Coop | C110: 0 | D110: 0 | E110: 0 | F110: 0 | G110: 0 | H110: 0 | J110: =SUM(C110:I110) -> 0
A111: 10370 | B111: Tacoma Public Utilities | C111: 8.240105 | D111: 5.679501 | E111: 7.3881697 | F111: 8.2373341 | G111: 1.569764 | H111: 0.75815871 | I111: 7.327 | J111: =SUM(C111:I111) -> 39.200033
A112: 10371 | B112: Tanner Elec Coop | C112: 0 | D112: 0 | E112: 0 | F112: 0 | G112: 0 | H112: 0 | J112: =SUM(C112:I112) -> 0
A113: 10376 | B113: Tillamook PUD #1 | C113: 0.30867498 | D113: 0 | E113: 0 | F113: 0 | G113: 0 | H113: 0 | J113: =SUM(C113:I113) -> 0.30867498
A114: 10378 | B114: Coulee Dam, City of | C114: 0 | D114: 0 | E114: 0 | F114: 0 | G114: 0 | H114: 0 | J114: =SUM(C114:I114) -> 0
A115: 10379 | B115: Steilacoom, Town of | C115: 0 | D115: 0 | E115: 0 | F115: 0 | G115: 0 | H115: 0 | J115: =SUM(C115:I115) -> 0
A116: 10388 | B116: Umatilla Elec Coop | C116: 2.4985449 | D116: 2.5806388 | E116: 0 | F116: 4.7679482 | G116: 0.061947149 | H116: 0.43644846 | J116: =SUM(C116:I116) -> 10.345527
A117: 10391 | B117: United Electric Coop | C117: 0 | D117: 0 | E117: 0 | F117: 0.20764765 | G117: 0 | H117: 0.10926512 | J117: =SUM(C117:I117) -> 0.31691277
A118: 10406 | B118: U.S. DOE Albany Research Center | C118: 0 | D118: 0 | E118: 0 | F118: 0 | G118: 0 | H118: 0 | J118: =SUM(C118:I118) -> 0
A119: 10408 | B119: U.S. Naval Station, Everett (Jim Creek) | C119: 0 | D119: 0 | E119: 0 | F119: 0 | G119: 0 | H119: 0 | J119: =SUM(C119:I119) -> 0
A120: 10409 | B120: U.S. Naval Submarine Base, Bangor | C120: 0 | D120: 0 | E120: 0 | F120: 0 | G120: 0 | H120: 0 | J120: =SUM(C120:I120) -> 0
A121: 10426 | B121: U.S. DOE Richland Operations Office | C121: 0 | D121: 0 | E121: 0 | F121: 0 | G121: 0 | H121: 0 | J121: =SUM(C121:I121) -> 0
A122: 10434 | B122: Vera Irrigation District | C122: 0 | D122: 0 | E122: 0 | F122: 0 | G122: 0 | H122: 0 | J122: =SUM(C122:I122) -> 0
A123: 10436 | B123: Vigilante Elec Coop | C123: 0 | D123: 0 | E123: 0 | F123: 0.0032780502 | G123: 0.0009189372 | H123: 0 | J123: =SUM(C123:I123) -> 0.0041969874
... A135: 12026 | B135: Jefferson County PUD #1 | C135: 0 | D135: 0 | E135: 0 | F135: 0 | G135: 0.24668032 | H135: 0.097401205 | J135: =SUM(C135:I135) -> 0.34408152
B136: Aggregate | C136: =SUM(C3:C135) -> 41.215534 | D136: =SUM(D3:D135) -> 38.723077 | E136: =SUM(E3:E135) -> 43.145348 | F136: =SUM(F3:F135) -> 40.987936 | G136: =SUM(G3:G135) -> 11.87738 | H136: =SUM(H3:H135) -> 17.020938 | I136: =SUM(I3:I135) -> 49.9955 | J136: =SUM(J3:J135) -> 242.96571

Sheet Proportional Share Calculation
B1: Unscaled System Size | C1: =SUM(Calculation!K137:O137) -> 7145.0173
A2: All data is in average megawatts (aMW)
A3: BES | B3: Customer | C3: CHWM w/adjustments | D3: Adjustment Share | E3: Proportional Share Adjustment
A4: 10015 | B4: Asotin County PUD #1 | C4: =SUM(Calculation!K4:O4) -> 0.5493153 | D4: =C4/$C$1 -> 7.6880892e-05 | E4: =IF($C$1<7250,$D4*(7250-$C$1),0) -> 0.0080711673
A5: 10024 | B5: Benton County PUD #1 | C5: =SUM(Calculation!K5:O5) -> 207.31178 | D5: =C5/$C$1 -> 0.029014874 | E5: =IF($C$1<7250,$D5*(7250-$C$1),0) -> 3.0460613
A6: 10025 | B6: Benton REA | C6: =SUM(Calculation!K6:O6) -> 64.108695 | D6: =C6/$C$1 -> 0.0089725039 | E6: =IF($C$1<7250,$D6*(7250-$C$1),0) -> 0.94195812
A7: 10027 | B7: Big Bend Elec Coop | C7: =SUM(Calculation!K7:O7) -> 63.407593 | D7: =C7/$C$1 -> 0.0088743792 | E7: =IF($C$1<7250,$D7*(7250-$C$1),0) -> 0.93165673
A8: 10029 | B8: Blachly Lane Elec Coop | C8: =SUM(Calculation!K8:O8) -> 18.806494 | D8: =C8/$C$1 -> 0.0026321132 | E8: =IF($C$1<7250,$D8*(7250-$C$1),0) -> 0.27632648
A9: 10044 | B9: Canby, City of | C9: =SUM(Calculation!K9:O9) -> 20.865225 | D9: =C9/$C$1 -> 0.0029202483 | E9: =IF($C$1<7250,$D9*(7250-$C$1),0) -> 0.3065757
A10: 10046 | B10: Central Electric Coop | C10: =SUM(Calculation!K10:O10) -> 86.557924 | D10: =C10/$C$1 -> 0.012114446 | E10: =IF($C$1<7250,$D10*(7250-$C$1),0) -> 1.2718078
A11: 10047 | B11: Central Lincoln PUD | C11: =SUM(Calculation!K11:O11) -> 146.30887 | D11: =C11/$C$1 -> 0.020477049 | E11: =IF($C$1<7250,$D11*(7250-$C$1),0) -> 2.1497369
A12: 10055 | B12: Albion, City of | C12: =SUM(Calculation!K12:O12) -> 0.41832466 | D12: =C12/$C$1 -> 5.8547746e-05 | E12: =IF($C$1<7250,$D12*(7250-$C$1),0) -> 0.0061465033
A13: 10057 | B13: Ashland, City of | C13: =SUM(Calculation!K13:O13) -> 20.081388 | D13: =C13/$C$1 -> 0.0028105443 | E13: =IF($C$1<7250,$D13*(7250-$C$1),0) -> 0.29505867
A14: 10059 | B14: Bandon, City of | C14: =SUM(Calculation!K14:O14) -> 7.8091686 | D14: =C14/$C$1 -> 0.0010929531 | E14: =IF($C$1<7250,$D14*(7250-$C$1),0) -> 0.11474122
A15: 10061 | B15: Blaine, City of | C15: =SUM(Calculation!K15:O15) -> 9.0044462 | D15: =C15/$C$1 -> 0.0012602413 | E15: =IF($C$1<7250,$D15*(7250-$C$1),0) -> 0.1323036
... A136: 12026 | B136: Jefferson County PUD #1 | C136: =SUM(Calculation!K136:O136) -> 45.723223 | D136: =C136/$C$1 -> 0.0063993159 | E136: =IF($C$1<7250,$D136*(7250-$C$1),0) -> 0.67181778
