Workbook

Sheet Info
B2: New Public Utility and Tribal Utility Adjustment Limits and Phase-in Model
B3: Contact information: | C3: post2028@bpa.gov
B4: Date released | C4: 45594
B6: Context:
B7: Bonneville developed the New Public Utility and Tribal Utility Adjustment Limits and Phase-in Model to implement the calculations described in the Contract High Water Mark (CHWM) Implementation Policy. The model reflects how Bonneville would calculate new public utility and tribal utility limits and phase-in subsequent CHWM adjustment amounts during the Provider of Choice contract period. Bonneville intends to use the model for future Above-CHWM Load Processes in the subsequent CHWM adjustment determinations. The model is pre-populated with data to mirror the example provided in the CHWM Implementation Policy. For questions about this spreadsheet, please email the Provider of Choice team at post2028@bpa.gov and/or reach out to your Power Account Executive.
B9: Table of Contents
B10: Tab | C10: Description
B11: Info | C11: Tab provides context and description of the information included in the workbook.
B12: CHWM Adjustments Awarded | C12: Tab is where you input the customer information of the first rate period the adjustment would qualify, the type of adjustment and the eligible CHWM amount. The results of adjustment pool and rate period limits are applied and the output is how much CHWM a customer will recieve and the amounts by rate period.
B13: Adjustment Pool Limits | C13: Hidden tab that calculates the available new public utility and tribal utility adjustment pools for the Provider of Choice contract period.
B14: Rate Period Limits | C14: Hidden tab that calculates the total amount of adjustments that can be awarded in a rate period based on the rate period limit of 50 aMW and any previous awards that have been made.
B15: First Rate Period through Eighth Rate Period | C15: Hidden tabs that calculate how much of a subsequent CHWM adjustment will be awarded in each rate period based on when the customer is eligible for an adjustment.

Sheet CHWM Adjustments Awarded
A1: Customer Name | B1: Rate Period | C1: New Public or Tribal? | D1: CHWM Eligible Amount | E1: Pool Adjusted Amount | F1: Subsequent CHWM Adjustment to be Awarded by Rate Period
A2: Enter customer name. | B2: Select the rate period the customer qualifies for an adjustment. | C2: Select whether the customer qualifies for the new public or tribal subsquent adjustment. | D2: Enter the CHWM adjustment amount the customer is eligible for. | E2: Adjusts requests based on adjustment pool availability. | F2: Rate Period 1 (BP-29) | G2: Rate Period 2 (BP-31) | H2: Rate Period 3 (BP-33) | I2: Rate Period 4 (BP-35) | J2: Rate Period 5 (BP-37) | K2: Rate Period 6 (BP-39) | L2: Rate Period 7 (BP-41) | M2: Rate Period 8 (BP-43)
A3: Customer A | B3: Rate Period 1 (BP-29) | C3: New Public | D3: 75 | E3: =D3*SUMIF('Adjustment Pool Limits'!F$2:F$17,'CHWM Adjustments Awarded'!N3,'Adjustment Pool Limits'!G$2:G$17) -> 75 | F3: ='First Rate Period'!G9 -> 32.222222 | G3: ='First Rate Period'!K9+'Second Rate Period'!G9 -> 38.580247 | H3: ='First Rate Period'!O9+'Second Rate Period'!K9+'Third Rate Period'!G9 -> 4.1975309 | I3: ='First Rate Period'!S9+'Second Rate Period'!O9+'Third Rate Period'!K9+'Fourth Rate Period'!G9 -> 0 | J3: ='First Rate Period'!W9+'Second Rate Period'!S9+'Third Rate Period'!O9+'Fourth Rate Period'!K9+'Fifth Rate Period'!G9 -> 0 | K3: ='First Rate Period'!AA9+'Second Rate Period'!W9+'Third Rate Period'!S9+'Fourth Rate Period'!O9+'Fifth Rate Period'!K9+'Sixth Rate Period'!G9 -> 0 | L3: ='First Rate Period'!AE9+'Second Rate Period'!AA9+'Third Rate Period'!W9+'Fourth Rate Period'!S9+'Fifth Rate Period'!O9+'Sixth Rate Period'!K9+'Seventh Rate Period'!G9 -> 0 | M3: ='First Rate Period'!AI9+'Second Rate Period'!AE9+'Third Rate Period'!AA9+'Fourth Rate Period'!W9+'Fifth Rate Period'!S9+'Sixth Rate Period'!O9+'Seventh Rate Period'!K9+'Eighth Rate Period'!G9 -> 0 | N3: =B3&C3 -> Rate Period 1 (BP-29)New Public
A4: Customer B | B4: Rate Period 1 (BP-29) | C4: Tribal | D4: 25 | E4: =D4*SUMIF('Adjustment Pool Limits'!F$2:F$17,'CHWM Adjustments Awarded'!N4,'Adjustment Pool Limits'!G$2:G$17) -> 25 | F4: ='First Rate Period'!G10 -> 12.777778 | G4: ='First Rate Period'!K10+'Second Rate Period'!G10 -> 11.419753 | H4: ='First Rate Period'!O10+'Second Rate Period'!K10+'Third Rate Period'!G10 -> 0.80246914 | I4: ='First Rate Period'!S10+'Second Rate Period'!O10+'Third Rate Period'!K10+'Fourth Rate Period'!G10 -> 0 | J4: ='First Rate Period'!W10+'Second Rate Period'!S10+'Third Rate Period'!O10+'Fourth Rate Period'!K10+'Fifth Rate Period'!G10 -> 0 | K4: ='First Rate Period'!AA10+'Second Rate Period'!W10+'Third Rate Period'!S10+'Fourth Rate Period'!O10+'Fifth Rate Period'!K10+'Sixth Rate Period'!G10 -> 0 | L4: ='First Rate Period'!AE10+'Second Rate Period'!AA10+'Third Rate Period'!W10+'Fourth Rate Period'!S10+'Fifth Rate Period'!O10+'Sixth Rate Period'!K10+'Seventh Rate Period'!G10 -> 0 | M4: ='First Rate Period'!AI10+'Second Rate Period'!AE10+'Third Rate Period'!AA10+'Fourth Rate Period'!W10+'Fifth Rate Period'!S10+'Sixth Rate Period'!O10+'Seventh Rate Period'!K10+'Eighth Rate Period'!G10 -> 0 | N4: =B4&C4 -> Rate Period 1 (BP-29)Tribal
A5: Customer C | B5: Rate Period 1 (BP-29) | C5: Tribal | D5: 5 | E5: =D5*SUMIF('Adjustment Pool Limits'!F$2:F$17,'CHWM Adjustments Awarded'!N5,'Adjustment Pool Limits'!G$2:G$17) -> 5 | F5: ='First Rate Period'!G11 -> 5 | G5: ='First Rate Period'!K11+'Second Rate Period'!G11 -> 0 | H5: ='First Rate Period'!O11+'Second Rate Period'!K11+'Third Rate Period'!G11 -> 0 | I5: ='First Rate Period'!S11+'Second Rate Period'!O11+'Third Rate Period'!K11+'Fourth Rate Period'!G11 -> 0 | J5: ='First Rate Period'!W11+'Second Rate Period'!S11+'Third Rate Period'!O11+'Fourth Rate Period'!K11+'Fifth Rate Period'!G11 -> 0 | K5: ='First Rate Period'!AA11+'Second Rate Period'!W11+'Third Rate Period'!S11+'Fourth Rate Period'!O11+'Fifth Rate Period'!K11+'Sixth Rate Period'!G11 -> 0 | L5: ='First Rate Period'!AE11+'Second Rate Period'!AA11+'Third Rate Period'!W11+'Fourth Rate Period'!S11+'Fifth Rate Period'!O11+'Sixth Rate Period'!K11+'Seventh Rate Period'!G11 -> 0 | M5: ='First Rate Period'!AI11+'Second Rate Period'!AE11+'Third Rate Period'!AA11+'Fourth Rate Period'!W11+'Fifth Rate Period'!S11+'Sixth Rate Period'!O11+'Seventh Rate Period'!K11+'Eighth Rate Period'!G11 -> 0 | N5: =B5&C5 -> Rate Period 1 (BP-29)Tribal
A6: Customer D | B6: Rate Period 3 (BP-33) | C6: New Public | D6: 20 | E6: =D6*SUMIF('Adjustment Pool Limits'!F$2:F$17,'CHWM Adjustments Awarded'!N6,'Adjustment Pool Limits'!G$2:G$17) -> 20 | F6: ='First Rate Period'!G12 -> 0 | G6: ='First Rate Period'!K12+'Second Rate Period'!G12 -> 0 | H6: ='First Rate Period'!O12+'Second Rate Period'!K12+'Third Rate Period'!G12 -> 20 | I6: ='First Rate Period'!S12+'Second Rate Period'!O12+'Third Rate Period'!K12+'Fourth Rate Period'!G12 -> 0 | J6: ='First Rate Period'!W12+'Second Rate Period'!S12+'Third Rate Period'!O12+'Fourth Rate Period'!K12+'Fifth Rate Period'!G12 -> 0 | K6: ='First Rate Period'!AA12+'Second Rate Period'!W12+'Third Rate Period'!S12+'Fourth Rate Period'!O12+'Fifth Rate Period'!K12+'Sixth Rate Period'!G12 -> 0 | L6: ='First Rate Period'!AE12+'Second Rate Period'!AA12+'Third Rate Period'!W12+'Fourth Rate Period'!S12+'Fifth Rate Period'!O12+'Sixth Rate Period'!K12+'Seventh Rate Period'!G12 -> 0 | M6: ='First Rate Period'!AI12+'Second Rate Period'!AE12+'Third Rate Period'!AA12+'Fourth Rate Period'!W12+'Fifth Rate Period'!S12+'Sixth Rate Period'!O12+'Seventh Rate Period'!K12+'Eighth Rate Period'!G12 -> 0 | N6: =B6&C6 -> Rate Period 3 (BP-33)New Public
A7: Customer E | B7: Rate Period 3 (BP-33) | C7: Tribal | D7: 20 | E7: =D7*SUMIF('Adjustment Pool Limits'!F$2:F$17,'CHWM Adjustments Awarded'!N7,'Adjustment Pool Limits'!G$2:G$17) -> 10 | F7: ='First Rate Period'!G13 -> 0 | G7: ='First Rate Period'!K13+'Second Rate Period'!G13 -> 0 | H7: ='First Rate Period'!O13+'Second Rate Period'!K13+'Third Rate Period'!G13 -> 10 | I7: ='First Rate Period'!S13+'Second Rate Period'!O13+'Third Rate Period'!K13+'Fourth Rate Period'!G13 -> 0 | J7: ='First Rate Period'!W13+'Second Rate Period'!S13+'Third Rate Period'!O13+'Fourth Rate Period'!K13+'Fifth Rate Period'!G13 -> 0 | K7: ='First Rate Period'!AA13+'Second Rate Period'!W13+'Third Rate Period'!S13+'Fourth Rate Period'!O13+'Fifth Rate Period'!K13+'Sixth Rate Period'!G13 -> 0 | L7: ='First Rate Period'!AE13+'Second Rate Period'!AA13+'Third Rate Period'!W13+'Fourth Rate Period'!S13+'Fifth Rate Period'!O13+'Sixth Rate Period'!K13+'Seventh Rate Period'!G13 -> 0 | M7: ='First Rate Period'!AI13+'Second Rate Period'!AE13+'Third Rate Period'!AA13+'Fourth Rate Period'!W13+'Fifth Rate Period'!S13+'Sixth Rate Period'!O13+'Seventh Rate Period'!K13+'Eighth Rate Period'!G13 -> 0 | N7: =B7&C7 -> Rate Period 3 (BP-33)Tribal
A8: Customer Name 6 | B8: None | C8: None | D8: 0 | E8: =D8*SUMIF('Adjustment Pool Limits'!F$2:F$17,'CHWM Adjustments Awarded'!N8,'Adjustment Pool Limits'!G$2:G$17) -> 0 | F8: ='First Rate Period'!G14 -> 0 | G8: ='First Rate Period'!K14+'Second Rate Period'!G14 -> 0 | H8: ='First Rate Period'!O14+'Second Rate Period'!K14+'Third Rate Period'!G14 -> 0 | I8: ='First Rate Period'!S14+'Second Rate Period'!O14+'Third Rate Period'!K14+'Fourth Rate Period'!G14 -> 0 | J8: ='First Rate Period'!W14+'Second Rate Period'!S14+'Third Rate Period'!O14+'Fourth Rate Period'!K14+'Fifth Rate Period'!G14 -> 0 | K8: ='First Rate Period'!AA14+'Second Rate Period'!W14+'Third Rate Period'!S14+'Fourth Rate Period'!O14+'Fifth Rate Period'!K14+'Sixth Rate Period'!G14 -> 0 | L8: ='First Rate Period'!AE14+'Second Rate Period'!AA14+'Third Rate Period'!W14+'Fourth Rate Period'!S14+'Fifth Rate Period'!O14+'Sixth Rate Period'!K14+'Seventh Rate Period'!G14 -> 0 | M8: ='First Rate Period'!AI14+'Second Rate Period'!AE14+'Third Rate Period'!AA14+'Fourth Rate Period'!W14+'Fifth Rate Period'!S14+'Sixth Rate Period'!O14+'Seventh Rate Period'!K14+'Eighth Rate Period'!G14 -> 0 | N8: =B8&C8 -> NoneNone
A9: Customer Name 7 | B9: None | C9: None | D9: 0 | E9: =D9*SUMIF('Adjustment Pool Limits'!F$2:F$17,'CHWM Adjustments Awarded'!N9,'Adjustment Pool Limits'!G$2:G$17) -> 0 | F9: ='First Rate Period'!G15 -> 0 | G9: ='First Rate Period'!K15+'Second Rate Period'!G15 -> 0 | H9: ='First Rate Period'!O15+'Second Rate Period'!K15+'Third Rate Period'!G15 -> 0 | I9: ='First Rate Period'!S15+'Second Rate Period'!O15+'Third Rate Period'!K15+'Fourth Rate Period'!G15 -> 0 | J9: ='First Rate Period'!W15+'Second Rate Period'!S15+'Third Rate Period'!O15+'Fourth Rate Period'!K15+'Fifth Rate Period'!G15 -> 0 | K9: ='First Rate Period'!AA15+'Second Rate Period'!W15+'Third Rate Period'!S15+'Fourth Rate Period'!O15+'Fifth Rate Period'!K15+'Sixth Rate Period'!G15 -> 0 | L9: ='First Rate Period'!AE15+'Second Rate Period'!AA15+'Third Rate Period'!W15+'Fourth Rate Period'!S15+'Fifth Rate Period'!O15+'Sixth Rate Period'!K15+'Seventh Rate Period'!G15 -> 0 | M9: ='First Rate Period'!AI15+'Second Rate Period'!AE15+'Third Rate Period'!AA15+'Fourth Rate Period'!W15+'Fifth Rate Period'!S15+'Sixth Rate Period'!O15+'Seventh Rate Period'!K15+'Eighth Rate Period'!G15 -> 0 | N9: =B9&C9 -> NoneNone
A10: Customer Name 8 | B10: None | C10: None | D10: 0 | E10: =D10*SUMIF('Adjustment Pool Limits'!F$2:F$17,'CHWM Adjustments Awarded'!N10,'Adjustment Pool Limits'!G$2:G$17) -> 0 | F10: ='First Rate Period'!G16 -> 0 | G10: ='First Rate Period'!K16+'Second Rate Period'!G16 -> 0 | H10: ='First Rate Period'!O16+'Second Rate Period'!K16+'Third Rate Period'!G16 -> 0 | I10: ='First Rate Period'!S16+'Second Rate Period'!O16+'Third Rate Period'!K16+'Fourth Rate Period'!G16 -> 0 | J10: ='First Rate Period'!W16+'Second Rate Period'!S16+'Third Rate Period'!O16+'Fourth Rate Period'!K16+'Fifth Rate Period'!G16 -> 0 | K10: ='First Rate Period'!AA16+'Second Rate Period'!W16+'Third Rate Period'!S16+'Fourth Rate Period'!O16+'Fifth Rate Period'!K16+'Sixth Rate Period'!G16 -> 0 | L10: ='First Rate Period'!AE16+'Second Rate Period'!AA16+'Third Rate Period'!W16+'Fourth Rate Period'!S16+'Fifth Rate Period'!O16+'Sixth Rate Period'!K16+'Seventh Rate Period'!G16 -> 0 | M10: ='First Rate Period'!AI16+'Second Rate Period'!AE16+'Third Rate Period'!AA16+'Fourth Rate Period'!W16+'Fifth Rate Period'!S16+'Sixth Rate Period'!O16+'Seventh Rate Period'!K16+'Eighth Rate Period'!G16 -> 0 | N10: =B10&C10 -> NoneNone
A11: Customer Name 9 | B11: None | C11: None | D11: 0 | E11: =D11*SUMIF('Adjustment Pool Limits'!F$2:F$17,'CHWM Adjustments Awarded'!N11,'Adjustment Pool Limits'!G$2:G$17) -> 0 | F11: ='First Rate Period'!G17 -> 0 | G11: ='First Rate Period'!K17+'Second Rate Period'!G17 -> 0 | H11: ='First Rate Period'!O17+'Second Rate Period'!K17+'Third Rate Period'!G17 -> 0 | I11: ='First Rate Period'!S17+'Second Rate Period'!O17+'Third Rate Period'!K17+'Fourth Rate Period'!G17 -> 0 | J11: ='First Rate Period'!W17+'Second Rate Period'!S17+'Third Rate Period'!O17+'Fourth Rate Period'!K17+'Fifth Rate Period'!G17 -> 0 | K11: ='First Rate Period'!AA17+'Second Rate Period'!W17+'Third Rate Period'!S17+'Fourth Rate Period'!O17+'Fifth Rate Period'!K17+'Sixth Rate Period'!G17 -> 0 | L11: ='First Rate Period'!AE17+'Second Rate Period'!AA17+'Third Rate Period'!W17+'Fourth Rate Period'!S17+'Fifth Rate Period'!O17+'Sixth Rate Period'!K17+'Seventh Rate Period'!G17 -> 0 | M11: ='First Rate Period'!AI17+'Second Rate Period'!AE17+'Third Rate Period'!AA17+'Fourth Rate Period'!W17+'Fifth Rate Period'!S17+'Sixth Rate Period'!O17+'Seventh Rate Period'!K17+'Eighth Rate Period'!G17 -> 0 | N11: =B11&C11 -> NoneNone
A12: Customer Name 10 | B12: None | C12: None | D12: 0 | E12: =D12*SUMIF('Adjustment Pool Limits'!F$2:F$17,'CHWM Adjustments Awarded'!N12,'Adjustment Pool Limits'!G$2:G$17) -> 0 | F12: ='First Rate Period'!G18 -> 0 | G12: ='First Rate Period'!K18+'Second Rate Period'!G18 -> 0 | H12: ='First Rate Period'!O18+'Second Rate Period'!K18+'Third Rate Period'!G18 -> 0 | I12: ='First Rate Period'!S18+'Second Rate Period'!O18+'Third Rate Period'!K18+'Fourth Rate Period'!G18 -> 0 | J12: ='First Rate Period'!W18+'Second Rate Period'!S18+'Third Rate Period'!O18+'Fourth Rate Period'!K18+'Fifth Rate Period'!G18 -> 0 | K12: ='First Rate Period'!AA18+'Second Rate Period'!W18+'Third Rate Period'!S18+'Fourth Rate Period'!O18+'Fifth Rate Period'!K18+'Sixth Rate Period'!G18 -> 0 | L12: ='First Rate Period'!AE18+'Second Rate Period'!AA18+'Third Rate Period'!W18+'Fourth Rate Period'!S18+'Fifth Rate Period'!O18+'Sixth Rate Period'!K18+'Seventh Rate Period'!G18 -> 0 | M12: ='First Rate Period'!AI18+'Second Rate Period'!AE18+'Third Rate Period'!AA18+'Fourth Rate Period'!W18+'Fifth Rate Period'!S18+'Sixth Rate Period'!O18+'Seventh Rate Period'!K18+'Eighth Rate Period'!G18 -> 0 | N12: =B12&C12 -> NoneNone
A13: Customer Name 11 | B13: None | C13: None | D13: 0 | E13: =D13*SUMIF('Adjustment Pool Limits'!F$2:F$17,'CHWM Adjustments Awarded'!N13,'Adjustment Pool Limits'!G$2:G$17) -> 0 | F13: ='First Rate Period'!G19 -> 0 | G13: ='First Rate Period'!K19+'Second Rate Period'!G19 -> 0 | H13: ='First Rate Period'!O19+'Second Rate Period'!K19+'Third Rate Period'!G19 -> 0 | I13: ='First Rate Period'!S19+'Second Rate Period'!O19+'Third Rate Period'!K19+'Fourth Rate Period'!G19 -> 0 | J13: ='First Rate Period'!W19+'Second Rate Period'!S19+'Third Rate Period'!O19+'Fourth Rate Period'!K19+'Fifth Rate Period'!G19 -> 0 | K13: ='First Rate Period'!AA19+'Second Rate Period'!W19+'Third Rate Period'!S19+'Fourth Rate Period'!O19+'Fifth Rate Period'!K19+'Sixth Rate Period'!G19 -> 0 | L13: ='First Rate Period'!AE19+'Second Rate Period'!AA19+'Third Rate Period'!W19+'Fourth Rate Period'!S19+'Fifth Rate Period'!O19+'Sixth Rate Period'!K19+'Seventh Rate Period'!G19 -> 0 | M13: ='First Rate Period'!AI19+'Second Rate Period'!AE19+'Third Rate Period'!AA19+'Fourth Rate Period'!W19+'Fifth Rate Period'!S19+'Sixth Rate Period'!O19+'Seventh Rate Period'!K19+'Eighth Rate Period'!G19 -> 0 | N13: =B13&C13 -> NoneNone
A14: Customer Name 12 | B14: None | C14: None | D14: 0 | E14: =D14*SUMIF('Adjustment Pool Limits'!F$2:F$17,'CHWM Adjustments Awarded'!N14,'Adjustment Pool Limits'!G$2:G$17) -> 0 | F14: ='First Rate Period'!G20 -> 0 | G14: ='First Rate Period'!K20+'Second Rate Period'!G20 -> 0 | H14: ='First Rate Period'!O20+'Second Rate Period'!K20+'Third Rate Period'!G20 -> 0 | I14: ='First Rate Period'!S20+'Second Rate Period'!O20+'Third Rate Period'!K20+'Fourth Rate Period'!G20 -> 0 | J14: ='First Rate Period'!W20+'Second Rate Period'!S20+'Third Rate Period'!O20+'Fourth Rate Period'!K20+'Fifth Rate Period'!G20 -> 0 | K14: ='First Rate Period'!AA20+'Second Rate Period'!W20+'Third Rate Period'!S20+'Fourth Rate Period'!O20+'Fifth Rate Period'!K20+'Sixth Rate Period'!G20 -> 0 | L14: ='First Rate Period'!AE20+'Second Rate Period'!AA20+'Third Rate Period'!W20+'Fourth Rate Period'!S20+'Fifth Rate Period'!O20+'Sixth Rate Period'!K20+'Seventh Rate Period'!G20 -> 0 | M14: ='First Rate Period'!AI20+'Second Rate Period'!AE20+'Third Rate Period'!AA20+'Fourth Rate Period'!W20+'Fifth Rate Period'!S20+'Sixth Rate Period'!O20+'Seventh Rate Period'!K20+'Eighth Rate Period'!G20 -> 0 | N14: =B14&C14 -> NoneNone
... A42: Customer Name 40 | B42: None | C42: None | D42: 0 | E42: =D42*SUMIF('Adjustment Pool Limits'!F$2:F$17,'CHWM Adjustments Awarded'!N42,'Adjustment Pool Limits'!G$2:G$17) -> 0 | F42: ='First Rate Period'!G48 -> 0 | G42: ='First Rate Period'!K48+'Second Rate Period'!G48 -> 0 | H42: ='First Rate Period'!O48+'Second Rate Period'!K48+'Third Rate Period'!G48 -> 0 | I42: ='First Rate Period'!S48+'Second Rate Period'!O48+'Third Rate Period'!K48+'Fourth Rate Period'!G48 -> 0 | J42: ='First Rate Period'!W48+'Second Rate Period'!S48+'Third Rate Period'!O48+'Fourth Rate Period'!K48+'Fifth Rate Period'!G48 -> 0 | K42: ='First Rate Period'!AA48+'Second Rate Period'!W48+'Third Rate Period'!S48+'Fourth Rate Period'!O48+'Fifth Rate Period'!K48+'Sixth Rate Period'!G48 -> 0 | L42: ='First Rate Period'!AE48+'Second Rate Period'!AA48+'Third Rate Period'!W48+'Fourth Rate Period'!S48+'Fifth Rate Period'!O48+'Sixth Rate Period'!K48+'Seventh Rate Period'!G48 -> 0 | M42: ='First Rate Period'!AI48+'Second Rate Period'!AE48+'Third Rate Period'!AA48+'Fourth Rate Period'!W48+'Fifth Rate Period'!S48+'Sixth Rate Period'!O48+'Seventh Rate Period'!K48+'Eighth Rate Period'!G48 -> 0 | N42: =B42&C42 -> NoneNone

Sheet Adjustment Pool Limits
C1: Eligible Tribal | D1: Eligible New Public | G1: Pro Rate
B2: Start | C2: 40 | D2: 200 | F2: Rate Period 1 (BP-29)Tribal | G2: =IF(D6=1,C4,D6*C4) -> 1
A3: Rate Period 1 (BP-29) | B3: New Requests | C3: =SUMIF('CHWM Adjustments Awarded'!$N$3:$N$42,Lists!C9,'CHWM Adjustments Awarded'!$D$3:$D$42) -> 30 | D3: =SUMIF('CHWM Adjustments Awarded'!$N$3:$N$42,Lists!C1,'CHWM Adjustments Awarded'!$D$3:$D$42) -> 75 | F3: Rate Period 2 (BP-31)Tribal | G3: =IF(D12=1,C10,D12*C10) -> 1
B4: Tribal Pro Rate | C4: =IF(C3>C2,C2/C3,1) -> 1 | F4: Rate Period 3 (BP-33)Tribal | G4: =IF(D18=1,C16,D18*C16) -> 0.5
B5: Available After Tribal Pro Rate | C5: =C3*C4 -> 30 | D5: =D3 -> 75 | F5: Rate Period 4 (BP-35)Tribal | G5: =IF(D24=1,C22,D24*C22) -> 1
B6: New Public Pro Rate | D6: =IF((C5+D5)>D2,D2/(C5+D5),1) -> 1 | F6: Rate Period 5 (BP-37)Tribal | G6: =IF(D30=1,C28,D30*C28) -> 1
B7: Awarded | C7: =C5*D6 -> 30 | D7: =D5*D6 -> 75 | F7: Rate Period 6 (BP-39)Tribal | G7: =IF(D36=1,C34,D36*C34) -> 1
B8: Available Pool | C8: =IF((C2-C7)<0,0,C2-C7) -> 10 | D8: =IF((D2-D7-C7)<0,0,(D2-D7-C7)) -> 95 | F8: Rate Period 7 (BP-41)Tribal | G8: =IF(D42=1,C40,D42*C40) -> 1
A9: Rate Period 2 (BP-31) | B9: New Requests | C9: =SUMIF('CHWM Adjustments Awarded'!$N$3:$N$42,Lists!C10,'CHWM Adjustments Awarded'!$D$3:$D$42) -> 0 | D9: =SUMIF('CHWM Adjustments Awarded'!$N$3:$N$42,Lists!C2,'CHWM Adjustments Awarded'!$D$3:$D$42) -> 0 | F9: Rate Period 8 (BP-43)Tribal | G9: =IF(D48=1,C46,D48*C46) -> 1
B10: Tribal Pro Rate | C10: =IF(C9>C8,C8/C9,1) -> 1 | F10: Rate Period 1 (BP-29)New Public | G10: =D6 -> 1
B11: Available After Tribal Pro Rate | C11: =C9*C10 -> 0 | D11: =D9 -> 0 | F11: Rate Period 2 (BP-31)New Public | G11: =D12 -> 1
B12: New Public Pro Rate | D12: =IF((C11+D11)>D8,D8/(C11+D11),1) -> 1 | F12: Rate Period 3 (BP-33)New Public | G12: =D18 -> 1
B13: Awarded | C13: =C11*D12 -> 0 | D13: =D11*D12 -> 0 | F13: Rate Period 4 (BP-35)New Public | G13: =D24 -> 1
B14: Available Pool | C14: =IF((C8-C13)<0,0,C8-C13) -> 10 | D14: =IF((D8-D13-C13)<0,0,(D8-D13-C13)) -> 95 | F14: Rate Period 5 (BP-37)New Public | G14: =D30 -> 1
A15: Rate Period 3 (BP-33) | B15: New Requests | C15: =SUMIF('CHWM Adjustments Awarded'!$N$3:$N$42,Lists!C11,'CHWM Adjustments Awarded'!$D$3:$D$42) -> 20 | D15: =SUMIF('CHWM Adjustments Awarded'!$N$3:$N$42,Lists!C3,'CHWM Adjustments Awarded'!$D$3:$D$42) -> 20 | F15: Rate Period 6 (BP-39)New Public | G15: =D36 -> 1
B16: Tribal Pro Rate | C16: =IF(C15>C14,C14/C15,1) -> 0.5 | F16: Rate Period 7 (BP-41)New Public | G16: =D42 -> 1
B17: Available After Tribal Pro Rate | C17: =C15*C16 -> 10 | D17: =D15 -> 20 | F17: Rate Period 8 (BP-43)New Public | G17: =D48 -> 1
B18: New Public Pro Rate | D18: =IF((C17+D17)>D14,D14/(C17+D17),1) -> 1
B19: Awarded | C19: =C17*D18 -> 10 | D19: =D17*D18 -> 20
B20: Available Pool | C20: =IF((C14-C19)<0,0,C14-C19) -> 0 | D20: =IF((D14-D19-C19)<0,0,(D14-D19-C19)) -> 65
A21: Rate Period 4 (BP-35) | B21: New Requests | C21: =SUMIF('CHWM Adjustments Awarded'!$N$3:$N$42,Lists!C12,'CHWM Adjustments Awarded'!$D$3:$D$42) -> 0 | D21: =SUMIF('CHWM Adjustments Awarded'!$N$3:$N$42,Lists!C4,'CHWM Adjustments Awarded'!$D$3:$D$42) -> 0
B22: Tribal Pro Rate | C22: =IF(C21>C20,C20/C21,1) -> 1
B23: Available After Tribal Pro Rate | C23: =C21*C22 -> 0 | D23: =D21 -> 0
B24: New Public Pro Rate | D24: =IF((C23+D23)>D20,D20/(C23+D23),1) -> 1
B25: Awarded | C25: =C23*D24 -> 0 | D25: =D23*D24 -> 0
B26: Available Pool | C26: =IF((C20-C25)<0,0,C20-C25) -> 0 | D26: =IF((D20-D25-C25)<0,0,(D20-D25-C25)) -> 65
A27: Rate Period 5 (BP-37) | B27: New Requests | C27: =SUMIF('CHWM Adjustments Awarded'!$N$3:$N$42,Lists!C13,'CHWM Adjustments Awarded'!$D$3:$D$42) -> 0 | D27: =SUMIF('CHWM Adjustments Awarded'!$N$3:$N$42,Lists!C5,'CHWM Adjustments Awarded'!$D$3:$D$42) -> 0
B28: Tribal Pro Rate | C28: =IF(C27>C26,C26/C27,1) -> 1
B29: Available After Tribal Pro Rate | C29: =C27*C28 -> 0 | D29: =D27 -> 0
B30: New Public Pro Rate | D30: =IF((C29+D29)>D26,D26/(C29+D29),1) -> 1
B31: Awarded | C31: =C29*D30 -> 0 | D31: =D29*D30 -> 0
B32: Available Pool | C32: =IF((C26-C31)<0,0,C26-C31) -> 0 | D32: =IF((D26-D31-C31)<0,0,(D26-D31-C31)) -> 65
A33: Rate Period 6 (BP-39) | B33: New Requests | C33: =SUMIF('CHWM Adjustments Awarded'!$N$3:$N$42,Lists!C14,'CHWM Adjustments Awarded'!$D$3:$D$42) -> 0 | D33: =SUMIF('CHWM Adjustments Awarded'!$N$3:$N$42,Lists!C6,'CHWM Adjustments Awarded'!$D$3:$D$42) -> 0
B34: Tribal Pro Rate | C34: =IF(C33>C32,C32/C33,1) -> 1
B35: Available After Tribal Pro Rate | C35: =C33*C34 -> 0 | D35: =D33 -> 0
B36: New Public Pro Rate | D36: =IF((C35+D35)>D32,D32/(C35+D35),1) -> 1
B37: Awarded | C37: =C35*D36 -> 0 | D37: =D35*D36 -> 0
B38: Available Pool | C38: =IF((C32-C37)<0,0,C32-C37) -> 0 | D38: =IF((D32-D37-C37)<0,0,(D32-D37-C37)) -> 65
A39: Rate Period 7 (BP-41) | B39: New Requests | C39: =SUMIF('CHWM Adjustments Awarded'!$N$3:$N$42,Lists!C15,'CHWM Adjustments Awarded'!$D$3:$D$42) -> 0 | D39: =SUMIF('CHWM Adjustments Awarded'!$N$3:$N$42,Lists!C7,'CHWM Adjustments Awarded'!$D$3:$D$42) -> 0
B40: Tribal Pro Rate | C40: =IF(C39>C38,C38/C39,1) -> 1
B41: Available After Tribal Pro Rate | C41: =C39*C40 -> 0 | D41: =D39 -> 0
B42: New Public Pro Rate | D42: =IF((C41+D41)>D38,D38/(C41+D41),1) -> 1
B43: Awarded | C43: =C41*D42 -> 0 | D43: =D41*D42 -> 0
B44: Available Pool | C44: =IF((C38-C43)<0,0,C38-C43) -> 0 | D44: =IF((D38-D43-C43)<0,0,(D38-D43-C43)) -> 65
A45: Rate Period 8 (BP-43) | B45: New Requests | C45: =SUMIF('CHWM Adjustments Awarded'!$N$3:$N$42,Lists!C16,'CHWM Adjustments Awarded'!$D$3:$D$42) -> 0 | D45: =SUMIF('CHWM Adjustments Awarded'!$N$3:$N$42,Lists!C8,'CHWM Adjustments Awarded'!$D$3:$D$42) -> 0
B46: Tribal Pro Rate | C46: =IF(C45>C44,C44/C45,1) -> 1
B47: Available After Tribal Pro Rate | C47: =C45*C46 -> 0 | D47: =D45 -> 0
B48: New Public Pro Rate | D48: =IF((C47+D47)>D44,D44/(C47+D47),1) -> 1
B49: Awarded | C49: =C47*D48 -> 0 | D49: =D47*D48 -> 0
B50: Available Pool | C50: =IF((C44-C49)<0,0,C44-C49) -> 0 | D50: =IF((D44-D49-C49)<0,0,(D44-D49-C49)) -> 65

Sheet Rate Period Limits
C1: Rate Period 1 (BP-29) | D1: Rate Period 2 (BP-31) | E1: Rate Period 3 (BP-33) | F1: Rate Period 4 (BP-35) | G1: Rate Period 5 (BP-37) | H1: Rate Period 6 (BP-39) | I1: Rate Period 7 (BP-41) | J1: Rate Period 8 (BP-43)
A2: Rate Period 1 (BP-29) | B2: Used | C2: =SUM('First Rate Period'!G9:G48) -> 50 | D2: =SUM('First Rate Period'!K9:K48) -> 50 | E2: =SUM('First Rate Period'!O9:O48) -> 5 | F2: =SUM('First Rate Period'!S9:S48) -> 0 | G2: =SUM('First Rate Period'!W9:W48) -> 0 | H2: =SUM('First Rate Period'!AA9:AA48) -> 0 | I2: =SUM('First Rate Period'!AE9:AE48) -> 0 | J2: =SUM('First Rate Period'!AI9:AI48) -> 0
A3: Rate Period 2 (BP-31) | B3: Avialable | D3: =50-D2 -> 0 | E3: =50-E2 -> 45 | F3: =50-F2 -> 50 | G3: =50-G2 -> 50 | H3: =50-H2 -> 50 | I3: =50-I2 -> 50 | J3: =50-J2 -> 50
A4: Rate Period 2 (BP-31) | B4: Used | D4: =SUM('Second Rate Period'!G9:G48) -> 0 | E4: =SUM('Second Rate Period'!K9:K48) -> 0 | F4: =SUM('Second Rate Period'!O9:O48) -> 0 | G4: =SUM('Second Rate Period'!S9:S48) -> 0 | H4: =SUM('Second Rate Period'!W9:W48) -> 0 | I4: =SUM('Second Rate Period'!AA9:AA48) -> 0 | J4: =SUM('Second Rate Period'!AE9:AE48) -> 0
A5: Rate Period 3 (BP-33) | B5: Avialable | E5: =50-(E2+E4) -> 45 | F5: =50-(F2+F4) -> 50 | G5: =50-(G2+G4) -> 50 | H5: =50-(H2+H4) -> 50 | I5: =50-(I2+I4) -> 50 | J5: =50-(J2+J4) -> 50
A6: Rate Period 3 (BP-33) | B6: Used | E6: =SUM('Third Rate Period'!G9:G48) -> 30 | F6: =SUM('Third Rate Period'!K9:K48) -> 0 | G6: =SUM('Third Rate Period'!O9:O48) -> 0 | H6: =SUM('Third Rate Period'!S9:S48) -> 0 | I6: =SUM('Third Rate Period'!W9:W48) -> 0 | J6: =SUM('Third Rate Period'!AA9:AA48) -> 0
A7: Rate Period 4 (BP-35) | B7: Avialable | F7: =50-(F2+F4+F6) -> 50 | G7: =50-(G2+G4+G6) -> 50 | H7: =50-(H2+H4+H6) -> 50 | I7: =50-(I2+I4+I6) -> 50 | J7: =50-(J2+J4+J6) -> 50
A8: Rate Period 4 (BP-35) | B8: Used | F8: =SUM('Fourth Rate Period'!G9:G48) -> 0 | G8: =SUM('Fourth Rate Period'!K9:K48) -> 0 | H8: =SUM('Fourth Rate Period'!O9:O48) -> 0 | I8: =SUM('Fourth Rate Period'!S9:S48) -> 0 | J8: =SUM('Fourth Rate Period'!W9:W48) -> 0
A9: Rate Period 5 (BP-37) | B9: Avialable | G9: =50-(G2+G4+G6+G8) -> 50 | H9: =50-(H2+H4+H6+H8) -> 50 | I9: =50-(I2+I4+I6+I8) -> 50 | J9: =50-(J2+J4+J6+J8) -> 50
A10: Rate Period 5 (BP-37) | B10: Used | G10: =SUM('Fifth Rate Period'!G9:G48) -> 0 | H10: =SUM('Fifth Rate Period'!K9:K48) -> 0 | I10: =SUM('Fifth Rate Period'!O9:O48) -> 0 | J10: =SUM('Fifth Rate Period'!S9:S48) -> 0
A11: Rate Period 6 (BP-39) | B11: Avialable | H11: =50-(H2+H4+H6+H8+H10) -> 50 | I11: =50-(I2+I4+I6+I8+I10) -> 50 | J11: =50-(J2+J4+J6+J8+J10) -> 50
A12: Rate Period 6 (BP-39) | B12: Used | H12: =SUM('Sixth Rate Period'!G9:G48) -> 0 | I12: =SUM('Sixth Rate Period'!K9:K48) -> 0 | J12: =SUM('Sixth Rate Period'!O9:O48) -> 0
A13: Rate Period 7 (BP-41) | B13: Avialable | I13: =50-(I2+I4+I6+I8+I10+I12) -> 50 | J13: =50-(J2+J4+J6+J8+J10+J12) -> 50
A14: Rate Period 7 (BP-41) | B14: Used | I14: =SUM('Seventh Rate Period'!G9:G48) -> 0 | J14: =SUM('Seventh Rate Period'!K9:K48) -> 0
A15: Rate Period 8 (BP-43) | B15: Avialable | J15: =50-J2-J4-J6-J8-J10-J12-J14 -> 50
A16: Rate Period 8 (BP-43) | B16: Used | J16: =SUM('Eighth Rate Period'!G9:G48) -> 0

Sheet First Rate Period
D1: Rate Period 1 (BP-29) | I1: Rate Period 2 (BP-31) | M1: Rate Period 3 (BP-33) | Q1: Rate Period 4 (BP-35) | U1: Rate Period 5 (BP-37) | Y1: Rate Period 6 (BP-39) | AC1: Rate Period 7 (BP-41) | AG1: Rate Period 8 (BP-43)
D2: Rate Period Limit | E2: 50 | I2: Rate Period Limit | J2: 50 | M2: Rate Period Limit | N2: 50 | Q2: Rate Period Limit | R2: 50 | U2: Rate Period Limit | V2: 50 | Y2: Rate Period Limit | Z2: 50 | AC2: Rate Period Limit | AD2: 50 | AG2: Rate Period Limit | AH2: 50
D3: New Requesting Utilities | E3: =COUNTIF(B9:B48,D1) -> 3 | I3: Returning Utilities | J3: =COUNTIF(H9:H48,">0") -> 2 | M3: Returning Utilities | N3: =COUNTIF(L9:L48,">0") -> 2 | Q3: Returning Utilities | R3: =COUNTIF(P9:P48,">0") -> 0 | U3: Returning Utilities | V3: =COUNTIF(T9:T48,">0") -> 0 | Y3: Returning Utilities | Z3: =COUNTIF(X9:X48,">0") -> 0 | AC3: Returning Utilities | AD3: =COUNTIF(AB9:AB48,">0") -> 0 | AG3: Returning Utilities | AH3: =COUNTIF(AF9:AF48,">0") -> 0
D4: Apply 5 aMW | E4: =IF((SUMIF(D9:D48,"<5",D9:D48)+(5*COUNTIF(D9:D48,">=5")))<E2,1,0) -> 1 | I4: Apply 5 aMW | J4: =IF((SUMIF(H9:H48,"<5",H9:H48)+(5*COUNTIF(H9:H48,">=5")))<J2,1,0) -> 1 | M4: Apply 5 aMW | N4: =IF((SUMIF(L9:L48,"<5",L9:L48)+(5*COUNTIF(L9:L48,">=5")))<N2,1,0) -> 1 | Q4: Apply 5 aMW | R4: =IF((SUMIF(P9:P48,"<5",P9:P48)+(5*COUNTIF(P9:P48,">=5")))<R2,1,0) -> 1 | U4: Apply 5 aMW | V4: =IF((SUMIF(T9:T48,"<5",T9:T48)+(5*COUNTIF(T9:T48,">=5")))<V2,1,0) -> 1 | Y4: Apply 5 aMW | Z4: =IF((SUMIF(X9:X48,"<5",X9:X48)+(5*COUNTIF(X9:X48,">=5")))<Z2,1,0) -> 1 | AC4: Apply 5 aMW | AD4: =IF((SUMIF(AB9:AB48,"<5",AB9:AB48)+(5*COUNTIF(AB9:AB48,">=5")))<AD2,1,0) -> 1 | AG4: Apply 5 aMW | AH4: =IF((SUMIF(AF9:AF48,"<5",AF9:AF48)+(5*COUNTIF(AF9:AF48,">=5")))<AH2,1,0) -> 1
D5: 5 aMW Applied | E5: =SUM(E9:E48) -> 15 | I5: 5 aMW Applied | J5: =SUM(I9:I48) -> 10 | M5: 5 aMW Applied | N5: =SUM(M9:M48) -> 5 | Q5: 5 aMW Applied | R5: =SUM(Q9:Q48) -> 0 | U5: 5 aMW Applied | V5: =SUM(U9:U48) -> 0 | Y5: 5 aMW Applied | Z5: =SUM(Y9:Y48) -> 0 | AC5: 5 aMW Applied | AD5: =SUM(AC9:AC48) -> 0 | AG5: 5 aMW Applied | AH5: =SUM(AG9:AG48) -> 0
D6: Rate Period Pro Rate | E6: =IF((SUM(D9:D48)-E5)>(E2-E5),(E2-E5)/(SUM(D9:D48)-E5),1) -> 0.38888889 | I6: Rate Period Pro Rate | J6: =IF((SUM(H9:H48)-J5)>(J2-J5),(J2-J5)/(SUM(H9:H48)-J5),1) -> 0.88888889 | M6: Rate Period Pro Rate | N6: =IF((SUM(L9:L48)-N5)>(N2-N5),(N2-N5)/(SUM(L9:L48)-N5),1) -> 1 | Q6: Rate Period Pro Rate | R6: =IF((SUM(P9:P48)-R5)>(R2-R5),(R2-R5)/(SUM(P9:P48)-R5),1) -> 1 | U6: Rate Period Pro Rate | V6: =IF((SUM(T9:T48)-V5)>(V2-V5),(V2-V5)/(SUM(T9:T48)-V5),1) -> 1 | Y6: Rate Period Pro Rate | Z6: =IF((SUM(X9:X48)-Z5)>(Z2-Z5),(Z2-Z5)/(SUM(X9:X48)-Z5),1) -> 1 | AC6: Rate Period Pro Rate | AD6: =IF((SUM(AB9:AB48)-AD5)>(AD2-AD5),(AD2-AD5)/(SUM(AB9:AB48)-AD5),1) -> 1 | AG6: Rate Period Pro Rate | AH6: =IF((SUM(AF9:AF48)-AH5)>(AH2-AH5),(AH2-AH5)/(SUM(AF9:AF48)-AH5),1) -> 1
A8: Customer Name | B8: First Rate Period | C8: Eligible Amount | D8: New Requests | E8: 5 aMW | F8: Rate Period Pro Rate | G8: Awarded Amounts | H8: Remaining Requests | I8: 5 aMW | J8: Rate Period Pro Rate | K8: Awarded Amounts | L8: Remaining Requests | M8: 5 aMW | N8: Rate Period Pro Rate | O8: Awarded Amounts | P8: Remaining Requests | Q8: 5 aMW | R8: Rate Period Pro Rate | S8: Awarded Amounts | T8: Remaining Requests | U8: 5 aMW | V8: Rate Period Pro Rate | W8: Awarded Amounts | X8: Remaining Requests | Y8: 5 aMW | Z8: Rate Period Pro Rate | AA8: Awarded Amounts | AB8: Remaining Requests | AC8: 5 aMW | AD8: Rate Period Pro Rate | AE8: Awarded Amounts | AF8: Remaining Requests | AG8: 5 aMW | AH8: Rate Period Pro Rate | AI8: Awarded Amounts | AJ8: Remaining Requests
A9: ='CHWM Adjustments Awarded'!A3 -> Customer A | B9: ='CHWM Adjustments Awarded'!B3 -> Rate Period 1 (BP-29) | C9: ='CHWM Adjustments Awarded'!E3 -> 75 | D9: =IF($B9=D$1,C9,0) -> 75 | E9: =IF(E$4=1,MIN(D9,5),0) -> 5 | F9: =(D9-E9)*E$6 -> 27.222222 | G9: =E9+F9 -> 32.222222 | H9: =D9-G9 -> 42.777778 | I9: =IF(J$4=1,MIN(H9,5),0) -> 5 | J9: =(H9-I9)*J$6 -> 33.580247 | K9: =I9+J9 -> 38.580247 | L9: =H9-K9 -> 4.1975309 | M9: =IF(N$4=1,MIN(L9,5),0) -> 4.1975309 | N9: =(L9-M9)*N$6 -> 0 | O9: =M9+N9 -> 4.1975309 | P9: =L9-O9 -> 0 | Q9: =IF(R$4=1,MIN(P9,5),0) -> 0 | R9: =(P9-Q9)*R$6 -> 0 | S9: =Q9+R9 -> 0 | T9: =P9-S9 -> 0 | U9: =IF(V$4=1,MIN(T9,5),0) -> 0 | V9: =(T9-U9)*V$6 -> 0 | W9: =U9+V9 -> 0 | X9: =T9-W9 -> 0 | Y9: =IF(Z$4=1,MIN(X9,5),0) -> 0 | Z9: =(X9-Y9)*Z$6 -> 0 | AA9: =Y9+Z9 -> 0 | AB9: =X9-AA9 -> 0 | AC9: =IF(AD$4=1,MIN(AB9,5),0) -> 0 | AD9: =(AB9-AC9)*AD$6 -> 0 | AE9: =AC9+AD9 -> 0 | AF9: =AB9-AE9 -> 0 | AG9: =IF(AH$4=1,MIN(AF9,5),0) -> 0 | AH9: =(AF9-AG9)*AH$6 -> 0 | AI9: =AG9+AH9 -> 0 | AJ9: =AF9-AI9 -> 0
A10: ='CHWM Adjustments Awarded'!A4 -> Customer B | B10: ='CHWM Adjustments Awarded'!B4 -> Rate Period 1 (BP-29) | C10: ='CHWM Adjustments Awarded'!E4 -> 25 | D10: =IF($B10=D$1,C10,0) -> 25 | E10: =IF(E$4=1,MIN(D10,5),0) -> 5 | F10: =(D10-E10)*E$6 -> 7.7777778 | G10: =E10+F10 -> 12.777778 | H10: =D10-G10 -> 12.222222 | I10: =IF(J$4=1,MIN(H10,5),0) -> 5 | J10: =(H10-I10)*J$6 -> 6.4197531 | K10: =I10+J10 -> 11.419753 | L10: =H10-K10 -> 0.80246914 | M10: =IF(N$4=1,MIN(L10,5),0) -> 0.80246914 | N10: =(L10-M10)*N$6 -> 0 | O10: =M10+N10 -> 0.80246914 | P10: =L10-O10 -> 0 | Q10: =IF(R$4=1,MIN(P10,5),0) -> 0 | R10: =(P10-Q10)*R$6 -> 0 | S10: =Q10+R10 -> 0 | T10: =P10-S10 -> 0 | U10: =IF(V$4=1,MIN(T10,5),0) -> 0 | V10: =(T10-U10)*V$6 -> 0 | W10: =U10+V10 -> 0 | X10: =T10-W10 -> 0 | Y10: =IF(Z$4=1,MIN(X10,5),0) -> 0 | Z10: =(X10-Y10)*Z$6 -> 0 | AA10: =Y10+Z10 -> 0 | AB10: =X10-AA10 -> 0 | AC10: =IF(AD$4=1,MIN(AB10,5),0) -> 0 | AD10: =(AB10-AC10)*AD$6 -> 0 | AE10: =AC10+AD10 -> 0 | AF10: =AB10-AE10 -> 0 | AG10: =IF(AH$4=1,MIN(AF10,5),0) -> 0 | AH10: =(AF10-AG10)*AH$6 -> 0 | AI10: =AG10+AH10 -> 0 | AJ10: =AF10-AI10 -> 0
A11: ='CHWM Adjustments Awarded'!A5 -> Customer C | B11: ='CHWM Adjustments Awarded'!B5 -> Rate Period 1 (BP-29) | C11: ='CHWM Adjustments Awarded'!E5 -> 5 | D11: =IF($B11=D$1,C11,0) -> 5 | E11: =IF(E$4=1,MIN(D11,5),0) -> 5 | F11: =(D11-E11)*E$6 -> 0 | G11: =E11+F11 -> 5 | H11: =D11-G11 -> 0 | I11: =IF(J$4=1,MIN(H11,5),0) -> 0 | J11: =(H11-I11)*J$6 -> 0 | K11: =I11+J11 -> 0 | L11: =H11-K11 -> 0 | M11: =IF(N$4=1,MIN(L11,5),0) -> 0 | N11: =(L11-M11)*N$6 -> 0 | O11: =M11+N11 -> 0 | P11: =L11-O11 -> 0 | Q11: =IF(R$4=1,MIN(P11,5),0) -> 0 | R11: =(P11-Q11)*R$6 -> 0 | S11: =Q11+R11 -> 0 | T11: =P11-S11 -> 0 | U11: =IF(V$4=1,MIN(T11,5),0) -> 0 | V11: =(T11-U11)*V$6 -> 0 | W11: =U11+V11 -> 0 | X11: =T11-W11 -> 0 | Y11: =IF(Z$4=1,MIN(X11,5),0) -> 0 | Z11: =(X11-Y11)*Z$6 -> 0 | AA11: =Y11+Z11 -> 0 | AB11: =X11-AA11 -> 0 | AC11: =IF(AD$4=1,MIN(AB11,5),0) -> 0 | AD11: =(AB11-AC11)*AD$6 -> 0 | AE11: =AC11+AD11 -> 0 | AF11: =AB11-AE11 -> 0 | AG11: =IF(AH$4=1,MIN(AF11,5),0) -> 0 | AH11: =(AF11-AG11)*AH$6 -> 0 | AI11: =AG11+AH11 -> 0 | AJ11: =AF11-AI11 -> 0
A12: ='CHWM Adjustments Awarded'!A6 -> Customer D | B12: ='CHWM Adjustments Awarded'!B6 -> Rate Period 3 (BP-33) | C12: ='CHWM Adjustments Awarded'!E6 -> 20 | D12: =IF($B12=D$1,C12,0) -> 0 | E12: =IF(E$4=1,MIN(D12,5),0) -> 0 | F12: =(D12-E12)*E$6 -> 0 | G12: =E12+F12 -> 0 | H12: =D12-G12 -> 0 | I12: =IF(J$4=1,MIN(H12,5),0) -> 0 | J12: =(H12-I12)*J$6 -> 0 | K12: =I12+J12 -> 0 | L12: =H12-K12 -> 0 | M12: =IF(N$4=1,MIN(L12,5),0) -> 0 | N12: =(L12-M12)*N$6 -> 0 | O12: =M12+N12 -> 0 | P12: =L12-O12 -> 0 | Q12: =IF(R$4=1,MIN(P12,5),0) -> 0 | R12: =(P12-Q12)*R$6 -> 0 | S12: =Q12+R12 -> 0 | T12: =P12-S12 -> 0 | U12: =IF(V$4=1,MIN(T12,5),0) -> 0 | V12: =(T12-U12)*V$6 -> 0 | W12: =U12+V12 -> 0 | X12: =T12-W12 -> 0 | Y12: =IF(Z$4=1,MIN(X12,5),0) -> 0 | Z12: =(X12-Y12)*Z$6 -> 0 | AA12: =Y12+Z12 -> 0 | AB12: =X12-AA12 -> 0 | AC12: =IF(AD$4=1,MIN(AB12,5),0) -> 0 | AD12: =(AB12-AC12)*AD$6 -> 0 | AE12: =AC12+AD12 -> 0 | AF12: =AB12-AE12 -> 0 | AG12: =IF(AH$4=1,MIN(AF12,5),0) -> 0 | AH12: =(AF12-AG12)*AH$6 -> 0 | AI12: =AG12+AH12 -> 0 | AJ12: =AF12-AI12 -> 0
A13: ='CHWM Adjustments Awarded'!A7 -> Customer E | B13: ='CHWM Adjustments Awarded'!B7 -> Rate Period 3 (BP-33) | C13: ='CHWM Adjustments Awarded'!E7 -> 10 | D13: =IF($B13=D$1,C13,0) -> 0 | E13: =IF(E$4=1,MIN(D13,5),0) -> 0 | F13: =(D13-E13)*E$6 -> 0 | G13: =E13+F13 -> 0 | H13: =D13-G13 -> 0 | I13: =IF(J$4=1,MIN(H13,5),0) -> 0 | J13: =(H13-I13)*J$6 -> 0 | K13: =I13+J13 -> 0 | L13: =H13-K13 -> 0 | M13: =IF(N$4=1,MIN(L13,5),0) -> 0 | N13: =(L13-M13)*N$6 -> 0 | O13: =M13+N13 -> 0 | P13: =L13-O13 -> 0 | Q13: =IF(R$4=1,MIN(P13,5),0) -> 0 | R13: =(P13-Q13)*R$6 -> 0 | S13: =Q13+R13 -> 0 | T13: =P13-S13 -> 0 | U13: =IF(V$4=1,MIN(T13,5),0) -> 0 | V13: =(T13-U13)*V$6 -> 0 | W13: =U13+V13 -> 0 | X13: =T13-W13 -> 0 | Y13: =IF(Z$4=1,MIN(X13,5),0) -> 0 | Z13: =(X13-Y13)*Z$6 -> 0 | AA13: =Y13+Z13 -> 0 | AB13: =X13-AA13 -> 0 | AC13: =IF(AD$4=1,MIN(AB13,5),0) -> 0 | AD13: =(AB13-AC13)*AD$6 -> 0 | AE13: =AC13+AD13 -> 0 | AF13: =AB13-AE13 -> 0 | AG13: =IF(AH$4=1,MIN(AF13,5),0) -> 0 | AH13: =(AF13-AG13)*AH$6 -> 0 | AI13: =AG13+AH13 -> 0 | AJ13: =AF13-AI13 -> 0
A14: ='CHWM Adjustments Awarded'!A8 -> Customer Name 6 | B14: ='CHWM Adjustments Awarded'!B8 -> None | C14: ='CHWM Adjustments Awarded'!E8 -> 0 | D14: =IF($B14=D$1,C14,0) -> 0 | E14: =IF(E$4=1,MIN(D14,5),0) -> 0 | F14: =(D14-E14)*E$6 -> 0 | G14: =E14+F14 -> 0 | H14: =D14-G14 -> 0 | I14: =IF(J$4=1,MIN(H14,5),0) -> 0 | J14: =(H14-I14)*J$6 -> 0 | K14: =I14+J14 -> 0 | L14: =H14-K14 -> 0 | M14: =IF(N$4=1,MIN(L14,5),0) -> 0 | N14: =(L14-M14)*N$6 -> 0 | O14: =M14+N14 -> 0 | P14: =L14-O14 -> 0 | Q14: =IF(R$4=1,MIN(P14,5),0) -> 0 | R14: =(P14-Q14)*R$6 -> 0 | S14: =Q14+R14 -> 0 | T14: =P14-S14 -> 0 | U14: =IF(V$4=1,MIN(T14,5),0) -> 0 | V14: =(T14-U14)*V$6 -> 0 | W14: =U14+V14 -> 0 | X14: =T14-W14 -> 0 | Y14: =IF(Z$4=1,MIN(X14,5),0) -> 0 | Z14: =(X14-Y14)*Z$6 -> 0 | AA14: =Y14+Z14 -> 0 | AB14: =X14-AA14 -> 0 | AC14: =IF(AD$4=1,MIN(AB14,5),0) -> 0 | AD14: =(AB14-AC14)*AD$6 -> 0 | AE14: =AC14+AD14 -> 0 | AF14: =AB14-AE14 -> 0 | AG14: =IF(AH$4=1,MIN(AF14,5),0) -> 0 | AH14: =(AF14-AG14)*AH$6 -> 0 | AI14: =AG14+AH14 -> 0 | AJ14: =AF14-AI14 -> 0
A15: ='CHWM Adjustments Awarded'!A9 -> Customer Name 7 | B15: ='CHWM Adjustments Awarded'!B9 -> None | C15: ='CHWM Adjustments Awarded'!E9 -> 0 | D15: =IF($B15=D$1,C15,0) -> 0 | E15: =IF(E$4=1,MIN(D15,5),0) -> 0 | F15: =(D15-E15)*E$6 -> 0 | G15: =E15+F15 -> 0 | H15: =D15-G15 -> 0 | I15: =IF(J$4=1,MIN(H15,5),0) -> 0 | J15: =(H15-I15)*J$6 -> 0 | K15: =I15+J15 -> 0 | L15: =H15-K15 -> 0 | M15: =IF(N$4=1,MIN(L15,5),0) -> 0 | N15: =(L15-M15)*N$6 -> 0 | O15: =M15+N15 -> 0 | P15: =L15-O15 -> 0 | Q15: =IF(R$4=1,MIN(P15,5),0) -> 0 | R15: =(P15-Q15)*R$6 -> 0 | S15: =Q15+R15 -> 0 | T15: =P15-S15 -> 0 | U15: =IF(V$4=1,MIN(T15,5),0) -> 0 | V15: =(T15-U15)*V$6 -> 0 | W15: =U15+V15 -> 0 | X15: =T15-W15 -> 0 | Y15: =IF(Z$4=1,MIN(X15,5),0) -> 0 | Z15: =(X15-Y15)*Z$6 -> 0 | AA15: =Y15+Z15 -> 0 | AB15: =X15-AA15 -> 0 | AC15: =IF(AD$4=1,MIN(AB15,5),0) -> 0 | AD15: =(AB15-AC15)*AD$6 -> 0 | AE15: =AC15+AD15 -> 0 | AF15: =AB15-AE15 -> 0 | AG15: =IF(AH$4=1,MIN(AF15,5),0) -> 0 | AH15: =(AF15-AG15)*AH$6 -> 0 | AI15: =AG15+AH15 -> 0 | AJ15: =AF15-AI15 -> 0
A16: ='CHWM Adjustments Awarded'!A10 -> Customer Name 8 | B16: ='CHWM Adjustments Awarded'!B10 -> None | C16: ='CHWM Adjustments Awarded'!E10 -> 0 | D16: =IF($B16=D$1,C16,0) -> 0 | E16: =IF(E$4=1,MIN(D16,5),0) -> 0 | F16: =(D16-E16)*E$6 -> 0 | G16: =E16+F16 -> 0 | H16: =D16-G16 -> 0 | I16: =IF(J$4=1,MIN(H16,5),0) -> 0 | J16: =(H16-I16)*J$6 -> 0 | K16: =I16+J16 -> 0 | L16: =H16-K16 -> 0 | M16: =IF(N$4=1,MIN(L16,5),0) -> 0 | N16: =(L16-M16)*N$6 -> 0 | O16: =M16+N16 -> 0 | P16: =L16-O16 -> 0 | Q16: =IF(R$4=1,MIN(P16,5),0) -> 0 | R16: =(P16-Q16)*R$6 -> 0 | S16: =Q16+R16 -> 0 | T16: =P16-S16 -> 0 | U16: =IF(V$4=1,MIN(T16,5),0) -> 0 | V16: =(T16-U16)*V$6 -> 0 | W16: =U16+V16 -> 0 | X16: =T16-W16 -> 0 | Y16: =IF(Z$4=1,MIN(X16,5),0) -> 0 | Z16: =(X16-Y16)*Z$6 -> 0 | AA16: =Y16+Z16 -> 0 | AB16: =X16-AA16 -> 0 | AC16: =IF(AD$4=1,MIN(AB16,5),0) -> 0 | AD16: =(AB16-AC16)*AD$6 -> 0 | AE16: =AC16+AD16 -> 0 | AF16: =AB16-AE16 -> 0 | AG16: =IF(AH$4=1,MIN(AF16,5),0) -> 0 | AH16: =(AF16-AG16)*AH$6 -> 0 | AI16: =AG16+AH16 -> 0 | AJ16: =AF16-AI16 -> 0
A17: ='CHWM Adjustments Awarded'!A11 -> Customer Name 9 | B17: ='CHWM Adjustments Awarded'!B11 -> None | C17: ='CHWM Adjustments Awarded'!E11 -> 0 | D17: =IF($B17=D$1,C17,0) -> 0 | E17: =IF(E$4=1,MIN(D17,5),0) -> 0 | F17: =(D17-E17)*E$6 -> 0 | G17: =E17+F17 -> 0 | H17: =D17-G17 -> 0 | I17: =IF(J$4=1,MIN(H17,5),0) -> 0 | J17: =(H17-I17)*J$6 -> 0 | K17: =I17+J17 -> 0 | L17: =H17-K17 -> 0 | M17: =IF(N$4=1,MIN(L17,5),0) -> 0 | N17: =(L17-M17)*N$6 -> 0 | O17: =M17+N17 -> 0 | P17: =L17-O17 -> 0 | Q17: =IF(R$4=1,MIN(P17,5),0) -> 0 | R17: =(P17-Q17)*R$6 -> 0 | S17: =Q17+R17 -> 0 | T17: =P17-S17 -> 0 | U17: =IF(V$4=1,MIN(T17,5),0) -> 0 | V17: =(T17-U17)*V$6 -> 0 | W17: =U17+V17 -> 0 | X17: =T17-W17 -> 0 | Y17: =IF(Z$4=1,MIN(X17,5),0) -> 0 | Z17: =(X17-Y17)*Z$6 -> 0 | AA17: =Y17+Z17 -> 0 | AB17: =X17-AA17 -> 0 | AC17: =IF(AD$4=1,MIN(AB17,5),0) -> 0 | AD17: =(AB17-AC17)*AD$6 -> 0 | AE17: =AC17+AD17 -> 0 | AF17: =AB17-AE17 -> 0 | AG17: =IF(AH$4=1,MIN(AF17,5),0) -> 0 | AH17: =(AF17-AG17)*AH$6 -> 0 | AI17: =AG17+AH17 -> 0 | AJ17: =AF17-AI17 -> 0
A18: ='CHWM Adjustments Awarded'!A12 -> Customer Name 10 | B18: ='CHWM Adjustments Awarded'!B12 -> None | C18: ='CHWM Adjustments Awarded'!E12 -> 0 | D18: =IF($B18=D$1,C18,0) -> 0 | E18: =IF(E$4=1,MIN(D18,5),0) -> 0 | F18: =(D18-E18)*E$6 -> 0 | G18: =E18+F18 -> 0 | H18: =D18-G18 -> 0 | I18: =IF(J$4=1,MIN(H18,5),0) -> 0 | J18: =(H18-I18)*J$6 -> 0 | K18: =I18+J18 -> 0 | L18: =H18-K18 -> 0 | M18: =IF(N$4=1,MIN(L18,5),0) -> 0 | N18: =(L18-M18)*N$6 -> 0 | O18: =M18+N18 -> 0 | P18: =L18-O18 -> 0 | Q18: =IF(R$4=1,MIN(P18,5),0) -> 0 | R18: =(P18-Q18)*R$6 -> 0 | S18: =Q18+R18 -> 0 | T18: =P18-S18 -> 0 | U18: =IF(V$4=1,MIN(T18,5),0) -> 0 | V18: =(T18-U18)*V$6 -> 0 | W18: =U18+V18 -> 0 | X18: =T18-W18 -> 0 | Y18: =IF(Z$4=1,MIN(X18,5),0) -> 0 | Z18: =(X18-Y18)*Z$6 -> 0 | AA18: =Y18+Z18 -> 0 | AB18: =X18-AA18 -> 0 | AC18: =IF(AD$4=1,MIN(AB18,5),0) -> 0 | AD18: =(AB18-AC18)*AD$6 -> 0 | AE18: =AC18+AD18 -> 0 | AF18: =AB18-AE18 -> 0 | AG18: =IF(AH$4=1,MIN(AF18,5),0) -> 0 | AH18: =(AF18-AG18)*AH$6 -> 0 | AI18: =AG18+AH18 -> 0 | AJ18: =AF18-AI18 -> 0
A19: ='CHWM Adjustments Awarded'!A13 -> Customer Name 11 | B19: ='CHWM Adjustments Awarded'!B13 -> None | C19: ='CHWM Adjustments Awarded'!E13 -> 0 | D19: =IF($B19=D$1,C19,0) -> 0 | E19: =IF(E$4=1,MIN(D19,5),0) -> 0 | F19: =(D19-E19)*E$6 -> 0 | G19: =E19+F19 -> 0 | H19: =D19-G19 -> 0 | I19: =IF(J$4=1,MIN(H19,5),0) -> 0 | J19: =(H19-I19)*J$6 -> 0 | K19: =I19+J19 -> 0 | L19: =H19-K19 -> 0 | M19: =IF(N$4=1,MIN(L19,5),0) -> 0 | N19: =(L19-M19)*N$6 -> 0 | O19: =M19+N19 -> 0 | P19: =L19-O19 -> 0 | Q19: =IF(R$4=1,MIN(P19,5),0) -> 0 | R19: =(P19-Q19)*R$6 -> 0 | S19: =Q19+R19 -> 0 | T19: =P19-S19 -> 0 | U19: =IF(V$4=1,MIN(T19,5),0) -> 0 | V19: =(T19-U19)*V$6 -> 0 | W19: =U19+V19 -> 0 | X19: =T19-W19 -> 0 | Y19: =IF(Z$4=1,MIN(X19,5),0) -> 0 | Z19: =(X19-Y19)*Z$6 -> 0 | AA19: =Y19+Z19 -> 0 | AB19: =X19-AA19 -> 0 | AC19: =IF(AD$4=1,MIN(AB19,5),0) -> 0 | AD19: =(AB19-AC19)*AD$6 -> 0 | AE19: =AC19+AD19 -> 0 | AF19: =AB19-AE19 -> 0 | AG19: =IF(AH$4=1,MIN(AF19,5),0) -> 0 | AH19: =(AF19-AG19)*AH$6 -> 0 | AI19: =AG19+AH19 -> 0 | AJ19: =AF19-AI19 -> 0
A20: ='CHWM Adjustments Awarded'!A14 -> Customer Name 12 | B20: ='CHWM Adjustments Awarded'!B14 -> None | C20: ='CHWM Adjustments Awarded'!E14 -> 0 | D20: =IF($B20=D$1,C20,0) -> 0 | E20: =IF(E$4=1,MIN(D20,5),0) -> 0 | F20: =(D20-E20)*E$6 -> 0 | G20: =E20+F20 -> 0 | H20: =D20-G20 -> 0 | I20: =IF(J$4=1,MIN(H20,5),0) -> 0 | J20: =(H20-I20)*J$6 -> 0 | K20: =I20+J20 -> 0 | L20: =H20-K20 -> 0 | M20: =IF(N$4=1,MIN(L20,5),0) -> 0 | N20: =(L20-M20)*N$6 -> 0 | O20: =M20+N20 -> 0 | P20: =L20-O20 -> 0 | Q20: =IF(R$4=1,MIN(P20,5),0) -> 0 | R20: =(P20-Q20)*R$6 -> 0 | S20: =Q20+R20 -> 0 | T20: =P20-S20 -> 0 | U20: =IF(V$4=1,MIN(T20,5),0) -> 0 | V20: =(T20-U20)*V$6 -> 0 | W20: =U20+V20 -> 0 | X20: =T20-W20 -> 0 | Y20: =IF(Z$4=1,MIN(X20,5),0) -> 0 | Z20: =(X20-Y20)*Z$6 -> 0 | AA20: =Y20+Z20 -> 0 | AB20: =X20-AA20 -> 0 | AC20: =IF(AD$4=1,MIN(AB20,5),0) -> 0 | AD20: =(AB20-AC20)*AD$6 -> 0 | AE20: =AC20+AD20 -> 0 | AF20: =AB20-AE20 -> 0 | AG20: =IF(AH$4=1,MIN(AF20,5),0) -> 0 | AH20: =(AF20-AG20)*AH$6 -> 0 | AI20: =AG20+AH20 -> 0 | AJ20: =AF20-AI20 -> 0
... A48: ='CHWM Adjustments Awarded'!A42 -> Customer Name 40 | B48: ='CHWM Adjustments Awarded'!B42 -> None | C48: ='CHWM Adjustments Awarded'!E42 -> 0 | D48: =IF($B48=D$1,C48,0) -> 0 | E48: =IF(E$4=1,MIN(D48,5),0) -> 0 | F48: =(D48-E48)*E$6 -> 0 | G48: =E48+F48 -> 0 | H48: =D48-G48 -> 0 | I48: =IF(J$4=1,MIN(H48,5),0) -> 0 | J48: =(H48-I48)*J$6 -> 0 | K48: =I48+J48 -> 0 | L48: =H48-K48 -> 0 | M48: =IF(N$4=1,MIN(L48,5),0) -> 0 | N48: =(L48-M48)*N$6 -> 0 | O48: =M48+N48 -> 0 | P48: =L48-O48 -> 0 | Q48: =IF(R$4=1,MIN(P48,5),0) -> 0 | R48: =(P48-Q48)*R$6 -> 0 | S48: =Q48+R48 -> 0 | T48: =P48-S48 -> 0 | U48: =IF(V$4=1,MIN(T48,5),0) -> 0 | V48: =(T48-U48)*V$6 -> 0 | W48: =U48+V48 -> 0 | X48: =T48-W48 -> 0 | Y48: =IF(Z$4=1,MIN(X48,5),0) -> 0 | Z48: =(X48-Y48)*Z$6 -> 0 | AA48: =Y48+Z48 -> 0 | AB48: =X48-AA48 -> 0 | AC48: =IF(AD$4=1,MIN(AB48,5),0) -> 0 | AD48: =(AB48-AC48)*AD$6 -> 0 | AE48: =AC48+AD48 -> 0 | AF48: =AB48-AE48 -> 0 | AG48: =IF(AH$4=1,MIN(AF48,5),0) -> 0 | AH48: =(AF48-AG48)*AH$6 -> 0 | AI48: =AG48+AH48 -> 0 | AJ48: =AF48-AI48 -> 0

Sheet Second Rate Period
D1: Rate Period 2 (BP-31) | I1: Rate Period 3 (BP-33) | M1: Rate Period 4 (BP-35) | Q1: Rate Period 5 (BP-37) | U1: Rate Period 6 (BP-39) | Y1: Rate Period 7 (BP-41) | AC1: Rate Period 8 (BP-43)
D2: Rate Period Limit | E2: ='Rate Period Limits'!D3 -> 0 | I2: Rate Period Limit | J2: ='Rate Period Limits'!E3 -> 45 | M2: Rate Period Limit | N2: ='Rate Period Limits'!F3 -> 50 | Q2: Rate Period Limit | R2: ='Rate Period Limits'!G3 -> 50 | U2: Rate Period Limit | V2: ='Rate Period Limits'!H3 -> 50 | Y2: Rate Period Limit | Z2: ='Rate Period Limits'!I3 -> 50 | AC2: Rate Period Limit | AD2: ='Rate Period Limits'!J3 -> 50
D3: New Requesting Utilities | E3: =COUNTIF(B9:B48,D1) -> 0 | I3: Returning Utilities | J3: =COUNTIF(H9:H48,">0") -> 0 | M3: Returning Utilities | N3: =COUNTIF(L9:L48,">0") -> 0 | Q3: Returning Utilities | R3: =COUNTIF(P9:P48,">0") -> 0 | U3: Returning Utilities | V3: =COUNTIF(T9:T48,">0") -> 0 | Y3: Returning Utilities | Z3: =COUNTIF(X9:X48,">0") -> 0 | AC3: Returning Utilities | AD3: =COUNTIF(AB9:AB48,">0") -> 0
D4: Apply 5 aMW | E4: =IF((SUMIF(D9:D48,"<5",D9:D48)+(5*COUNTIF(D9:D48,">=5")))<E2,1,0) -> 0 | I4: Apply 5 aMW | J4: =IF((SUMIF(H9:H48,"<5",H9:H48)+(5*COUNTIF(H9:H48,">=5")))<J2,1,0) -> 1 | M4: Apply 5 aMW | N4: =IF((SUMIF(L9:L48,"<5",L9:L48)+(5*COUNTIF(L9:L48,">=5")))<N2,1,0) -> 1 | Q4: Apply 5 aMW | R4: =IF((SUMIF(P9:P48,"<5",P9:P48)+(5*COUNTIF(P9:P48,">=5")))<R2,1,0) -> 1 | U4: Apply 5 aMW | V4: =IF((SUMIF(T9:T48,"<5",T9:T48)+(5*COUNTIF(T9:T48,">=5")))<V2,1,0) -> 1 | Y4: Apply 5 aMW | Z4: =IF((SUMIF(X9:X48,"<5",X9:X48)+(5*COUNTIF(X9:X48,">=5")))<Z2,1,0) -> 1 | AC4: Apply 5 aMW | AD4: =IF((SUMIF(AB9:AB48,"<5",AB9:AB48)+(5*COUNTIF(AB9:AB48,">=5")))<AD2,1,0) -> 1
D5: 5 aMW Applied | E5: =SUM(E9:E48) -> 0 | I5: 5 aMW Applied | J5: =SUM(I9:I48) -> 0 | M5: 5 aMW Applied | N5: =SUM(M9:M48) -> 0 | Q5: 5 aMW Applied | R5: =SUM(Q9:Q48) -> 0 | U5: 5 aMW Applied | V5: =SUM(U9:U48) -> 0 | Y5: 5 aMW Applied | Z5: =SUM(Y9:Y48) -> 0 | AC5: 5 aMW Applied | AD5: =SUM(AC9:AC48) -> 0
D6: Rate Period Pro Rate | E6: =IF((SUM(D9:D48)-E5)>(E2-E5),(E2-E5)/(SUM(D9:D48)-E5),1) -> 1 | I6: Rate Period Pro Rate | J6: =IF((SUM(H9:H48)-J5)>(J2-J5),(J2-J5)/(SUM(H9:H48)-J5),1) -> 1 | M6: Rate Period Pro Rate | N6: =IF((SUM(L9:L48)-N5)>(N2-N5),(N2-N5)/(SUM(L9:L48)-N5),1) -> 1 | Q6: Rate Period Pro Rate | R6: =IF((SUM(P9:P48)-R5)>(R2-R5),(R2-R5)/(SUM(P9:P48)-R5),1) -> 1 | U6: Rate Period Pro Rate | V6: =IF((SUM(T9:T48)-V5)>(V2-V5),(V2-V5)/(SUM(T9:T48)-V5),1) -> 1 | Y6: Rate Period Pro Rate | Z6: =IF((SUM(X9:X48)-Z5)>(Z2-Z5),(Z2-Z5)/(SUM(X9:X48)-Z5),1) -> 1 | AC6: Rate Period Pro Rate | AD6: =IF((SUM(AB9:AB48)-AD5)>(AD2-AD5),(AD2-AD5)/(SUM(AB9:AB48)-AD5),1) -> 1
A8: Customer Name | B8: First Rate Period | C8: Eligible Amount | D8: New Requests | E8: 5 aMW | F8: Rate Period Pro Rate | G8: Awarded Amounts | H8: Remaining Requests | I8: 5 aMW | J8: Rate Period Pro Rate | K8: Awarded Amounts | L8: Remaining Requests | M8: 5 aMW | N8: Rate Period Pro Rate | O8: Awarded Amounts | P8: Remaining Requests | Q8: 5 aMW | R8: Rate Period Pro Rate | S8: Awarded Amounts | T8: Remaining Requests | U8: 5 aMW | V8: Rate Period Pro Rate | W8: Awarded Amounts | X8: Remaining Requests | Y8: 5 aMW | Z8: Rate Period Pro Rate | AA8: Awarded Amounts | AB8: Remaining Requests | AC8: 5 aMW | AD8: Rate Period Pro Rate | AE8: Awarded Amounts | AF8: Remaining Requests
A9: ='CHWM Adjustments Awarded'!A3 -> Customer A | B9: ='CHWM Adjustments Awarded'!B3 -> Rate Period 1 (BP-29) | C9: ='CHWM Adjustments Awarded'!E3 -> 75 | D9: =IF($B9=D$1,C9,0) -> 0 | E9: =IF(E$4=1,MIN(D9,5),0) -> 0 | F9: =(D9-E9)*E$6 -> 0 | G9: =E9+F9 -> 0 | H9: =D9-G9 -> 0 | I9: =IF(J$4=1,MIN(H9,5),0) -> 0 | J9: =(H9-I9)*J$6 -> 0 | K9: =I9+J9 -> 0 | L9: =H9-K9 -> 0 | M9: =IF(N$4=1,MIN(L9,5),0) -> 0 | N9: =(L9-M9)*N$6 -> 0 | O9: =M9+N9 -> 0 | P9: =L9-O9 -> 0 | Q9: =IF(R$4=1,MIN(P9,5),0) -> 0 | R9: =(P9-Q9)*R$6 -> 0 | S9: =Q9+R9 -> 0 | T9: =P9-S9 -> 0 | U9: =IF(V$4=1,MIN(T9,5),0) -> 0 | V9: =(T9-U9)*V$6 -> 0 | W9: =U9+V9 -> 0 | X9: =T9-W9 -> 0 | Y9: =IF(Z$4=1,MIN(X9,5),0) -> 0 | Z9: =(X9-Y9)*Z$6 -> 0 | AA9: =Y9+Z9 -> 0 | AB9: =X9-AA9 -> 0 | AC9: =IF(AD$4=1,MIN(AB9,5),0) -> 0 | AD9: =(AB9-AC9)*AD$6 -> 0 | AE9: =AC9+AD9 -> 0 | AF9: =AB9-AE9 -> 0
A10: ='CHWM Adjustments Awarded'!A4 -> Customer B | B10: ='CHWM Adjustments Awarded'!B4 -> Rate Period 1 (BP-29) | C10: ='CHWM Adjustments Awarded'!E4 -> 25 | D10: =IF($B10=D$1,C10,0) -> 0 | E10: =IF(E$4=1,MIN(D10,5),0) -> 0 | F10: =(D10-E10)*E$6 -> 0 | G10: =E10+F10 -> 0 | H10: =D10-G10 -> 0 | I10: =IF(J$4=1,MIN(H10,5),0) -> 0 | J10: =(H10-I10)*J$6 -> 0 | K10: =I10+J10 -> 0 | L10: =H10-K10 -> 0 | M10: =IF(N$4=1,MIN(L10,5),0) -> 0 | N10: =(L10-M10)*N$6 -> 0 | O10: =M10+N10 -> 0 | P10: =L10-O10 -> 0 | Q10: =IF(R$4=1,MIN(P10,5),0) -> 0 | R10: =(P10-Q10)*R$6 -> 0 | S10: =Q10+R10 -> 0 | T10: =P10-S10 -> 0 | U10: =IF(V$4=1,MIN(T10,5),0) -> 0 | V10: =(T10-U10)*V$6 -> 0 | W10: =U10+V10 -> 0 | X10: =T10-W10 -> 0 | Y10: =IF(Z$4=1,MIN(X10,5),0) -> 0 | Z10: =(X10-Y10)*Z$6 -> 0 | AA10: =Y10+Z10 -> 0 | AB10: =X10-AA10 -> 0 | AC10: =IF(AD$4=1,MIN(AB10,5),0) -> 0 | AD10: =(AB10-AC10)*AD$6 -> 0 | AE10: =AC10+AD10 -> 0 | AF10: =AB10-AE10 -> 0
A11: ='CHWM Adjustments Awarded'!A5 -> Customer C | B11: ='CHWM Adjustments Awarded'!B5 -> Rate Period 1 (BP-29) | C11: ='CHWM Adjustments Awarded'!E5 -> 5 | D11: =IF($B11=D$1,C11,0) -> 0 | E11: =IF(E$4=1,MIN(D11,5),0) -> 0 | F11: =(D11-E11)*E$6 -> 0 | G11: =E11+F11 -> 0 | H11: =D11-G11 -> 0 | I11: =IF(J$4=1,MIN(H11,5),0) -> 0 | J11: =(H11-I11)*J$6 -> 0 | K11: =I11+J11 -> 0 | L11: =H11-K11 -> 0 | M11: =IF(N$4=1,MIN(L11,5),0) -> 0 | N11: =(L11-M11)*N$6 -> 0 | O11: =M11+N11 -> 0 | P11: =L11-O11 -> 0 | Q11: =IF(R$4=1,MIN(P11,5),0) -> 0 | R11: =(P11-Q11)*R$6 -> 0 | S11: =Q11+R11 -> 0 | T11: =P11-S11 -> 0 | U11: =IF(V$4=1,MIN(T11,5),0) -> 0 | V11: =(T11-U11)*V$6 -> 0 | W11: =U11+V11 -> 0 | X11: =T11-W11 -> 0 | Y11: =IF(Z$4=1,MIN(X11,5),0) -> 0 | Z11: =(X11-Y11)*Z$6 -> 0 | AA11: =Y11+Z11 -> 0 | AB11: =X11-AA11 -> 0 | AC11: =IF(AD$4=1,MIN(AB11,5),0) -> 0 | AD11: =(AB11-AC11)*AD$6 -> 0 | AE11: =AC11+AD11 -> 0 | AF11: =AB11-AE11 -> 0
A12: ='CHWM Adjustments Awarded'!A6 -> Customer D | B12: ='CHWM Adjustments Awarded'!B6 -> Rate Period 3 (BP-33) | C12: ='CHWM Adjustments Awarded'!E6 -> 20 | D12: =IF($B12=D$1,C12,0) -> 0 | E12: =IF(E$4=1,MIN(D12,5),0) -> 0 | F12: =(D12-E12)*E$6 -> 0 | G12: =E12+F12 -> 0 | H12: =D12-G12 -> 0 | I12: =IF(J$4=1,MIN(H12,5),0) -> 0 | J12: =(H12-I12)*J$6 -> 0 | K12: =I12+J12 -> 0 | L12: =H12-K12 -> 0 | M12: =IF(N$4=1,MIN(L12,5),0) -> 0 | N12: =(L12-M12)*N$6 -> 0 | O12: =M12+N12 -> 0 | P12: =L12-O12 -> 0 | Q12: =IF(R$4=1,MIN(P12,5),0) -> 0 | R12: =(P12-Q12)*R$6 -> 0 | S12: =Q12+R12 -> 0 | T12: =P12-S12 -> 0 | U12: =IF(V$4=1,MIN(T12,5),0) -> 0 | V12: =(T12-U12)*V$6 -> 0 | W12: =U12+V12 -> 0 | X12: =T12-W12 -> 0 | Y12: =IF(Z$4=1,MIN(X12,5),0) -> 0 | Z12: =(X12-Y12)*Z$6 -> 0 | AA12: =Y12+Z12 -> 0 | AB12: =X12-AA12 -> 0 | AC12: =IF(AD$4=1,MIN(AB12,5),0) -> 0 | AD12: =(AB12-AC12)*AD$6 -> 0 | AE12: =AC12+AD12 -> 0 | AF12: =AB12-AE12 -> 0
A13: ='CHWM Adjustments Awarded'!A7 -> Customer E | B13: ='CHWM Adjustments Awarded'!B7 -> Rate Period 3 (BP-33) | C13: ='CHWM Adjustments Awarded'!E7 -> 10 | D13: =IF($B13=D$1,C13,0) -> 0 | E13: =IF(E$4=1,MIN(D13,5),0) -> 0 | F13: =(D13-E13)*E$6 -> 0 | G13: =E13+F13 -> 0 | H13: =D13-G13 -> 0 | I13: =IF(J$4=1,MIN(H13,5),0) -> 0 | J13: =(H13-I13)*J$6 -> 0 | K13: =I13+J13 -> 0 | L13: =H13-K13 -> 0 | M13: =IF(N$4=1,MIN(L13,5),0) -> 0 | N13: =(L13-M13)*N$6 -> 0 | O13: =M13+N13 -> 0 | P13: =L13-O13 -> 0 | Q13: =IF(R$4=1,MIN(P13,5),0) -> 0 | R13: =(P13-Q13)*R$6 -> 0 | S13: =Q13+R13 -> 0 | T13: =P13-S13 -> 0 | U13: =IF(V$4=1,MIN(T13,5),0) -> 0 | V13: =(T13-U13)*V$6 -> 0 | W13: =U13+V13 -> 0 | X13: =T13-W13 -> 0 | Y13: =IF(Z$4=1,MIN(X13,5),0) -> 0 | Z13: =(X13-Y13)*Z$6 -> 0 | AA13: =Y13+Z13 -> 0 | AB13: =X13-AA13 -> 0 | AC13: =IF(AD$4=1,MIN(AB13,5),0) -> 0 | AD13: =(AB13-AC13)*AD$6 -> 0 | AE13: =AC13+AD13 -> 0 | AF13: =AB13-AE13 -> 0
A14: ='CHWM Adjustments Awarded'!A8 -> Customer Name 6 | B14: ='CHWM Adjustments Awarded'!B8 -> None | C14: ='CHWM Adjustments Awarded'!E8 -> 0 | D14: =IF($B14=D$1,C14,0) -> 0 | E14: =IF(E$4=1,MIN(D14,5),0) -> 0 | F14: =(D14-E14)*E$6 -> 0 | G14: =E14+F14 -> 0 | H14: =D14-G14 -> 0 | I14: =IF(J$4=1,MIN(H14,5),0) -> 0 | J14: =(H14-I14)*J$6 -> 0 | K14: =I14+J14 -> 0 | L14: =H14-K14 -> 0 | M14: =IF(N$4=1,MIN(L14,5),0) -> 0 | N14: =(L14-M14)*N$6 -> 0 | O14: =M14+N14 -> 0 | P14: =L14-O14 -> 0 | Q14: =IF(R$4=1,MIN(P14,5),0) -> 0 | R14: =(P14-Q14)*R$6 -> 0 | S14: =Q14+R14 -> 0 | T14: =P14-S14 -> 0 | U14: =IF(V$4=1,MIN(T14,5),0) -> 0 | V14: =(T14-U14)*V$6 -> 0 | W14: =U14+V14 -> 0 | X14: =T14-W14 -> 0 | Y14: =IF(Z$4=1,MIN(X14,5),0) -> 0 | Z14: =(X14-Y14)*Z$6 -> 0 | AA14: =Y14+Z14 -> 0 | AB14: =X14-AA14 -> 0 | AC14: =IF(AD$4=1,MIN(AB14,5),0) -> 0 | AD14: =(AB14-AC14)*AD$6 -> 0 | AE14: =AC14+AD14 -> 0 | AF14: =AB14-AE14 -> 0
A15: ='CHWM Adjustments Awarded'!A9 -> Customer Name 7 | B15: ='CHWM Adjustments Awarded'!B9 -> None | C15: ='CHWM Adjustments Awarded'!E9 -> 0 | D15: =IF($B15=D$1,C15,0) -> 0 | E15: =IF(E$4=1,MIN(D15,5),0) -> 0 | F15: =(D15-E15)*E$6 -> 0 | G15: =E15+F15 -> 0 | H15: =D15-G15 -> 0 | I15: =IF(J$4=1,MIN(H15,5),0) -> 0 | J15: =(H15-I15)*J$6 -> 0 | K15: =I15+J15 -> 0 | L15: =H15-K15 -> 0 | M15: =IF(N$4=1,MIN(L15,5),0) -> 0 | N15: =(L15-M15)*N$6 -> 0 | O15: =M15+N15 -> 0 | P15: =L15-O15 -> 0 | Q15: =IF(R$4=1,MIN(P15,5),0) -> 0 | R15: =(P15-Q15)*R$6 -> 0 | S15: =Q15+R15 -> 0 | T15: =P15-S15 -> 0 | U15: =IF(V$4=1,MIN(T15,5),0) -> 0 | V15: =(T15-U15)*V$6 -> 0 | W15: =U15+V15 -> 0 | X15: =T15-W15 -> 0 | Y15: =IF(Z$4=1,MIN(X15,5),0) -> 0 | Z15: =(X15-Y15)*Z$6 -> 0 | AA15: =Y15+Z15 -> 0 | AB15: =X15-AA15 -> 0 | AC15: =IF(AD$4=1,MIN(AB15,5),0) -> 0 | AD15: =(AB15-AC15)*AD$6 -> 0 | AE15: =AC15+AD15 -> 0 | AF15: =AB15-AE15 -> 0
A16: ='CHWM Adjustments Awarded'!A10 -> Customer Name 8 | B16: ='CHWM Adjustments Awarded'!B10 -> None | C16: ='CHWM Adjustments Awarded'!E10 -> 0 | D16: =IF($B16=D$1,C16,0) -> 0 | E16: =IF(E$4=1,MIN(D16,5),0) -> 0 | F16: =(D16-E16)*E$6 -> 0 | G16: =E16+F16 -> 0 | H16: =D16-G16 -> 0 | I16: =IF(J$4=1,MIN(H16,5),0) -> 0 | J16: =(H16-I16)*J$6 -> 0 | K16: =I16+J16 -> 0 | L16: =H16-K16 -> 0 | M16: =IF(N$4=1,MIN(L16,5),0) -> 0 | N16: =(L16-M16)*N$6 -> 0 | O16: =M16+N16 -> 0 | P16: =L16-O16 -> 0 | Q16: =IF(R$4=1,MIN(P16,5),0) -> 0 | R16: =(P16-Q16)*R$6 -> 0 | S16: =Q16+R16 -> 0 | T16: =P16-S16 -> 0 | U16: =IF(V$4=1,MIN(T16,5),0) -> 0 | V16: =(T16-U16)*V$6 -> 0 | W16: =U16+V16 -> 0 | X16: =T16-W16 -> 0 | Y16: =IF(Z$4=1,MIN(X16,5),0) -> 0 | Z16: =(X16-Y16)*Z$6 -> 0 | AA16: =Y16+Z16 -> 0 | AB16: =X16-AA16 -> 0 | AC16: =IF(AD$4=1,MIN(AB16,5),0) -> 0 | AD16: =(AB16-AC16)*AD$6 -> 0 | AE16: =AC16+AD16 -> 0 | AF16: =AB16-AE16 -> 0
A17: ='CHWM Adjustments Awarded'!A11 -> Customer Name 9 | B17: ='CHWM Adjustments Awarded'!B11 -> None | C17: ='CHWM Adjustments Awarded'!E11 -> 0 | D17: =IF($B17=D$1,C17,0) -> 0 | E17: =IF(E$4=1,MIN(D17,5),0) -> 0 | F17: =(D17-E17)*E$6 -> 0 | G17: =E17+F17 -> 0 | H17: =D17-G17 -> 0 | I17: =IF(J$4=1,MIN(H17,5),0) -> 0 | J17: =(H17-I17)*J$6 -> 0 | K17: =I17+J17 -> 0 | L17: =H17-K17 -> 0 | M17: =IF(N$4=1,MIN(L17,5),0) -> 0 | N17: =(L17-M17)*N$6 -> 0 | O17: =M17+N17 -> 0 | P17: =L17-O17 -> 0 | Q17: =IF(R$4=1,MIN(P17,5),0) -> 0 | R17: =(P17-Q17)*R$6 -> 0 | S17: =Q17+R17 -> 0 | T17: =P17-S17 -> 0 | U17: =IF(V$4=1,MIN(T17,5),0) -> 0 | V17: =(T17-U17)*V$6 -> 0 | W17: =U17+V17 -> 0 | X17: =T17-W17 -> 0 | Y17: =IF(Z$4=1,MIN(X17,5),0) -> 0 | Z17: =(X17-Y17)*Z$6 -> 0 | AA17: =Y17+Z17 -> 0 | AB17: =X17-AA17 -> 0 | AC17: =IF(AD$4=1,MIN(AB17,5),0) -> 0 | AD17: =(AB17-AC17)*AD$6 -> 0 | AE17: =AC17+AD17 -> 0 | AF17: =AB17-AE17 -> 0
A18: ='CHWM Adjustments Awarded'!A12 -> Customer Name 10 | B18: ='CHWM Adjustments Awarded'!B12 -> None | C18: ='CHWM Adjustments Awarded'!E12 -> 0 | D18: =IF($B18=D$1,C18,0) -> 0 | E18: =IF(E$4=1,MIN(D18,5),0) -> 0 | F18: =(D18-E18)*E$6 -> 0 | G18: =E18+F18 -> 0 | H18: =D18-G18 -> 0 | I18: =IF(J$4=1,MIN(H18,5),0) -> 0 | J18: =(H18-I18)*J$6 -> 0 | K18: =I18+J18 -> 0 | L18: =H18-K18 -> 0 | M18: =IF(N$4=1,MIN(L18,5),0) -> 0 | N18: =(L18-M18)*N$6 -> 0 | O18: =M18+N18 -> 0 | P18: =L18-O18 -> 0 | Q18: =IF(R$4=1,MIN(P18,5),0) -> 0 | R18: =(P18-Q18)*R$6 -> 0 | S18: =Q18+R18 -> 0 | T18: =P18-S18 -> 0 | U18: =IF(V$4=1,MIN(T18,5),0) -> 0 | V18: =(T18-U18)*V$6 -> 0 | W18: =U18+V18 -> 0 | X18: =T18-W18 -> 0 | Y18: =IF(Z$4=1,MIN(X18,5),0) -> 0 | Z18: =(X18-Y18)*Z$6 -> 0 | AA18: =Y18+Z18 -> 0 | AB18: =X18-AA18 -> 0 | AC18: =IF(AD$4=1,MIN(AB18,5),0) -> 0 | AD18: =(AB18-AC18)*AD$6 -> 0 | AE18: =AC18+AD18 -> 0 | AF18: =AB18-AE18 -> 0
A19: ='CHWM Adjustments Awarded'!A13 -> Customer Name 11 | B19: ='CHWM Adjustments Awarded'!B13 -> None | C19: ='CHWM Adjustments Awarded'!E13 -> 0 | D19: =IF($B19=D$1,C19,0) -> 0 | E19: =IF(E$4=1,MIN(D19,5),0) -> 0 | F19: =(D19-E19)*E$6 -> 0 | G19: =E19+F19 -> 0 | H19: =D19-G19 -> 0 | I19: =IF(J$4=1,MIN(H19,5),0) -> 0 | J19: =(H19-I19)*J$6 -> 0 | K19: =I19+J19 -> 0 | L19: =H19-K19 -> 0 | M19: =IF(N$4=1,MIN(L19,5),0) -> 0 | N19: =(L19-M19)*N$6 -> 0 | O19: =M19+N19 -> 0 | P19: =L19-O19 -> 0 | Q19: =IF(R$4=1,MIN(P19,5),0) -> 0 | R19: =(P19-Q19)*R$6 -> 0 | S19: =Q19+R19 -> 0 | T19: =P19-S19 -> 0 | U19: =IF(V$4=1,MIN(T19,5),0) -> 0 | V19: =(T19-U19)*V$6 -> 0 | W19: =U19+V19 -> 0 | X19: =T19-W19 -> 0 | Y19: =IF(Z$4=1,MIN(X19,5),0) -> 0 | Z19: =(X19-Y19)*Z$6 -> 0 | AA19: =Y19+Z19 -> 0 | AB19: =X19-AA19 -> 0 | AC19: =IF(AD$4=1,MIN(AB19,5),0) -> 0 | AD19: =(AB19-AC19)*AD$6 -> 0 | AE19: =AC19+AD19 -> 0 | AF19: =AB19-AE19 -> 0
A20: ='CHWM Adjustments Awarded'!A14 -> Customer Name 12 | B20: ='CHWM Adjustments Awarded'!B14 -> None | C20: ='CHWM Adjustments Awarded'!E14 -> 0 | D20: =IF($B20=D$1,C20,0) -> 0 | E20: =IF(E$4=1,MIN(D20,5),0) -> 0 | F20: =(D20-E20)*E$6 -> 0 | G20: =E20+F20 -> 0 | H20: =D20-G20 -> 0 | I20: =IF(J$4=1,MIN(H20,5),0) -> 0 | J20: =(H20-I20)*J$6 -> 0 | K20: =I20+J20 -> 0 | L20: =H20-K20 -> 0 | M20: =IF(N$4=1,MIN(L20,5),0) -> 0 | N20: =(L20-M20)*N$6 -> 0 | O20: =M20+N20 -> 0 | P20: =L20-O20 -> 0 | Q20: =IF(R$4=1,MIN(P20,5),0) -> 0 | R20: =(P20-Q20)*R$6 -> 0 | S20: =Q20+R20 -> 0 | T20: =P20-S20 -> 0 | U20: =IF(V$4=1,MIN(T20,5),0) -> 0 | V20: =(T20-U20)*V$6 -> 0 | W20: =U20+V20 -> 0 | X20: =T20-W20 -> 0 | Y20: =IF(Z$4=1,MIN(X20,5),0) -> 0 | Z20: =(X20-Y20)*Z$6 -> 0 | AA20: =Y20+Z20 -> 0 | AB20: =X20-AA20 -> 0 | AC20: =IF(AD$4=1,MIN(AB20,5),0) -> 0 | AD20: =(AB20-AC20)*AD$6 -> 0 | AE20: =AC20+AD20 -> 0 | AF20: =AB20-AE20 -> 0
... A48: ='CHWM Adjustments Awarded'!A42 -> Customer Name 40 | B48: ='CHWM Adjustments Awarded'!B42 -> None | C48: ='CHWM Adjustments Awarded'!E42 -> 0 | D48: =IF($B48=D$1,C48,0) -> 0 | E48: =IF(E$4=1,MIN(D48,5),0) -> 0 | F48: =(D48-E48)*E$6 -> 0 | G48: =E48+F48 -> 0 | H48: =D48-G48 -> 0 | I48: =IF(J$4=1,MIN(H48,5),0) -> 0 | J48: =(H48-I48)*J$6 -> 0 | K48: =I48+J48 -> 0 | L48: =H48-K48 -> 0 | M48: =IF(N$4=1,MIN(L48,5),0) -> 0 | N48: =(L48-M48)*N$6 -> 0 | O48: =M48+N48 -> 0 | P48: =L48-O48 -> 0 | Q48: =IF(R$4=1,MIN(P48,5),0) -> 0 | R48: =(P48-Q48)*R$6 -> 0 | S48: =Q48+R48 -> 0 | T48: =P48-S48 -> 0 | U48: =IF(V$4=1,MIN(T48,5),0) -> 0 | V48: =(T48-U48)*V$6 -> 0 | W48: =U48+V48 -> 0 | X48: =T48-W48 -> 0 | Y48: =IF(Z$4=1,MIN(X48,5),0) -> 0 | Z48: =(X48-Y48)*Z$6 -> 0 | AA48: =Y48+Z48 -> 0 | AB48: =X48-AA48 -> 0 | AC48: =IF(AD$4=1,MIN(AB48,5),0) -> 0 | AD48: =(AB48-AC48)*AD$6 -> 0 | AE48: =AC48+AD48 -> 0 | AF48: =AB48-AE48 -> 0

Sheet Third Rate Period
D1: Rate Period 3 (BP-33) | I1: Rate Period 4 (BP-35) | M1: Rate Period 5 (BP-37) | Q1: Rate Period 6 (BP-39) | U1: Rate Period 7 (BP-41) | Y1: Rate Period 8 (BP-43)
D2: Rate Period Limit | E2: ='Rate Period Limits'!E5 -> 45 | I2: Rate Period Limit | J2: ='Rate Period Limits'!F5 -> 50 | M2: Rate Period Limit | N2: ='Rate Period Limits'!G5 -> 50 | Q2: Rate Period Limit | R2: ='Rate Period Limits'!H5 -> 50 | U2: Rate Period Limit | V2: ='Rate Period Limits'!I5 -> 50 | Y2: Rate Period Limit | Z2: ='Rate Period Limits'!J5 -> 50
D3: New Requesting Utilities | E3: =COUNTIF(B9:B48,D1) -> 2 | I3: Returning Utilities | J3: =COUNTIF(H9:H48,">0") -> 0 | M3: Returning Utilities | N3: =COUNTIF(L9:L48,">0") -> 0 | Q3: Returning Utilities | R3: =COUNTIF(P9:P48,">0") -> 0 | U3: Returning Utilities | V3: =COUNTIF(T9:T48,">0") -> 0 | Y3: Returning Utilities | Z3: =COUNTIF(X9:X48,">0") -> 0
D4: Apply 5 aMW | E4: =IF((SUMIF(D9:D48,"<5",D9:D48)+(5*COUNTIF(D9:D48,">=5")))<E2,1,0) -> 1 | I4: Apply 5 aMW | J4: =IF((SUMIF(H9:H48,"<5",H9:H48)+(5*COUNTIF(H9:H48,">=5")))<J2,1,0) -> 1 | M4: Apply 5 aMW | N4: =IF((SUMIF(L9:L48,"<5",L9:L48)+(5*COUNTIF(L9:L48,">=5")))<N2,1,0) -> 1 | Q4: Apply 5 aMW | R4: =IF((SUMIF(P9:P48,"<5",P9:P48)+(5*COUNTIF(P9:P48,">=5")))<R2,1,0) -> 1 | U4: Apply 5 aMW | V4: =IF((SUMIF(T9:T48,"<5",T9:T48)+(5*COUNTIF(T9:T48,">=5")))<V2,1,0) -> 1 | Y4: Apply 5 aMW | Z4: =IF((SUMIF(X9:X48,"<5",X9:X48)+(5*COUNTIF(X9:X48,">=5")))<Z2,1,0) -> 1
D5: 5 aMW Applied | E5: =SUM(E9:E48) -> 10 | I5: 5 aMW Applied | J5: =SUM(I9:I48) -> 0 | M5: 5 aMW Applied | N5: =SUM(M9:M48) -> 0 | Q5: 5 aMW Applied | R5: =SUM(Q9:Q48) -> 0 | U5: 5 aMW Applied | V5: =SUM(U9:U48) -> 0 | Y5: 5 aMW Applied | Z5: =SUM(Y9:Y48) -> 0
D6: Rate Period Pro Rate | E6: =IF((SUM(D9:D48)-E5)>(E2-E5),(E2-E5)/(SUM(D9:D48)-E5),1) -> 1 | I6: Rate Period Pro Rate | J6: =IF((SUM(H9:H48)-J5)>(J2-J5),(J2-J5)/(SUM(H9:H48)-J5),1) -> 1 | M6: Rate Period Pro Rate | N6: =IF((SUM(L9:L48)-N5)>(N2-N5),(N2-N5)/(SUM(L9:L48)-N5),1) -> 1 | Q6: Rate Period Pro Rate | R6: =IF((SUM(P9:P48)-R5)>(R2-R5),(R2-R5)/(SUM(P9:P48)-R5),1) -> 1 | U6: Rate Period Pro Rate | V6: =IF((SUM(T9:T48)-V5)>(V2-V5),(V2-V5)/(SUM(T9:T48)-V5),1) -> 1 | Y6: Rate Period Pro Rate | Z6: =IF((SUM(X9:X48)-Z5)>(Z2-Z5),(Z2-Z5)/(SUM(X9:X48)-Z5),1) -> 1
A8: Customer Name | B8: First Rate Period | C8: Eligible Amount | D8: New Requests | E8: 5 aMW | F8: Rate Period Pro Rate | G8: Awarded Amounts | H8: Remaining Requests | I8: 5 aMW | J8: Rate Period Pro Rate | K8: Awarded Amounts | L8: Remaining Requests | M8: 5 aMW | N8: Rate Period Pro Rate | O8: Awarded Amounts | P8: Remaining Requests | Q8: 5 aMW | R8: Rate Period Pro Rate | S8: Awarded Amounts | T8: Remaining Requests | U8: 5 aMW | V8: Rate Period Pro Rate | W8: Awarded Amounts | X8: Remaining Requests | Y8: 5 aMW | Z8: Rate Period Pro Rate | AA8: Awarded Amounts | AB8: Remaining Requests
A9: ='CHWM Adjustments Awarded'!A3 -> Customer A | B9: ='CHWM Adjustments Awarded'!B3 -> Rate Period 1 (BP-29) | C9: ='CHWM Adjustments Awarded'!E3 -> 75 | D9: =IF($B9=D$1,C9,0) -> 0 | E9: =IF(E$4=1,MIN(D9,5),0) -> 0 | F9: =(D9-E9)*E$6 -> 0 | G9: =E9+F9 -> 0 | H9: =D9-G9 -> 0 | I9: =IF(J$4=1,MIN(H9,5),0) -> 0 | J9: =(H9-I9)*J$6 -> 0 | K9: =I9+J9 -> 0 | L9: =H9-K9 -> 0 | M9: =IF(N$4=1,MIN(L9,5),0) -> 0 | N9: =(L9-M9)*N$6 -> 0 | O9: =M9+N9 -> 0 | P9: =L9-O9 -> 0 | Q9: =IF(R$4=1,MIN(P9,5),0) -> 0 | R9: =(P9-Q9)*R$6 -> 0 | S9: =Q9+R9 -> 0 | T9: =P9-S9 -> 0 | U9: =IF(V$4=1,MIN(T9,5),0) -> 0 | V9: =(T9-U9)*V$6 -> 0 | W9: =U9+V9 -> 0 | X9: =T9-W9 -> 0 | Y9: =IF(Z$4=1,MIN(X9,5),0) -> 0 | Z9: =(X9-Y9)*Z$6 -> 0 | AA9: =Y9+Z9 -> 0 | AB9: =X9-AA9 -> 0
A10: ='CHWM Adjustments Awarded'!A4 -> Customer B | B10: ='CHWM Adjustments Awarded'!B4 -> Rate Period 1 (BP-29) | C10: ='CHWM Adjustments Awarded'!E4 -> 25 | D10: =IF($B10=D$1,C10,0) -> 0 | E10: =IF(E$4=1,MIN(D10,5),0) -> 0 | F10: =(D10-E10)*E$6 -> 0 | G10: =E10+F10 -> 0 | H10: =D10-G10 -> 0 | I10: =IF(J$4=1,MIN(H10,5),0) -> 0 | J10: =(H10-I10)*J$6 -> 0 | K10: =I10+J10 -> 0 | L10: =H10-K10 -> 0 | M10: =IF(N$4=1,MIN(L10,5),0) -> 0 | N10: =(L10-M10)*N$6 -> 0 | O10: =M10+N10 -> 0 | P10: =L10-O10 -> 0 | Q10: =IF(R$4=1,MIN(P10,5),0) -> 0 | R10: =(P10-Q10)*R$6 -> 0 | S10: =Q10+R10 -> 0 | T10: =P10-S10 -> 0 | U10: =IF(V$4=1,MIN(T10,5),0) -> 0 | V10: =(T10-U10)*V$6 -> 0 | W10: =U10+V10 -> 0 | X10: =T10-W10 -> 0 | Y10: =IF(Z$4=1,MIN(X10,5),0) -> 0 | Z10: =(X10-Y10)*Z$6 -> 0 | AA10: =Y10+Z10 -> 0 | AB10: =X10-AA10 -> 0
A11: ='CHWM Adjustments Awarded'!A5 -> Customer C | B11: ='CHWM Adjustments Awarded'!B5 -> Rate Period 1 (BP-29) | C11: ='CHWM Adjustments Awarded'!E5 -> 5 | D11: =IF($B11=D$1,C11,0) -> 0 | E11: =IF(E$4=1,MIN(D11,5),0) -> 0 | F11: =(D11-E11)*E$6 -> 0 | G11: =E11+F11 -> 0 | H11: =D11-G11 -> 0 | I11: =IF(J$4=1,MIN(H11,5),0) -> 0 | J11: =(H11-I11)*J$6 -> 0 | K11: =I11+J11 -> 0 | L11: =H11-K11 -> 0 | M11: =IF(N$4=1,MIN(L11,5),0) -> 0 | N11: =(L11-M11)*N$6 -> 0 | O11: =M11+N11 -> 0 | P11: =L11-O11 -> 0 | Q11: =IF(R$4=1,MIN(P11,5),0) -> 0 | R11: =(P11-Q11)*R$6 -> 0 | S11: =Q11+R11 -> 0 | T11: =P11-S11 -> 0 | U11: =IF(V$4=1,MIN(T11,5),0) -> 0 | V11: =(T11-U11)*V$6 -> 0 | W11: =U11+V11 -> 0 | X11: =T11-W11 -> 0 | Y11: =IF(Z$4=1,MIN(X11,5),0) -> 0 | Z11: =(X11-Y11)*Z$6 -> 0 | AA11: =Y11+Z11 -> 0 | AB11: =X11-AA11 -> 0
A12: ='CHWM Adjustments Awarded'!A6 -> Customer D | B12: ='CHWM Adjustments Awarded'!B6 -> Rate Period 3 (BP-33) | C12: ='CHWM Adjustments Awarded'!E6 -> 20 | D12: =IF($B12=D$1,C12,0) -> 20 | E12: =IF(E$4=1,MIN(D12,5),0) -> 5 | F12: =(D12-E12)*E$6 -> 15 | G12: =E12+F12 -> 20 | H12: =D12-G12 -> 0 | I12: =IF(J$4=1,MIN(H12,5),0) -> 0 | J12: =(H12-I12)*J$6 -> 0 | K12: =I12+J12 -> 0 | L12: =H12-K12 -> 0 | M12: =IF(N$4=1,MIN(L12,5),0) -> 0 | N12: =(L12-M12)*N$6 -> 0 | O12: =M12+N12 -> 0 | P12: =L12-O12 -> 0 | Q12: =IF(R$4=1,MIN(P12,5),0) -> 0 | R12: =(P12-Q12)*R$6 -> 0 | S12: =Q12+R12 -> 0 | T12: =P12-S12 -> 0 | U12: =IF(V$4=1,MIN(T12,5),0) -> 0 | V12: =(T12-U12)*V$6 -> 0 | W12: =U12+V12 -> 0 | X12: =T12-W12 -> 0 | Y12: =IF(Z$4=1,MIN(X12,5),0) -> 0 | Z12: =(X12-Y12)*Z$6 -> 0 | AA12: =Y12+Z12 -> 0 | AB12: =X12-AA12 -> 0
A13: ='CHWM Adjustments Awarded'!A7 -> Customer E | B13: ='CHWM Adjustments Awarded'!B7 -> Rate Period 3 (BP-33) | C13: ='CHWM Adjustments Awarded'!E7 -> 10 | D13: =IF($B13=D$1,C13,0) -> 10 | E13: =IF(E$4=1,MIN(D13,5),0) -> 5 | F13: =(D13-E13)*E$6 -> 5 | G13: =E13+F13 -> 10 | H13: =D13-G13 -> 0 | I13: =IF(J$4=1,MIN(H13,5),0) -> 0 | J13: =(H13-I13)*J$6 -> 0 | K13: =I13+J13 -> 0 | L13: =H13-K13 -> 0 | M13: =IF(N$4=1,MIN(L13,5),0) -> 0 | N13: =(L13-M13)*N$6 -> 0 | O13: =M13+N13 -> 0 | P13: =L13-O13 -> 0 | Q13: =IF(R$4=1,MIN(P13,5),0) -> 0 | R13: =(P13-Q13)*R$6 -> 0 | S13: =Q13+R13 -> 0 | T13: =P13-S13 -> 0 | U13: =IF(V$4=1,MIN(T13,5),0) -> 0 | V13: =(T13-U13)*V$6 -> 0 | W13: =U13+V13 -> 0 | X13: =T13-W13 -> 0 | Y13: =IF(Z$4=1,MIN(X13,5),0) -> 0 | Z13: =(X13-Y13)*Z$6 -> 0 | AA13: =Y13+Z13 -> 0 | AB13: =X13-AA13 -> 0
A14: ='CHWM Adjustments Awarded'!A8 -> Customer Name 6 | B14: ='CHWM Adjustments Awarded'!B8 -> None | C14: ='CHWM Adjustments Awarded'!E8 -> 0 | D14: =IF($B14=D$1,C14,0) -> 0 | E14: =IF(E$4=1,MIN(D14,5),0) -> 0 | F14: =(D14-E14)*E$6 -> 0 | G14: =E14+F14 -> 0 | H14: =D14-G14 -> 0 | I14: =IF(J$4=1,MIN(H14,5),0) -> 0 | J14: =(H14-I14)*J$6 -> 0 | K14: =I14+J14 -> 0 | L14: =H14-K14 -> 0 | M14: =IF(N$4=1,MIN(L14,5),0) -> 0 | N14: =(L14-M14)*N$6 -> 0 | O14: =M14+N14 -> 0 | P14: =L14-O14 -> 0 | Q14: =IF(R$4=1,MIN(P14,5),0) -> 0 | R14: =(P14-Q14)*R$6 -> 0 | S14: =Q14+R14 -> 0 | T14: =P14-S14 -> 0 | U14: =IF(V$4=1,MIN(T14,5),0) -> 0 | V14: =(T14-U14)*V$6 -> 0 | W14: =U14+V14 -> 0 | X14: =T14-W14 -> 0 | Y14: =IF(Z$4=1,MIN(X14,5),0) -> 0 | Z14: =(X14-Y14)*Z$6 -> 0 | AA14: =Y14+Z14 -> 0 | AB14: =X14-AA14 -> 0
A15: ='CHWM Adjustments Awarded'!A9 -> Customer Name 7 | B15: ='CHWM Adjustments Awarded'!B9 -> None | C15: ='CHWM Adjustments Awarded'!E9 -> 0 | D15: =IF($B15=D$1,C15,0) -> 0 | E15: =IF(E$4=1,MIN(D15,5),0) -> 0 | F15: =(D15-E15)*E$6 -> 0 | G15: =E15+F15 -> 0 | H15: =D15-G15 -> 0 | I15: =IF(J$4=1,MIN(H15,5),0) -> 0 | J15: =(H15-I15)*J$6 -> 0 | K15: =I15+J15 -> 0 | L15: =H15-K15 -> 0 | M15: =IF(N$4=1,MIN(L15,5),0) -> 0 | N15: =(L15-M15)*N$6 -> 0 | O15: =M15+N15 -> 0 | P15: =L15-O15 -> 0 | Q15: =IF(R$4=1,MIN(P15,5),0) -> 0 | R15: =(P15-Q15)*R$6 -> 0 | S15: =Q15+R15 -> 0 | T15: =P15-S15 -> 0 | U15: =IF(V$4=1,MIN(T15,5),0) -> 0 | V15: =(T15-U15)*V$6 -> 0 | W15: =U15+V15 -> 0 | X15: =T15-W15 -> 0 | Y15: =IF(Z$4=1,MIN(X15,5),0) -> 0 | Z15: =(X15-Y15)*Z$6 -> 0 | AA15: =Y15+Z15 -> 0 | AB15: =X15-AA15 -> 0
A16: ='CHWM Adjustments Awarded'!A10 -> Customer Name 8 | B16: ='CHWM Adjustments Awarded'!B10 -> None | C16: ='CHWM Adjustments Awarded'!E10 -> 0 | D16: =IF($B16=D$1,C16,0) -> 0 | E16: =IF(E$4=1,MIN(D16,5),0) -> 0 | F16: =(D16-E16)*E$6 -> 0 | G16: =E16+F16 -> 0 | H16: =D16-G16 -> 0 | I16: =IF(J$4=1,MIN(H16,5),0) -> 0 | J16: =(H16-I16)*J$6 -> 0 | K16: =I16+J16 -> 0 | L16: =H16-K16 -> 0 | M16: =IF(N$4=1,MIN(L16,5),0) -> 0 | N16: =(L16-M16)*N$6 -> 0 | O16: =M16+N16 -> 0 | P16: =L16-O16 -> 0 | Q16: =IF(R$4=1,MIN(P16,5),0) -> 0 | R16: =(P16-Q16)*R$6 -> 0 | S16: =Q16+R16 -> 0 | T16: =P16-S16 -> 0 | U16: =IF(V$4=1,MIN(T16,5),0) -> 0 | V16: =(T16-U16)*V$6 -> 0 | W16: =U16+V16 -> 0 | X16: =T16-W16 -> 0 | Y16: =IF(Z$4=1,MIN(X16,5),0) -> 0 | Z16: =(X16-Y16)*Z$6 -> 0 | AA16: =Y16+Z16 -> 0 | AB16: =X16-AA16 -> 0
A17: ='CHWM Adjustments Awarded'!A11 -> Customer Name 9 | B17: ='CHWM Adjustments Awarded'!B11 -> None | C17: ='CHWM Adjustments Awarded'!E11 -> 0 | D17: =IF($B17=D$1,C17,0) -> 0 | E17: =IF(E$4=1,MIN(D17,5),0) -> 0 | F17: =(D17-E17)*E$6 -> 0 | G17: =E17+F17 -> 0 | H17: =D17-G17 -> 0 | I17: =IF(J$4=1,MIN(H17,5),0) -> 0 | J17: =(H17-I17)*J$6 -> 0 | K17: =I17+J17 -> 0 | L17: =H17-K17 -> 0 | M17: =IF(N$4=1,MIN(L17,5),0) -> 0 | N17: =(L17-M17)*N$6 -> 0 | O17: =M17+N17 -> 0 | P17: =L17-O17 -> 0 | Q17: =IF(R$4=1,MIN(P17,5),0) -> 0 | R17: =(P17-Q17)*R$6 -> 0 | S17: =Q17+R17 -> 0 | T17: =P17-S17 -> 0 | U17: =IF(V$4=1,MIN(T17,5),0) -> 0 | V17: =(T17-U17)*V$6 -> 0 | W17: =U17+V17 -> 0 | X17: =T17-W17 -> 0 | Y17: =IF(Z$4=1,MIN(X17,5),0) -> 0 | Z17: =(X17-Y17)*Z$6 -> 0 | AA17: =Y17+Z17 -> 0 | AB17: =X17-AA17 -> 0
A18: ='CHWM Adjustments Awarded'!A12 -> Customer Name 10 | B18: ='CHWM Adjustments Awarded'!B12 -> None | C18: ='CHWM Adjustments Awarded'!E12 -> 0 | D18: =IF($B18=D$1,C18,0) -> 0 | E18: =IF(E$4=1,MIN(D18,5),0) -> 0 | F18: =(D18-E18)*E$6 -> 0 | G18: =E18+F18 -> 0 | H18: =D18-G18 -> 0 | I18: =IF(J$4=1,MIN(H18,5),0) -> 0 | J18: =(H18-I18)*J$6 -> 0 | K18: =I18+J18 -> 0 | L18: =H18-K18 -> 0 | M18: =IF(N$4=1,MIN(L18,5),0) -> 0 | N18: =(L18-M18)*N$6 -> 0 | O18: =M18+N18 -> 0 | P18: =L18-O18 -> 0 | Q18: =IF(R$4=1,MIN(P18,5),0) -> 0 | R18: =(P18-Q18)*R$6 -> 0 | S18: =Q18+R18 -> 0 | T18: =P18-S18 -> 0 | U18: =IF(V$4=1,MIN(T18,5),0) -> 0 | V18: =(T18-U18)*V$6 -> 0 | W18: =U18+V18 -> 0 | X18: =T18-W18 -> 0 | Y18: =IF(Z$4=1,MIN(X18,5),0) -> 0 | Z18: =(X18-Y18)*Z$6 -> 0 | AA18: =Y18+Z18 -> 0 | AB18: =X18-AA18 -> 0
A19: ='CHWM Adjustments Awarded'!A13 -> Customer Name 11 | B19: ='CHWM Adjustments Awarded'!B13 -> None | C19: ='CHWM Adjustments Awarded'!E13 -> 0 | D19: =IF($B19=D$1,C19,0) -> 0 | E19: =IF(E$4=1,MIN(D19,5),0) -> 0 | F19: =(D19-E19)*E$6 -> 0 | G19: =E19+F19 -> 0 | H19: =D19-G19 -> 0 | I19: =IF(J$4=1,MIN(H19,5),0) -> 0 | J19: =(H19-I19)*J$6 -> 0 | K19: =I19+J19 -> 0 | L19: =H19-K19 -> 0 | M19: =IF(N$4=1,MIN(L19,5),0) -> 0 | N19: =(L19-M19)*N$6 -> 0 | O19: =M19+N19 -> 0 | P19: =L19-O19 -> 0 | Q19: =IF(R$4=1,MIN(P19,5),0) -> 0 | R19: =(P19-Q19)*R$6 -> 0 | S19: =Q19+R19 -> 0 | T19: =P19-S19 -> 0 | U19: =IF(V$4=1,MIN(T19,5),0) -> 0 | V19: =(T19-U19)*V$6 -> 0 | W19: =U19+V19 -> 0 | X19: =T19-W19 -> 0 | Y19: =IF(Z$4=1,MIN(X19,5),0) -> 0 | Z19: =(X19-Y19)*Z$6 -> 0 | AA19: =Y19+Z19 -> 0 | AB19: =X19-AA19 -> 0
A20: ='CHWM Adjustments Awarded'!A14 -> Customer Name 12 | B20: ='CHWM Adjustments Awarded'!B14 -> None | C20: ='CHWM Adjustments Awarded'!E14 -> 0 | D20: =IF($B20=D$1,C20,0) -> 0 | E20: =IF(E$4=1,MIN(D20,5),0) -> 0 | F20: =(D20-E20)*E$6 -> 0 | G20: =E20+F20 -> 0 | H20: =D20-G20 -> 0 | I20: =IF(J$4=1,MIN(H20,5),0) -> 0 | J20: =(H20-I20)*J$6 -> 0 | K20: =I20+J20 -> 0 | L20: =H20-K20 -> 0 | M20: =IF(N$4=1,MIN(L20,5),0) -> 0 | N20: =(L20-M20)*N$6 -> 0 | O20: =M20+N20 -> 0 | P20: =L20-O20 -> 0 | Q20: =IF(R$4=1,MIN(P20,5),0) -> 0 | R20: =(P20-Q20)*R$6 -> 0 | S20: =Q20+R20 -> 0 | T20: =P20-S20 -> 0 | U20: =IF(V$4=1,MIN(T20,5),0) -> 0 | V20: =(T20-U20)*V$6 -> 0 | W20: =U20+V20 -> 0 | X20: =T20-W20 -> 0 | Y20: =IF(Z$4=1,MIN(X20,5),0) -> 0 | Z20: =(X20-Y20)*Z$6 -> 0 | AA20: =Y20+Z20 -> 0 | AB20: =X20-AA20 -> 0
... A48: ='CHWM Adjustments Awarded'!A42 -> Customer Name 40 | B48: ='CHWM Adjustments Awarded'!B42 -> None | C48: ='CHWM Adjustments Awarded'!E42 -> 0 | D48: =IF($B48=D$1,C48,0) -> 0 | E48: =IF(E$4=1,MIN(D48,5),0) -> 0 | F48: =(D48-E48)*E$6 -> 0 | G48: =E48+F48 -> 0 | H48: =D48-G48 -> 0 | I48: =IF(J$4=1,MIN(H48,5),0) -> 0 | J48: =(H48-I48)*J$6 -> 0 | K48: =I48+J48 -> 0 | L48: =H48-K48 -> 0 | M48: =IF(N$4=1,MIN(L48,5),0) -> 0 | N48: =(L48-M48)*N$6 -> 0 | O48: =M48+N48 -> 0 | P48: =L48-O48 -> 0 | Q48: =IF(R$4=1,MIN(P48,5),0) -> 0 | R48: =(P48-Q48)*R$6 -> 0 | S48: =Q48+R48 -> 0 | T48: =P48-S48 -> 0 | U48: =IF(V$4=1,MIN(T48,5),0) -> 0 | V48: =(T48-U48)*V$6 -> 0 | W48: =U48+V48 -> 0 | X48: =T48-W48 -> 0 | Y48: =IF(Z$4=1,MIN(X48,5),0) -> 0 | Z48: =(X48-Y48)*Z$6 -> 0 | AA48: =Y48+Z48 -> 0 | AB48: =X48-AA48 -> 0

Sheet Fourth Rate Period
D1: Rate Period 4 (BP-35) | I1: Rate Period 5 (BP-37) | M1: Rate Period 6 (BP-39) | Q1: Rate Period 7 (BP-41) | U1: Rate Period 8 (BP-43)
D2: Rate Period Limit | E2: ='Rate Period Limits'!F7 -> 50 | I2: Rate Period Limit | J2: ='Rate Period Limits'!G7 -> 50 | M2: Rate Period Limit | N2: ='Rate Period Limits'!H7 -> 50 | Q2: Rate Period Limit | R2: ='Rate Period Limits'!I7 -> 50 | U2: Rate Period Limit | V2: ='Rate Period Limits'!J7 -> 50
D3: New Requesting Utilities | E3: =COUNTIF(B9:B48,D1) -> 0 | I3: Returning Utilities | J3: =COUNTIF(H9:H48,">0") -> 0 | M3: Returning Utilities | N3: =COUNTIF(L9:L48,">0") -> 0 | Q3: Returning Utilities | R3: =COUNTIF(P9:P48,">0") -> 0 | U3: Returning Utilities | V3: =COUNTIF(T9:T48,">0") -> 0
D4: Apply 5 aMW | E4: =IF((SUMIF(D9:D48,"<5",D9:D48)+(5*COUNTIF(D9:D48,">=5")))<E2,1,0) -> 1 | I4: Apply 5 aMW | J4: =IF((SUMIF(H9:H48,"<5",H9:H48)+(5*COUNTIF(H9:H48,">=5")))<J2,1,0) -> 1 | M4: Apply 5 aMW | N4: =IF((SUMIF(L9:L48,"<5",L9:L48)+(5*COUNTIF(L9:L48,">=5")))<N2,1,0) -> 1 | Q4: Apply 5 aMW | R4: =IF((SUMIF(P9:P48,"<5",P9:P48)+(5*COUNTIF(P9:P48,">=5")))<R2,1,0) -> 1 | U4: Apply 5 aMW | V4: =IF((SUMIF(T9:T48,"<5",T9:T48)+(5*COUNTIF(T9:T48,">=5")))<V2,1,0) -> 1
D5: 5 aMW Applied | E5: =SUM(E9:E48) -> 0 | I5: 5 aMW Applied | J5: =SUM(I9:I48) -> 0 | M5: 5 aMW Applied | N5: =SUM(M9:M48) -> 0 | Q5: 5 aMW Applied | R5: =SUM(Q9:Q48) -> 0 | U5: 5 aMW Applied | V5: =SUM(U9:U48) -> 0
D6: Rate Period Pro Rate | E6: =IF((SUM(D9:D48)-E5)>(E2-E5),(E2-E5)/(SUM(D9:D48)-E5),1) -> 1 | I6: Rate Period Pro Rate | J6: =IF((SUM(H9:H48)-J5)>(J2-J5),(J2-J5)/(SUM(H9:H48)-J5),1) -> 1 | M6: Rate Period Pro Rate | N6: =IF((SUM(L9:L48)-N5)>(N2-N5),(N2-N5)/(SUM(L9:L48)-N5),1) -> 1 | Q6: Rate Period Pro Rate | R6: =IF((SUM(P9:P48)-R5)>(R2-R5),(R2-R5)/(SUM(P9:P48)-R5),1) -> 1 | U6: Rate Period Pro Rate | V6: =IF((SUM(T9:T48)-V5)>(V2-V5),(V2-V5)/(SUM(T9:T48)-V5),1) -> 1
A8: Customer Name | B8: First Rate Period | C8: Eligible Amount | D8: New Requests | E8: 5 aMW | F8: Rate Period Pro Rate | G8: Awarded Amounts | H8: Remaining Requests | I8: 5 aMW | J8: Rate Period Pro Rate | K8: Awarded Amounts | L8: Remaining Requests | M8: 5 aMW | N8: Rate Period Pro Rate | O8: Awarded Amounts | P8: Remaining Requests | Q8: 5 aMW | R8: Rate Period Pro Rate | S8: Awarded Amounts | T8: Remaining Requests | U8: 5 aMW | V8: Rate Period Pro Rate | W8: Awarded Amounts | X8: Remaining Requests
A9: ='CHWM Adjustments Awarded'!A3 -> Customer A | B9: ='CHWM Adjustments Awarded'!B3 -> Rate Period 1 (BP-29) | C9: ='CHWM Adjustments Awarded'!E3 -> 75 | D9: =IF($B9=D$1,C9,0) -> 0 | E9: =IF(E$4=1,MIN(D9,5),0) -> 0 | F9: =(D9-E9)*E$6 -> 0 | G9: =E9+F9 -> 0 | H9: =D9-G9 -> 0 | I9: =IF(J$4=1,MIN(H9,5),0) -> 0 | J9: =(H9-I9)*J$6 -> 0 | K9: =I9+J9 -> 0 | L9: =H9-K9 -> 0 | M9: =IF(N$4=1,MIN(L9,5),0) -> 0 | N9: =(L9-M9)*N$6 -> 0 | O9: =M9+N9 -> 0 | P9: =L9-O9 -> 0 | Q9: =IF(R$4=1,MIN(P9,5),0) -> 0 | R9: =(P9-Q9)*R$6 -> 0 | S9: =Q9+R9 -> 0 | T9: =P9-S9 -> 0 | U9: =IF(V$4=1,MIN(T9,5),0) -> 0 | V9: =(T9-U9)*V$6 -> 0 | W9: =U9+V9 -> 0 | X9: =T9-W9 -> 0
A10: ='CHWM Adjustments Awarded'!A4 -> Customer B | B10: ='CHWM Adjustments Awarded'!B4 -> Rate Period 1 (BP-29) | C10: ='CHWM Adjustments Awarded'!E4 -> 25 | D10: =IF($B10=D$1,C10,0) -> 0 | E10: =IF(E$4=1,MIN(D10,5),0) -> 0 | F10: =(D10-E10)*E$6 -> 0 | G10: =E10+F10 -> 0 | H10: =D10-G10 -> 0 | I10: =IF(J$4=1,MIN(H10,5),0) -> 0 | J10: =(H10-I10)*J$6 -> 0 | K10: =I10+J10 -> 0 | L10: =H10-K10 -> 0 | M10: =IF(N$4=1,MIN(L10,5),0) -> 0 | N10: =(L10-M10)*N$6 -> 0 | O10: =M10+N10 -> 0 | P10: =L10-O10 -> 0 | Q10: =IF(R$4=1,MIN(P10,5),0) -> 0 | R10: =(P10-Q10)*R$6 -> 0 | S10: =Q10+R10 -> 0 | T10: =P10-S10 -> 0 | U10: =IF(V$4=1,MIN(T10,5),0) -> 0 | V10: =(T10-U10)*V$6 -> 0 | W10: =U10+V10 -> 0 | X10: =T10-W10 -> 0
A11: ='CHWM Adjustments Awarded'!A5 -> Customer C | B11: ='CHWM Adjustments Awarded'!B5 -> Rate Period 1 (BP-29) | C11: ='CHWM Adjustments Awarded'!E5 -> 5 | D11: =IF($B11=D$1,C11,0) -> 0 | E11: =IF(E$4=1,MIN(D11,5),0) -> 0 | F11: =(D11-E11)*E$6 -> 0 | G11: =E11+F11 -> 0 | H11: =D11-G11 -> 0 | I11: =IF(J$4=1,MIN(H11,5),0) -> 0 | J11: =(H11-I11)*J$6 -> 0 | K11: =I11+J11 -> 0 | L11: =H11-K11 -> 0 | M11: =IF(N$4=1,MIN(L11,5),0) -> 0 | N11: =(L11-M11)*N$6 -> 0 | O11: =M11+N11 -> 0 | P11: =L11-O11 -> 0 | Q11: =IF(R$4=1,MIN(P11,5),0) -> 0 | R11: =(P11-Q11)*R$6 -> 0 | S11: =Q11+R11 -> 0 | T11: =P11-S11 -> 0 | U11: =IF(V$4=1,MIN(T11,5),0) -> 0 | V11: =(T11-U11)*V$6 -> 0 | W11: =U11+V11 -> 0 | X11: =T11-W11 -> 0
A12: ='CHWM Adjustments Awarded'!A6 -> Customer D | B12: ='CHWM Adjustments Awarded'!B6 -> Rate Period 3 (BP-33) | C12: ='CHWM Adjustments Awarded'!E6 -> 20 | D12: =IF($B12=D$1,C12,0) -> 0 | E12: =IF(E$4=1,MIN(D12,5),0) -> 0 | F12: =(D12-E12)*E$6 -> 0 | G12: =E12+F12 -> 0 | H12: =D12-G12 -> 0 | I12: =IF(J$4=1,MIN(H12,5),0) -> 0 | J12: =(H12-I12)*J$6 -> 0 | K12: =I12+J12 -> 0 | L12: =H12-K12 -> 0 | M12: =IF(N$4=1,MIN(L12,5),0) -> 0 | N12: =(L12-M12)*N$6 -> 0 | O12: =M12+N12 -> 0 | P12: =L12-O12 -> 0 | Q12: =IF(R$4=1,MIN(P12,5),0) -> 0 | R12: =(P12-Q12)*R$6 -> 0 | S12: =Q12+R12 -> 0 | T12: =P12-S12 -> 0 | U12: =IF(V$4=1,MIN(T12,5),0) -> 0 | V12: =(T12-U12)*V$6 -> 0 | W12: =U12+V12 -> 0 | X12: =T12-W12 -> 0
A13: ='CHWM Adjustments Awarded'!A7 -> Customer E | B13: ='CHWM Adjustments Awarded'!B7 -> Rate Period 3 (BP-33) | C13: ='CHWM Adjustments Awarded'!E7 -> 10 | D13: =IF($B13=D$1,C13,0) -> 0 | E13: =IF(E$4=1,MIN(D13,5),0) -> 0 | F13: =(D13-E13)*E$6 -> 0 | G13: =E13+F13 -> 0 | H13: =D13-G13 -> 0 | I13: =IF(J$4=1,MIN(H13,5),0) -> 0 | J13: =(H13-I13)*J$6 -> 0 | K13: =I13+J13 -> 0 | L13: =H13-K13 -> 0 | M13: =IF(N$4=1,MIN(L13,5),0) -> 0 | N13: =(L13-M13)*N$6 -> 0 | O13: =M13+N13 -> 0 | P13: =L13-O13 -> 0 | Q13: =IF(R$4=1,MIN(P13,5),0) -> 0 | R13: =(P13-Q13)*R$6 -> 0 | S13: =Q13+R13 -> 0 | T13: =P13-S13 -> 0 | U13: =IF(V$4=1,MIN(T13,5),0) -> 0 | V13: =(T13-U13)*V$6 -> 0 | W13: =U13+V13 -> 0 | X13: =T13-W13 -> 0
A14: ='CHWM Adjustments Awarded'!A8 -> Customer Name 6 | B14: ='CHWM Adjustments Awarded'!B8 -> None | C14: ='CHWM Adjustments Awarded'!E8 -> 0 | D14: =IF($B14=D$1,C14,0) -> 0 | E14: =IF(E$4=1,MIN(D14,5),0) -> 0 | F14: =(D14-E14)*E$6 -> 0 | G14: =E14+F14 -> 0 | H14: =D14-G14 -> 0 | I14: =IF(J$4=1,MIN(H14,5),0) -> 0 | J14: =(H14-I14)*J$6 -> 0 | K14: =I14+J14 -> 0 | L14: =H14-K14 -> 0 | M14: =IF(N$4=1,MIN(L14,5),0) -> 0 | N14: =(L14-M14)*N$6 -> 0 | O14: =M14+N14 -> 0 | P14: =L14-O14 -> 0 | Q14: =IF(R$4=1,MIN(P14,5),0) -> 0 | R14: =(P14-Q14)*R$6 -> 0 | S14: =Q14+R14 -> 0 | T14: =P14-S14 -> 0 | U14: =IF(V$4=1,MIN(T14,5),0) -> 0 | V14: =(T14-U14)*V$6 -> 0 | W14: =U14+V14 -> 0 | X14: =T14-W14 -> 0
A15: ='CHWM Adjustments Awarded'!A9 -> Customer Name 7 | B15: ='CHWM Adjustments Awarded'!B9 -> None | C15: ='CHWM Adjustments Awarded'!E9 -> 0 | D15: =IF($B15=D$1,C15,0) -> 0 | E15: =IF(E$4=1,MIN(D15,5),0) -> 0 | F15: =(D15-E15)*E$6 -> 0 | G15: =E15+F15 -> 0 | H15: =D15-G15 -> 0 | I15: =IF(J$4=1,MIN(H15,5),0) -> 0 | J15: =(H15-I15)*J$6 -> 0 | K15: =I15+J15 -> 0 | L15: =H15-K15 -> 0 | M15: =IF(N$4=1,MIN(L15,5),0) -> 0 | N15: =(L15-M15)*N$6 -> 0 | O15: =M15+N15 -> 0 | P15: =L15-O15 -> 0 | Q15: =IF(R$4=1,MIN(P15,5),0) -> 0 | R15: =(P15-Q15)*R$6 -> 0 | S15: =Q15+R15 -> 0 | T15: =P15-S15 -> 0 | U15: =IF(V$4=1,MIN(T15,5),0) -> 0 | V15: =(T15-U15)*V$6 -> 0 | W15: =U15+V15 -> 0 | X15: =T15-W15 -> 0
A16: ='CHWM Adjustments Awarded'!A10 -> Customer Name 8 | B16: ='CHWM Adjustments Awarded'!B10 -> None | C16: ='CHWM Adjustments Awarded'!E10 -> 0 | D16: =IF($B16=D$1,C16,0) -> 0 | E16: =IF(E$4=1,MIN(D16,5),0) -> 0 | F16: =(D16-E16)*E$6 -> 0 | G16: =E16+F16 -> 0 | H16: =D16-G16 -> 0 | I16: =IF(J$4=1,MIN(H16,5),0) -> 0 | J16: =(H16-I16)*J$6 -> 0 | K16: =I16+J16 -> 0 | L16: =H16-K16 -> 0 | M16: =IF(N$4=1,MIN(L16,5),0) -> 0 | N16: =(L16-M16)*N$6 -> 0 | O16: =M16+N16 -> 0 | P16: =L16-O16 -> 0 | Q16: =IF(R$4=1,MIN(P16,5),0) -> 0 | R16: =(P16-Q16)*R$6 -> 0 | S16: =Q16+R16 -> 0 | T16: =P16-S16 -> 0 | U16: =IF(V$4=1,MIN(T16,5),0) -> 0 | V16: =(T16-U16)*V$6 -> 0 | W16: =U16+V16 -> 0 | X16: =T16-W16 -> 0
A17: ='CHWM Adjustments Awarded'!A11 -> Customer Name 9 | B17: ='CHWM Adjustments Awarded'!B11 -> None | C17: ='CHWM Adjustments Awarded'!E11 -> 0 | D17: =IF($B17=D$1,C17,0) -> 0 | E17: =IF(E$4=1,MIN(D17,5),0) -> 0 | F17: =(D17-E17)*E$6 -> 0 | G17: =E17+F17 -> 0 | H17: =D17-G17 -> 0 | I17: =IF(J$4=1,MIN(H17,5),0) -> 0 | J17: =(H17-I17)*J$6 -> 0 | K17: =I17+J17 -> 0 | L17: =H17-K17 -> 0 | M17: =IF(N$4=1,MIN(L17,5),0) -> 0 | N17: =(L17-M17)*N$6 -> 0 | O17: =M17+N17 -> 0 | P17: =L17-O17 -> 0 | Q17: =IF(R$4=1,MIN(P17,5),0) -> 0 | R17: =(P17-Q17)*R$6 -> 0 | S17: =Q17+R17 -> 0 | T17: =P17-S17 -> 0 | U17: =IF(V$4=1,MIN(T17,5),0) -> 0 | V17: =(T17-U17)*V$6 -> 0 | W17: =U17+V17 -> 0 | X17: =T17-W17 -> 0
A18: ='CHWM Adjustments Awarded'!A12 -> Customer Name 10 | B18: ='CHWM Adjustments Awarded'!B12 -> None | C18: ='CHWM Adjustments Awarded'!E12 -> 0 | D18: =IF($B18=D$1,C18,0) -> 0 | E18: =IF(E$4=1,MIN(D18,5),0) -> 0 | F18: =(D18-E18)*E$6 -> 0 | G18: =E18+F18 -> 0 | H18: =D18-G18 -> 0 | I18: =IF(J$4=1,MIN(H18,5),0) -> 0 | J18: =(H18-I18)*J$6 -> 0 | K18: =I18+J18 -> 0 | L18: =H18-K18 -> 0 | M18: =IF(N$4=1,MIN(L18,5),0) -> 0 | N18: =(L18-M18)*N$6 -> 0 | O18: =M18+N18 -> 0 | P18: =L18-O18 -> 0 | Q18: =IF(R$4=1,MIN(P18,5),0) -> 0 | R18: =(P18-Q18)*R$6 -> 0 | S18: =Q18+R18 -> 0 | T18: =P18-S18 -> 0 | U18: =IF(V$4=1,MIN(T18,5),0) -> 0 | V18: =(T18-U18)*V$6 -> 0 | W18: =U18+V18 -> 0 | X18: =T18-W18 -> 0
A19: ='CHWM Adjustments Awarded'!A13 -> Customer Name 11 | B19: ='CHWM Adjustments Awarded'!B13 -> None | C19: ='CHWM Adjustments Awarded'!E13 -> 0 | D19: =IF($B19=D$1,C19,0) -> 0 | E19: =IF(E$4=1,MIN(D19,5),0) -> 0 | F19: =(D19-E19)*E$6 -> 0 | G19: =E19+F19 -> 0 | H19: =D19-G19 -> 0 | I19: =IF(J$4=1,MIN(H19,5),0) -> 0 | J19: =(H19-I19)*J$6 -> 0 | K19: =I19+J19 -> 0 | L19: =H19-K19 -> 0 | M19: =IF(N$4=1,MIN(L19,5),0) -> 0 | N19: =(L19-M19)*N$6 -> 0 | O19: =M19+N19 -> 0 | P19: =L19-O19 -> 0 | Q19: =IF(R$4=1,MIN(P19,5),0) -> 0 | R19: =(P19-Q19)*R$6 -> 0 | S19: =Q19+R19 -> 0 | T19: =P19-S19 -> 0 | U19: =IF(V$4=1,MIN(T19,5),0) -> 0 | V19: =(T19-U19)*V$6 -> 0 | W19: =U19+V19 -> 0 | X19: =T19-W19 -> 0
A20: ='CHWM Adjustments Awarded'!A14 -> Customer Name 12 | B20: ='CHWM Adjustments Awarded'!B14 -> None | C20: ='CHWM Adjustments Awarded'!E14 -> 0 | D20: =IF($B20=D$1,C20,0) -> 0 | E20: =IF(E$4=1,MIN(D20,5),0) -> 0 | F20: =(D20-E20)*E$6 -> 0 | G20: =E20+F20 -> 0 | H20: =D20-G20 -> 0 | I20: =IF(J$4=1,MIN(H20,5),0) -> 0 | J20: =(H20-I20)*J$6 -> 0 | K20: =I20+J20 -> 0 | L20: =H20-K20 -> 0 | M20: =IF(N$4=1,MIN(L20,5),0) -> 0 | N20: =(L20-M20)*N$6 -> 0 | O20: =M20+N20 -> 0 | P20: =L20-O20 -> 0 | Q20: =IF(R$4=1,MIN(P20,5),0) -> 0 | R20: =(P20-Q20)*R$6 -> 0 | S20: =Q20+R20 -> 0 | T20: =P20-S20 -> 0 | U20: =IF(V$4=1,MIN(T20,5),0) -> 0 | V20: =(T20-U20)*V$6 -> 0 | W20: =U20+V20 -> 0 | X20: =T20-W20 -> 0
... A48: ='CHWM Adjustments Awarded'!A42 -> Customer Name 40 | B48: ='CHWM Adjustments Awarded'!B42 -> None | C48: ='CHWM Adjustments Awarded'!E42 -> 0 | D48: =IF($B48=D$1,C48,0) -> 0 | E48: =IF(E$4=1,MIN(D48,5),0) -> 0 | F48: =(D48-E48)*E$6 -> 0 | G48: =E48+F48 -> 0 | H48: =D48-G48 -> 0 | I48: =IF(J$4=1,MIN(H48,5),0) -> 0 | J48: =(H48-I48)*J$6 -> 0 | K48: =I48+J48 -> 0 | L48: =H48-K48 -> 0 | M48: =IF(N$4=1,MIN(L48,5),0) -> 0 | N48: =(L48-M48)*N$6 -> 0 | O48: =M48+N48 -> 0 | P48: =L48-O48 -> 0 | Q48: =IF(R$4=1,MIN(P48,5),0) -> 0 | R48: =(P48-Q48)*R$6 -> 0 | S48: =Q48+R48 -> 0 | T48: =P48-S48 -> 0 | U48: =IF(V$4=1,MIN(T48,5),0) -> 0 | V48: =(T48-U48)*V$6 -> 0 | W48: =U48+V48 -> 0 | X48: =T48-W48 -> 0

Sheet Fifth Rate Period
D1: Rate Period 5 (BP-37) | I1: Rate Period 6 (BP-39) | M1: Rate Period 7 (BP-41) | Q1: Rate Period 8 (BP-43)
D2: Rate Period Limit | E2: ='Rate Period Limits'!G9 -> 50 | I2: Rate Period Limit | J2: ='Rate Period Limits'!H9 -> 50 | M2: Rate Period Limit | N2: ='Rate Period Limits'!I9 -> 50 | Q2: Rate Period Limit | R2: ='Rate Period Limits'!J9 -> 50
D3: New Requesting Utilities | E3: =COUNTIF(B9:B48,D1) -> 0 | I3: Returning Utilities | J3: =COUNTIF(H9:H48,">0") -> 0 | M3: Returning Utilities | N3: =COUNTIF(L9:L48,">0") -> 0 | Q3: Returning Utilities | R3: =COUNTIF(P9:P48,">0") -> 0
D4: Apply 5 aMW | E4: =IF((SUMIF(D9:D48,"<5",D9:D48)+(5*COUNTIF(D9:D48,">=5")))<E2,1,0) -> 1 | I4: Apply 5 aMW | J4: =IF((SUMIF(H9:H48,"<5",H9:H48)+(5*COUNTIF(H9:H48,">=5")))<J2,1,0) -> 1 | M4: Apply 5 aMW | N4: =IF((SUMIF(L9:L48,"<5",L9:L48)+(5*COUNTIF(L9:L48,">=5")))<N2,1,0) -> 1 | Q4: Apply 5 aMW | R4: =IF((SUMIF(P9:P48,"<5",P9:P48)+(5*COUNTIF(P9:P48,">=5")))<R2,1,0) -> 1
D5: 5 aMW Applied | E5: =SUM(E9:E48) -> 0 | I5: 5 aMW Applied | J5: =SUM(I9:I48) -> 0 | M5: 5 aMW Applied | N5: =SUM(M9:M48) -> 0 | Q5: 5 aMW Applied | R5: =SUM(Q9:Q48) -> 0
D6: Rate Period Pro Rate | E6: =IF((SUM(D9:D48)-E5)>(E2-E5),(E2-E5)/(SUM(D9:D48)-E5),1) -> 1 | I6: Rate Period Pro Rate | J6: =IF((SUM(H9:H48)-J5)>(J2-J5),(J2-J5)/(SUM(H9:H48)-J5),1) -> 1 | M6: Rate Period Pro Rate | N6: =IF((SUM(L9:L48)-N5)>(N2-N5),(N2-N5)/(SUM(L9:L48)-N5),1) -> 1 | Q6: Rate Period Pro Rate | R6: =IF((SUM(P9:P48)-R5)>(R2-R5),(R2-R5)/(SUM(P9:P48)-R5),1) -> 1
A8: Customer Name | B8: First Rate Period | C8: Eligible Amount | D8: New Requests | E8: 5 aMW | F8: Rate Period Pro Rate | G8: Awarded Amounts | H8: Remaining Requests | I8: 5 aMW | J8: Rate Period Pro Rate | K8: Awarded Amounts | L8: Remaining Requests | M8: 5 aMW | N8: Rate Period Pro Rate | O8: Awarded Amounts | P8: Remaining Requests | Q8: 5 aMW | R8: Rate Period Pro Rate | S8: Awarded Amounts | T8: Remaining Requests
A9: ='CHWM Adjustments Awarded'!A3 -> Customer A | B9: ='CHWM Adjustments Awarded'!B3 -> Rate Period 1 (BP-29) | C9: ='CHWM Adjustments Awarded'!E3 -> 75 | D9: =IF($B9=D$1,C9,0) -> 0 | E9: =IF(E$4=1,MIN(D9,5),0) -> 0 | F9: =(D9-E9)*E$6 -> 0 | G9: =E9+F9 -> 0 | H9: =D9-G9 -> 0 | I9: =IF(J$4=1,MIN(H9,5),0) -> 0 | J9: =(H9-I9)*J$6 -> 0 | K9: =I9+J9 -> 0 | L9: =H9-K9 -> 0 | M9: =IF(N$4=1,MIN(L9,5),0) -> 0 | N9: =(L9-M9)*N$6 -> 0 | O9: =M9+N9 -> 0 | P9: =L9-O9 -> 0 | Q9: =IF(R$4=1,MIN(P9,5),0) -> 0 | R9: =(P9-Q9)*R$6 -> 0 | S9: =Q9+R9 -> 0 | T9: =P9-S9 -> 0
A10: ='CHWM Adjustments Awarded'!A4 -> Customer B | B10: ='CHWM Adjustments Awarded'!B4 -> Rate Period 1 (BP-29) | C10: ='CHWM Adjustments Awarded'!E4 -> 25 | D10: =IF($B10=D$1,C10,0) -> 0 | E10: =IF(E$4=1,MIN(D10,5),0) -> 0 | F10: =(D10-E10)*E$6 -> 0 | G10: =E10+F10 -> 0 | H10: =D10-G10 -> 0 | I10: =IF(J$4=1,MIN(H10,5),0) -> 0 | J10: =(H10-I10)*J$6 -> 0 | K10: =I10+J10 -> 0 | L10: =H10-K10 -> 0 | M10: =IF(N$4=1,MIN(L10,5),0) -> 0 | N10: =(L10-M10)*N$6 -> 0 | O10: =M10+N10 -> 0 | P10: =L10-O10 -> 0 | Q10: =IF(R$4=1,MIN(P10,5),0) -> 0 | R10: =(P10-Q10)*R$6 -> 0 | S10: =Q10+R10 -> 0 | T10: =P10-S10 -> 0
A11: ='CHWM Adjustments Awarded'!A5 -> Customer C | B11: ='CHWM Adjustments Awarded'!B5 -> Rate Period 1 (BP-29) | C11: ='CHWM Adjustments Awarded'!E5 -> 5 | D11: =IF($B11=D$1,C11,0) -> 0 | E11: =IF(E$4=1,MIN(D11,5),0) -> 0 | F11: =(D11-E11)*E$6 -> 0 | G11: =E11+F11 -> 0 | H11: =D11-G11 -> 0 | I11: =IF(J$4=1,MIN(H11,5),0) -> 0 | J11: =(H11-I11)*J$6 -> 0 | K11: =I11+J11 -> 0 | L11: =H11-K11 -> 0 | M11: =IF(N$4=1,MIN(L11,5),0) -> 0 | N11: =(L11-M11)*N$6 -> 0 | O11: =M11+N11 -> 0 | P11: =L11-O11 -> 0 | Q11: =IF(R$4=1,MIN(P11,5),0) -> 0 | R11: =(P11-Q11)*R$6 -> 0 | S11: =Q11+R11 -> 0 | T11: =P11-S11 -> 0
A12: ='CHWM Adjustments Awarded'!A6 -> Customer D | B12: ='CHWM Adjustments Awarded'!B6 -> Rate Period 3 (BP-33) | C12: ='CHWM Adjustments Awarded'!E6 -> 20 | D12: =IF($B12=D$1,C12,0) -> 0 | E12: =IF(E$4=1,MIN(D12,5),0) -> 0 | F12: =(D12-E12)*E$6 -> 0 | G12: =E12+F12 -> 0 | H12: =D12-G12 -> 0 | I12: =IF(J$4=1,MIN(H12,5),0) -> 0 | J12: =(H12-I12)*J$6 -> 0 | K12: =I12+J12 -> 0 | L12: =H12-K12 -> 0 | M12: =IF(N$4=1,MIN(L12,5),0) -> 0 | N12: =(L12-M12)*N$6 -> 0 | O12: =M12+N12 -> 0 | P12: =L12-O12 -> 0 | Q12: =IF(R$4=1,MIN(P12,5),0) -> 0 | R12: =(P12-Q12)*R$6 -> 0 | S12: =Q12+R12 -> 0 | T12: =P12-S12 -> 0
A13: ='CHWM Adjustments Awarded'!A7 -> Customer E | B13: ='CHWM Adjustments Awarded'!B7 -> Rate Period 3 (BP-33) | C13: ='CHWM Adjustments Awarded'!E7 -> 10 | D13: =IF($B13=D$1,C13,0) -> 0 | E13: =IF(E$4=1,MIN(D13,5),0) -> 0 | F13: =(D13-E13)*E$6 -> 0 | G13: =E13+F13 -> 0 | H13: =D13-G13 -> 0 | I13: =IF(J$4=1,MIN(H13,5),0) -> 0 | J13: =(H13-I13)*J$6 -> 0 | K13: =I13+J13 -> 0 | L13: =H13-K13 -> 0 | M13: =IF(N$4=1,MIN(L13,5),0) -> 0 | N13: =(L13-M13)*N$6 -> 0 | O13: =M13+N13 -> 0 | P13: =L13-O13 -> 0 | Q13: =IF(R$4=1,MIN(P13,5),0) -> 0 | R13: =(P13-Q13)*R$6 -> 0 | S13: =Q13+R13 -> 0 | T13: =P13-S13 -> 0
A14: ='CHWM Adjustments Awarded'!A8 -> Customer Name 6 | B14: ='CHWM Adjustments Awarded'!B8 -> None | C14: ='CHWM Adjustments Awarded'!E8 -> 0 | D14: =IF($B14=D$1,C14,0) -> 0 | E14: =IF(E$4=1,MIN(D14,5),0) -> 0 | F14: =(D14-E14)*E$6 -> 0 | G14: =E14+F14 -> 0 | H14: =D14-G14 -> 0 | I14: =IF(J$4=1,MIN(H14,5),0) -> 0 | J14: =(H14-I14)*J$6 -> 0 | K14: =I14+J14 -> 0 | L14: =H14-K14 -> 0 | M14: =IF(N$4=1,MIN(L14,5),0) -> 0 | N14: =(L14-M14)*N$6 -> 0 | O14: =M14+N14 -> 0 | P14: =L14-O14 -> 0 | Q14: =IF(R$4=1,MIN(P14,5),0) -> 0 | R14: =(P14-Q14)*R$6 -> 0 | S14: =Q14+R14 -> 0 | T14: =P14-S14 -> 0
A15: ='CHWM Adjustments Awarded'!A9 -> Customer Name 7 | B15: ='CHWM Adjustments Awarded'!B9 -> None | C15: ='CHWM Adjustments Awarded'!E9 -> 0 | D15: =IF($B15=D$1,C15,0) -> 0 | E15: =IF(E$4=1,MIN(D15,5),0) -> 0 | F15: =(D15-E15)*E$6 -> 0 | G15: =E15+F15 -> 0 | H15: =D15-G15 -> 0 | I15: =IF(J$4=1,MIN(H15,5),0) -> 0 | J15: =(H15-I15)*J$6 -> 0 | K15: =I15+J15 -> 0 | L15: =H15-K15 -> 0 | M15: =IF(N$4=1,MIN(L15,5),0) -> 0 | N15: =(L15-M15)*N$6 -> 0 | O15: =M15+N15 -> 0 | P15: =L15-O15 -> 0 | Q15: =IF(R$4=1,MIN(P15,5),0) -> 0 | R15: =(P15-Q15)*R$6 -> 0 | S15: =Q15+R15 -> 0 | T15: =P15-S15 -> 0
A16: ='CHWM Adjustments Awarded'!A10 -> Customer Name 8 | B16: ='CHWM Adjustments Awarded'!B10 -> None | C16: ='CHWM Adjustments Awarded'!E10 -> 0 | D16: =IF($B16=D$1,C16,0) -> 0 | E16: =IF(E$4=1,MIN(D16,5),0) -> 0 | F16: =(D16-E16)*E$6 -> 0 | G16: =E16+F16 -> 0 | H16: =D16-G16 -> 0 | I16: =IF(J$4=1,MIN(H16,5),0) -> 0 | J16: =(H16-I16)*J$6 -> 0 | K16: =I16+J16 -> 0 | L16: =H16-K16 -> 0 | M16: =IF(N$4=1,MIN(L16,5),0) -> 0 | N16: =(L16-M16)*N$6 -> 0 | O16: =M16+N16 -> 0 | P16: =L16-O16 -> 0 | Q16: =IF(R$4=1,MIN(P16,5),0) -> 0 | R16: =(P16-Q16)*R$6 -> 0 | S16: =Q16+R16 -> 0 | T16: =P16-S16 -> 0
A17: ='CHWM Adjustments Awarded'!A11 -> Customer Name 9 | B17: ='CHWM Adjustments Awarded'!B11 -> None | C17: ='CHWM Adjustments Awarded'!E11 -> 0 | D17: =IF($B17=D$1,C17,0) -> 0 | E17: =IF(E$4=1,MIN(D17,5),0) -> 0 | F17: =(D17-E17)*E$6 -> 0 | G17: =E17+F17 -> 0 | H17: =D17-G17 -> 0 | I17: =IF(J$4=1,MIN(H17,5),0) -> 0 | J17: =(H17-I17)*J$6 -> 0 | K17: =I17+J17 -> 0 | L17: =H17-K17 -> 0 | M17: =IF(N$4=1,MIN(L17,5),0) -> 0 | N17: =(L17-M17)*N$6 -> 0 | O17: =M17+N17 -> 0 | P17: =L17-O17 -> 0 | Q17: =IF(R$4=1,MIN(P17,5),0) -> 0 | R17: =(P17-Q17)*R$6 -> 0 | S17: =Q17+R17 -> 0 | T17: =P17-S17 -> 0
A18: ='CHWM Adjustments Awarded'!A12 -> Customer Name 10 | B18: ='CHWM Adjustments Awarded'!B12 -> None | C18: ='CHWM Adjustments Awarded'!E12 -> 0 | D18: =IF($B18=D$1,C18,0) -> 0 | E18: =IF(E$4=1,MIN(D18,5),0) -> 0 | F18: =(D18-E18)*E$6 -> 0 | G18: =E18+F18 -> 0 | H18: =D18-G18 -> 0 | I18: =IF(J$4=1,MIN(H18,5),0) -> 0 | J18: =(H18-I18)*J$6 -> 0 | K18: =I18+J18 -> 0 | L18: =H18-K18 -> 0 | M18: =IF(N$4=1,MIN(L18,5),0) -> 0 | N18: =(L18-M18)*N$6 -> 0 | O18: =M18+N18 -> 0 | P18: =L18-O18 -> 0 | Q18: =IF(R$4=1,MIN(P18,5),0) -> 0 | R18: =(P18-Q18)*R$6 -> 0 | S18: =Q18+R18 -> 0 | T18: =P18-S18 -> 0
A19: ='CHWM Adjustments Awarded'!A13 -> Customer Name 11 | B19: ='CHWM Adjustments Awarded'!B13 -> None | C19: ='CHWM Adjustments Awarded'!E13 -> 0 | D19: =IF($B19=D$1,C19,0) -> 0 | E19: =IF(E$4=1,MIN(D19,5),0) -> 0 | F19: =(D19-E19)*E$6 -> 0 | G19: =E19+F19 -> 0 | H19: =D19-G19 -> 0 | I19: =IF(J$4=1,MIN(H19,5),0) -> 0 | J19: =(H19-I19)*J$6 -> 0 | K19: =I19+J19 -> 0 | L19: =H19-K19 -> 0 | M19: =IF(N$4=1,MIN(L19,5),0) -> 0 | N19: =(L19-M19)*N$6 -> 0 | O19: =M19+N19 -> 0 | P19: =L19-O19 -> 0 | Q19: =IF(R$4=1,MIN(P19,5),0) -> 0 | R19: =(P19-Q19)*R$6 -> 0 | S19: =Q19+R19 -> 0 | T19: =P19-S19 -> 0
A20: ='CHWM Adjustments Awarded'!A14 -> Customer Name 12 | B20: ='CHWM Adjustments Awarded'!B14 -> None | C20: ='CHWM Adjustments Awarded'!E14 -> 0 | D20: =IF($B20=D$1,C20,0) -> 0 | E20: =IF(E$4=1,MIN(D20,5),0) -> 0 | F20: =(D20-E20)*E$6 -> 0 | G20: =E20+F20 -> 0 | H20: =D20-G20 -> 0 | I20: =IF(J$4=1,MIN(H20,5),0) -> 0 | J20: =(H20-I20)*J$6 -> 0 | K20: =I20+J20 -> 0 | L20: =H20-K20 -> 0 | M20: =IF(N$4=1,MIN(L20,5),0) -> 0 | N20: =(L20-M20)*N$6 -> 0 | O20: =M20+N20 -> 0 | P20: =L20-O20 -> 0 | Q20: =IF(R$4=1,MIN(P20,5),0) -> 0 | R20: =(P20-Q20)*R$6 -> 0 | S20: =Q20+R20 -> 0 | T20: =P20-S20 -> 0
... A48: ='CHWM Adjustments Awarded'!A42 -> Customer Name 40 | B48: ='CHWM Adjustments Awarded'!B42 -> None | C48: ='CHWM Adjustments Awarded'!E42 -> 0 | D48: =IF($B48=D$1,C48,0) -> 0 | E48: =IF(E$4=1,MIN(D48,5),0) -> 0 | F48: =(D48-E48)*E$6 -> 0 | G48: =E48+F48 -> 0 | H48: =D48-G48 -> 0 | I48: =IF(J$4=1,MIN(H48,5),0) -> 0 | J48: =(H48-I48)*J$6 -> 0 | K48: =I48+J48 -> 0 | L48: =H48-K48 -> 0 | M48: =IF(N$4=1,MIN(L48,5),0) -> 0 | N48: =(L48-M48)*N$6 -> 0 | O48: =M48+N48 -> 0 | P48: =L48-O48 -> 0 | Q48: =IF(R$4=1,MIN(P48,5),0) -> 0 | R48: =(P48-Q48)*R$6 -> 0 | S48: =Q48+R48 -> 0 | T48: =P48-S48 -> 0

Sheet Sixth Rate Period
D1: Rate Period 6 (BP-39) | I1: Rate Period 7 (BP-41) | M1: Rate Period 8 (BP-43)
D2: Rate Period Limit | E2: ='Rate Period Limits'!H11 -> 50 | I2: Rate Period Limit | J2: ='Rate Period Limits'!I11 -> 50 | M2: Rate Period Limit | N2: ='Rate Period Limits'!J11 -> 50
D3: New Requesting Utilities | E3: =COUNTIF(B9:B48,D1) -> 0 | I3: Returning Utilities | J3: =COUNTIF(H9:H48,">0") -> 0 | M3: Returning Utilities | N3: =COUNTIF(L9:L48,">0") -> 0
D4: Apply 5 aMW | E4: =IF((SUMIF(D9:D48,"<5",D9:D48)+(5*COUNTIF(D9:D48,">=5")))<E2,1,0) -> 1 | I4: Apply 5 aMW | J4: =IF((SUMIF(H9:H48,"<5",H9:H48)+(5*COUNTIF(H9:H48,">=5")))<J2,1,0) -> 1 | M4: Apply 5 aMW | N4: =IF((SUMIF(L9:L48,"<5",L9:L48)+(5*COUNTIF(L9:L48,">=5")))<N2,1,0) -> 1
D5: 5 aMW Applied | E5: =SUM(E9:E48) -> 0 | I5: 5 aMW Applied | J5: =SUM(I9:I48) -> 0 | M5: 5 aMW Applied | N5: =SUM(M9:M48) -> 0
D6: Rate Period Pro Rate | E6: =IF((SUM(D9:D48)-E5)>(E2-E5),(E2-E5)/(SUM(D9:D48)-E5),1) -> 1 | I6: Rate Period Pro Rate | J6: =IF((SUM(H9:H48)-J5)>(J2-J5),(J2-J5)/(SUM(H9:H48)-J5),1) -> 1 | M6: Rate Period Pro Rate | N6: =IF((SUM(L9:L48)-N5)>(N2-N5),(N2-N5)/(SUM(L9:L48)-N5),1) -> 1
A8: Customer Name | B8: First Rate Period | C8: Eligible Amount | D8: New Requests | E8: 5 aMW | F8: Rate Period Pro Rate | G8: Awarded Amounts | H8: Remaining Requests | I8: 5 aMW | J8: Rate Period Pro Rate | K8: Awarded Amounts | L8: Remaining Requests | M8: 5 aMW | N8: Rate Period Pro Rate | O8: Awarded Amounts | P8: Remaining Requests
A9: ='CHWM Adjustments Awarded'!A3 -> Customer A | B9: ='CHWM Adjustments Awarded'!B3 -> Rate Period 1 (BP-29) | C9: ='CHWM Adjustments Awarded'!E3 -> 75 | D9: =IF($B9=D$1,C9,0) -> 0 | E9: =IF(E$4=1,MIN(D9,5),0) -> 0 | F9: =(D9-E9)*E$6 -> 0 | G9: =E9+F9 -> 0 | H9: =D9-G9 -> 0 | I9: =IF(J$4=1,MIN(H9,5),0) -> 0 | J9: =(H9-I9)*J$6 -> 0 | K9: =I9+J9 -> 0 | L9: =H9-K9 -> 0 | M9: =IF(N$4=1,MIN(L9,5),0) -> 0 | N9: =(L9-M9)*N$6 -> 0 | O9: =M9+N9 -> 0 | P9: =L9-O9 -> 0
A10: ='CHWM Adjustments Awarded'!A4 -> Customer B | B10: ='CHWM Adjustments Awarded'!B4 -> Rate Period 1 (BP-29) | C10: ='CHWM Adjustments Awarded'!E4 -> 25 | D10: =IF($B10=D$1,C10,0) -> 0 | E10: =IF(E$4=1,MIN(D10,5),0) -> 0 | F10: =(D10-E10)*E$6 -> 0 | G10: =E10+F10 -> 0 | H10: =D10-G10 -> 0 | I10: =IF(J$4=1,MIN(H10,5),0) -> 0 | J10: =(H10-I10)*J$6 -> 0 | K10: =I10+J10 -> 0 | L10: =H10-K10 -> 0 | M10: =IF(N$4=1,MIN(L10,5),0) -> 0 | N10: =(L10-M10)*N$6 -> 0 | O10: =M10+N10 -> 0 | P10: =L10-O10 -> 0
A11: ='CHWM Adjustments Awarded'!A5 -> Customer C | B11: ='CHWM Adjustments Awarded'!B5 -> Rate Period 1 (BP-29) | C11: ='CHWM Adjustments Awarded'!E5 -> 5 | D11: =IF($B11=D$1,C11,0) -> 0 | E11: =IF(E$4=1,MIN(D11,5),0) -> 0 | F11: =(D11-E11)*E$6 -> 0 | G11: =E11+F11 -> 0 | H11: =D11-G11 -> 0 | I11: =IF(J$4=1,MIN(H11,5),0) -> 0 | J11: =(H11-I11)*J$6 -> 0 | K11: =I11+J11 -> 0 | L11: =H11-K11 -> 0 | M11: =IF(N$4=1,MIN(L11,5),0) -> 0 | N11: =(L11-M11)*N$6 -> 0 | O11: =M11+N11 -> 0 | P11: =L11-O11 -> 0
A12: ='CHWM Adjustments Awarded'!A6 -> Customer D | B12: ='CHWM Adjustments Awarded'!B6 -> Rate Period 3 (BP-33) | C12: ='CHWM Adjustments Awarded'!E6 -> 20 | D12: =IF($B12=D$1,C12,0) -> 0 | E12: =IF(E$4=1,MIN(D12,5),0) -> 0 | F12: =(D12-E12)*E$6 -> 0 | G12: =E12+F12 -> 0 | H12: =D12-G12 -> 0 | I12: =IF(J$4=1,MIN(H12,5),0) -> 0 | J12: =(H12-I12)*J$6 -> 0 | K12: =I12+J12 -> 0 | L12: =H12-K12 -> 0 | M12: =IF(N$4=1,MIN(L12,5),0) -> 0 | N12: =(L12-M12)*N$6 -> 0 | O12: =M12+N12 -> 0 | P12: =L12-O12 -> 0
A13: ='CHWM Adjustments Awarded'!A7 -> Customer E | B13: ='CHWM Adjustments Awarded'!B7 -> Rate Period 3 (BP-33) | C13: ='CHWM Adjustments Awarded'!E7 -> 10 | D13: =IF($B13=D$1,C13,0) -> 0 | E13: =IF(E$4=1,MIN(D13,5),0) -> 0 | F13: =(D13-E13)*E$6 -> 0 | G13: =E13+F13 -> 0 | H13: =D13-G13 -> 0 | I13: =IF(J$4=1,MIN(H13,5),0) -> 0 | J13: =(H13-I13)*J$6 -> 0 | K13: =I13+J13 -> 0 | L13: =H13-K13 -> 0 | M13: =IF(N$4=1,MIN(L13,5),0) -> 0 | N13: =(L13-M13)*N$6 -> 0 | O13: =M13+N13 -> 0 | P13: =L13-O13 -> 0
A14: ='CHWM Adjustments Awarded'!A8 -> Customer Name 6 | B14: ='CHWM Adjustments Awarded'!B8 -> None | C14: ='CHWM Adjustments Awarded'!E8 -> 0 | D14: =IF($B14=D$1,C14,0) -> 0 | E14: =IF(E$4=1,MIN(D14,5),0) -> 0 | F14: =(D14-E14)*E$6 -> 0 | G14: =E14+F14 -> 0 | H14: =D14-G14 -> 0 | I14: =IF(J$4=1,MIN(H14,5),0) -> 0 | J14: =(H14-I14)*J$6 -> 0 | K14: =I14+J14 -> 0 | L14: =H14-K14 -> 0 | M14: =IF(N$4=1,MIN(L14,5),0) -> 0 | N14: =(L14-M14)*N$6 -> 0 | O14: =M14+N14 -> 0 | P14: =L14-O14 -> 0
A15: ='CHWM Adjustments Awarded'!A9 -> Customer Name 7 | B15: ='CHWM Adjustments Awarded'!B9 -> None | C15: ='CHWM Adjustments Awarded'!E9 -> 0 | D15: =IF($B15=D$1,C15,0) -> 0 | E15: =IF(E$4=1,MIN(D15,5),0) -> 0 | F15: =(D15-E15)*E$6 -> 0 | G15: =E15+F15 -> 0 | H15: =D15-G15 -> 0 | I15: =IF(J$4=1,MIN(H15,5),0) -> 0 | J15: =(H15-I15)*J$6 -> 0 | K15: =I15+J15 -> 0 | L15: =H15-K15 -> 0 | M15: =IF(N$4=1,MIN(L15,5),0) -> 0 | N15: =(L15-M15)*N$6 -> 0 | O15: =M15+N15 -> 0 | P15: =L15-O15 -> 0
A16: ='CHWM Adjustments Awarded'!A10 -> Customer Name 8 | B16: ='CHWM Adjustments Awarded'!B10 -> None | C16: ='CHWM Adjustments Awarded'!E10 -> 0 | D16: =IF($B16=D$1,C16,0) -> 0 | E16: =IF(E$4=1,MIN(D16,5),0) -> 0 | F16: =(D16-E16)*E$6 -> 0 | G16: =E16+F16 -> 0 | H16: =D16-G16 -> 0 | I16: =IF(J$4=1,MIN(H16,5),0) -> 0 | J16: =(H16-I16)*J$6 -> 0 | K16: =I16+J16 -> 0 | L16: =H16-K16 -> 0 | M16: =IF(N$4=1,MIN(L16,5),0) -> 0 | N16: =(L16-M16)*N$6 -> 0 | O16: =M16+N16 -> 0 | P16: =L16-O16 -> 0
A17: ='CHWM Adjustments Awarded'!A11 -> Customer Name 9 | B17: ='CHWM Adjustments Awarded'!B11 -> None | C17: ='CHWM Adjustments Awarded'!E11 -> 0 | D17: =IF($B17=D$1,C17,0) -> 0 | E17: =IF(E$4=1,MIN(D17,5),0) -> 0 | F17: =(D17-E17)*E$6 -> 0 | G17: =E17+F17 -> 0 | H17: =D17-G17 -> 0 | I17: =IF(J$4=1,MIN(H17,5),0) -> 0 | J17: =(H17-I17)*J$6 -> 0 | K17: =I17+J17 -> 0 | L17: =H17-K17 -> 0 | M17: =IF(N$4=1,MIN(L17,5),0) -> 0 | N17: =(L17-M17)*N$6 -> 0 | O17: =M17+N17 -> 0 | P17: =L17-O17 -> 0
A18: ='CHWM Adjustments Awarded'!A12 -> Customer Name 10 | B18: ='CHWM Adjustments Awarded'!B12 -> None | C18: ='CHWM Adjustments Awarded'!E12 -> 0 | D18: =IF($B18=D$1,C18,0) -> 0 | E18: =IF(E$4=1,MIN(D18,5),0) -> 0 | F18: =(D18-E18)*E$6 -> 0 | G18: =E18+F18 -> 0 | H18: =D18-G18 -> 0 | I18: =IF(J$4=1,MIN(H18,5),0) -> 0 | J18: =(H18-I18)*J$6 -> 0 | K18: =I18+J18 -> 0 | L18: =H18-K18 -> 0 | M18: =IF(N$4=1,MIN(L18,5),0) -> 0 | N18: =(L18-M18)*N$6 -> 0 | O18: =M18+N18 -> 0 | P18: =L18-O18 -> 0
A19: ='CHWM Adjustments Awarded'!A13 -> Customer Name 11 | B19: ='CHWM Adjustments Awarded'!B13 -> None | C19: ='CHWM Adjustments Awarded'!E13 -> 0 | D19: =IF($B19=D$1,C19,0) -> 0 | E19: =IF(E$4=1,MIN(D19,5),0) -> 0 | F19: =(D19-E19)*E$6 -> 0 | G19: =E19+F19 -> 0 | H19: =D19-G19 -> 0 | I19: =IF(J$4=1,MIN(H19,5),0) -> 0 | J19: =(H19-I19)*J$6 -> 0 | K19: =I19+J19 -> 0 | L19: =H19-K19 -> 0 | M19: =IF(N$4=1,MIN(L19,5),0) -> 0 | N19: =(L19-M19)*N$6 -> 0 | O19: =M19+N19 -> 0 | P19: =L19-O19 -> 0
A20: ='CHWM Adjustments Awarded'!A14 -> Customer Name 12 | B20: ='CHWM Adjustments Awarded'!B14 -> None | C20: ='CHWM Adjustments Awarded'!E14 -> 0 | D20: =IF($B20=D$1,C20,0) -> 0 | E20: =IF(E$4=1,MIN(D20,5),0) -> 0 | F20: =(D20-E20)*E$6 -> 0 | G20: =E20+F20 -> 0 | H20: =D20-G20 -> 0 | I20: =IF(J$4=1,MIN(H20,5),0) -> 0 | J20: =(H20-I20)*J$6 -> 0 | K20: =I20+J20 -> 0 | L20: =H20-K20 -> 0 | M20: =IF(N$4=1,MIN(L20,5),0) -> 0 | N20: =(L20-M20)*N$6 -> 0 | O20: =M20+N20 -> 0 | P20: =L20-O20 -> 0
... A48: ='CHWM Adjustments Awarded'!A42 -> Customer Name 40 | B48: ='CHWM Adjustments Awarded'!B42 -> None | C48: ='CHWM Adjustments Awarded'!E42 -> 0 | D48: =IF($B48=D$1,C48,0) -> 0 | E48: =IF(E$4=1,MIN(D48,5),0) -> 0 | F48: =(D48-E48)*E$6 -> 0 | G48: =E48+F48 -> 0 | H48: =D48-G48 -> 0 | I48: =IF(J$4=1,MIN(H48,5),0) -> 0 | J48: =(H48-I48)*J$6 -> 0 | K48: =I48+J48 -> 0 | L48: =H48-K48 -> 0 | M48: =IF(N$4=1,MIN(L48,5),0) -> 0 | N48: =(L48-M48)*N$6 -> 0 | O48: =M48+N48 -> 0 | P48: =L48-O48 -> 0

Sheet Seventh Rate Period
D1: Rate Period 7 (BP-41) | I1: Rate Period 8 (BP-43)
D2: Rate Period Limit | E2: ='Rate Period Limits'!I13 -> 50 | I2: Rate Period Limit | J2: ='Rate Period Limits'!J13 -> 50
D3: New Requesting Utilities | E3: =COUNTIF(B9:B48,D1) -> 0 | I3: Returning Utilities | J3: =COUNTIF(H9:H48,">0") -> 0
D4: Apply 5 aMW | E4: =IF((SUMIF(D9:D48,"<5",D9:D48)+(5*COUNTIF(D9:D48,">=5")))<E2,1,0) -> 1 | I4: Apply 5 aMW | J4: =IF((SUMIF(H9:H48,"<5",H9:H48)+(5*COUNTIF(H9:H48,">=5")))<J2,1,0) -> 1
D5: 5 aMW Applied | E5: =SUM(E9:E48) -> 0 | I5: 5 aMW Applied | J5: =SUM(I9:I48) -> 0
D6: Rate Period Pro Rate | E6: =IF((SUM(D9:D48)-E5)>(E2-E5),(E2-E5)/(SUM(D9:D48)-E5),1) -> 1 | I6: Rate Period Pro Rate | J6: =IF((SUM(H9:H48)-J5)>(J2-J5),(J2-J5)/(SUM(H9:H48)-J5),1) -> 1
A8: Customer Name | B8: First Rate Period | C8: Eligible Amount | D8: New Requests | E8: 5 aMW | F8: Rate Period Pro Rate | G8: Awarded Amounts | H8: Remaining Requests | I8: 5 aMW | J8: Rate Period Pro Rate | K8: Awarded Amounts | L8: Remaining Requests
A9: ='CHWM Adjustments Awarded'!A3 -> Customer A | B9: ='CHWM Adjustments Awarded'!B3 -> Rate Period 1 (BP-29) | C9: ='CHWM Adjustments Awarded'!E3 -> 75 | D9: =IF($B9=D$1,C9,0) -> 0 | E9: =IF(E$4=1,MIN(D9,5),0) -> 0 | F9: =(D9-E9)*E$6 -> 0 | G9: =E9+F9 -> 0 | H9: =D9-G9 -> 0 | I9: =IF(J$4=1,MIN(H9,5),0) -> 0 | J9: =(H9-I9)*J$6 -> 0 | K9: =I9+J9 -> 0 | L9: =H9-K9 -> 0
A10: ='CHWM Adjustments Awarded'!A4 -> Customer B | B10: ='CHWM Adjustments Awarded'!B4 -> Rate Period 1 (BP-29) | C10: ='CHWM Adjustments Awarded'!E4 -> 25 | D10: =IF($B10=D$1,C10,0) -> 0 | E10: =IF(E$4=1,MIN(D10,5),0) -> 0 | F10: =(D10-E10)*E$6 -> 0 | G10: =E10+F10 -> 0 | H10: =D10-G10 -> 0 | I10: =IF(J$4=1,MIN(H10,5),0) -> 0 | J10: =(H10-I10)*J$6 -> 0 | K10: =I10+J10 -> 0 | L10: =H10-K10 -> 0
A11: ='CHWM Adjustments Awarded'!A5 -> Customer C | B11: ='CHWM Adjustments Awarded'!B5 -> Rate Period 1 (BP-29) | C11: ='CHWM Adjustments Awarded'!E5 -> 5 | D11: =IF($B11=D$1,C11,0) -> 0 | E11: =IF(E$4=1,MIN(D11,5),0) -> 0 | F11: =(D11-E11)*E$6 -> 0 | G11: =E11+F11 -> 0 | H11: =D11-G11 -> 0 | I11: =IF(J$4=1,MIN(H11,5),0) -> 0 | J11: =(H11-I11)*J$6 -> 0 | K11: =I11+J11 -> 0 | L11: =H11-K11 -> 0
A12: ='CHWM Adjustments Awarded'!A6 -> Customer D | B12: ='CHWM Adjustments Awarded'!B6 -> Rate Period 3 (BP-33) | C12: ='CHWM Adjustments Awarded'!E6 -> 20 | D12: =IF($B12=D$1,C12,0) -> 0 | E12: =IF(E$4=1,MIN(D12,5),0) -> 0 | F12: =(D12-E12)*E$6 -> 0 | G12: =E12+F12 -> 0 | H12: =D12-G12 -> 0 | I12: =IF(J$4=1,MIN(H12,5),0) -> 0 | J12: =(H12-I12)*J$6 -> 0 | K12: =I12+J12 -> 0 | L12: =H12-K12 -> 0
A13: ='CHWM Adjustments Awarded'!A7 -> Customer E | B13: ='CHWM Adjustments Awarded'!B7 -> Rate Period 3 (BP-33) | C13: ='CHWM Adjustments Awarded'!E7 -> 10 | D13: =IF($B13=D$1,C13,0) -> 0 | E13: =IF(E$4=1,MIN(D13,5),0) -> 0 | F13: =(D13-E13)*E$6 -> 0 | G13: =E13+F13 -> 0 | H13: =D13-G13 -> 0 | I13: =IF(J$4=1,MIN(H13,5),0) -> 0 | J13: =(H13-I13)*J$6 -> 0 | K13: =I13+J13 -> 0 | L13: =H13-K13 -> 0
A14: ='CHWM Adjustments Awarded'!A8 -> Customer Name 6 | B14: ='CHWM Adjustments Awarded'!B8 -> None | C14: ='CHWM Adjustments Awarded'!E8 -> 0 | D14: =IF($B14=D$1,C14,0) -> 0 | E14: =IF(E$4=1,MIN(D14,5),0) -> 0 | F14: =(D14-E14)*E$6 -> 0 | G14: =E14+F14 -> 0 | H14: =D14-G14 -> 0 | I14: =IF(J$4=1,MIN(H14,5),0) -> 0 | J14: =(H14-I14)*J$6 -> 0 | K14: =I14+J14 -> 0 | L14: =H14-K14 -> 0
A15: ='CHWM Adjustments Awarded'!A9 -> Customer Name 7 | B15: ='CHWM Adjustments Awarded'!B9 -> None | C15: ='CHWM Adjustments Awarded'!E9 -> 0 | D15: =IF($B15=D$1,C15,0) -> 0 | E15: =IF(E$4=1,MIN(D15,5),0) -> 0 | F15: =(D15-E15)*E$6 -> 0 | G15: =E15+F15 -> 0 | H15: =D15-G15 -> 0 | I15: =IF(J$4=1,MIN(H15,5),0) -> 0 | J15: =(H15-I15)*J$6 -> 0 | K15: =I15+J15 -> 0 | L15: =H15-K15 -> 0
A16: ='CHWM Adjustments Awarded'!A10 -> Customer Name 8 | B16: ='CHWM Adjustments Awarded'!B10 -> None | C16: ='CHWM Adjustments Awarded'!E10 -> 0 | D16: =IF($B16=D$1,C16,0) -> 0 | E16: =IF(E$4=1,MIN(D16,5),0) -> 0 | F16: =(D16-E16)*E$6 -> 0 | G16: =E16+F16 -> 0 | H16: =D16-G16 -> 0 | I16: =IF(J$4=1,MIN(H16,5),0) -> 0 | J16: =(H16-I16)*J$6 -> 0 | K16: =I16+J16 -> 0 | L16: =H16-K16 -> 0
A17: ='CHWM Adjustments Awarded'!A11 -> Customer Name 9 | B17: ='CHWM Adjustments Awarded'!B11 -> None | C17: ='CHWM Adjustments Awarded'!E11 -> 0 | D17: =IF($B17=D$1,C17,0) -> 0 | E17: =IF(E$4=1,MIN(D17,5),0) -> 0 | F17: =(D17-E17)*E$6 -> 0 | G17: =E17+F17 -> 0 | H17: =D17-G17 -> 0 | I17: =IF(J$4=1,MIN(H17,5),0) -> 0 | J17: =(H17-I17)*J$6 -> 0 | K17: =I17+J17 -> 0 | L17: =H17-K17 -> 0
A18: ='CHWM Adjustments Awarded'!A12 -> Customer Name 10 | B18: ='CHWM Adjustments Awarded'!B12 -> None | C18: ='CHWM Adjustments Awarded'!E12 -> 0 | D18: =IF($B18=D$1,C18,0) -> 0 | E18: =IF(E$4=1,MIN(D18,5),0) -> 0 | F18: =(D18-E18)*E$6 -> 0 | G18: =E18+F18 -> 0 | H18: =D18-G18 -> 0 | I18: =IF(J$4=1,MIN(H18,5),0) -> 0 | J18: =(H18-I18)*J$6 -> 0 | K18: =I18+J18 -> 0 | L18: =H18-K18 -> 0
A19: ='CHWM Adjustments Awarded'!A13 -> Customer Name 11 | B19: ='CHWM Adjustments Awarded'!B13 -> None | C19: ='CHWM Adjustments Awarded'!E13 -> 0 | D19: =IF($B19=D$1,C19,0) -> 0 | E19: =IF(E$4=1,MIN(D19,5),0) -> 0 | F19: =(D19-E19)*E$6 -> 0 | G19: =E19+F19 -> 0 | H19: =D19-G19 -> 0 | I19: =IF(J$4=1,MIN(H19,5),0) -> 0 | J19: =(H19-I19)*J$6 -> 0 | K19: =I19+J19 -> 0 | L19: =H19-K19 -> 0
A20: ='CHWM Adjustments Awarded'!A14 -> Customer Name 12 | B20: ='CHWM Adjustments Awarded'!B14 -> None | C20: ='CHWM Adjustments Awarded'!E14 -> 0 | D20: =IF($B20=D$1,C20,0) -> 0 | E20: =IF(E$4=1,MIN(D20,5),0) -> 0 | F20: =(D20-E20)*E$6 -> 0 | G20: =E20+F20 -> 0 | H20: =D20-G20 -> 0 | I20: =IF(J$4=1,MIN(H20,5),0) -> 0 | J20: =(H20-I20)*J$6 -> 0 | K20: =I20+J20 -> 0 | L20: =H20-K20 -> 0
... A48: ='CHWM Adjustments Awarded'!A42 -> Customer Name 40 | B48: ='CHWM Adjustments Awarded'!B42 -> None | C48: ='CHWM Adjustments Awarded'!E42 -> 0 | D48: =IF($B48=D$1,C48,0) -> 0 | E48: =IF(E$4=1,MIN(D48,5),0) -> 0 | F48: =(D48-E48)*E$6 -> 0 | G48: =E48+F48 -> 0 | H48: =D48-G48 -> 0 | I48: =IF(J$4=1,MIN(H48,5),0) -> 0 | J48: =(H48-I48)*J$6 -> 0 | K48: =I48+J48 -> 0 | L48: =H48-K48 -> 0

Sheet Eighth Rate Period
D1: Rate Period 8 (BP-43) | I1: z
D2: Rate Period Limit | E2: ='Rate Period Limits'!J15 -> 50
D3: New Requesting Utilities | E3: =COUNTIF(B9:B48,D1) -> 0
D4: Apply 5 aMW | E4: =IF((SUMIF(D9:D48,"<5",D9:D48)+(5*COUNTIF(D9:D48,">=5")))<E2,1,0) -> 1
D5: 5 aMW Applied | E5: =SUM(E9:E48) -> 0
D6: Rate Period Pro Rate | E6: =IF((SUM(D9:D48)-E5)>(E2-E5),(E2-E5)/(SUM(D9:D48)-E5),1) -> 1
A8: Customer Name | B8: First Rate Period | C8: Eligible Amount | D8: New Requests | E8: 5 aMW | F8: Rate Period Pro Rate | G8: Awarded Amounts | H8: Remaining Requests
A9: ='CHWM Adjustments Awarded'!A3 -> Customer A | B9: ='CHWM Adjustments Awarded'!B3 -> Rate Period 1 (BP-29) | C9: ='CHWM Adjustments Awarded'!E3 -> 75 | D9: =IF($B9=D$1,C9,0) -> 0 | E9: =IF(E$4=1,MIN(D9,5),0) -> 0 | F9: =(D9-E9)*E$6 -> 0 | G9: =E9+F9 -> 0 | H9: =D9-G9 -> 0
A10: ='CHWM Adjustments Awarded'!A4 -> Customer B | B10: ='CHWM Adjustments Awarded'!B4 -> Rate Period 1 (BP-29) | C10: ='CHWM Adjustments Awarded'!E4 -> 25 | D10: =IF($B10=D$1,C10,0) -> 0 | E10: =IF(E$4=1,MIN(D10,5),0) -> 0 | F10: =(D10-E10)*E$6 -> 0 | G10: =E10+F10 -> 0 | H10: =D10-G10 -> 0
A11: ='CHWM Adjustments Awarded'!A5 -> Customer C | B11: ='CHWM Adjustments Awarded'!B5 -> Rate Period 1 (BP-29) | C11: ='CHWM Adjustments Awarded'!E5 -> 5 | D11: =IF($B11=D$1,C11,0) -> 0 | E11: =IF(E$4=1,MIN(D11,5),0) -> 0 | F11: =(D11-E11)*E$6 -> 0 | G11: =E11+F11 -> 0 | H11: =D11-G11 -> 0
A12: ='CHWM Adjustments Awarded'!A6 -> Customer D | B12: ='CHWM Adjustments Awarded'!B6 -> Rate Period 3 (BP-33) | C12: ='CHWM Adjustments Awarded'!E6 -> 20 | D12: =IF($B12=D$1,C12,0) -> 0 | E12: =IF(E$4=1,MIN(D12,5),0) -> 0 | F12: =(D12-E12)*E$6 -> 0 | G12: =E12+F12 -> 0 | H12: =D12-G12 -> 0
A13: ='CHWM Adjustments Awarded'!A7 -> Customer E | B13: ='CHWM Adjustments Awarded'!B7 -> Rate Period 3 (BP-33) | C13: ='CHWM Adjustments Awarded'!E7 -> 10 | D13: =IF($B13=D$1,C13,0) -> 0 | E13: =IF(E$4=1,MIN(D13,5),0) -> 0 | F13: =(D13-E13)*E$6 -> 0 | G13: =E13+F13 -> 0 | H13: =D13-G13 -> 0
A14: ='CHWM Adjustments Awarded'!A8 -> Customer Name 6 | B14: ='CHWM Adjustments Awarded'!B8 -> None | C14: ='CHWM Adjustments Awarded'!E8 -> 0 | D14: =IF($B14=D$1,C14,0) -> 0 | E14: =IF(E$4=1,MIN(D14,5),0) -> 0 | F14: =(D14-E14)*E$6 -> 0 | G14: =E14+F14 -> 0 | H14: =D14-G14 -> 0
A15: ='CHWM Adjustments Awarded'!A9 -> Customer Name 7 | B15: ='CHWM Adjustments Awarded'!B9 -> None | C15: ='CHWM Adjustments Awarded'!E9 -> 0 | D15: =IF($B15=D$1,C15,0) -> 0 | E15: =IF(E$4=1,MIN(D15,5),0) -> 0 | F15: =(D15-E15)*E$6 -> 0 | G15: =E15+F15 -> 0 | H15: =D15-G15 -> 0
A16: ='CHWM Adjustments Awarded'!A10 -> Customer Name 8 | B16: ='CHWM Adjustments Awarded'!B10 -> None | C16: ='CHWM Adjustments Awarded'!E10 -> 0 | D16: =IF($B16=D$1,C16,0) -> 0 | E16: =IF(E$4=1,MIN(D16,5),0) -> 0 | F16: =(D16-E16)*E$6 -> 0 | G16: =E16+F16 -> 0 | H16: =D16-G16 -> 0
A17: ='CHWM Adjustments Awarded'!A11 -> Customer Name 9 | B17: ='CHWM Adjustments Awarded'!B11 -> None | C17: ='CHWM Adjustments Awarded'!E11 -> 0 | D17: =IF($B17=D$1,C17,0) -> 0 | E17: =IF(E$4=1,MIN(D17,5),0) -> 0 | F17: =(D17-E17)*E$6 -> 0 | G17: =E17+F17 -> 0 | H17: =D17-G17 -> 0
A18: ='CHWM Adjustments Awarded'!A12 -> Customer Name 10 | B18: ='CHWM Adjustments Awarded'!B12 -> None | C18: ='CHWM Adjustments Awarded'!E12 -> 0 | D18: =IF($B18=D$1,C18,0) -> 0 | E18: =IF(E$4=1,MIN(D18,5),0) -> 0 | F18: =(D18-E18)*E$6 -> 0 | G18: =E18+F18 -> 0 | H18: =D18-G18 -> 0
A19: ='CHWM Adjustments Awarded'!A13 -> Customer Name 11 | B19: ='CHWM Adjustments Awarded'!B13 -> None | C19: ='CHWM Adjustments Awarded'!E13 -> 0 | D19: =IF($B19=D$1,C19,0) -> 0 | E19: =IF(E$4=1,MIN(D19,5),0) -> 0 | F19: =(D19-E19)*E$6 -> 0 | G19: =E19+F19 -> 0 | H19: =D19-G19 -> 0
A20: ='CHWM Adjustments Awarded'!A14 -> Customer Name 12 | B20: ='CHWM Adjustments Awarded'!B14 -> None | C20: ='CHWM Adjustments Awarded'!E14 -> 0 | D20: =IF($B20=D$1,C20,0) -> 0 | E20: =IF(E$4=1,MIN(D20,5),0) -> 0 | F20: =(D20-E20)*E$6 -> 0 | G20: =E20+F20 -> 0 | H20: =D20-G20 -> 0
... A48: ='CHWM Adjustments Awarded'!A42 -> Customer Name 40 | B48: ='CHWM Adjustments Awarded'!B42 -> None | C48: ='CHWM Adjustments Awarded'!E42 -> 0 | D48: =IF($B48=D$1,C48,0) -> 0 | E48: =IF(E$4=1,MIN(D48,5),0) -> 0 | F48: =(D48-E48)*E$6 -> 0 | G48: =E48+F48 -> 0 | H48: =D48-G48 -> 0

Sheet Lists
A1: None | B1: None | C1: Rate Period 1 (BP-29)New Public
A2: Rate Period 1 (BP-29) | B2: New Public | C2: Rate Period 2 (BP-31)New Public
A3: Rate Period 2 (BP-31) | B3: Tribal | C3: Rate Period 3 (BP-33)New Public
A4: Rate Period 3 (BP-33) | C4: Rate Period 4 (BP-35)New Public
A5: Rate Period 4 (BP-35) | C5: Rate Period 5 (BP-37)New Public
A6: Rate Period 5 (BP-37) | C6: Rate Period 6 (BP-39)New Public
A7: Rate Period 6 (BP-39) | C7: Rate Period 7 (BP-41)New Public
A8: Rate Period 7 (BP-41) | C8: Rate Period 8 (BP-43)New Public
A9: Rate Period 8 (BP-43) | C9: Rate Period 1 (BP-29)Tribal
C10: Rate Period 2 (BP-31)Tribal
C11: Rate Period 3 (BP-33)Tribal
C12: Rate Period 4 (BP-35)Tribal
C13: Rate Period 5 (BP-37)Tribal
C14: Rate Period 6 (BP-39)Tribal
C15: Rate Period 7 (BP-41)Tribal
C16: Rate Period 8 (BP-43)Tribal
