Workbook
Name CHWM: [1]Init!$B$6
Name Customer: 'TRL Energy'!$B$8:$B$17
Name Customer: #REF!
Name loadstart: [1]Init!$B$17
Name RHWMlock: [2]Init!$C$14
Name startmonth: [3]Init!$C$12

Sheet TRL Energy
A1: Slice/Block and Block Customers' Total Retail Load Energy Data
A2: Prepared by Jason Weinstein, PSS, 09/26/2025
A5: BES No | B5: Customer Name | C5: FY2024 Measured - Total Retail Load Monthly Energy | O5: FY2026 Forecast - Total Retail Load Monthly Energy
C6: 45200 | D6: 45231 | E6: 45261 | F6: 45292 | G6: 45323 | H6: 45352 | I6: 45383 | J6: 45413 | K6: 45444 | L6: 45474 | M6: 45505 | N6: 45536 | O6: 45931 | P6: 45962 | Q6: 45992 | R6: 46023 | S6: 46054 | T6: 46082 | U6: 46113 | V6: 46143 | W6: 46174 | X6: 46204 | Y6: 46235 | Z6: 46266
C7: MWh | D7: MWh | E7: MWh | F7: MWh | G7: MWh | H7: MWh | I7: MWh | J7: MWh | K7: MWh | L7: MWh | M7: MWh | N7: MWh | O7: MWh | P7: MWh | Q7: MWh | R7: MWh | S7: MWh | T7: MWh | U7: MWh | V7: MWh | W7: MWh | X7: MWh | Y7: MWh | Z7: MWh
A8: 10105 | B8: CLATSKANIE PUD | C8: 56341.049 | D8: 63968.474 | E8: 60581.52 | F8: 66805.207 | G8: 61702.011 | H8: 65283.001 | I8: 61996.949 | J8: 60660.183 | K8: 58432.234 | L8: 57528.8 | M8: 57150.986 | N8: 50351.515 | O8: 356033 | P8: 377607 | Q8: 400192 | R8: 413432 | S8: 369664 | T8: 402703 | U8: 361825 | V8: 360707 | W8: 334200 | X8: 356643 | Y8: 353637 | Z8: 337365
A9: 10123 | B9: COWLITZ | C9: 343339.68 | D9: 354300.4 | E9: 375262.77 | F9: 371913.63 | G9: 369702.05 | H9: 357937.78 | I9: 372534.76 | J9: 336813.52 | K9: 313039.92 | L9: 351764.23 | M9: 346406.97 | N9: 334534.6 | O9: 356033 | P9: 377607 | Q9: 400192 | R9: 413432 | S9: 369664 | T9: 402703 | U9: 361825 | V9: 360707 | W9: 334200 | X9: 356643 | Y9: 353637 | Z9: 337365
A10: 10170 | B10: EWEB | C10: 183140.99 | D10: 211752.08 | E10: 217188.84 | F10: 222861.75 | G10: 206932.2 | H10: 211112.07 | I10: 185268.14 | J10: 168455.26 | K10: 170637.56 | L10: 198312.3 | M10: 188114.44 | N10: 173301.26 | O10: 192505.7 | P10: 206807.9 | Q10: 248431.1 | R10: 248483.2 | S10: 210113.5 | T10: 215433.4 | U10: 192537.7 | V10: 184450.7 | W10: 178807.8 | X10: 191302.2 | Y10: 191901.5 | Z10: 177030.8
A11: 10183 | B11: FRANKLIN PUD | C11: 86771.926 | D11: 84502.065 | E11: 88357.758 | F11: 105359.12 | G11: 79881.942 | H11: 75879.29 | I11: 81773.002 | J11: 89968.042 | K11: 107008.07 | L11: 132549.18 | M11: 124800.13 | N11: 103080.42 | O11: 91477.11 | P11: 87788.78 | Q11: 99358.3 | R11: 99159.74 | S11: 88834.48 | T11: 85551.73 | U11: 83869.98 | V11: 95267.62 | W11: 112921 | X11: 133383.8 | Y11: 131253.1 | Z11: 104000
A12: 10204 | B12: IDAHO FALLS | C12: 58485.32 | D12: 67932.985 | E12: 79432.192 | F12: 83207.079 | G12: 71640.635 | H12: 72648.233 | I12: 59245.699 | J12: 57500.659 | K12: 58256.694 | L12: 66633.14 | M12: 63589.54 | N12: 55488.453 | O12: 63029.18 | P12: 67504.46 | Q12: 89088.29 | R12: 88642.07 | S12: 75096.84 | T12: 74628.93 | U12: 61693.01 | V12: 58122.89 | W12: 58068.36 | X12: 67556.56 | Y12: 64773.28 | Z12: 55626.26
A13: 10237 | B13: LEWIS PUD | C13: 76383.852 | D13: 96432.125 | E13: 100288.61 | F13: 111657.51 | G13: 94747.605 | H13: 95992.448 | I13: 81306.112 | J13: 74509.8 | K13: 67247.409 | L13: 71618.702 | M13: 69487.201 | N13: 67112.876 | O13: 76700.77 | P13: 93016.77 | Q13: 106836.9 | R13: 113537.1 | S13: 101084.2 | T13: 95113.49 | U13: 79048.95 | V13: 72620.13 | W13: 66610.02 | X13: 70469.09 | Y13: 71510.16 | Z13: 68333.45
A14: 10286 | B14: OKANOGAN PUD | C14: 47034.36 | D14: 58344.12 | E14: 64857.76 | F14: 79686.73 | G14: 58109.76 | H14: 51353.66 | I14: 41640.23 | J14: 45042.73 | K14: 46144.31 | L14: 61624.8 | M14: 55307.82 | N14: 46669.91 | O14: 48233.588 | P14: 58955.087 | Q14: 76485.678 | R14: 75398.118 | S14: 64057.284 | T14: 53414.301 | U14: 43737.031 | V14: 43341.28 | W14: 46682.935 | X14: 56878.381 | Y14: 55487.714 | Z14: 45381.598
A15: 10306 | B15: PEND OREILLE PUD | C15: 732506.54 | D15: 758665.3 | E15: 683175.6 | F15: 837123.98 | G15: 865136.16 | H15: 822454.7 | I15: 792536.4 | J15: 753342.19 | K15: 721034.64 | L15: 420762.38 | M15: 360741.31 | N15: 317427.41 | O15: 58787.76 | P15: 64511.29 | Q15: 75177.13 | R15: 75599.39 | S15: 65082.89 | T15: 67412.77 | U15: 60434 | V15: 56187.04 | W15: 53733.03 | X15: 45557.39 | Y15: 45155.9 | Z15: 43460.23
A16: 10349 | B16: SEATTLE | C16: 759470.6 | D16: 845856.6 | E16: 896475.3 | F16: 992940.3 | G16: 844489.3 | H16: 849507.4 | I16: 749457.3 | J16: 709736.5 | K16: 663804 | L16: 747919.5 | M16: 720972.9 | N16: 677920.1 | O16: 763096 | P16: 833913 | Q16: 957239 | R16: 952860 | S16: 846285 | T16: 855299 | U16: 756004 | V16: 715579 | W16: 683567 | X16: 735671 | Y16: 738813 | Z16: 680574
A17: 10370 | B17: TACOMA | C17: 363073.4 | D17: 423572.5 | E17: 450355.9 | F17: 486555.7 | G17: 416139.7 | H17: 417925.8 | I17: 364785.8 | J17: 343409.3 | K17: 311238.2 | L17: 355734.9 | M17: 338428 | N17: 315245.9 | O17: 368733 | P17: 420364 | Q17: 468870 | R17: 468642 | S17: 424387 | T17: 442728 | U17: 362572 | V17: 341885 | W17: 319919 | X17: 335928 | Y17: 339750 | Z17: 323870
A19: Notes:
A20: 1/ Section 17.7 of the Slice/Block CHWM Contracts states that BPA shall make the following information publicly available:
A21: (A) Customer's measured Total Retail Load data for the previous Fiscal Year in monthly energy amounts and monthly customer-system peak amounts;
A22: (B) BPA's forecast of Customer's Total Retail Load, for the upcoming Fiscal Year, in monthly energy amounts and monthly customer-system peak amounts; and
A23: (C) Customer's Dedicated Resource energy and peak amounts for the upcoming Fiscal Year and the previous Fiscal Year.
A24: 2/ As of the date of this publication, BPA had not yet established a methodology for determining peak amounts for Customer's Dedicated Resources.
A25: Therefore, Dedicated Resource peak amounts are not available at this time.

Sheet TRL CSP
A1: Slice/Block and Block Customers' Total Retail Load Customer System Peak Data
A2: Prepared by Jason Weinstein, PSS, 09/26/2025
AG3: 1000
A5: BES No | B5: Customer Name | C5: FY2024 Measured - Monthly Customer System Peak | O5: FY2026 Forecast - Monthly Customer System Peak
C6: ='TRL Energy'!C6 -> 45200 | D6: ='TRL Energy'!D6 -> 45231 | E6: ='TRL Energy'!E6 -> 45261 | F6: ='TRL Energy'!F6 -> 45292 | G6: ='TRL Energy'!G6 -> 45323 | H6: ='TRL Energy'!H6 -> 45352 | I6: ='TRL Energy'!I6 -> 45383 | J6: ='TRL Energy'!J6 -> 45413 | ... Z6: ='TRL Energy'!Z6 -> 46266
C7: MW | D7: MW | E7: MW | F7: MW | G7: MW | H7: MW | I7: MW | J7: MW | K7: MW | L7: MW | M7: MW | N7: MW | O7: MW | P7: MW | Q7: MW | R7: MW | S7: MW | T7: MW | U7: MW | V7: MW | W7: MW | X7: MW | Y7: MW | Z7: MW
A8: 10105 | B8: CLATSKANIE PUD | C8: 128.139 | D8: 132.167 | E8: 131.876 | F8: 134.312 | G8: 129.302 | H8: 131.764 | I8: 127.654 | J8: 125.384 | K8: 122.143 | L8: 123.34 | M8: 120.039 | N8: 111.358 | O8: 98.731 | P8: 101.83 | Q8: 104.929 | R8: 107.2 | S8: 104.164 | T8: 103.705 | U8: 101.142 | V8: 96.894 | W8: 93.795 | X8: 91.193 | Y8: 91.307 | Z8: 94.1
A9: 10123 | B9: COWLITZ | C9: 608.689 | D9: 591.073 | E9: 612.898 | F9: 609.083 | G9: 631.698 | H9: 594.044 | I9: 625.229 | J9: 605.491 | K9: 522.131 | L9: 566.642 | M9: 559.525 | N9: 534.133 | O9: 645.2 | P9: 686.2 | Q9: 707.5 | R9: 729.7 | S9: 703.5 | T9: 700.7 | U9: 660.8 | V9: 640.3 | W9: 578.2 | X9: 622.9 | Y9: 609.8 | Z9: 599.5
A10: 10170 | B10: EWEB | C10: 400.614 | D10: 446.97 | E10: 376.947 | F10: 449.833 | G10: 379.285 | H10: 425.061 | I10: 360.065 | J10: 319.535 | K10: 330.623 | L10: 419.9 | M10: 381.482 | N10: 367.528 | O10: 328.818 | P10: 410.724 | Q10: 476.18 | R10: 474.726 | S10: 461.83 | T10: 407.05 | U10: 370.032 | V10: 330.912 | W10: 349.651 | X10: 378.736 | Y10: 383.681 | Z10: 338.664
A11: 10183 | B11: FRANKLIN PUD | C11: 155.537 | D11: 151.472 | E11: 146.509 | F11: 210.195 | G11: 156.538 | H11: 147.933 | I11: 140.388 | J11: 170.668 | K11: 220.446 | L11: 256.294 | M11: 251.694 | N11: 217.899 | O11: 161.324 | P11: 152.624 | Q11: 191.189 | R11: 196.85 | S11: 168.848 | T11: 154.853 | U11: 149.843 | V11: 194.14 | W11: 222.26 | X11: 241.467 | Y11: 246.006 | Z11: 201.167
A12: 10204 | B12: IDAHO FALLS | C12: 118.781 | D12: 130.524 | E12: 134.742 | F12: 155.175 | G12: 125.898 | H12: 130.393 | I12: 109.403 | J12: 101.351 | K12: 117.229 | L12: 131.199 | M12: 127.88 | N12: 109.714 | O12: 117.641 | P12: 126.185 | Q12: 149.913 | R12: 162.728 | S12: 143.244 | T12: 135.176 | U12: 117.128 | V12: 102.29 | W12: 121.548 | X12: 139.958 | Y12: 134.188 | Z12: 109.779
A13: 10237 | B13: LEWIS PUD | C13: 182.659 | D13: 211.031 | E13: 184.782 | F13: 242.262 | G13: 198.676 | H13: 209.475 | I13: 171.972 | J13: 154.282 | K13: 130.219 | L13: 143.506 | M13: 139.101 | N13: 133.655 | O13: 167.722 | P13: 190.958 | Q13: 221.444 | R13: 234.563 | S13: 237.798 | T13: 200.675 | U13: 173.292 | V13: 146.859 | W13: 124.4 | X13: 138.548 | Y13: 141.46 | Z13: 127.321
A14: 10286 | B14: OKANOGAN PUD | C14: 116.019 | D14: 121.225 | E14: 111.951 | F14: 194.165 | G14: 117.358 | H14: 118.354 | I14: 101.945 | J14: 98.201 | K14: 90.054 | L14: 111.211 | M14: 109.741 | N14: 118.622 | O14: 104.8 | P14: 127.6 | Q14: 165 | R14: 171.6 | S14: 152.1 | T14: 121.3 | U14: 98 | V14: 84 | W14: 96.7 | X14: 108.2 | Y14: 106.4 | Z14: 89.5
A15: 10306 | B15: PEND OREILLE PUD | C15: 110.647 | D15: 107.77 | E15: 106.891 | F15: 117.939 | G15: 120.103 | H15: 119.039 | I15: 106.704 | J15: 104.56 | K15: 92.07 | L15: 81.595 | M15: 81.053 | N15: 65.457 | O15: 107.136 | P15: 113.304 | Q15: 128.575 | R15: 136.101 | S15: 125.991 | T15: 118.993 | U15: 108.591 | V15: 101.547 | W15: 88.752 | X15: 96.045 | Y15: 86.262 | Z15: 90.253
A16: 10349 | B16: SEATTLE | C16: 1452 | D16: 1748.4 | E16: 1505.675 | F16: 2022.25 | G16: 1604.525 | H16: 1619.055 | I16: 1355.905 | J16: 1203 | K16: 1205.77 | L16: 1431.105 | M16: 1345.05 | N16: 1332.975 | O16: 1325 | P16: 1540 | Q16: 1687 | R16: 1727 | S16: 1618 | T16: 1551 | U16: 1360 | V16: 1236 | W16: 1252 | X16: 1416 | Y16: 1385 | Z16: 1242
A17: 10370 | B17: TACOMA | C17: 735.688 | D17: 793.477 | E17: 752.876 | F17: 985.719 | G17: 779.59 | H17: 814.025 | I17: 668.554 | J17: 599.563 | K17: 571.153 | L17: 711.254 | M17: 676.114 | N17: 643.837 | O17: 617 | P17: 757 | Q17: 867 | R17: 863 | S17: 877 | T17: 760 | U17: 771 | V17: 585 | W17: 658 | X17: 644 | Y17: 642 | Z17: 602
A19: Notes:
A20: 1/ Section 17.7 of the Slice/Block CHWM Contracts states that BPA shall make the following information publicly available:
A21: (A) Customer's measured Total Retail Load data for the previous Fiscal Year in monthly energy amounts and monthly customer-system peak amounts;
A22: (B) BPA's forecast of Customer's Total Retail Load, for the upcoming Fiscal Year, in monthly energy amounts and monthly customer-system peak amounts; and
A23: (C) Customer's Dedicated Resource energy and peak amounts for the upcoming Fiscal Year and the previous Fiscal Year.
A24: 2/ As of the date of this publication, BPA had not yet established a methodology for determining peak amounts for Customer's Dedicated Resources.
A25: Therefore, Dedicated Resource peak amounts are not available at this time.

Sheet Dedicated Resources Energy
A1: Slice/Block and Block Customers' Dedicated Resources Monthly Energy Data
A2: Prepared by Stephen Nitkowski, PSS, 07/31/2025
A5: BES No | B5: Customer Name | C5: FY2024 Total Dedicated Resources - Monthly Energy | O5: FY2026 Total Dedicated Resources - Monthly Energy
C6: ='TRL Energy'!C6 -> 45200 | D6: ='TRL Energy'!D6 -> 45231 | E6: ='TRL Energy'!E6 -> 45261 | F6: ='TRL Energy'!F6 -> 45292 | G6: ='TRL Energy'!G6 -> 45323 | H6: ='TRL Energy'!H6 -> 45352 | I6: ='TRL Energy'!I6 -> 45383 | J6: ='TRL Energy'!J6 -> 45413 | ... Z6: ='TRL Energy'!Z6 -> 46266
C7: MWh | D7: MWh | E7: MWh | F7: MWh | G7: MWh | H7: MWh | I7: MWh | J7: MWh | K7: MWh | L7: MWh | M7: MWh | N7: MWh | O7: MWh | P7: MWh | Q7: MWh | R7: MWh | S7: MWh | T7: MWh | U7: MWh | V7: MWh | W7: MWh | X7: MWh | Y7: MWh | Z7: MWh
A8: 10105 | B8: CLATSKANIE PUD | C8: 0 | D8: 0 | E8: 0 | F8: 0 | G8: 0 | H8: 0 | I8: 0 | J8: 0 | K8: 0 | L8: 0 | M8: 0 | N8: 0 | O8: 0 | P8: 0 | Q8: 0 | R8: 0 | S8: 0 | T8: 0 | U8: 0 | V8: 0 | W8: 0 | X8: 0 | Y8: 0 | Z8: 0
A9: 10123 | B9: COWLITZ | C9: 25610 | D9: 37052 | E9: 40804 | F9: 40251 | G9: 36966 | H9: 36735 | I9: 33491 | J9: 33371 | K9: 30819 | L9: 26151 | M9: 24138 | N9: 24164 | O9: 29090 | P9: 37058 | Q9: 40805 | R9: 40255 | S9: 35695 | T9: 36738 | U9: 33488 | V9: 33368 | W9: 30816 | X9: 26148 | Y9: 24137 | Z9: 24158
A10: 10170 | B10: EWEB | C10: 27142 | D10: 35107 | E10: 36939 | F10: 35427 | G10: 27857 | H10: 26212 | I10: 30838 | J10: 54300 | K10: 44193 | L10: 24482 | M10: 16450 | N10: 22115 | O10: 18362 | P10: 24544.103 | Q10: 26035.392 | R10: 25492.392 | S10: 20139.096 | T10: 19857.249 | U10: 24567.96 | V10: 46219.392 | W10: 38745.96 | X10: 20643.392 | Y10: 14603.196 | Z10: 16639
A11: 10183 | B11: FRANKLIN PUD | C11: 12109 | D11: 11773 | E11: 12445 | F11: 12265 | G11: 11379 | H11: 12101 | I11: 11839 | J11: 12703 | K11: 12263 | L11: 12359 | M11: 12195 | N11: 11711 | O11: 15013 | P11: 14587 | Q11: 15349 | R11: 15169 | S11: 13610 | T11: 15001 | U11: 14649 | V11: 15607 | W11: 15073 | X11: 15263 | Y11: 15099 | Z11: 14521
A12: 10204 | B12: IDAHO FALLS | C12: 13703 | D12: 15690 | E12: 23551 | F12: 22544 | G12: 20545 | H12: 17361 | I12: 14014 | J12: 5341 | K12: 4606 | L12: 7817 | M12: 11350 | N12: 13368 | O12: 12222 | P12: 14254 | Q12: 22070 | R12: 21063 | S12: 18498 | T12: 15882 | U12: 12580 | V12: 3860 | W12: 3172 | X12: 6336 | Y12: 9869 | Z12: 11935
A13: 10237 | B13: LEWIS PUD | C13: 1496 | D13: 1522 | E13: 2057 | F13: 2043 | G13: 1659 | H13: 1709 | I13: 2004 | J13: 2679 | K13: 2363 | L13: 1841 | M13: 1569 | N13: 1395 | O13: 489 | P13: 546 | Q13: 1050 | R13: 1036 | S13: 692 | T13: 703 | U13: 1029 | V13: 1672 | W13: 1388 | X13: 834 | Y13: 562 | Z13: 420
A14: 10286 | B14: OKANOGAN PUD | C14: 19588 | D14: 20889 | E14: 25357 | F14: 21763 | G14: 17165 | H14: 15437 | I14: 14419 | J14: 22538 | K14: 26211 | L14: 26668 | M14: 27478 | N14: 17384 | O14: 20387 | P14: 21743 | Q14: 26133 | R14: 22592 | S14: 17330 | T14: 16294 | U14: 15121 | V14: 23345 | W14: 26862 | X14: 27422 | Y14: 28256 | Z14: 18065
A15: 10306 | B15: PEND OREILLE PUD | C15: 69862 | D15: 57975 | E15: 66474 | F15: 62087 | G15: 60128 | H15: 66447 | I15: 78905 | J15: 86336 | K15: 79365 | L15: 63860 | M15: 64164 | N15: 54301 | O15: 72838 | P15: 52813 | Q15: 64854 | R15: 53982 | S15: 45565.97 | T15: 49791 | U15: 74740 | V15: 85603 | W15: 79456 | X15: 66034 | Y15: 64803 | Z15: 55711
A16: 10349 | B16: SEATTLE | C16: 436702.1 | D16: 309606.1 | E16: 405349.1 | F16: 331248.1 | G16: 279107.1 | H16: 289280.1 | I16: 486237.1 | J16: 641708.1 | K16: 748465.1 | L16: 511754.1 | M16: 468340.1 | N16: 309773.1 | O16: 436106 | P16: 309469 | Q16: 405348 | R16: 331251 | S16: 271046 | T16: 289283 | U16: 485657 | V16: 641029 | W16: 747805 | X16: 511006 | Y16: 467587 | Z16: 309117
A17: 10370 | B17: TACOMA | C17: 171732 | D17: 159676 | E17: 158822 | F17: 164208 | G17: 137285 | H17: 107464 | I17: 105603 | J17: 111471 | K17: 110452 | L17: 103645 | M17: 123338 | N17: 114066 | O17: 171733 | P17: 159686 | Q17: 158823 | R17: 164214 | S17: 132558 | T17: 107471 | U17: 105601 | V17: 111463 | W17: 110441 | X17: 103642 | Y17: 123330 | Z17: 114060
A19: Notes:
A20: 1/ Section 17.7 of the Slice/Block CHWM Contracts states that BPA shall make the following information publicly available:
A21: (A) Customer's measured Total Retail Load data for the previous Fiscal Year in monthly energy amounts and monthly customer-system peak amounts;
A22: (B) BPA's forecast of Customer's Total Retail Load, for the upcoming Fiscal Year, in monthly energy amounts and monthly customer-system peak amounts; and
A23: (C) Customer's Dedicated Resource energy and peak amounts for the upcoming Fiscal Year and the previous Fiscal Year.
A24: 2/ As of the date of this publication, BPA had not yet established a methodology for determining peak amounts for Customer's Dedicated Resources.
A25: Therefore, Dedicated Resource peak amounts are not available at this time.
