Workbook
Name _56F9DC9755BA473782653E2940F9FormId: "79XIZPe22EO4S40ETtyQHR6SSzqw2MZMgX2hLKkxMm5UNkJBVThJMThQWTFKRURLNzJTNDU4VExQNSQlQCN0PWcu"
Name _56F9DC9755BA473782653E2940F9ResponseSheet: "Form1"
Name _56F9DC9755BA473782653E2940F9SourceDocId: "{e50dfd7f-ac2f-40a5-b514-1bf91148ed70}"
Name _PTD1: #REF!
Name _PTD2: #REF!
Name _PTD3: #REF!
Name _WNP2: #REF!
Name Alt_Load_Switch: #REF!
Name BlockSales: #REF!
Name CompleAugHLH: #REF!
Name CompleAugLLH: #REF!
Name contr_time_period_default: #REF!
Name DIST: 'Sch 1- Rate Base '!$Q$1:$Q$3
Name DIST1: #REF!
Name DIST2: #REF!
Name DIST3: #REF!
Name DSIHLH: #REF!
Name DSILLH: #REF!
Name FedGenSliceHLH: #REF!
Name FedGenSliceLLH: #REF!
Name FirmConHLH: #REF!
Name FirmConLLH: #REF!
Name FPSPFHLH: #REF!
Name FPSPFLLH: #REF!
Name HydroGenHossHLH: #REF!
Name HydroGenHOSSLLH: #REF!
Name ine: #REF!
Name INFL: #REF!
Name IOUHLH: #REF!
Name IOULLH: #REF!
Name Logo: "Picture 6"
Name months: #REF!
Name NRHLH: #REF!
Name NRLLH: #REF!
Name OthResourceHLH: #REF!
Name OthResourceLLH: #REF!
Name PFHLH: #REF!
Name PFHLHAftSlice: #REF!
Name PFLLH: #REF!
Name PFLLHAftSlice: #REF!
Name PreHLH: #REF!
Name PreLLH: #REF!
Name PROD: 'Sch 1- Rate Base '!$R$1:$R$3
Name PROD1: #REF!
Name PROD2: #REF!
Name PROD3: #REF!
Name PTD: 'Sch 1- Rate Base '!$P$1:$P$3
Name Ratio: Ratios!$D$77:$G$87
Name RATIO1: #REF!
Name RATIO2: #REF!
Name RATIO3: #REF!
Name rbcalc: #REF!
Name rbcalc_heading: #REF!
Name retail_access_mitigation: #REF!
Name Sandpoint: #REF!
Name SlicetoPurchHLH: #REF!
Name SlicetoPurchLLH: #REF!
Name SpillHLH: #REF!
Name SpillLLH: #REF!
Name start_acct_exec: #REF!

Sheet Revisions_2026-28
A4: 1 | B4: Change dates in Sch 1- Rate Base Tab
C6: Cell E6 | D6: Change from: | F6: 2021 | G6: to | H6: 2023
C8: Cell E7 | D8: Change from: | F8: 44743 | G8: to | H8: 45476
A11: 2 | B11: In NLSL_Base_New_Calc Tab
C13: Cell A47 | D13: Change from | F13: 2021 cost of serving NLSLs under Endnote d | G13: to | H13: 2023 cost of serving NLSLs under Endnote d
A16: 3 | B16: In Above-RHWM_Base_New_Calc Tab
C18: Cell A47 | D18: Change from | F18: 2021 cost of serving Above-RHWM Loads under Endnote d | G18: to | H18: 2023 cost of serving Above-RHWM Loads under Endnote d
A21: 4 | B21: Updated all Footers from | F21: FY 2024-2025 ASC Filing | G21: to | H21: FY 2024-2025 ASC Filing
A24: 5 | B24: In New Resources-Individual and New Resources Group Tabs
C26: Cell B3 | D26: Change from | F26: 45566 | G26: to | H26: 46478 | I26: Midpoint is different because of the three year rate period
A28: 6 | B28: In Schedule 1 - Rate Base
C30: Check all account numbers

Sheet TOC
A1: FY 2026-2028 ASC Appendix 1
A2: Table of Contents
C3: Table 1 Endotes
A4: 1 | B4: Schedule 1 - Rate Base | C4: (a/)
A5: 2 | B5: Schedule 1A - Cash Working Capital | C5: (a/)
A6: 3 | B6: Schedule 2 -Rate of Return | C6: (h/)
A7: 4 | B7: Schedule 3 - Expenses | C7: (b/), (c/), (d/), (e/), (f/)
A8: 5 | B8: Schedule 3A - Taxes
A9: 6 | B9: Schedule 3B - Other Items | C9: (g/)
A10: 7 | B10: Schedule 4 - Average System Cost | C10: (i/) and( j/)
A11: 8 | B11: 5-YEAR PP & OSS Worksheet
A12: 9 | B12: Load Forecast
A13: 10 | B13: Distribution Loss Calc
A14: 11 | B14: Salaries
A15: 12 | B15: Ratios
A16: 13 | B16: New Resources- Individual
A17: 14 | B17: New Resources-Group
A18: 15 | B18: Materiality - Individual
A19: 16 | B19: Materiality - Group
A20: 17 | B20: Wind_Resources_Costs
A21: 18 | B21: NLSL Base New Calculation

Sheet Sch 1- Rate Base 
A1: BONNEVILLE POWER ADMINISTRATION
A2: RESIDENTIAL PURCHASE AND SALES AGREEMENT
A3: 2026 Average System Cost Methodology (ASCM) Appendix 1
A5: TOC | D5: UTILITY NAME: | I5: BPA Reviews:
A6: é | D6: End of Year Report Period:
D7: ASC Filing Date:
A10: Schedule 1: Plant Investment / Rate Base
A12: Account Description | C12: FERC Form 1 | E12: Functionalization | G12: Total | H12: Production | I12: Transmission | J12: Distribution/ Other | L12: Production | M12: Transmission
C13: Page | D13: Account | N13: Distribution/
C14: Number | D14: Numbers | E14: Default | F14: Optional | N14: Other
A15: Intangible Plant:
B16: Intangible Plant - Organization | C16: 204-207 | D16: 301 | E16: DIST | G16: 0 | H16: =VLOOKUP($E16,Ratio,2,FALSE)*$G16 -> 0 | I16: =VLOOKUP($E16,Ratio,3,FALSE)*$G16 -> 0 | J16: =VLOOKUP($E16,Ratio,4,FALSE)*$G16 -> 0
B17: Intangible Plant - Franchises and Consents | C17: 204-207 | D17: 302 | E17: DIRECT | F17: PTD | G17: 0 | H17: =IF($E17="DIRECT",$L17,VLOOKUP($E17,Ratio,2,FALSE)*$G17) -> 0 | I17: =IF($E17="DIRECT",$M17,VLOOKUP($E17,Ratio,3,FALSE)*$G17) -> 0 | J17: =IF($E17="DIRECT",$N17,VLOOKUP($E17,Ratio,4,FALSE)*$G17) -> 0
B18: Intangible Plant - Miscellaneous | C18: 204-207 | D18: 303 | E18: DIRECT | F18: DIST | G18: 0 | H18: =IF($E18="DIRECT",$L18,VLOOKUP($E18,Ratio,2,FALSE)*$G18) -> 0 | I18: =IF($E18="DIRECT",$M18,VLOOKUP($E18,Ratio,3,FALSE)*$G18) -> 0 | J18: =IF($E18="DIRECT",$N18,VLOOKUP($E18,Ratio,4,FALSE)*$G18) -> 0
A19: Total Intangible Plant | G19: =SUM(G16:G18) -> 0 | H19: =SUM(H16:H18) -> 0 | I19: =SUM(I16:I18) -> 0 | J19: =SUM(J16:J18) -> 0
A21: Production Plant:
B22: Steam Production | C22: 204-207 | D22: 310-317 | E22: PROD | G22: 0 | H22: =VLOOKUP($E22,Ratio,2,FALSE)*$G22 -> 0 | I22: =VLOOKUP($E22,Ratio,3,FALSE)*$G22 -> 0 | J22: =VLOOKUP($E22,Ratio,4,FALSE)*$G22 -> 0
B23: Nuclear Production | C23: 204-207 | D23: 320-326 | E23: PROD | G23: 0 | H23: =VLOOKUP($E23,Ratio,2,FALSE)*$G23 -> 0 | I23: =VLOOKUP($E23,Ratio,3,FALSE)*$G23 -> 0 | J23: =VLOOKUP($E23,Ratio,4,FALSE)*$G23 -> 0
B24: Hydraulic Production | C24: 204-207 | D24: 330-337 | E24: PROD | G24: 0 | H24: =VLOOKUP($E24,Ratio,2,FALSE)*$G24 -> 0 | I24: =VLOOKUP($E24,Ratio,3,FALSE)*$G24 -> 0 | J24: =VLOOKUP($E24,Ratio,4,FALSE)*$G24 -> 0
B25: Solar Production | C25: 204-207 | D25: 338.1-338.13 | E25: PROD | G25: 0 | H25: =VLOOKUP($E25,Ratio,2,FALSE)*$G25 -> 0 | I25: =VLOOKUP($E25,Ratio,3,FALSE)*$G25 -> 0 | J25: =VLOOKUP($E25,Ratio,4,FALSE)*$G25 -> 0
B26: Wind Production | C26: 204-207 | D26: 338.20-338.34 | E26: PROD | G26: 0 | H26: =VLOOKUP($E26,Ratio,2,FALSE)*$G26 -> 0 | I26: =VLOOKUP($E26,Ratio,3,FALSE)*$G26 -> 0 | J26: =VLOOKUP($E26,Ratio,4,FALSE)*$G26 -> 0
B27: Other Renewable Production | C27: 204-207 | D27: 339.1-339.13 | E27: PROD | G27: 0 | H27: =VLOOKUP($E27,Ratio,2,FALSE)*$G27 -> 0 | I27: =VLOOKUP($E27,Ratio,3,FALSE)*$G27 -> 0 | J27: =VLOOKUP($E27,Ratio,4,FALSE)*$G27 -> 0
B28: Other Production | C28: 204-207 | D28: 340-347 | E28: PROD | G28: 0 | H28: =VLOOKUP($E28,Ratio,2,FALSE)*$G28 -> 0 | I28: =VLOOKUP($E28,Ratio,3,FALSE)*$G28 -> 0 | J28: =VLOOKUP($E28,Ratio,4,FALSE)*$G28 -> 0
A29: Total Production Plant | G29: =SUM(G22:G28) -> 0 | H29: =SUM(H22:H28) -> 0 | I29: =SUM(I22:I28) -> 0 | J29: =SUM(J22:J28) -> 0
A31: Transmission Plant:
B32: Transmission Plant | C32: 204-207 | D32: 350-359.1 | E32: TRANS | G32: 0 | H32: =VLOOKUP($E32,Ratio,2,FALSE)*$G32 -> 0 | I32: =VLOOKUP($E32,Ratio,3,FALSE)*$G32 -> 0 | J32: =VLOOKUP($E32,Ratio,4,FALSE)*$G32 -> 0
A33: Total Transmission Plant | G33: =SUM(G32) -> 0 | H33: =SUM(H32) -> 0 | I33: =SUM(I32) -> 0 | J33: =SUM(J32) -> 0
A35: Distribution Plant:
B36: Distribution Plant | C36: 204-207 | D36: 360-374 | E36: DIST | G36: 0 | H36: =VLOOKUP($E36,Ratio,2,FALSE)*$G36 -> 0 | I36: =VLOOKUP($E36,Ratio,3,FALSE)*$G36 -> 0 | J36: =VLOOKUP($E36,Ratio,4,FALSE)*$G36 -> 0
A37: Total Distribution Plant | G37: =SUM(G36) -> 0 | H37: =SUM(H36) -> 0 | I37: =SUM(I36) -> 0 | J37: =SUM(J36) -> 0
A39: Energy Storage Plant:
B40: Energy Storage Plant | C40: 204-207 | D40: 387-387.12 | E40: PTD | G40: 0 | H40: =VLOOKUP($E40,Ratio,2,FALSE)*$G40 -> 0 | I40: =VLOOKUP($E40,Ratio,3,FALSE)*$G40 -> 0 | J40: =VLOOKUP($E40,Ratio,4,FALSE)*$G40 -> 0
A41: Total Energy Storage Plant | G41: =SUM(G40) -> 0 | H41: =SUM(H40) -> 0 | I41: =SUM(I40) -> 0 | J41: =SUM(J40) -> 0
A43: General Plant:
B44: Land and Land Rights | C44: 204-207 | D44: 389 | E44: PTD | G44: 0 | H44: =VLOOKUP($E44,Ratio,2,FALSE)*$G44 -> 0 | I44: =VLOOKUP($E44,Ratio,3,FALSE)*$G44 -> 0 | J44: =VLOOKUP($E44,Ratio,4,FALSE)*$G44 -> 0
B45: Structures and Improvements | C45: 204-207 | D45: 390 | E45: PTD | G45: 0 | H45: =VLOOKUP($E45,Ratio,2,FALSE)*$G45 -> 0 | I45: =VLOOKUP($E45,Ratio,3,FALSE)*$G45 -> 0 | J45: =VLOOKUP($E45,Ratio,4,FALSE)*$G45 -> 0
B46: Furniture and Equipment | C46: 204-207 | D46: 391 | E46: LABOR | G46: 0 | H46: =VLOOKUP($E46,Ratio,2,FALSE)*$G46 -> 0 | I46: =VLOOKUP($E46,Ratio,3,FALSE)*$G46 -> 0 | J46: =VLOOKUP($E46,Ratio,4,FALSE)*$G46 -> 0
B47: Transportation Equipment | C47: 204-207 | D47: 392 | E47: TD | G47: 0 | H47: =VLOOKUP($E47,Ratio,2,FALSE)*$G47 -> 0 | I47: =VLOOKUP($E47,Ratio,3,FALSE)*$G47 -> 0 | J47: =VLOOKUP($E47,Ratio,4,FALSE)*$G47 -> 0
B48: Stores Equipment | C48: 204-207 | D48: 393 | E48: PTD | G48: 0 | H48: =VLOOKUP($E48,Ratio,2,FALSE)*$G48 -> 0 | I48: =VLOOKUP($E48,Ratio,3,FALSE)*$G48 -> 0 | J48: =VLOOKUP($E48,Ratio,4,FALSE)*$G48 -> 0
B49: Tools and Garage Equipment | C49: 204-207 | D49: 394 | E49: PTD | G49: 0 | H49: =VLOOKUP($E49,Ratio,2,FALSE)*$G49 -> 0 | I49: =VLOOKUP($E49,Ratio,3,FALSE)*$G49 -> 0 | J49: =VLOOKUP($E49,Ratio,4,FALSE)*$G49 -> 0
...

Sheet Sch 1A - Cash Working Capital
A1: BONNEVILLE POWER ADMINISTRATION
A2: RESIDENTIAL PURCHASE AND SALE AGREEMENT
A3: 2026 Average System Cost Methodology (ASCM) Appendix 1
A5: TOC | B5: UTILITY NAME: | C5: ='Sch 1- Rate Base '!$E$5 -> 0 | F5: BPA Reviews:
B6: End of Year Report Period: | C6: ='Sch 1- Rate Base '!$E$6 -> 0 | F6: ='Sch 1- Rate Base '!I6
B7: ASC Filing Date: | C7: ='Sch 1- Rate Base '!$E$7 -> 0 | F7: ='Sch 1- Rate Base '!I7
A10: Schedule 1A: Cash Working Capital (a/)
A11: (Automatic Input from Schedule 3- Expenses)
A12: Account Description | C12: Total | D12: Production | E12: Transmission | F12: Distribution/ Other
A14: Cash Working Capital Calculation:
B15: Total Production O&M | C15: ='Sch 3 - Expenses'!G36 -> 0 | D15: ='Sch 3 - Expenses'!H36 -> 0 | E15: ='Sch 3 - Expenses'!I36 -> 0 | F15: ='Sch 3 - Expenses'!J36 -> 0
B16: Total Transmission O&M | C16: ='Sch 3 - Expenses'!G42 -> 0 | D16: ='Sch 3 - Expenses'!H42 -> 0 | E16: ='Sch 3 - Expenses'!I42 -> 0 | F16: ='Sch 3 - Expenses'!J42 -> 0
B17: Total Distribution O&M | C17: ='Sch 3 - Expenses'!G47 -> 0 | D17: ='Sch 3 - Expenses'!H47 -> 0 | E17: ='Sch 3 - Expenses'!I47 -> 0 | F17: ='Sch 3 - Expenses'!J47 -> 0
B18: Total Customer & Sales | C18: ='Sch 3 - Expenses'!G55 -> 0 | D18: ='Sch 3 - Expenses'!H55 -> 0 | E18: ='Sch 3 - Expenses'!I55 -> 0 | F18: ='Sch 3 - Expenses'!J55 -> 0
B19: Total Administrative and General O&M | C19: ='Sch 3 - Expenses'!G75 -> 0 | D19: ='Sch 3 - Expenses'!H75 -> 0 | E19: ='Sch 3 - Expenses'!I75 -> 0 | F19: ='Sch 3 - Expenses'!J75 -> 0
B20: Less Purchased Power, Public Purpose Charge, Purchase Power for Storage, Fuel Costs | C20: ='Sch 3 - Expenses'!G16+'Sch 3 - Expenses'!G20+'Sch 3 - Expenses'!G27+'Sch 3 - Expenses'!G31+'Sch 3 - Expenses'!G35+G30+'Sch 3 - Expenses'!G32 -> 0 | D20: ='Sch 3 - Expenses'!H16+'Sch 3 - Expenses'!H20+'Sch 3 - Expenses'!H27+'Sch 3 - Expenses'!H31+'Sch 3 - Expenses'!H35+H30+'Sch 3 - Expenses'!H32 -> 0 | E20: ='Sch 3 - Expenses'!I16+'Sch 3 - Expenses'!I20+'Sch 3 - Expenses'!I27+'Sch 3 - Expenses'!I31+'Sch 3 - Expenses'!I35+I30+'Sch 3 - Expenses'!I32 -> 0 | F20: ='Sch 3 - Expenses'!J16+'Sch 3 - Expenses'!J20+'Sch 3 - Expenses'!J27+'Sch 3 - Expenses'!J31+'Sch 3 - Expenses'!J35+J30+'Sch 3 - Expenses'!J32 -> 0
A21: Revised Total O&M Expenses | C21: =SUM(C15:C19)-C20 -> 0 | D21: =SUM(D15:D19)-D20 -> 0 | E21: =SUM(E15:E19)-E20 -> 0 | F21: =SUM(F15:F19)-F20 -> 0
A23: One-Eighth Revised Total O&M Expenses
A24: Allowable Functionalized Cash Working Capital | C24: =C21/8 -> 0 | D24: =D21/8 -> 0 | E24: =E21/8 -> 0 | F24: =F21/8 -> 0
B30: Account 557 Disallowed Amounts | G30: 0 | H30: 0

Sheet Sch 2 -Rate of Return
A1: BONNEVILLE POWER ADMINISTRATION
A2: RESIDENTIAL PURCHASE AND SALE AGREEMENT
A3: 2026 Average System Cost Methodology (ASCM) Appendix 1
A5: TOC | C5: UTILITY NAME: | D5: ='Sch 1- Rate Base '!$E$5 -> 0 | H5: BPA Reviews:
A6: é | C6: End of Year Report Period: | D6: ='Sch 1- Rate Base '!$E$6 -> 0 | H6: ='Sch 1- Rate Base '!I6
C7: ASC Filing Date: | D7: ='Sch 1- Rate Base '!$E$7 -> 0 | H7: ='Sch 1- Rate Base '!I7
A8: Schedule 2: Capital Structure and Rate of Return (h/)
D10: SUMMARY (for use by ASC Forecast Model)
D11: Single-Jurisdiction Investor-Owned Utility Return Calculation: | E11: =E35 -> 0
D12: Multi-Jurisdiction Investor-Owned Utility Return Calculation: | E12: =E90 -> 0
D13: Consumer-Owned Utility Return Calculation: | E13: =E118 -> 0
D14: Rate of Return : | E14: =SUM(E11:E13) -> 0
A16: Single-Jurisdiction Investor-Owned Utility Return Calculation
A18: Step 1: Weighted Cost of Capital from Most Recent State Commission Rate Order
A19: Note: Multi-jurisdictional utilities must begin on Page 2
A20: Publicly-owned utilities must begin on Page 4
B22: Capitalization Structure | D22: Effective Cost
A23: Component | B23: Amount | C23: Percent | D23: Embedded | E23: Weighted
A24: Debt | C24: 0 | E24: =ROUNDUP(D24*C24,5) -> 0
A25: Preferred Equity | C25: 0 | E25: =ROUNDUP(D25*C25,5) -> 0
A26: Common Equity | C26: 0 | E26: =ROUNDUP(D26*C26,5) -> 0
A27: Weighted Cost of Capital | B27: =SUM(B24:B26) -> 0 | C27: =IF($B$27=0,0,B27/$B$27) -> 0 | E27: =SUM(E24:E26) -> 0
A29: Step 2: Gross Up Equity Return for Federal Income Taxes
A31: Federal Income Tax Rate (21% during Base Period) | D31: 0.21
A32: Federal Income Tax Factor | E32: =(E27-(E24))*(D31/(1-D31)) -> 0
A33: {(ROR – (Embedded Cost of Debt * (Debt / (Total Capital))} * {(Federal Tax Rate / (1- Federal Tax Rate)}
A35: Federal Income Tax Adjusted Weighted Cost of Capital | E35: =E27+E32 -> 0
A36: (Weighted Cost of Capital Plus Federal Income Tax Factor)
A38: Step 3: Calculate Return on Rate Base
E39: Total | F39: Production | G39: Transmission | H39: Other
A40: Total Rate Base from Schedule 1 | E40: ='Sch 1- Rate Base '!G166 -> 0 | F40: ='Sch 1- Rate Base '!H166 -> 0 | G40: ='Sch 1- Rate Base '!I166 -> 0 | H40: ='Sch 1- Rate Base '!J166 -> 0
A41: Federal Income Tax Adjusted Weighted Cost of Capital | E41: =$E$35 -> 0 | F41: =$E$35 -> 0 | G41: =$E$35 -> 0 | H41: =$E$35 -> 0
A42: Federal Income Tax Adjusted Return on Rate Base | E42: =E41*E40 -> 0 | F42: =F41*F40 -> 0 | G42: =G41*G40 -> 0 | H42: =H41*H40 -> 0
A43: (Total Rate Base * Federal Income Tax Adjusted Weighted Cost of Capital)
A47: Multi-Jurisdiction Investor-Owned Utility Return Calculation
A48: Step 1:
A49: Weighted Cost of Capital from Most Recent State Commission Rate Order in Jurisdiction 1
B51: Capitalization Structure | D51: Effective Cost | F51: Jurisdictional | G51: Effective Cost -
A52: Component | B52: Amount | C52: Percent | D52: Embedded | E52: Weighted | F52: Allocation | G52: Weighted State Allocation
A53: Debt | B53: 0 | C53: =IF($B$72=0,0,B53/$B$72) -> 0 | E53: =ROUNDUP(D53*C53,5) -> 0 | F53: =IF(B61=0,"0",B61/$B$78) -> 0 | G53: =E53*$F$69 -> 0 | H53: =C53*$F$69 -> 0
...

Sheet Sch 3 - Expenses
A1: BONNEVILLE POWER ADMINISTRATION
A2: RESIDENTIAL PURCHASE AND SALE AGREEMENT
A3: 2026 Average System Cost Methodology (ASCM) Appendix 1
A5: TOC | D5: UTILITY NAME: | E5: ='Sch 1- Rate Base '!$E$5 -> 0 | I5: BPA Reviews:
A6: é | D6: End of Year Report Period: | E6: ='Sch 1- Rate Base '!$E$6 -> 0 | I6: ='Sch 1- Rate Base '!I6
D7: ASC Filing Date: | E7: ='Sch 1- Rate Base '!$E$7 -> 0 | I7: ='Sch 1- Rate Base '!I7
A9: Schedule 3: Expenses
A11: Account Description | C11: Form 1 | E11: Functionalization | G11: Total | H11: Production | I11: Transmission | J11: Distribution/ Other | L11: Production | M11: Transmission | N11: Distribution/ Other
C12: Page | D12: Account
C13: Number | D13: Numbers | E13: Default | F13: Optional
A14: Power Production Expenses:
B15: Steam Power Generation
B16: Steam Power - Fuel | C16: 320-323 | D16: 501 | E16: PROD | G16: 0 | H16: =VLOOKUP($E16,Ratio,2,FALSE)*$G16 -> 0 | I16: =VLOOKUP($E16,Ratio,3,FALSE)*$G16 -> 0 | J16: =VLOOKUP($E16,Ratio,4,FALSE)*$G16 -> 0
B17: Steam Power - Operations (Excluding 501 - Fuel) | C17: 320-323 | D17: 500-509 | E17: PROD | G17: 0 | H17: =VLOOKUP($E17,Ratio,2,FALSE)*$G17 -> 0 | I17: =VLOOKUP($E17,Ratio,3,FALSE)*$G17 -> 0 | J17: =VLOOKUP($E17,Ratio,4,FALSE)*$G17 -> 0
B18: Steam Power - Maintenance | C18: 320-323 | D18: 510-515 | E18: PROD | G18: 0 | H18: =VLOOKUP($E18,Ratio,2,FALSE)*$G18 -> 0 | I18: =VLOOKUP($E18,Ratio,3,FALSE)*$G18 -> 0 | J18: =VLOOKUP($E18,Ratio,4,FALSE)*$G18 -> 0
B19: Nuclear Power Generation
B20: Nuclear - Fuel | C20: 320-323 | D20: 518 | E20: PROD | G20: 0 | H20: =VLOOKUP($E20,Ratio,2,FALSE)*$G20 -> 0 | I20: =VLOOKUP($E20,Ratio,3,FALSE)*$G20 -> 0 | J20: =VLOOKUP($E20,Ratio,4,FALSE)*$G20 -> 0
B21: Nuclear - Operation ( Excluding 518 - Fuel) | C21: 320-323 | D21: 517-525 | E21: PROD | G21: 0 | H21: =VLOOKUP($E21,Ratio,2,FALSE)*$G21 -> 0 | I21: =VLOOKUP($E21,Ratio,3,FALSE)*$G21 -> 0 | J21: =VLOOKUP($E21,Ratio,4,FALSE)*$G21 -> 0
B22: Nuclear - Maintenance | C22: 320-323 | D22: 528-532 | E22: PROD | G22: 0 | H22: =VLOOKUP($E22,Ratio,2,FALSE)*$G22 -> 0 | I22: =VLOOKUP($E22,Ratio,3,FALSE)*$G22 -> 0 | J22: =VLOOKUP($E22,Ratio,4,FALSE)*$G22 -> 0
B23: Hydraulic Power Generation
B24: Hydraulic - Operation | C24: 320-323 | D24: 535-540.1 | E24: PROD | G24: 0 | H24: =VLOOKUP($E24,Ratio,2,FALSE)*$G24 -> 0 | I24: =VLOOKUP($E24,Ratio,3,FALSE)*$G24 -> 0 | J24: =VLOOKUP($E24,Ratio,4,FALSE)*$G24 -> 0
B25: Hydraulic - Maintenance | C25: 320-323 | D25: 541-545.1 | E25: PROD | G25: 0 | H25: =VLOOKUP($E25,Ratio,2,FALSE)*$G25 -> 0 | I25: =VLOOKUP($E25,Ratio,3,FALSE)*$G25 -> 0 | J25: =VLOOKUP($E25,Ratio,4,FALSE)*$G25 -> 0
B26: Other Power Generation
B27: Other Power - Fuel | C27: 320-323 | D27: 547 | E27: PROD | G27: 0 | H27: =VLOOKUP($E27,Ratio,2,FALSE)*$G27 -> 0 | I27: =VLOOKUP($E27,Ratio,3,FALSE)*$G27 -> 0 | J27: =VLOOKUP($E27,Ratio,4,FALSE)*$G27 -> 0
B28: Other Power - Operations (Excluding 547 - Fuel) | C28: 320-323 | D28: 546-550.1 | E28: PROD | G28: 0 | H28: =VLOOKUP($E28,Ratio,2,FALSE)*$G28 -> 0 | I28: =VLOOKUP($E28,Ratio,3,FALSE)*$G28 -> 0 | J28: =VLOOKUP($E28,Ratio,4,FALSE)*$G28 -> 0
B29: Other Power - Maintenance | C29: 320-323 | D29: 551-554.1 | E29: PROD | G29: 0 | H29: =VLOOKUP($E29,Ratio,2,FALSE)*$G29 -> 0 | I29: =VLOOKUP($E29,Ratio,3,FALSE)*$G29 -> 0 | J29: =VLOOKUP($E29,Ratio,4,FALSE)*$G29 -> 0
B30: Other Power Supply Expenses
B31: Purchased Power (Excluding REP Reversal) | C31: 320-323 | D31: 555 | E31: PROD | G31: ='5-YEAR PP & OSS Worksheet'!D21 -> 0 | H31: =VLOOKUP($E31,Ratio,2,FALSE)*$G31 -> 0 | I31: =VLOOKUP($E31,Ratio,3,FALSE)*$G31 -> 0 | J31: =VLOOKUP($E31,Ratio,4,FALSE)*$G31 -> 0
B32: Purchased Power for Storage Operations | C32: 320-323 | D32: 555.1 | E32: PTD | G32: 0 | H32: =VLOOKUP($E32,Ratio,2,FALSE)*$G32 -> 0 | I32: =VLOOKUP($E32,Ratio,3,FALSE)*$G32 -> 0 | J32: =VLOOKUP($E32,Ratio,4,FALSE)*$G32 -> 0
B33: System Control and Load Dispatching | C33: 320-323 | D33: 556 | E33: PROD | G33: 0 | H33: =VLOOKUP($E33,Ratio,2,FALSE)*$G33 -> 0 | I33: =VLOOKUP($E33,Ratio,3,FALSE)*$G33 -> 0 | J33: =VLOOKUP($E33,Ratio,4,FALSE)*$G33 -> 0
B34: Other Expenses | C34: 320-323 | D34: 557 | E34: PROD | G34: 0 | H34: =VLOOKUP($E34,Ratio,2,FALSE)*$G34 -> 0 | I34: =VLOOKUP($E34,Ratio,3,FALSE)*$G34 -> 0 | J34: =VLOOKUP($E34,Ratio,4,FALSE)*$G34 -> 0
B35: Public Purpose Charges (b/) | E35: DIRECT | F35: DIST | G35: 0 | H35: =IF($E35="DIRECT",$L35,VLOOKUP($E35,Ratio,2,FALSE)*$G35) -> 0 | I35: =IF($E35="DIRECT",$M35,VLOOKUP($E35,Ratio,3,FALSE)*$G35) -> 0 | J35: =IF($E35="DIRECT",$N35,VLOOKUP($E35,Ratio,4,FALSE)*$G35) -> 0
A36: Total Production Expense | G36: =SUM(G16:G35) -> 0 | H36: =SUM(H16:H35) -> 0 | I36: =SUM(I16:I35) -> 0 | J36: =SUM(J16:J35) -> 0
A38: Transmission Expenses:
B39: Transmission of Electricity by Others (Wheeling) (c/) | C39: 320-323 | D39: 565 | E39: PROD | G39: 0 | H39: =VLOOKUP($E39,Ratio,2,FALSE)*$G39 -> 0 | I39: =VLOOKUP($E39,Ratio,3,FALSE)*$G39 -> 0 | J39: =VLOOKUP($E39,Ratio,4,FALSE)*$G39 -> 0
B40: Total Operations less Wheeling | C40: 320-323 | D40: 560-567.1 | E40: TRANS | G40: 0 | H40: =VLOOKUP($E40,Ratio,2,FALSE)*$G40 -> 0 | I40: =VLOOKUP($E40,Ratio,3,FALSE)*$G40 -> 0 | J40: =VLOOKUP($E40,Ratio,4,FALSE)*$G40 -> 0
B41: Total Maintenance | C41: 320-323 | D41: 568-574 | E41: TRANS | G41: 0 | H41: =VLOOKUP($E41,Ratio,2,FALSE)*$G41 -> 0 | I41: =VLOOKUP($E41,Ratio,3,FALSE)*$G41 -> 0 | J41: =VLOOKUP($E41,Ratio,4,FALSE)*$G41 -> 0
A42: Total Transmission Expense | G42: =SUM(G39:G41) -> 0 | H42: =SUM(H39:H41) -> 0 | I42: =SUM(I39:I41) -> 0 | J42: =SUM(J39:J41) -> 0
A44: Distribution Expense:
B45: Total Operations | C45: 320-323 | D45: 580-589 | E45: DIST | G45: 0 | H45: =VLOOKUP($E45,Ratio,2,FALSE)*$G45 -> 0 | I45: =VLOOKUP($E45,Ratio,3,FALSE)*$G45 -> 0 | J45: =VLOOKUP($E45,Ratio,4,FALSE)*$G45 -> 0
...

Sheet Sch 3A - Taxes
A1: BONNEVILLE POWER ADMINISTRATION
A2: RESIDENTIAL PURCHASE AND SALE AGREEMENT
A3: 2026 Average System Cost Methodology (ASCM) Appendix 1
A5: TOC | D5: UTILITY NAME: | E5: ='Sch 1- Rate Base '!$E$5 -> 0 | I5: BPA Reviews:
D6: End of Year Report Period: | E6: ='Sch 1- Rate Base '!$E$6 -> 0 | I6: ='Sch 1- Rate Base '!I6
D7: ASC Filing Date: | E7: ='Sch 1- Rate Base '!$E$7 -> 0 | I7: ='Sch 1- Rate Base '!I7
A9: Schedule 3A Items: Taxes (Including Income Taxes)
A11: Account Description | C11: FERC Form 1 | E11: Funct. Method | F11: Total | G11: Production | H11: Transmission | I11: Distribution/ Other
C12: Page | D12: Account
C13: Number | D13: Numbers
A15: FEDERAL
B16: Income Tax (Included on Schedule 2) | C16: 262-263 | D16: 409.1 | E16: DIST | F16: 0 | G16: =VLOOKUP($E16,Ratio,2,FALSE)*$F16 -> 0 | H16: =VLOOKUP($E16,Ratio,3,FALSE)*$F16 -> 0 | I16: =VLOOKUP($E16,Ratio,4,FALSE)*$F16 -> 0
B17: Employment Tax | C17: 262-263 | D17: 408.1 | E17: LABOR | F17: 0 | G17: =VLOOKUP($E17,Ratio,2,FALSE)*$F17 -> 0 | H17: =VLOOKUP($E17,Ratio,3,FALSE)*$F17 -> 0 | I17: =VLOOKUP($E17,Ratio,4,FALSE)*$F17 -> 0
B18: Other Federal Taxes | C18: 262-263 | D18: 408.1 | E18: DIST | F18: 0 | G18: =VLOOKUP($E18,Ratio,2,FALSE)*$F18 -> 0 | H18: =VLOOKUP($E18,Ratio,3,FALSE)*$F18 -> 0 | I18: =VLOOKUP($E18,Ratio,4,FALSE)*$F18 -> 0
A19: TOTAL FEDERAL | F19: =SUM(F16:F18) -> 0 | G19: =SUM(G16:G18) -> 0 | H19: =SUM(H16:H18) -> 0 | I19: =SUM(I16:I18) -> 0
A21: STATE AND OTHER
B22: Property (or In-Lieu) | C22: 262-263 | D22: 408.1 | E22: PTDG | F22: 0 | G22: =VLOOKUP($E22,Ratio,2,FALSE)*$F22 -> 0 | H22: =VLOOKUP($E22,Ratio,3,FALSE)*$F22 -> 0 | I22: =VLOOKUP($E22,Ratio,4,FALSE)*$F22 -> 0
B23: Unemployment | C23: 262-263 | D23: 408.1 | E23: LABOR | F23: 0 | G23: =VLOOKUP($E23,Ratio,2,FALSE)*$F23 -> 0 | H23: =VLOOKUP($E23,Ratio,3,FALSE)*$F23 -> 0 | I23: =VLOOKUP($E23,Ratio,4,FALSE)*$F23 -> 0
B24: State Income, B&O, etc. | C24: 262-263 | D24: 409.1 | E24: DIST | F24: 0 | G24: =VLOOKUP($E24,Ratio,2,FALSE)*$F24 -> 0 | H24: =VLOOKUP($E24,Ratio,3,FALSE)*$F24 -> 0 | I24: =VLOOKUP($E24,Ratio,4,FALSE)*$F24 -> 0
B25: Franchise Fees | C25: 262-263 | D25: 408.1 | E25: DIST | F25: 0 | G25: =VLOOKUP($E25,Ratio,2,FALSE)*$F25 -> 0 | H25: =VLOOKUP($E25,Ratio,3,FALSE)*$F25 -> 0 | I25: =VLOOKUP($E25,Ratio,4,FALSE)*$F25 -> 0
B26: Regulatory Commission | C26: 262-263 | D26: 408.1 | E26: DIST | F26: 0 | G26: =VLOOKUP($E26,Ratio,2,FALSE)*$F26 -> 0 | H26: =VLOOKUP($E26,Ratio,3,FALSE)*$F26 -> 0 | I26: =VLOOKUP($E26,Ratio,4,FALSE)*$F26 -> 0
B27: City/Municipal | C27: 262-263 | D27: 408.1 | E27: DIST | F27: 0 | G27: =VLOOKUP($E27,Ratio,2,FALSE)*$F27 -> 0 | H27: =VLOOKUP($E27,Ratio,3,FALSE)*$F27 -> 0 | I27: =VLOOKUP($E27,Ratio,4,FALSE)*$F27 -> 0
B28: Other | C28: 262-263 | D28: 408.1 | E28: DIST | F28: 0 | G28: =VLOOKUP($E28,Ratio,2,FALSE)*$F28 -> 0 | H28: =VLOOKUP($E28,Ratio,3,FALSE)*$F28 -> 0 | I28: =VLOOKUP($E28,Ratio,4,FALSE)*$F28 -> 0
A29: TOTAL STATE AND OTHER TAXES | F29: =SUM(F22:F28) -> 0 | G29: =SUM(G22:G28) -> 0 | H29: =SUM(H22:H28) -> 0 | I29: =SUM(I22:I28) -> 0
A31: TOTAL TAXES | F31: =F29+F19 -> 0 | G31: =G29+G19 -> 0 | H31: =H29+H19 -> 0 | I31: =I29+I19 -> 0

Sheet Sch 3B - Other Items
A1: BONNEVILLE POWER ADMINISTRATION
A2: RESIDENTIAL PURCHASE AND SALE AGREEMENT
A3: 2026 Average System Cost Methodology (ASCM) Appendix 1
A5: TOC | D5: UTILITY NAME: | E5: ='Sch 1- Rate Base '!$E$5 -> 0 | I5: BPA Reviews:
D6: End of Year Report Period: | E6: ='Sch 1- Rate Base '!$E$6 -> 0 | I6: ='Sch 1- Rate Base '!I6
D7: ASC Filing Date: | E7: ='Sch 1- Rate Base '!$E$7 -> 0 | I7: ='Sch 1- Rate Base '!I7
A9: Schedule 3B Other Included Items
A11: Account Description | C11: FERC Form 1 | E11: Functionalization | G11: Total | H11: Production | I11: Transmission | J11: Distribution/ Other | L11: Production | M11: Transmission | N11: Distribution/ Other
C12: Page | D12: Account
C13: Number | D13: Numbers | E13: Default | F13: Optional
A14: Other Included Items:
B15: Regulatory Credits | C15: 114-117 | D15: 407.4 | E15: DIRECT | F15: PROD | G15: 0 | H15: 0 | I15: 0 | J15: 0 | L15: 0 | M15: 0 | N15: 0
B16: (Less) Regulatory Debits | C16: 114-117 | D16: 407.3 | E16: DIRECT | F16: DIST | G16: 0 | H16: 0 | I16: 0 | J16: 0 | L16: 0 | M16: 0 | N16: 0
B17: Gain from Disposition of Utility Plant | C17: 114-117 | D17: 411.6 | E17: DIRECT | F17: PROD | G17: 0 | H17: =IF($E17="DIRECT",$L17,VLOOKUP($E17,Ratio,2,FALSE)*$G17) -> 0 | I17: =IF($E17="DIRECT",$M17,VLOOKUP($E17,Ratio,3,FALSE)*$G17) -> 0 | J17: =IF($E17="DIRECT",$N17,VLOOKUP($E17,Ratio,4,FALSE)*$G17) -> 0
B18: (Less) Loss from Disposition of Utility Plant | C18: 114-117 | D18: 411.7 | E18: DIRECT | F18: DIST | G18: 0 | H18: =IF($E18="DIRECT",$L18,VLOOKUP($E18,Ratio,2,FALSE)*$G18) -> 0 | I18: =IF($E18="DIRECT",$M18,VLOOKUP($E18,Ratio,3,FALSE)*$G18) -> 0 | J18: =IF($E18="DIRECT",$N18,VLOOKUP($E18,Ratio,4,FALSE)*$G18) -> 0
B19: Gain from Disposition of Allowances | C19: 114-117 | D19: 411.8 | E19: PROD | G19: 0 | H19: =VLOOKUP($E19,Ratio,2,FALSE)*$G19 -> 0 | I19: =VLOOKUP($E19,Ratio,3,FALSE)*$G19 -> 0 | J19: =VLOOKUP($E19,Ratio,4,FALSE)*$G19 -> 0
B20: (Less) Loss from Disposition of Allowances | C20: 114-117 | D20: 411.9 | E20: PROD | G20: 0 | H20: =VLOOKUP($E20,Ratio,2,FALSE)*$G20 -> 0 | I20: =VLOOKUP($E20,Ratio,3,FALSE)*$G20 -> 0 | J20: =VLOOKUP($E20,Ratio,4,FALSE)*$G20 -> 0
B21: Miscellaneous Nonoperating Income | C21: 114-117 | D21: 421 | E21: DIRECT | F21: PROD | G21: 0 | H21: =IF($E21="DIRECT",$L21,VLOOKUP($E21,Ratio,2,FALSE)*$G21) -> 0 | I21: =IF($E21="DIRECT",$M21,VLOOKUP($E21,Ratio,3,FALSE)*$G21) -> 0 | J21: =IF($E21="DIRECT",$N21,VLOOKUP($E21,Ratio,4,FALSE)*$G21) -> 0
A22: Total Other Included Items | G22: =G15-G16+G17-G18+G19-G20+G21 -> 0 | H22: =H15-H16+H17-H18+H19-H20+H21 -> 0 | I22: =I15-I16+I17-I18+I19-I20+I21 -> 0 | J22: =J15-J16+J17-J18+J19-J20+J21 -> 0
A24: Sales for Resale:
B25: Sales for Resale (g/) | C25: 310 | D25: 447 | E25: PROD | G25: ='5-YEAR PP & OSS Worksheet'!D36 -> 0 | H25: =VLOOKUP($E25,Ratio,2,FALSE)*$G25 -> 0 | I25: =VLOOKUP($E25,Ratio,3,FALSE)*$G25 -> 0 | J25: =VLOOKUP($E25,Ratio,4,FALSE)*$G25 -> 0
B26: Transmission Sales for Resale (g/) | E26: DIRECT | G26: 0 | H26: =IF($E26="DIRECT",$L26,VLOOKUP($E26,Ratio,2,FALSE)*$G26) -> 0 | I26: =IF($E26="DIRECT",$M26,VLOOKUP($E26,Ratio,3,FALSE)*$G26) -> 0 | J26: =IF($E26="DIRECT",$N26,VLOOKUP($E26,Ratio,4,FALSE)*$G26) -> 0
A27: Total Sales for Resale | G27: =SUM(G25) -> 0 | H27: =SUM(H25) -> 0 | I27: =SUM(I25) -> 0 | J27: =SUM(J25) -> 0
A29: Other Revenues:
B30: Forfeited Discounts | C30: 300-301 | D30: 450 | E30: DIST | G30: 0 | H30: =VLOOKUP($E30,Ratio,2,FALSE)*$G30 -> 0 | I30: =VLOOKUP($E30,Ratio,3,FALSE)*$G30 -> 0 | J30: =VLOOKUP($E30,Ratio,4,FALSE)*$G30 -> 0
B31: Miscellaneous Service Revenues | C31: 300-301 | D31: 451 | E31: DIST | G31: 0 | H31: =VLOOKUP($E31,Ratio,2,FALSE)*$G31 -> 0 | I31: =VLOOKUP($E31,Ratio,3,FALSE)*$G31 -> 0 | J31: =VLOOKUP($E31,Ratio,4,FALSE)*$G31 -> 0
B32: Sales of Water and Water Power | C32: 300-301 | D32: 453 | E32: PROD | G32: 0 | H32: =VLOOKUP($E32,Ratio,2,FALSE)*$G32 -> 0 | I32: =VLOOKUP($E32,Ratio,3,FALSE)*$G32 -> 0 | J32: =VLOOKUP($E32,Ratio,4,FALSE)*$G32 -> 0
B33: Rent from Electric Property | C33: 300-301 | D33: 454 | E33: TD | G33: 0 | H33: =VLOOKUP($E33,Ratio,2,FALSE)*$G33 -> 0 | I33: =VLOOKUP($E33,Ratio,3,FALSE)*$G33 -> 0 | J33: =VLOOKUP($E33,Ratio,4,FALSE)*$G33 -> 0
B34: Interdepartmental Rents | C34: 300-301 | D34: 455 | E34: DIST | G34: 0 | H34: =VLOOKUP($E34,Ratio,2,FALSE)*$G34 -> 0 | I34: =VLOOKUP($E34,Ratio,3,FALSE)*$G34 -> 0 | J34: =VLOOKUP($E34,Ratio,4,FALSE)*$G34 -> 0
B35: Other Electric Revenues | C35: 300-301 | D35: 456 | E35: DIRECT | F35: PROD | G35: 0 | H35: =IF($E35="DIRECT",$L35,VLOOKUP($E35,Ratio,2,FALSE)*$G35) -> 0 | I35: =IF($E35="DIRECT",$M35,VLOOKUP($E35,Ratio,3,FALSE)*$G35) -> 0 | J35: =IF($E35="DIRECT",$N35,VLOOKUP($E35,Ratio,4,FALSE)*$G35) -> 0 | L35: 0 | M35: 0 | N35: 0
B36: Revenues from Transmission of Electricity of Others (i) | C36: 300-301 | D36: 456.1 | E36: TRANS | G36: 0 | H36: =VLOOKUP($E36,Ratio,2,FALSE)*$G36 -> 0 | I36: =VLOOKUP($E36,Ratio,3,FALSE)*$G36 -> 0 | J36: =VLOOKUP($E36,Ratio,4,FALSE)*$G36 -> 0
A38: Total Other Revenues | G38: =SUM(G30:G37) -> 0 | H38: =SUM(H30:H37) -> 0 | I38: =SUM(I30:I37) -> 0 | J38: =SUM(J30:J37) -> 0
A40: Total Other Included Items | G40: =+G38+G27+G22 -> 0 | H40: =+H38+H27+H22 -> 0 | I40: =+I38+I27+I22 -> 0 | J40: =+J38+J27+J22 -> 0
A41: (Total Disposition of Plant + Total Sales for Resale + Total Other Revenue)

Sheet Sch 4 - Average System Cost
A1: BONNEVILLE POWER ADMINISTRATION
A2: RESIDENTIAL PURCHASE AND SALE AGREEMENT
A3: 2026 Average System Cost Methodology (ASCM) Appendix 1
A5: TOC | B5: UTILITY NAME: | C5: ='Sch 1- Rate Base '!$E$5 -> 0 | F5: BPA Reviews:
B6: End of Year Report Period: | C6: ='Sch 1- Rate Base '!$E$6 -> 0 | F6: ='Sch 1- Rate Base '!I6
B7: ASC Filing Date: | C7: ='Sch 1- Rate Base '!$E$7 -> 0 | F7: ='Sch 1- Rate Base '!I7
A9: Schedule 4: Average System Cost
C12: Total | D12: Production | E12: Transmission | F12: Distribution/Other
A13: Total Operating Expenses | C13: ='Sch 3 - Expenses'!G103 -> 0 | D13: ='Sch 3 - Expenses'!H103 -> 0 | E13: ='Sch 3 - Expenses'!I103 -> 0 | F13: ='Sch 3 - Expenses'!J103 -> 0
A14: (From Schedule 3)
A16: Federal Income Tax Adjusted Return on Rate Base | C16: =IF('Sch 2 -Rate of Return'!E42>0,'Sch 2 -Rate of Return'!E42,IF('Sch 2 -Rate of Return'!E98>0,'Sch 2 -Rate of Return'!E98,IF('Sch 2 -Rate of Return'!E125>0,'Sch 2 -Rate of Return'!E125,0))) -> 0 | D16: =IF('Sch 2 -Rate of Return'!F42>0,'Sch 2 -Rate of Return'!F42,IF('Sch 2 -Rate of Return'!F98>0,'Sch 2 -Rate of Return'!F98,IF('Sch 2 -Rate of Return'!F125>0,'Sch 2 -Rate of Return'!F125,0))) -> 0 | E16: =IF('Sch 2 -Rate of Return'!G42>0,'Sch 2 -Rate of Return'!G42,IF('Sch 2 -Rate of Return'!G98>0,'Sch 2 -Rate of Return'!G98,IF('Sch 2 -Rate of Return'!G125>0,'Sch 2 -Rate of Return'!G125,0))) -> 0 | F16: =IF('Sch 2 -Rate of Return'!H42>0,'Sch 2 -Rate of Return'!H42,IF('Sch 2 -Rate of Return'!H98>0,'Sch 2 -Rate of Return'!H98,IF('Sch 2 -Rate of Return'!H125>0,'Sch 2 -Rate of Return'!H125,0))) -> 0
A17: (From Schedule 2)
A19: State and Other Taxes | C19: ='Sch 3A - Taxes'!F31 -> 0 | D19: ='Sch 3A - Taxes'!G31 -> 0 | E19: ='Sch 3A - Taxes'!H31 -> 0 | F19: ='Sch 3A - Taxes'!I31 -> 0
A20: (From Schedule 3a)
A22: Total Other Included Items | C22: ='Sch 3B - Other Items'!G40 -> 0 | D22: ='Sch 3B - Other Items'!H40 -> 0 | E22: ='Sch 3B - Other Items'!I40 -> 0 | F22: ='Sch 3B - Other Items'!J40 -> 0
A23: (From Schedule 3b)
A25: Total Cost | C25: =C13+C16+C19-C22 -> 0 | D25: =D13+D16+D19-D22 -> 0 | E25: =E13+E16+E19-E22 -> 0 | F25: =F13+F16+F19-F22 -> 0
A26: (Total Operating Expenses + Return on Rate Base + State and Other Taxes - Total Other Included Items)
H30: Without NLSL | I30: With NLSL
A31: Contract System Cost | H31: Removed | I31: Removed
A32: Production | D32: =D25 -> 0 | F32: NLSL Fully Alloc. Cost ($/MWh) | H32: =$D$25 -> 0 | I32: =$D$25 -> 0
A34: (Less) New Large Single Load Costs (i/) | D34: =F34*D40 -> 0 | E34: NLSL | F34: ='NLSL_Base_New-Calc'!AA58 -> 0 | H34: 0 | I34: =F34*F45 -> 0
H35: 0 | I35: 0
A36: Total Contract System Cost | D36: =D32+D33-D34-D35 -> 0 | H36: =H32+H33-H34-H35 -> 0 | I36: =I32+I33-I34-I35 -> 0
A38: Contract System Load (MWh)
A39: Total Retail Load | D39: 0 | H39: =D39 -> 0 | I39: =D39 -> 0
A40: (Less) New Large Single Load | D40: =IF(F34>MIN(H46,J46),F45,0) -> 0 | H40: 0 | I40: =F45 -> 0
A41: Total Retail Load (Net of NLSL) (i/) | D41: =D39-D40 -> 0 | F41: Distribution Losses (%) | H41: =H39-H40 -> 0 | I41: =I39-I40 -> 0
A42: Distribution Loss (j/) (See Distribution Loss Schedule) | D42: =D39*F42 -> 0 | F42: ='Distribution Loss Calc'!H23 -> 0 | H42: =H39*F42 -> 0 | I42: =I39*F42 -> 0
A43: (Less) Above-RHWM Load | D43: =IF(F35>MIN(H46,I46),F48,0) -> 0 | H43: 0 | I43: 0
A44: Total Contract System Load | D44: =D41+D42-D43 -> 0 | F44: NLSL MWH | H44: =H41+H42 -> 0 | I44: =I41+I42-I43 -> 0
F45: 0
A46: Average System Cost $/MWh | D46: =IF(D44=0,"$0",D36/D44) -> $0 | H46: =IF(H44=0,"$0",H36/H44) -> $0 | I46: =IF(I44=0,"$0",I36/I44) -> $0

Sheet 5-YEAR PP & OSS Worksheet
A1: BONNEVILLE POWER ADMINISTRATION
A2: RESIDENTIAL PURCHASE AND SALE AGREEMENT
A3: 2026 Average System Cost Methodology (ASCM) Appendix 1
F4: UTILITY NAME: | G4: ='Sch 1- Rate Base '!$E$5 -> 0 | N4: BPA Reviews:
B5: TOC | F5: End of Year Report Period: | G5: ='Sch 1- Rate Base '!$E$6 -> 0 | N5: ='Sch 1- Rate Base '!I6
F6: ASC Filing Date: | G6: ='Sch 1- Rate Base '!$E$7 -> 0 | N6: ='Sch 1- Rate Base '!I7
A7: Purchased Power & Sales for Resale
B8: FERC Form 1 | D8: Purchased Power | G8: Purchased Power - Base Period Minus 1 | J8: Purchased Power - Base Period Minus 2 | M8: Purchased Power - Base Period Minus 3 | P8: Purchased Power - Base Period Minus 4
B9: Statistical | C9: Page
B10: Classification | C10: Number | D10: Settlement Total | E10: MWh Purchased | G10: Settlement Total | H10: MWh Purchased | J10: Settlement Total | K10: MWh Purchased | M10: Settlement Total | N10: MWh Purchased | P10: Settlement Total | Q10: MWh Purchased
B11: RQ | C11: 326-327 | D11: 0 | E11: 0 | G11: 0 | H11: 0 | J11: 0 | K11: 0 | M11: 0 | N11: 0 | P11: 0 | Q11: 0
B12: LF | C12: 326-327 | D12: 0 | E12: 0 | G12: 0 | H12: 0 | J12: 0 | K12: 0 | M12: 0 | N12: 0 | P12: 0 | Q12: 0
B13: IF | C13: 326-327 | D13: 0 | E13: 0 | G13: 0 | H13: 0 | J13: 0 | K13: 0 | M13: 0 | N13: 0 | P13: 0 | Q13: 0
B14: SF | C14: 326-327 | D14: 0 | E14: 0 | G14: 0 | H14: 0 | J14: 0 | K14: 0 | M14: 0 | N14: 0 | P14: 0 | Q14: 0
B15: LU | C15: 326-327 | D15: 0 | E15: 0 | G15: 0 | H15: 0 | J15: 0 | K15: 0 | M15: 0 | N15: 0 | P15: 0 | Q15: 0
B16: IU | C16: 326-327 | D16: 0 | E16: 0 | G16: 0 | H16: 0 | J16: 0 | K16: 0 | M16: 0 | N16: 0 | P16: 0 | Q16: 0
B17: OS | C17: 326-327 | D17: 0 | E17: 0 | G17: 0 | H17: 0 | J17: 0 | K17: 0 | M17: 0 | N17: 0 | P17: 0 | Q17: 0
B18: EX | C18: 326-327 | D18: 0 | E18: 0 | G18: 0 | H18: 0 | J18: 0 | K18: 0 | M18: 0 | N18: 0 | P18: 0 | Q18: 0
B19: NA | C19: 326-327 | D19: 0 | E19: 0 | G19: 0 | H19: 0 | J19: 0 | K19: 0 | M19: 0 | N19: 0 | P19: 0 | Q19: 0
B20: AD | C20: 326-327 | D20: 0 | E20: 0 | G20: 0 | H20: 0 | J20: 0 | K20: 0 | M20: 0 | N20: 0 | P20: 0 | Q20: 0
B21: TOTAL | D21: =SUM(D11:D20) -> 0 | E21: =SUM(E11:E20) -> 0 | G21: =SUM(G11:G20) -> 0 | H21: =SUM(H11:H20) -> 0 | J21: =SUM(J11:J20) -> 0 | K21: =SUM(K11:K20) -> 0 | M21: =SUM(M11:M20) -> 0 | N21: =SUM(N11:N20) -> 0 | P21: =SUM(P11:P20) -> 0 | Q21: =SUM(Q11:Q20) -> 0
B23: FERC Form 1 | D23: Sales for Resale | G23: Sales for Resale - Base Period Minus 1 | J23: Sales for Resale - Base Period Minus 2 | M23: Sales for Resale - Base Period Minus 3 | P23: Sales for Resale - Base Period Minus 4
B24: Statistical | C24: Page
B25: Classification | C25: Number | D25: Settlement Total | E25: MWh Sold | G25: Settlement Total | H25: MWh Sold | J25: Settlement Total | K25: MWh Sold | M25: Settlement Total | N25: MWh Sold | P25: Settlement Total | Q25: MWh Sold
B26: RQ | C26: 310-311 | D26: 0 | E26: 0 | G26: 0 | H26: 0 | J26: 0 | K26: 0 | M26: 0 | N26: 0 | P26: 0 | Q26: 0
B27: LF | C27: 310-311 | D27: 0 | E27: 0 | G27: 0 | H27: 0 | J27: 0 | K27: 0 | M27: 0 | N27: 0 | P27: 0 | Q27: 0
B28: IF | C28: 310-311 | D28: 0 | E28: 0 | G28: 0 | H28: 0 | J28: 0 | K28: 0 | M28: 0 | N28: 0 | P28: 0 | Q28: 0
B29: SF | C29: 310-311 | D29: 0 | E29: 0 | G29: 0 | H29: 0 | J29: 0 | K29: 0 | M29: 0 | N29: 0 | P29: 0 | Q29: 0
B30: LU | C30: 310-311 | D30: 0 | E30: 0 | G30: 0 | H30: 0 | J30: 0 | K30: 0 | M30: 0 | N30: 0 | P30: 0 | Q30: 0
B31: IU | C31: 310-311 | D31: 0 | E31: 0 | G31: 0 | H31: 0 | J31: 0 | K31: 0 | M31: 0 | N31: 0 | P31: 0 | Q31: 0
B32: OS | C32: 310-311 | D32: 0 | E32: 0 | G32: 0 | H32: 0 | J32: 0 | K32: 0 | M32: 0 | N32: 0 | P32: 0 | Q32: 0
B33: EX | C33: 310-311 | D33: 0 | E33: 0 | G33: 0 | H33: 0 | J33: 0 | K33: 0 | M33: 0 | N33: 0 | P33: 0 | Q33: 0
B34: NA | C34: 310-311 | D34: 0 | E34: 0 | G34: 0 | H34: 0 | J34: 0 | K34: 0 | M34: 0 | N34: 0 | P34: 0 | Q34: 0
B35: AD | C35: 310-311 | D35: 0 | E35: 0 | G35: 0 | H35: 0 | J35: 0 | K35: 0 | M35: 0 | N35: 0 | P35: 0 | Q35: 0
B36: TOTAL | D36: =SUM(D26:D35) -> 0 | E36: =SUM(E26:E35) -> 0 | G36: =SUM(G26:G35) -> 0 | H36: =SUM(H26:H35) -> 0 | J36: =SUM(J26:J35) -> 0 | K36: =SUM(K26:K35) -> 0 | M36: =SUM(M26:M35) -> 0 | N36: =SUM(N26:N35) -> 0 | P36: =SUM(P26:P35) -> 0 | Q36: =SUM(Q26:Q35) -> 0
D69: Average PP | E69: =IF((E14+E17+E18)=0,0,(D14+D17+D18)/(E14+E17+E18)) -> 0 | F69: =IF((H14+H17+H18)=0,0,(G14+G17+G18)/(H14+H17+H18)) -> 0 | G69: =IF((K14+K17+K18)=0,0,(J14+J17+J18)/(K14+K17+K18)) -> 0 | H69: =IF((N14+N17+N18)=0,0,(M14+M17+M18)/(N14+N17+N18)) -> 0 | I69: =IF((Q14+Q17+Q18)=0,0,(P14+P17+P18)/(Q14+Q17+Q18)) -> 0
D70: Average SS | E70: =IF((E29+E32+E33)=0,0,(D29+D32+D33)/(E29+E32+E33)) -> 0 | F70: =IF((H29+H32+H33)=0,0,(G29+G32+G33)/(H29+H32+H33)) -> 0 | G70: =IF((K29+K32+K33)=0,0,(J29+J32+J33)/(K29+K32+K33)) -> 0 | H70: =IF((N29+N32+N33)=0,0,(M29+M32+M33)/(N29+N32+N33)) -> 0 | I70: =IF((Q29+Q32+Q33)=0,0,(P29+P32+P33)/(Q29+Q32+Q33)) -> 0
D71: 1/2 difference | E71: =(E69-E70)/2 -> 0 | F71: =(F69-F70)/2 -> 0 | G71: =(G69-G70)/2 -> 0 | H71: =(H69-H70)/2 -> 0 | I71: =(I69-I70)/2 -> 0
D72: Mid Point | E72: =AVERAGE(E69:E70) -> 0 | F72: =AVERAGE(F69:F70) -> 0 | G72: =AVERAGE(G69:G70) -> 0 | H72: =AVERAGE(H69:H70) -> 0 | I72: =AVERAGE(I69:I70) -> 0
E73: =IF(E72=0,0,((E72+E71)/E72)-1) -> 0 | F73: =IF(F72=0,0,((F72+F71)/F72)-1) -> 0 | G73: =IF(G72=0,0,((G72+G71)/G72)-1) -> 0 | H73: =IF(H72=0,0,((H72+H71)/H72)-1) -> 0 | I73: =IF(I72=0,0,((I72+I71)/I72)-1) -> 0
...

Sheet Load Forecast
A1: Fiscal Year Load Forecast
B2: Base Period (CY) MWh | C2: Forecast Fiscal Year MWh
B3: ='Sch 1- Rate Base '!E6 -> 0 | C3: =B3+1 -> 1 | D3: =C3+1 -> 2 | E3: =D3+1 -> 3 | F3: =E3+1 -> 4 | G3: =F3+1 -> 5
A4: Total Retail Sales @ Meter | B4: ='Sch 4 - Average System Cost'!D39 -> 0 | C4: 0 | D4: 0 | E4: 0 | F4: 0 | G4: 0
A5: Distribution Losses | B5: ='Sch 4 - Average System Cost'!D42 -> 0 | C5: 0 | D5: 0 | E5: 0 | F5: 0 | G5: 0
A6: Contract System Load | B6: =B5+B4 -> 0 | C6: =C5+C4 -> 0 | D6: =D5+D4 -> 0 | E6: =E5+E4 -> 0 | F6: =F5+F4 -> 0 | G6: =G5+G4 -> 0
A7: Load for Dist Plant Adds | B7: =B6 -> 0 | C7: =C6 -> 0 | D7: =D6 -> 0 | E7: =E6 -> 0 | F7: =F6 -> 0 | G7: =G6 -> 0
A9: Base Period NLSL MWh | B9: ='Sch 4 - Average System Cost'!F45 -> 0 | C9: 0 | D9: 0 | E9: 0 | F9: 0 | G9: 0
A10: New NLSL MWh | C10: 0 | D10: 0 | E10: 0 | F10: 0 | G10: 0
A11: Total NLSL MWh | B11: =B9 -> 0 | C11: =C10+B11 -> 0 | D11: =D10+C11 -> 0 | E11: =E10+D11 -> 0 | F11: =F10+E11 -> 0 | G11: =G10+F11 -> 0
A14: Annual Load Change | C14: =C6-B6 -> 0 | D14: =D6-C6 -> 0 | E14: =E6-D6 -> 0 | F14: =F6-E6 -> 0 | G14: =G6-F6 -> 0
A16: Distribution Loss Percentage | B16: =ROUND('Sch 4 - Average System Cost'!F42,4) -> 0
A20: TOC | D20: ='Sch 1- Rate Base '!E5 -> 0
D21: ='Sch 1- Rate Base '!E6 -> 0
D22: ='Sch 1- Rate Base '!E7 -> 0
C25: BONNEVILLE POWER ADMINISTRATION
C26: RESIDENTIAL PURCHASE AND SALE AGREEMENT
C27: 2026 Average System Cost Methodology (ASCM) Appendix 1

Sheet Distribution Loss Calc
A1: BONNEVILLE POWER ADMINISTRATION
A2: RESIDENTIAL PURCHASE AND SALE AGREEMENT
A3: 2026 Average System Cost (ASCM) Appendix 1
A5: TOC | C5: UTILITY NAME: | D5: ='Sch 1- Rate Base '!$E$5 -> 0
C6: End of Year Report Period: | D6: ='Sch 1- Rate Base '!$E$6 -> 0
C7: ASC Filing Date: | D7: ='Sch 1- Rate Base '!$E$7 -> 0
A10: Distribution Loss Calculation
F23: Sch. 4 input | H23: 0

Sheet Salaries
A1: BONNEVILLE POWER ADMINISTRATION
A2: RESIDENTIAL PURCHASE AND SALE AGREEMENT
A3: 2026 Average System Cost Methodology (ASCM) Appendix 1
A5: TOC | B5: UTILITY NAME: | C5: ='Sch 1- Rate Base '!$E$5 -> 0
B6: End of Year Report Period: | C6: ='Sch 1- Rate Base '!$E$6 -> 0
A7: 2/19/2010 | B7: ASC Filing Date: | C7: ='Sch 1- Rate Base '!$E$7 -> 0
A10: Distribution of Salaries and Wages (For Labor Ratio Calculation)
A11: Description | C11: Form 1 | D11: Amount
C12: Page
C13: Number
A14: Electric
A15: Operation
A16: 1 | B16: Production | C16: 354-355 | D16: 0
A17: 2 | B17: Transmission | C17: 354-355 | D17: 0
A18: 3 | B18: Distribution | C18: 354-355 | D18: 0
A19: 4 | B19: Customer Accounts | C19: 354-355 | D19: 0
A20: 5 | B20: Customer Service and Information | C20: 354-355 | D20: 0
A21: 6 | B21: Sales | C21: 354-355 | D21: 0
A22: 7 | B22: Administrative and General | C22: 354-355 | D22: 0
A23: TOTAL Operation | D23: =SUM(D16:D22) -> 0
A25: Maintenance
A26: 9 | B26: Production | C26: 354-355 | D26: 0
A27: 10 | B27: Transmission | C27: 354-355 | D27: 0
A28: 11 | B28: Distribution | C28: 354-355 | D28: 0
A29: 12 | B29: Administrative and General | C29: 354-355 | D29: 0
A30: TOTAL Maintenance | D30: =SUM(D26:D29) -> 0
A32: Operation and Maintenance
B33: Production (Enter Total of lines 1 and 9) | C33: 354-355 | D33: =+D16+D26 -> 0
B34: Transmission (Enter Total of lines 2 and 10) | C34: 354-355 | D34: =+D17+D27 -> 0
B35: Distribution (Enter Total of lines 3 and 11) | C35: 354-355 | D35: =+D18+D28 -> 0
B36: Customer Accounts (Transcribe from line 4) | C36: 354-355 | D36: =+D19 -> 0
B37: Customer Service and Information (Transcribe from line 5) | C37: 354-355 | D37: =+D20 -> 0
B38: Sales (Transcribe from line 6) | C38: 354-355 | D38: =+D21 -> 0
B39: Administrative and General (Enter Total of lines 7 and 12) | C39: 354-355 | D39: =+D22+D29 -> 0
A40: TOTAL Operation and Maintenance | D40: =SUM(D33:D39) -> 0

Sheet Ratios
A1: BONNEVILLE POWER ADMINISTRATION | M1: NLSL Production Plant | R1: =R46 -> 0
A2: RESIDENTIAL PURCHASE AND SALE AGREEMENT | M2: Total Production Plant | R2: =E46 -> 0
A3: 2026 Average System Cost Methodology (ASCM) Appendix 1 | M3: NLSL Production Plant percent of Total Prod. Plant | R3: =IF(R2=0,0,R1/R2) -> 0
M4: Non-NLSL Production plant percent of Total Prod. Plant | R4: =IF(R2=0,0,(R2-R1)/R2) -> 0
A5: TOC | B5: UTILITY NAME: | C5: ='Sch 1- Rate Base '!$E$5 -> 0
A6: é | B6: End of Year Report Period: | C6: ='Sch 1- Rate Base '!$E$6 -> 0 | M6: NLSL Production Plant O&M | R6: ='NLSL_Base_New-Calc'!AA43+'NLSL_Base_New-Calc'!AA44 -> 0
B7: ASC Filing Date: | C7: ='Sch 1- Rate Base '!$E$7 -> 0 | M7: Total Production Plant O&M | R7: ='Sch 3 - Expenses'!H17+'Sch 3 - Expenses'!H18+'Sch 3 - Expenses'!H21+'Sch 3 - Expenses'!H22+'Sch 3 - Expenses'!H24+'Sch 3 - Expenses'!H25+'Sch 3 - Expenses'!H28+'Sch 3 - Expenses'!H29 -> 0
M8: NLSL Production Plant O&M percent of Total Prod. Plant O&M | R8: =IF(R7=0,0,R6/R7) -> 0
A9: Ratio Table | M9: Non-NLSL Production Plant O&M percent of Total Prod. Plant O&M | R9: =IF(R7=0,0,(R7-R6)/R7) -> 0
Q11: Production
A12: Labor Ratio Input: | C12: Ratio Used | D12: Total | E12: Production | F12: Transmission | G12: Distribution | Q12: Non-NLSL | R12: NLSL | S12: Total
B13: Production | C13: PROD | D13: =Salaries!D33 -> 0 | E13: =VLOOKUP($C13,Ratio,2,FALSE)*$D13 -> 0 | F13: =VLOOKUP($C13,Ratio,3,FALSE)*$D13 -> 0 | G13: =VLOOKUP($C13,Ratio,4,FALSE)*$D13 -> 0 | Q13: =E13*R9 -> 0 | R13: =E13*R8 -> 0 | S13: =SUM(Q13:R13) -> 0
B14: Transmission | C14: TRANS | D14: =Salaries!D34 -> 0 | E14: =VLOOKUP($C14,Ratio,2,FALSE)*$D14 -> 0 | F14: =VLOOKUP($C14,Ratio,3,FALSE)*$D14 -> 0 | G14: =VLOOKUP($C14,Ratio,4,FALSE)*$D14 -> 0 | Q14: 0 | R14: 0
B15: Distribution | C15: DIST | D15: =Salaries!D35 -> 0 | E15: =VLOOKUP($C15,Ratio,2,FALSE)*$D15 -> 0 | F15: =VLOOKUP($C15,Ratio,3,FALSE)*$D15 -> 0 | G15: =VLOOKUP($C15,Ratio,4,FALSE)*$D15 -> 0 | Q15: 0 | R15: 0
B16: Customer Accounts | C16: DIST | D16: =Salaries!D36 -> 0 | E16: =VLOOKUP($C16,Ratio,2,FALSE)*$D16 -> 0 | F16: =VLOOKUP($C16,Ratio,3,FALSE)*$D16 -> 0 | G16: =VLOOKUP($C16,Ratio,4,FALSE)*$D16 -> 0 | I16: Prod. | J16: Trans. | K16: Dist. | Q16: 0 | R16: 0
B17: Customer Service and Informational | C17: DIST | D17: =Salaries!D37 -> 0 | E17: =IF($C17="DIRECT",I17,VLOOKUP($C17,Ratio,2,FALSE)*$D17) -> 0 | F17: =IF($C17="DIRECT",J17,VLOOKUP($C17,Ratio,3,FALSE)*$D17) -> 0 | G17: =IF($C17="DIRECT",K17,VLOOKUP($C17,Ratio,4,FALSE)*$D17) -> 0 | Q17: =E17 -> 0 | R17: 0 | S17: =SUM(Q17:R17) -> 0
B18: Sales | C18: DIST | D18: =Salaries!D38 -> 0 | E18: =VLOOKUP($C18,Ratio,2,FALSE)*$D18 -> 0 | F18: =VLOOKUP($C18,Ratio,3,FALSE)*$D18 -> 0 | G18: =VLOOKUP($C18,Ratio,4,FALSE)*$D18 -> 0 | Q18: 0 | R18: 0
B19: Administrative & General | C19: PTD | D19: =Salaries!D39 -> 0 | E19: =VLOOKUP($C19,Ratio,2,FALSE)*$D19 -> 0 | F19: =VLOOKUP($C19,Ratio,3,FALSE)*$D19 -> 0 | G19: =VLOOKUP($C19,Ratio,4,FALSE)*$D19 -> 0 | Q19: =D19*Q50 -> 0 | R19: =D19*R50 -> 0 | S19: =SUM(Q19:R19) -> 0
A21: Total Labor | D21: =SUM(D13:D20) -> 0 | E21: =SUM(E13:E20) -> 0 | F21: =SUM(F13:F20) -> 0 | G21: =SUM(G13:G20) -> 0 | Q21: =SUM(Q13:Q19) -> 0 | R21: =SUM(R13:R19) -> 0 | S21: =SUM(Q21:R21) -> 0
B22: Labor Ratio | D22: =IF($D21=0,0,D21/$D21) -> 0 | E22: =IF($D21=0,0,E21/$D21) -> 0 | F22: =IF($D21=0,0,F21/$D21) -> 0 | G22: =IF($D21=0,0,G21/$D21) -> 0 | O22: Labor Ratio | Q22: =IF(D21=0,0,Q21/D21) -> 0 | R22: =IF(D21=0,0,R21/D21) -> 0 | S22: =SUM(Q22:R22) -> 0
A24: GP | B24: General Plant Ratio | C24: Ratio Used | D24: Total | E24: Production | F24: Transmission | G24: Distribution | Q24: Non-NLSL | R24: NLSL | S24: Total
B25: Land and Land Rights | C25: PTD | D25: ='Sch 1- Rate Base '!G44 -> 0 | E25: ='Sch 1- Rate Base '!H44 -> 0 | F25: ='Sch 1- Rate Base '!I44 -> 0 | G25: ='Sch 1- Rate Base '!J44 -> 0 | Q25: =D25*Q$50 -> 0 | R25: =D25*R$50 -> 0 | S25: =SUM(Q25:R25) -> 0
B26: Structures and Improvements | C26: PTD | D26: ='Sch 1- Rate Base '!G45 -> 0 | E26: ='Sch 1- Rate Base '!H45 -> 0 | F26: ='Sch 1- Rate Base '!I45 -> 0 | G26: ='Sch 1- Rate Base '!J45 -> 0 | Q26: =D26*Q$50 -> 0 | R26: =D26*R$50 -> 0 | S26: =SUM(Q26:R26) -> 0
B27: Furniture and Equipment | C27: LABOR | D27: ='Sch 1- Rate Base '!G46 -> 0 | E27: ='Sch 1- Rate Base '!H46 -> 0 | F27: ='Sch 1- Rate Base '!I46 -> 0 | G27: ='Sch 1- Rate Base '!J46 -> 0 | Q27: =D27*Q$22 -> 0 | R27: =D27*R$22 -> 0 | S27: =SUM(Q27:R27) -> 0
B28: Transportation Equipment | C28: TD | D28: ='Sch 1- Rate Base '!G47 -> 0 | E28: ='Sch 1- Rate Base '!H47 -> 0 | F28: ='Sch 1- Rate Base '!I47 -> 0 | G28: ='Sch 1- Rate Base '!J47 -> 0 | Q28: 0 | R28: 0
B29: Stores Equipment | C29: PTD | D29: ='Sch 1- Rate Base '!G48 -> 0 | E29: ='Sch 1- Rate Base '!H48 -> 0 | F29: ='Sch 1- Rate Base '!I48 -> 0 | G29: ='Sch 1- Rate Base '!J48 -> 0 | Q29: =D29*Q$50 -> 0 | R29: =D29*R$50 -> 0 | S29: =SUM(Q29:R29) -> 0
B30: Tools and Garage Equipment | C30: PTD | D30: ='Sch 1- Rate Base '!G49 -> 0 | E30: ='Sch 1- Rate Base '!H49 -> 0 | F30: ='Sch 1- Rate Base '!I49 -> 0 | G30: ='Sch 1- Rate Base '!J49 -> 0 | Q30: =D30*Q$50 -> 0 | R30: =D30*R$50 -> 0 | S30: =SUM(Q30:R30) -> 0
B31: Laboratory Equipment | C31: PTD | D31: ='Sch 1- Rate Base '!G50 -> 0 | E31: ='Sch 1- Rate Base '!H50 -> 0 | F31: ='Sch 1- Rate Base '!I50 -> 0 | G31: ='Sch 1- Rate Base '!J50 -> 0 | Q31: =D31*Q$50 -> 0 | R31: =D31*R$50 -> 0 | S31: =SUM(Q31:R31) -> 0
B32: Power Operated Equipment | C32: TD | D32: ='Sch 1- Rate Base '!G51 -> 0 | E32: ='Sch 1- Rate Base '!H51 -> 0 | F32: ='Sch 1- Rate Base '!I51 -> 0 | G32: ='Sch 1- Rate Base '!J51 -> 0 | Q32: 0 | R32: 0
B33: Communication Equipment | C33: PTD | D33: ='Sch 1- Rate Base '!G52 -> 0 | E33: ='Sch 1- Rate Base '!H52 -> 0 | F33: ='Sch 1- Rate Base '!I52 -> 0 | G33: ='Sch 1- Rate Base '!J52 -> 0 | Q33: =D33*Q$50 -> 0 | R33: =D33*R$50 -> 0 | S33: =SUM(Q33:R33) -> 0
B34: Miscellaneous Equipment | C34: PTD | D34: ='Sch 1- Rate Base '!G55 -> 0 | E34: ='Sch 1- Rate Base '!H55 -> 0 | F34: ='Sch 1- Rate Base '!I55 -> 0 | G34: ='Sch 1- Rate Base '!J55 -> 0 | Q34: =D34*Q$50 -> 0 | R34: =D34*R$50 -> 0 | S34: =SUM(Q34:R34) -> 0
B35: Other Tangible Property | C35: ='Sch 1- Rate Base '!E56 -> DIRECT | D35: ='Sch 1- Rate Base '!G56 -> 0 | E35: ='Sch 1- Rate Base '!H56 -> 0 | F35: ='Sch 1- Rate Base '!I56 -> 0 | G35: ='Sch 1- Rate Base '!J56 -> 0 | Q35: =E35*R4 -> 0 | R35: =E35*R3 -> 0
B36: Asset Retirement Costs for General Plant | C36: PTD | D36: ='Sch 1- Rate Base '!G57 -> 0 | E36: ='Sch 1- Rate Base '!H57 -> 0 | F36: ='Sch 1- Rate Base '!I57 -> 0 | G36: ='Sch 1- Rate Base '!J57 -> 0 | Q36: =D36*Q$50 -> 0 | R36: =D36*R$50 -> 0 | S36: =SUM(Q36:R36) -> 0
B37: TOTAL | D37: =SUM(D25:D36) -> 0 | E37: =SUM(E25:E36) -> 0 | F37: =SUM(F25:F36) -> 0 | G37: =SUM(G25:G36) -> 0 | Q37: =SUM(Q25:Q36) -> 0 | R37: =SUM(R25:R36) -> 0 | S37: =SUM(Q37:R37) -> 0
B38: RATIO (GP) | D38: =IF($D37=0,0,D37/$D37) -> 0 | E38: =IF($D37=0,0,E37/$D37) -> 0 | F38: =IF($D37=0,0,F37/$D37) -> 0 | G38: =IF($D37=0,0,G37/$D37) -> 0 | O38: GP Ratio | Q38: =IF(D37=0,0,Q37/D37) -> 0 | R38: =IF(D37=0,0,R37/D37) -> 0 | S38: =SUM(Q38:R38) -> 0
A41: PTD | B41: Production, Transmission, Distribution Ratio | C41: Ratio Used | D41: Total | E41: Production | F41: Transmission | G41: Distribution | Q41: Non-NLSL | R41: NLSL | S41: Total
B42: Steam Production | C42: PROD | D42: ='Sch 1- Rate Base '!G22 -> 0 | E42: ='Sch 1- Rate Base '!H22 -> 0 | F42: ='Sch 1- Rate Base '!I22 -> 0 | G42: ='Sch 1- Rate Base '!J22 -> 0 | Q42: =D42-R42 -> 0 | R42: =SUMIF('NLSL_Base_New-Calc'!B$11:I$11,1,'NLSL_Base_New-Calc'!B$17:I$17) -> 0
B43: Nuclear Production | C43: PROD | D43: ='Sch 1- Rate Base '!G23 -> 0 | E43: ='Sch 1- Rate Base '!H23 -> 0 | F43: ='Sch 1- Rate Base '!I23 -> 0 | G43: ='Sch 1- Rate Base '!J23 -> 0 | Q43: =D43-R43 -> 0
B44: Hydraulic Production | C44: PROD | D44: ='Sch 1- Rate Base '!G24 -> 0 | E44: ='Sch 1- Rate Base '!H24 -> 0 | F44: ='Sch 1- Rate Base '!I24 -> 0 | G44: ='Sch 1- Rate Base '!J24 -> 0 | Q44: =D44-R44 -> 0 | R44: =SUMIF('NLSL_Base_New-Calc'!B$11:I$11,2,'NLSL_Base_New-Calc'!B$17:I$17) -> 0
B45: Other Production | C45: PROD | D45: ='Sch 1- Rate Base '!G28 -> 0 | E45: ='Sch 1- Rate Base '!H28 -> 0 | F45: ='Sch 1- Rate Base '!I28 -> 0 | G45: ='Sch 1- Rate Base '!J28 -> 0 | Q45: =D45-R45 -> 0 | R45: =SUMIF('NLSL_Base_New-Calc'!B$11:I$11,3,'NLSL_Base_New-Calc'!B$17:I$17) -> 0
...

Sheet New Resources - Individual
B1: ='Sch 1- Rate Base '!E5 -> 0 | E1: Name | AG1: 2008 | AH1: 1
A2: TOC | B2: Rate Period Mid-Point From ASC Tab | E2: Online Year | F2: 0 | G2: 0 | H2: 0 | I2: 0 | J2: 0 | K2: 0 | L2: 0 | M2: 0 | N2: 0 | O2: 0 | P2: 0 | Q2: 0 | AG2: 2009 | AH2: 2
A3: é | B3: 0 | E3: Online Month | F3: 0 | G3: 0 | H3: 0 | I3: 0 | J3: 0 | K3: 0 | L3: 0 | M3: 0 | N3: 0 | O3: 0 | P3: 0 | Q3: 0 | AG3: 2010 | AH3: 3
E4: =B3 -> 0 | F4: =IF(ISERROR(DATE(F2,F3,1)),"",(DATE(F2,F3,1))) | G4: =IF(ISERROR(DATE(G2,G3,1)),"",(DATE(G2,G3,1))) | H4: =IF(ISERROR(DATE(H2,H3,1)),"",(DATE(H2,H3,1))) | I4: =IF(ISERROR(DATE(I2,I3,1)),"",(DATE(I2,I3,1))) | J4: =IF(ISERROR(DATE(J2,J3,1)),"",(DATE(J2,J3,1))) | K4: =IF(ISERROR(DATE(K2,K3,1)),"",(DATE(K2,K3,1))) | L4: =IF(ISERROR(DATE(L2,L3,1)),"",(DATE(L2,L3,1))) | M4: =IF(ISERROR(DATE(M2,M3,1)),"",(DATE(M2,M3,1))) | ... Y4: =IF(ISERROR(DATE(Y2,Y3,1)),"",(DATE(Y2,Y3,1))) | AG4: 2011 | AH4: 4
A5: 1 | B5: 2 | C5: 3 | D5: 4 | E5: 5 | F5: 6 | G5: 7 | H5: 8 | I5: 9 | J5: 10 | K5: 11 | L5: 12 | M5: 13 | N5: 14 | O5: 15 | P5: 16 | Q5: 17 | R5: 18 | S5: 19 | T5: 20 | U5: 21 | V5: 22 | W5: 23 | X5: 24 | Y5: 25 | AA5: 1 | AB5: 5 | AC5: 5 | AD5: 5 | AG5: 2012 | AH5: 5
B6: New Resource Group Number | F6: 0 | G6: 0 | H6: 0 | I6: 0 | J6: 0 | K6: 0 | L6: 0 | M6: 0 | N6: 0 | O6: 0 | P6: 0 | Q6: 0 | R6: 0 | S6: 0 | T6: 0 | U6: 0 | V6: 0 | W6: 0 | X6: 0 | Y6: 0 | AG6: 2013 | AH6: 6
A7: 100 | B7: Steam Production Plant | C7: Accnt # | AH7: 7
A8: 110 | B8: Steam Production | C8: 310-316 | F8: 0 | G8: 0 | H8: 0 | I8: 0 | J8: 0 | K8: 0 | L8: 0 | M8: 0 | N8: 0 | O8: 0 | P8: 0 | Q8: 0 | R8: 0 | S8: 0 | T8: 0 | U8: 0 | V8: 0 | W8: 0 | X8: 0 | Y8: 0 | AH8: 8
A9: 120 | B9: Fuel (Stock) | C9: 151 | F9: 0 | G9: 0 | H9: 0 | I9: 0 | J9: 0 | K9: 0 | L9: 0 | M9: 0 | N9: 0 | O9: 0 | P9: 0 | Q9: 0 | R9: 0 | S9: 0 | T9: 0 | U9: 0 | V9: 0 | W9: 0 | X9: 0 | Y9: 0 | AH9: 9
A10: 130 | B10: Plant Materials and Operating Supplies | C10: 154 | F10: 0 | G10: 0 | H10: 0 | I10: 0 | J10: 0 | K10: 0 | L10: 0 | M10: 0 | N10: 0 | O10: 0 | P10: 0 | Q10: 0 | R10: 0 | S10: 0 | T10: 0 | U10: 0 | V10: 0 | W10: 0 | X10: 0 | Y10: 0 | AH10: 10
A11: 140 | B11: EPA Allowances | C11: 158.1-158.2 | F11: 0 | G11: 0 | H11: 0 | I11: 0 | J11: 0 | K11: 0 | L11: 0 | M11: 0 | N11: 0 | O11: 0 | P11: 0 | Q11: 0 | R11: 0 | S11: 0 | T11: 0 | U11: 0 | V11: 0 | W11: 0 | X11: 0 | Y11: 0 | AH11: 11
A12: 150 | B12: Steam Expense | AH12: 12
A13: 160 | B13: Steam Power - Fuel | C13: 501 | F13: 0 | G13: 0 | H13: 0 | I13: 0 | J13: 0 | K13: 0 | L13: 0 | M13: 0 | N13: 0 | O13: 0 | P13: 0 | Q13: 0 | R13: 0 | S13: 0 | T13: 0 | U13: 0 | V13: 0 | W13: 0 | X13: 0 | Y13: 0
A14: 170 | B14: Steam Power - Op (Excluding 501 - Fuel) | C14: 500-509 | G14: 0 | H14: 0 | I14: 0 | J14: 0 | K14: 0 | L14: 0 | M14: 0 | N14: 0 | O14: 0 | P14: 0 | Q14: 0 | R14: 0 | S14: 0 | T14: 0 | U14: 0 | V14: 0 | W14: 0 | X14: 0 | Y14: 0
A15: 180 | B15: Steam Power - Maintenance | C15: 510-515 | G15: 0 | H15: 0 | I15: 0 | J15: 0 | K15: 0 | L15: 0 | M15: 0 | N15: 0 | O15: 0 | P15: 0 | Q15: 0 | R15: 0 | S15: 0 | T15: 0 | U15: 0 | V15: 0 | W15: 0 | X15: 0 | Y15: 0
A16: 190 | B16: Property Insurance | C16: 924 | F16: 0 | G16: 0 | H16: 0 | I16: 0 | J16: 0 | K16: 0 | L16: 0 | M16: 0 | N16: 0 | O16: 0 | P16: 0 | Q16: 0 | R16: 0 | S16: 0 | T16: 0 | U16: 0 | V16: 0 | W16: 0 | X16: 0 | Y16: 0
A17: 200 | B17: Depreciation | C17: 403 | D17: OK | G17: 0 | H17: 0 | I17: 0 | J17: 0 | K17: 0 | L17: 0 | M17: 0 | N17: 0 | O17: 0 | P17: 0 | Q17: 0 | R17: 0 | S17: 0 | T17: 0 | U17: 0 | V17: 0 | W17: 0 | X17: 0 | Y17: 0
A18: 210 | B18: Firm Sales for Resale ($) | C18: 447 | D18: OSS & PP | F18: 0 | G18: 0 | H18: 0 | I18: 0 | J18: 0 | K18: 0 | L18: 0 | M18: 0 | N18: 0 | O18: 0 | P18: 0 | Q18: 0 | R18: 0 | S18: 0 | T18: 0 | U18: 0 | V18: 0 | W18: 0 | X18: 0 | Y18: 0
A19: 220 | B19: Firm Sales for Resale (MWh) | D19: OSS & PP | F19: 0 | G19: 0 | H19: 0 | I19: 0 | J19: 0 | K19: 0 | L19: 0 | M19: 0 | N19: 0 | O19: 0 | P19: 0 | Q19: 0 | R19: 0 | S19: 0 | T19: 0 | U19: 0 | V19: 0 | W19: 0 | X19: 0 | Y19: 0
A20: 230 | B20: Expected Annual Generation (MWh) | D20: OSS & PP | F20: 0 | G20: 0 | H20: 0 | I20: 0 | J20: 0 | K20: 0 | L20: 0 | M20: 0 | N20: 0 | O20: 0 | P20: 0 | Q20: 0 | R20: 0 | S20: 0 | T20: 0 | U20: 0 | V20: 0 | W20: 0 | X20: 0 | Y20: 0
A21: 240 | B21: Nuclear Production Plant
A22: 250 | B22: Nuclear Production | C22: 320-325 | F22: 0 | G22: 0 | H22: 0 | I22: 0 | J22: 0 | K22: 0 | L22: 0 | M22: 0 | N22: 0 | O22: 0 | P22: 0 | Q22: 0 | R22: 0 | S22: 0 | T22: 0 | U22: 0 | V22: 0 | W22: 0 | X22: 0 | Y22: 0
A23: 260 | B23: Nuclear Fuel (Stock) | C23: 120.1-120.6 | D23: OK | F23: 0 | G23: 0 | H23: 0 | I23: 0 | J23: 0 | K23: 0 | L23: 0 | M23: 0 | N23: 0 | O23: 0 | P23: 0 | Q23: 0 | R23: 0 | S23: 0 | T23: 0 | U23: 0 | V23: 0 | W23: 0 | X23: 0 | Y23: 0
A24: 270 | B24: Plant Materials and Operating Supplies | C24: 154 | F24: 0 | G24: 0 | H24: 0 | I24: 0 | J24: 0 | K24: 0 | L24: 0 | M24: 0 | N24: 0 | O24: 0 | P24: 0 | Q24: 0 | R24: 0 | S24: 0 | T24: 0 | U24: 0 | V24: 0 | W24: 0 | X24: 0 | Y24: 0
A25: 280 | B25: Nuclear Expense
A26: 290 | B26: Nuclear - Fuel (Expense) | C26: 518 | F26: 0 | G26: 0 | H26: 0 | I26: 0 | J26: 0 | K26: 0 | L26: 0 | M26: 0 | N26: 0 | O26: 0 | P26: 0 | Q26: 0 | R26: 0 | S26: 0 | T26: 0 | U26: 0 | V26: 0 | W26: 0 | X26: 0 | Y26: 0
A27: 300 | B27: Nuclear - Operation ( Excluding 518 - Fuel) | C27: 517-525 | F27: 0 | G27: 0 | H27: 0 | I27: 0 | J27: 0 | K27: 0 | L27: 0 | M27: 0 | N27: 0 | O27: 0 | P27: 0 | Q27: 0 | R27: 0 | S27: 0 | T27: 0 | U27: 0 | V27: 0 | W27: 0 | X27: 0 | Y27: 0
A28: 310 | B28: Nuclear - Maintenance | C28: 528-532 | F28: 0 | G28: 0 | H28: 0 | I28: 0 | J28: 0 | K28: 0 | L28: 0 | M28: 0 | N28: 0 | O28: 0 | P28: 0 | Q28: 0 | R28: 0 | S28: 0 | T28: 0 | U28: 0 | V28: 0 | W28: 0 | X28: 0 | Y28: 0
A29: 320 | B29: Property Insurance | C29: 924 | F29: 0 | G29: 0 | H29: 0 | I29: 0 | J29: 0 | K29: 0 | L29: 0 | M29: 0 | N29: 0 | O29: 0 | P29: 0 | Q29: 0 | R29: 0 | S29: 0 | T29: 0 | U29: 0 | V29: 0 | W29: 0 | X29: 0 | Y29: 0
A30: 330 | B30: Depreciation | C30: 403 | D30: OK | F30: 0 | G30: 0 | H30: 0 | I30: 0 | J30: 0 | K30: 0 | L30: 0 | M30: 0 | N30: 0 | O30: 0 | P30: 0 | Q30: 0 | R30: 0 | S30: 0 | T30: 0 | U30: 0 | V30: 0 | W30: 0 | X30: 0 | Y30: 0
A31: 340 | B31: Firm Sales for Resale ($) | C31: 447 | D31: OSS & PP | F31: 0 | G31: 0 | H31: 0 | I31: 0 | J31: 0 | K31: 0 | L31: 0 | M31: 0 | N31: 0 | O31: 0 | P31: 0 | Q31: 0 | R31: 0 | S31: 0 | T31: 0 | U31: 0 | V31: 0 | W31: 0 | X31: 0 | Y31: 0
A32: 350 | B32: Firm Sales for Resale (MWh) | D32: OSS & PP | F32: 0 | G32: 0 | H32: 0 | I32: 0 | J32: 0 | K32: 0 | L32: 0 | M32: 0 | N32: 0 | O32: 0 | P32: 0 | Q32: 0 | R32: 0 | S32: 0 | T32: 0 | U32: 0 | V32: 0 | W32: 0 | X32: 0 | Y32: 0
A33: 360 | B33: Expected Annual Generation (MWh) | D33: OSS & PP | F33: 0 | G33: 0 | H33: 0 | I33: 0 | J33: 0 | K33: 0 | L33: 0 | M33: 0 | N33: 0 | O33: 0 | P33: 0 | Q33: 0 | R33: 0 | S33: 0 | T33: 0 | U33: 0 | V33: 0 | W33: 0 | X33: 0 | Y33: 0
A34: 370 | B34: Hydraulic Production Plant
A35: 380 | B35: Hydraulic Production | C35: 330-336 | F35: 0 | G35: 0 | H35: 0 | I35: 0 | J35: 0 | K35: 0 | L35: 0 | M35: 0 | N35: 0 | O35: 0 | P35: 0 | Q35: 0 | R35: 0 | S35: 0 | T35: 0 | U35: 0 | V35: 0 | W35: 0 | X35: 0 | Y35: 0
A36: 390 | B36: Plant Materials and Operating Supplies | C36: 154 | F36: 0 | G36: 0 | H36: 0 | I36: 0 | J36: 0 | K36: 0 | L36: 0 | M36: 0 | N36: 0 | O36: 0 | P36: 0 | Q36: 0 | R36: 0 | S36: 0 | T36: 0 | U36: 0 | V36: 0 | W36: 0 | X36: 0 | Y36: 0
A37: 400 | B37: Hydraulic Expense
A38: 410 | B38: Hydraulic - Operation | C38: 535-540 | F38: 0 | G38: 0 | H38: 0 | I38: 0 | J38: 0 | K38: 0 | L38: 0 | M38: 0 | N38: 0 | O38: 0 | P38: 0 | Q38: 0 | R38: 0 | S38: 0 | T38: 0 | U38: 0 | V38: 0 | W38: 0 | X38: 0 | Y38: 0
A39: 420 | B39: Hydraulic - Maintenance | C39: 541-545 | F39: 0 | G39: 0 | H39: 0 | I39: 0 | J39: 0 | K39: 0 | L39: 0 | M39: 0 | N39: 0 | O39: 0 | P39: 0 | Q39: 0 | R39: 0 | S39: 0 | T39: 0 | U39: 0 | V39: 0 | W39: 0 | X39: 0 | Y39: 0
A40: 430 | B40: Property Insurance | C40: 924 | F40: 0 | G40: 0 | H40: 0 | I40: 0 | J40: 0 | K40: 0 | L40: 0 | M40: 0 | N40: 0 | O40: 0 | P40: 0 | Q40: 0 | R40: 0 | S40: 0 | T40: 0 | U40: 0 | V40: 0 | W40: 0 | X40: 0 | Y40: 0
...

Sheet New Resources - Group
B1: ='Sch 1- Rate Base '!E5 -> 0 | AG1: 2008 | AH1: 1
A2: TOC | B2: Rate Period Mid-Point From ASC Tab | E2: Online Year | F2: =IF(F4>0,YEAR(F4),"") | G2: =IF(G4>0,YEAR(G4),"") | H2: =IF(H4>0,YEAR(H4),"") | I2: =IF(I4>0,YEAR(I4),"") | J2: =IF(J4>0,YEAR(J4),"") | K2: =IF(K4>0,YEAR(K4),"") | L2: =IF(L4>0,YEAR(L4),"") | M2: =IF(M4>0,YEAR(M4),"") | ... Y2: =IF(Y4>0,YEAR(Y4),"") | AG2: 2009 | AH2: 2
A3: é | B3: ='New Resources - Individual'!B3 -> 0 | E3: Online Month | F3: =IF(F4>0,MONTH(F4),"") | G3: =IF(G4>0,MONTH(G4),"") | H3: =IF(H4>0,MONTH(H4),"") | I3: =IF(I4>0,MONTH(I4),"") | J3: =IF(J4>0,MONTH(J4),"") | K3: =IF(K4>0,MONTH(K4),"") | L3: =IF(L4>0,MONTH(L4),"") | M3: =IF(M4>0,MONTH(M4),"") | ... Y3: =IF(Y4>0,MONTH(Y4),"") | AG3: 2010 | AH3: 3
