Workbook
Name _56F9DC9755BA473782653E2940F9FormId: "79XIZPe22EO4S40ETtyQHR6SSzqw2MZMgX2hLKkxMm5UNkJBVThJMThQWTFKRURLNzJTNDU4VExQNSQlQCN0PWcu"
Name _56F9DC9755BA473782653E2940F9ResponseSheet: "Form1"
Name _56F9DC9755BA473782653E2940F9SourceDocId: "{e50dfd7f-ac2f-40a5-b514-1bf91148ed70}"
Name _PTD1: #REF!
Name _PTD2: #REF!
Name _PTD3: #REF!
Name _WNP2: #REF!
Name Alt_Load_Switch: #REF!
Name BlockSales: #REF!
Name CompleAugHLH: #REF!
Name CompleAugLLH: #REF!
Name contr_time_period_default: #REF!
Name DIST: 'Sch 1- Rate Base '!$Q$1:$Q$3
Name DIST1: #REF!
Name DIST2: #REF!
Name DIST3: #REF!
Name DSIHLH: #REF!
Name DSILLH: #REF!
Name FedGenSliceHLH: #REF!
Name FedGenSliceLLH: #REF!
Name FirmConHLH: #REF!
Name FirmConLLH: #REF!
Name FPSPFHLH: #REF!
Name FPSPFLLH: #REF!
Name HydroGenHossHLH: #REF!
Name HydroGenHOSSLLH: #REF!
Name ine: #REF!
Name INFL: #REF!
Name IOUHLH: #REF!
Name IOULLH: #REF!
Name Logo: "Picture 6"
Name months: #REF!
Name NRHLH: #REF!
Name NRLLH: #REF!
Name OthResourceHLH: #REF!
Name OthResourceLLH: #REF!
Name PFHLH: #REF!
Name PFHLHAftSlice: #REF!
Name PFLLH: #REF!
Name PFLLHAftSlice: #REF!
Name PreHLH: #REF!
Name PreLLH: #REF!
Name PROD: 'Sch 1- Rate Base '!$R$1:$R$3
Name PROD1: #REF!
Name PROD2: #REF!
Name PROD3: #REF!
Name PTD: 'Sch 1- Rate Base '!$P$1:$P$3
Name Ratio: Ratios!$D$82:$G$92
Name RATIO1: #REF!
Name RATIO2: #REF!
Name RATIO3: #REF!
Name rbcalc: #REF!
Name rbcalc_heading: #REF!
Name retail_access_mitigation: #REF!
Name Sandpoint: #REF!
Name SlicetoPurchHLH: #REF!
Name SlicetoPurchLLH: #REF!
Name SpillHLH: #REF!
Name SpillLLH: #REF!
Name start_acct_exec: #REF!

Sheet TOC
A1: FY 2026-2028 ASC Appendix 1
A2: Table of Contents
A4: 1 | B4: Schedule 1 - Rate Base
A5: 2 | B5: Schedule 1A - Cash Working Capital
A6: 3 | B6: Schedule 2 -Rate of Return
A7: 5 | B7: Schedule 3 - Expenses
A8: 6 | B8: Schedule 3A - Taxes
A9: 7 | B9: Schedule 3B - Other Items
A10: 8 | B10: Schedule 4 - Average System Cost
A11: 9 | B11: 3-YEAR PP & OSS Worksheet
A12: 10 | B12: Load Forecast
A13: 11 | B13: Distribution Loss Calc
A14: 12 | B14: Salaries
A15: 13 | B15: Ratios
... A19: 20 | B19: NLSL Base New Calculation

Sheet Sch 1- Rate Base 
A1: BONNEVILLE POWER ADMINISTRATION
A2: RESIDENTIAL PURCHASE AND SALES AGREEMENT
A3: 2026 Average System Cost Methodology (ASCM) Appendix 1
A5: TOC | D5: UTILITY NAME: | I5: BPA Reviews:
A6: é | D6: End of Year Report Period: | E6: 2026
D7: ASC Filing Date:
A10: Schedule 1: Plant Investment / Rate Base
A12: Account Description | C12: FERC Form 1 | E12: Functionalization | G12: Total | H12: Production | I12: Transmission | J12: Distribution/ Other | L12: Production | M12: Transmission
C13: Page | D13: Account | N13: Distribution/
C14: Number | D14: Numbers | E14: Default | F14: Optional | N14: Other
A15: Intangible Plant:
B16: Intangible Plant - Organization | D16: 301 | E16: DIST | H16: =VLOOKUP($E16,Ratio,2,FALSE)*$G16 -> 0 | I16: =VLOOKUP($E16,Ratio,3,FALSE)*$G16 -> 0 | J16: =VLOOKUP($E16,Ratio,4,FALSE)*$G16 -> 0
B17: Intangible Plant - Franchises and Consents | D17: 302 | E17: DIRECT | F17: PTD | H17: =IF($E17="DIRECT",$L17,VLOOKUP($E17,Ratio,2,FALSE)*$G17) -> 0 | I17: =IF($E17="DIRECT",$M17,VLOOKUP($E17,Ratio,3,FALSE)*$G17) -> 0 | J17: =IF($E17="DIRECT",$N17,VLOOKUP($E17,Ratio,4,FALSE)*$G17) -> 0
B18: Intangible Plant - Miscellaneous | D18: 303 | E18: DIRECT | F18: DIST | H18: =IF($E18="DIRECT",$L18,VLOOKUP($E18,Ratio,2,FALSE)*$G18) -> 0 | I18: =IF($E18="DIRECT",$M18,VLOOKUP($E18,Ratio,3,FALSE)*$G18) -> 0 | J18: =IF($E18="DIRECT",$N18,VLOOKUP($E18,Ratio,4,FALSE)*$G18) -> 0
A19: Total Intangible Plant | G19: =SUM(G16:G18) -> 0 | H19: =SUM(H16:H18) -> 0 | I19: =SUM(I16:I18) -> 0 | J19: =SUM(J16:J18) -> 0
A21: Production Plant:
B22: Steam Production | D22: 310-317 | E22: PROD | H22: =VLOOKUP($E22,Ratio,2,FALSE)*$G22 -> 0 | I22: =VLOOKUP($E22,Ratio,3,FALSE)*$G22 -> 0 | J22: =VLOOKUP($E22,Ratio,4,FALSE)*$G22 -> 0
B23: Nuclear Production | D23: 320-326 | E23: PROD | H23: =VLOOKUP($E23,Ratio,2,FALSE)*$G23 -> 0 | I23: =VLOOKUP($E23,Ratio,3,FALSE)*$G23 -> 0 | J23: =VLOOKUP($E23,Ratio,4,FALSE)*$G23 -> 0
B24: Hydraulic Production | D24: 330-337 | E24: PROD | H24: =VLOOKUP($E24,Ratio,2,FALSE)*$G24 -> 0 | I24: =VLOOKUP($E24,Ratio,3,FALSE)*$G24 -> 0 | J24: =VLOOKUP($E24,Ratio,4,FALSE)*$G24 -> 0
B25: Solar Production | D25: 338.1-338.13 | E25: PROD | H25: =VLOOKUP($E25,Ratio,2,FALSE)*$G25 -> 0 | I25: =VLOOKUP($E25,Ratio,3,FALSE)*$G25 -> 0 | J25: =VLOOKUP($E25,Ratio,4,FALSE)*$G25 -> 0
B26: Wind Production | D26: 338.20-338.34 | E26: PROD | H26: =VLOOKUP($E26,Ratio,2,FALSE)*$G26 -> 0 | I26: =VLOOKUP($E26,Ratio,3,FALSE)*$G26 -> 0 | J26: =VLOOKUP($E26,Ratio,4,FALSE)*$G26 -> 0
B27: Other Renewable Production | D27: 339.1-339.13 | E27: PROD | H27: =VLOOKUP($E27,Ratio,2,FALSE)*$G27 -> 0 | I27: =VLOOKUP($E27,Ratio,3,FALSE)*$G27 -> 0 | J27: =VLOOKUP($E27,Ratio,4,FALSE)*$G27 -> 0
B28: Other Production | D28: 340-347 | E28: PROD | H28: =VLOOKUP($E28,Ratio,2,FALSE)*$G28 -> 0 | I28: =VLOOKUP($E28,Ratio,3,FALSE)*$G28 -> 0 | J28: =VLOOKUP($E28,Ratio,4,FALSE)*$G28 -> 0
A29: Total Production Plant | G29: =SUM(G22:G28) -> 0 | H29: =SUM(H22:H28) -> 0 | I29: =SUM(I22:I28) -> 0 | J29: =SUM(J22:J28) -> 0
A31: Transmission Plant:
B32: Transmission Plant | D32: 350-359.1 | E32: TRANS | H32: =VLOOKUP($E32,Ratio,2,FALSE)*$G32 -> 0 | I32: =VLOOKUP($E32,Ratio,3,FALSE)*$G32 -> 0 | J32: =VLOOKUP($E32,Ratio,4,FALSE)*$G32 -> 0
A33: Total Transmission Plant | G33: =SUM(G32) -> 0 | H33: =SUM(H32) -> 0 | I33: =SUM(I32) -> 0 | J33: =SUM(J32) -> 0
A35: Distribution Plant:
B36: Distribution Plant | D36: 360-374 | E36: DIST | H36: =VLOOKUP($E36,Ratio,2,FALSE)*$G36 -> 0 | I36: =VLOOKUP($E36,Ratio,3,FALSE)*$G36 -> 0 | J36: =VLOOKUP($E36,Ratio,4,FALSE)*$G36 -> 0
A37: Total Distribution Plant | G37: =SUM(G36) -> 0 | H37: =SUM(H36) -> 0 | I37: =SUM(I36) -> 0 | J37: =SUM(J36) -> 0
A39: Energy Storage Plant:
B40: Energy Storage Plant | D40: 387.7-387.12 | E40: DIRECT | F40: PTD | H40: =VLOOKUP($E40,Ratio,2,FALSE)*$G40 -> 0 | I40: =VLOOKUP($E40,Ratio,3,FALSE)*$G40 -> 0 | J40: =VLOOKUP($E40,Ratio,4,FALSE)*$G40 -> 0
A41: Total Energy Storage Plant | G41: =SUM(G40) -> 0 | H41: =SUM(H40) -> 0 | I41: =SUM(I40) -> 0 | J41: =SUM(J40) -> 0
A43: General Plant:
B44: Land and Land Rights | D44: 389 | E44: PTD | H44: =VLOOKUP($E44,Ratio,2,FALSE)*$G44 -> 0 | I44: =VLOOKUP($E44,Ratio,3,FALSE)*$G44 -> 0 | J44: =VLOOKUP($E44,Ratio,4,FALSE)*$G44 -> 0
B45: Structures and Improvements | D45: 390 | E45: PTD | H45: =VLOOKUP($E45,Ratio,2,FALSE)*$G45 -> 0 | I45: =VLOOKUP($E45,Ratio,3,FALSE)*$G45 -> 0 | J45: =VLOOKUP($E45,Ratio,4,FALSE)*$G45 -> 0
B46: Furniture and Equipment | D46: 391 | E46: LABOR | H46: =VLOOKUP($E46,Ratio,2,FALSE)*$G46 -> 0 | I46: =VLOOKUP($E46,Ratio,3,FALSE)*$G46 -> 0 | J46: =VLOOKUP($E46,Ratio,4,FALSE)*$G46 -> 0
B47: Transportation Equipment | D47: 392 | E47: TD | H47: =VLOOKUP($E47,Ratio,2,FALSE)*$G47 -> 0 | I47: =VLOOKUP($E47,Ratio,3,FALSE)*$G47 -> 0 | J47: =VLOOKUP($E47,Ratio,4,FALSE)*$G47 -> 0
B48: Stores Equipment | D48: 393 | E48: PTD | H48: =VLOOKUP($E48,Ratio,2,FALSE)*$G48 -> 0 | I48: =VLOOKUP($E48,Ratio,3,FALSE)*$G48 -> 0 | J48: =VLOOKUP($E48,Ratio,4,FALSE)*$G48 -> 0
B49: Tools and Garage Equipment | D49: 394 | E49: PTD | H49: =VLOOKUP($E49,Ratio,2,FALSE)*$G49 -> 0 | I49: =VLOOKUP($E49,Ratio,3,FALSE)*$G49 -> 0 | J49: =VLOOKUP($E49,Ratio,4,FALSE)*$G49 -> 0
...

Sheet Sch 1A - Cash Working Capital
A1: BONNEVILLE POWER ADMINISTRATION
A2: RESIDENTIAL PURCHASE AND SALE AGREEMENT
A3: 2026 Average System Cost Methodology (ASCM) Appendix 1
A5: TOC | B5: UTILITY NAME: | C5: ='Sch 1- Rate Base '!$E$5 -> 0 | F5: BPA Reviews:
B6: End of Year Report Period: | C6: ='Sch 1- Rate Base '!$E$6 -> 2026 | F6: ='Sch 1- Rate Base '!I6
B7: ASC Filing Date: | C7: ='Sch 1- Rate Base '!$E$7 -> 0 | F7: ='Sch 1- Rate Base '!I7
A10: Schedule 1A: Cash Working Capital (f)
A11: (Automatic Input from Schedule 3- Expenses)
A12: Account Description | C12: Total | D12: Production | E12: Transmission | F12: Distribution/ Other
A14: Cash Working Capital Calculation:
B15: Total Production O&M | C15: ='Sch 3 - Expenses'!G47 -> 0 | D15: ='Sch 3 - Expenses'!H47 -> 0 | E15: ='Sch 3 - Expenses'!I47 -> 0 | F15: ='Sch 3 - Expenses'!J47 -> 0
B16: Total Transmission O&M (i) | C16: ='Sch 3 - Expenses'!G53 -> 0 | D16: ='Sch 3 - Expenses'!H53 -> 0 | E16: ='Sch 3 - Expenses'!I53 -> 0 | F16: ='Sch 3 - Expenses'!J53 -> 0
B17: Total Distribution O&M | C17: ='Sch 3 - Expenses'!G58 -> 0 | D17: ='Sch 3 - Expenses'!H58 -> 0 | E17: ='Sch 3 - Expenses'!I58 -> 0 | F17: ='Sch 3 - Expenses'!J58 -> 0
B18: Total Customer & Sales | C18: ='Sch 3 - Expenses'!G66 -> 0 | D18: ='Sch 3 - Expenses'!H66 -> 0 | E18: ='Sch 3 - Expenses'!I66 -> 0 | F18: ='Sch 3 - Expenses'!J66 -> 0
B19: Total Administrative and General O&M | C19: ='Sch 3 - Expenses'!G87 -> 0 | D19: ='Sch 3 - Expenses'!H87 -> 0 | E19: ='Sch 3 - Expenses'!I87 -> 0 | F19: ='Sch 3 - Expenses'!J87 -> 0
B20: Less Purchased Power, Public Purpose Charge, REP Reversal, Fuel Costs | C20: ='Sch 3 - Expenses'!G16+'Sch 3 - Expenses'!G20+'Sch 3 - Expenses'!G36+'Sch 3 - Expenses'!G40+'Sch 3 - Expenses'!G46+G30+'Sch 3 - Expenses'!G41 -> 0 | D20: ='Sch 3 - Expenses'!H16+'Sch 3 - Expenses'!H20+'Sch 3 - Expenses'!H36+'Sch 3 - Expenses'!H40+'Sch 3 - Expenses'!H46+H30+'Sch 3 - Expenses'!H41 -> 0 | E20: ='Sch 3 - Expenses'!I16+'Sch 3 - Expenses'!I20+'Sch 3 - Expenses'!I36+'Sch 3 - Expenses'!I40+'Sch 3 - Expenses'!I46+I30+'Sch 3 - Expenses'!I41 -> 0 | F20: ='Sch 3 - Expenses'!J16+'Sch 3 - Expenses'!J20+'Sch 3 - Expenses'!J36+'Sch 3 - Expenses'!J40+'Sch 3 - Expenses'!J46+J30+'Sch 3 - Expenses'!J41 -> 0
A21: Revised Total O&M Expenses | C21: =SUM(C15:C19)-C20 -> 0 | D21: =SUM(D15:D19)-D20 -> 0 | E21: =SUM(E15:E19)-E20 -> 0 | F21: =SUM(F15:F19)-F20 -> 0
A23: One-Eighth Revised Total O&M Expenses
A24: Allowable Functionalized Cash Working Capital | C24: =C21/8 -> 0 | D24: =D21/8 -> 0 | E24: =E21/8 -> 0 | F24: =F21/8 -> 0
G29: Total | H29: Production
B30: Account 557 Disallowed Amounts | H30: =G30 -> 0

Sheet Sch 2 -Rate of Return
A1: BONNEVILLE POWER ADMINISTRATION
A2: RESIDENTIAL PURCHASE AND SALE AGREEMENT
A3: 2026 Average System Cost Methodology (ASCM) Appendix 1
A5: TOC | C5: UTILITY NAME: | D5: ='Sch 1- Rate Base '!$E$5 -> 0 | H5: BPA Reviews:
A6: é | C6: End of Year Report Period: | D6: ='Sch 1- Rate Base '!$E$6 -> 2026 | H6: ='Sch 1- Rate Base '!I6
C7: ASC Filing Date: | D7: ='Sch 1- Rate Base '!$E$7 -> 0 | H7: ='Sch 1- Rate Base '!I7
A8: Schedule 2: Capital Structure and Rate of Return (b)
D10: SUMMARY (for use by ASC Forecast Model)
D11: Single-Jurisdiction Investor-Owned Utility Return Calculation: | E11: =E35 -> 0
D12: Multi-Jurisdiction Investor-Owned Utility Return Calculation: | E12: =E90 -> 0
D13: Consumer-Owned Utility Return Calculation: | E13: =E118 -> 0
D14: Rate of Return : | E14: =SUM(E11:E13) -> 0
A16: Single-Jurisdiction Investor-Owned Utility Return Calculation
A18: Step 1: Weighted Cost of Capital from Most Recent State Commission Rate Order
A19: Note: Multi-jurisdictional utilities must begin on Page 2
A20: Publicly-owned utilities must begin on Page 4
B22: Capitalization Structure | D22: Effective Cost
A23: Component | B23: Amount | C23: Percent | D23: Embedded | E23: Weighted
A24: Debt | C24: 0 | E24: =ROUNDUP(D24*C24,5) -> 0
A25: Preferred Equity | C25: 0 | E25: =ROUNDUP(D25*C25,5) -> 0
A26: Common Equity | C26: 0 | E26: =ROUNDUP(D26*C26,5) -> 0
A27: Weighted Cost of Capital | B27: =SUM(B24:B26) -> 0 | C27: =IF($B$27=0,0,B27/$B$27) -> 0 | E27: =SUM(E24:E26) -> 0
A29: Step 2: Gross Up Equity Return for Federal Income Taxes
A31: Federal Income Tax Rate (21% during Base Period) | D31: 0.21
A32: Federal Income Tax Factor | E32: =(E27-(E24))*(D31/(1-D31)) -> 0
A33: {(ROR – (Embedded Cost of Debt * (Debt / (Total Capital))} * {(Federal Tax Rate / (1- Federal Tax Rate)}
A35: Federal Income Tax Adjusted Weighted Cost of Capital | E35: =E27+E32 -> 0
A36: (Weighted Cost of Capital Plus Federal Income Tax Factor)
A38: Step 3: Calculate Return on Rate Base
E39: Total | F39: Production | G39: Transmission | H39: Other
A40: Total Rate Base from Schedule 1 | E40: ='Sch 1- Rate Base '!G166 -> 0 | F40: ='Sch 1- Rate Base '!H166 -> 0 | G40: ='Sch 1- Rate Base '!I166 -> 0 | H40: ='Sch 1- Rate Base '!J166 -> 0
A41: Federal Income Tax Adjusted Weighted Cost of Capital | E41: =$E$35 -> 0 | F41: =$E$35 -> 0 | G41: =$E$35 -> 0 | H41: =$E$35 -> 0
A42: Federal Income Tax Adjusted Return on Rate Base | E42: =E41*E40 -> 0 | F42: =F41*F40 -> 0 | G42: =G41*G40 -> 0 | H42: =H41*H40 -> 0
A43: (Total Rate Base * Federal Income Tax Adjusted Weighted Cost of Capital)
A47: Multi-Jurisdiction Investor-Owned Utility Return Calculation
A48: Step 1:
A49: Weighted Cost of Capital from Most Recent State Commission Rate Order in Jurisdiction 1
B51: Capitalization Structure | D51: Effective Cost | F51: Jurisdictional | G51: Effective Cost -
A52: Component | B52: Amount | C52: Percent | D52: Embedded | E52: Weighted | F52: Allocation | G52: Weighted State Allocation
A53: Debt | G53: =E53*$F$53 -> 0 | H53: =C53*$F$53 -> 0
...

Sheet Sch 3 - Expenses
A1: BONNEVILLE POWER ADMINISTRATION
A2: RESIDENTIAL PURCHASE AND SALE AGREEMENT
A3: 2026 Average System Cost Methodology (ASCM) Appendix 1
A5: TOC | D5: UTILITY NAME: | E5: ='Sch 1- Rate Base '!$E$5 -> 0 | I5: BPA Reviews:
A6: é | D6: End of Year Report Period: | E6: ='Sch 1- Rate Base '!$E$6 -> 2026 | I6: ='Sch 1- Rate Base '!I6
D7: ASC Filing Date: | E7: ='Sch 1- Rate Base '!$E$7 -> 0 | I7: ='Sch 1- Rate Base '!I7
A9: Schedule 3: Expenses
A11: Account Description | C11: Form 1 | E11: Functionalization | G11: Total | H11: Production | I11: Transmission | J11: Distribution/ Other | L11: Production | M11: Transmission | N11: Distribution/ Other
C12: Page | D12: Account
C13: Number | D13: Numbers | E13: Default | F13: Optional
A14: Power Production Expenses:
B15: Steam Power Generation
B16: Steam Power - Fuel | D16: 501 | E16: PROD | H16: =VLOOKUP($E16,Ratio,2,FALSE)*$G16 -> 0 | I16: =VLOOKUP($E16,Ratio,3,FALSE)*$G16 -> 0 | J16: =VLOOKUP($E16,Ratio,4,FALSE)*$G16 -> 0
B17: Steam Power - Operations (Excluding 501 - Fuel) | D17: 500-509 | E17: PROD | H17: =VLOOKUP($E17,Ratio,2,FALSE)*$G17 -> 0 | I17: =VLOOKUP($E17,Ratio,3,FALSE)*$G17 -> 0 | J17: =VLOOKUP($E17,Ratio,4,FALSE)*$G17 -> 0
B18: Steam Power - Maintenance | D18: 510-515 | E18: PROD | H18: =VLOOKUP($E18,Ratio,2,FALSE)*$G18 -> 0 | I18: =VLOOKUP($E18,Ratio,3,FALSE)*$G18 -> 0 | J18: =VLOOKUP($E18,Ratio,4,FALSE)*$G18 -> 0
B19: Nuclear Power Generation
B20: Nuclear - Fuel | D20: 518 | E20: PROD | H20: =VLOOKUP($E20,Ratio,2,FALSE)*$G20 -> 0 | I20: =VLOOKUP($E20,Ratio,3,FALSE)*$G20 -> 0 | J20: =VLOOKUP($E20,Ratio,4,FALSE)*$G20 -> 0
B21: Nuclear - Operation ( Excluding 518 - Fuel) | D21: 517-525 | E21: PROD | H21: =VLOOKUP($E21,Ratio,2,FALSE)*$G21 -> 0 | I21: =VLOOKUP($E21,Ratio,3,FALSE)*$G21 -> 0 | J21: =VLOOKUP($E21,Ratio,4,FALSE)*$G21 -> 0
B22: Nuclear - Maintenance | D22: 528-532 | E22: PROD | H22: =VLOOKUP($E22,Ratio,2,FALSE)*$G22 -> 0 | I22: =VLOOKUP($E22,Ratio,3,FALSE)*$G22 -> 0 | J22: =VLOOKUP($E22,Ratio,4,FALSE)*$G22 -> 0
B23: Hydraulic Power Generation
B24: Hydraulic - Operation | D24: 535-540.1 | E24: PROD | H24: =VLOOKUP($E24,Ratio,2,FALSE)*$G24 -> 0 | I24: =VLOOKUP($E24,Ratio,3,FALSE)*$G24 -> 0 | J24: =VLOOKUP($E24,Ratio,4,FALSE)*$G24 -> 0
B25: Hydraulic - Maintenance | D25: 541-545.1 | E25: PROD | H25: =VLOOKUP($E25,Ratio,2,FALSE)*$G25 -> 0 | I25: =VLOOKUP($E25,Ratio,3,FALSE)*$G25 -> 0 | J25: =VLOOKUP($E25,Ratio,4,FALSE)*$G25 -> 0
B26: Solar Power Generation
B27: Solar - Operation | D27: 558.1-558.5 | E27: PROD | H27: =VLOOKUP($E27,Ratio,2,FALSE)*$G27 -> 0 | I27: =VLOOKUP($E27,Ratio,3,FALSE)*$G27 -> 0 | J27: =VLOOKUP($E27,Ratio,4,FALSE)*$G27 -> 0
B28: Solar - Maintenance | D28: 558.6-558.11 | E28: PROD | H28: =VLOOKUP($E28,Ratio,2,FALSE)*$G28 -> 0 | I28: =VLOOKUP($E28,Ratio,3,FALSE)*$G28 -> 0 | J28: =VLOOKUP($E28,Ratio,4,FALSE)*$G28 -> 0
B29: Wind Power Generation
B30: Wind - Operation | D30: 558.13-558.17 | E30: PROD | H30: =VLOOKUP($E30,Ratio,2,FALSE)*$G30 -> 0 | I30: =VLOOKUP($E30,Ratio,3,FALSE)*$G30 -> 0 | J30: =VLOOKUP($E30,Ratio,4,FALSE)*$G30 -> 0
B31: Wind - Maintenance | D31: 558.18-558.23 | E31: PROD | H31: =VLOOKUP($E31,Ratio,2,FALSE)*$G31 -> 0 | I31: =VLOOKUP($E31,Ratio,3,FALSE)*$G31 -> 0 | J31: =VLOOKUP($E31,Ratio,4,FALSE)*$G31 -> 0
B32: Other Renewable Power Generation
B33: Other Renewable - Operation | D33: 559.1-559.4 | E33: PROD | H33: =VLOOKUP($E33,Ratio,2,FALSE)*$G33 -> 0 | I33: =VLOOKUP($E33,Ratio,3,FALSE)*$G33 -> 0 | J33: =VLOOKUP($E33,Ratio,4,FALSE)*$G33 -> 0
B34: Other Renewable - Maintenance | D34: 559.6-559.15 | E34: PROD | H34: =VLOOKUP($E34,Ratio,2,FALSE)*$G34 -> 0 | I34: =VLOOKUP($E34,Ratio,3,FALSE)*$G34 -> 0 | J34: =VLOOKUP($E34,Ratio,4,FALSE)*$G34 -> 0
B35: Other Power Generation
B36: Other Power - Fuel | D36: 547 | E36: PROD | H36: =VLOOKUP($E36,Ratio,2,FALSE)*$G36 -> 0 | I36: =VLOOKUP($E36,Ratio,3,FALSE)*$G36 -> 0 | J36: =VLOOKUP($E36,Ratio,4,FALSE)*$G36 -> 0
B37: Other Power - Operations (Excluding 547 - Fuel) | D37: 546-550.1 | E37: PROD | H37: =VLOOKUP($E37,Ratio,2,FALSE)*$G37 -> 0 | I37: =VLOOKUP($E37,Ratio,3,FALSE)*$G37 -> 0 | J37: =VLOOKUP($E37,Ratio,4,FALSE)*$G37 -> 0
B38: Other Power - Maintenance | D38: 551-554.1 | E38: PROD | H38: =VLOOKUP($E38,Ratio,2,FALSE)*$G38 -> 0 | I38: =VLOOKUP($E38,Ratio,3,FALSE)*$G38 -> 0 | J38: =VLOOKUP($E38,Ratio,4,FALSE)*$G38 -> 0
B39: Other Power Supply Expenses
B40: Purchased Power (Excluding REP Reversal) Long & Short | D40: 555 | E40: PROD | G40: ='3-YEAR PP & OSS Worksheet'!D21-'3-YEAR PP & OSS Worksheet'!D92 -> 0 | H40: =VLOOKUP($E40,Ratio,2,FALSE)*$G40 -> 0 | I40: =VLOOKUP($E40,Ratio,3,FALSE)*$G40 -> 0 | J40: =VLOOKUP($E40,Ratio,4,FALSE)*$G40 -> 0
B41: Purchased Power for Storage Operations | D41: 555.1 | E41: PTD | G41: ='3-YEAR PP & OSS Worksheet'!D92 -> 0 | H41: =VLOOKUP($E41,Ratio,2,FALSE)*$G41 -> 0 | I41: =VLOOKUP($E41,Ratio,3,FALSE)*$G41 -> 0 | J41: =VLOOKUP($E41,Ratio,4,FALSE)*$G41 -> 0
B42: System Control and Load Dispatching | D42: 556 | E42: PROD | H42: =VLOOKUP($E42,Ratio,2,FALSE)*$G42 -> 0 | I42: =VLOOKUP($E42,Ratio,3,FALSE)*$G42 -> 0 | J42: =VLOOKUP($E42,Ratio,4,FALSE)*$G42 -> 0
B43: Other Expenses | D43: 557 | E43: PROD | H43: =VLOOKUP($E43,Ratio,2,FALSE)*$G43 -> 0 | I43: =VLOOKUP($E43,Ratio,3,FALSE)*$G43 -> 0 | J43: =VLOOKUP($E43,Ratio,4,FALSE)*$G43 -> 0
...

Sheet Sch 3A - Taxes
A1: BONNEVILLE POWER ADMINISTRATION
A2: RESIDENTIAL PURCHASE AND SALE AGREEMENT
A3: 2026 Average System Cost Methodology (ASCM) Appendix 1
A5: TOC | D5: UTILITY NAME: | E5: ='Sch 1- Rate Base '!$E$5 -> 0 | I5: BPA Reviews:
D6: End of Year Report Period: | E6: ='Sch 1- Rate Base '!$E$6 -> 2026 | I6: ='Sch 1- Rate Base '!I6
D7: ASC Filing Date: | E7: ='Sch 1- Rate Base '!$E$7 -> 0 | I7: ='Sch 1- Rate Base '!I7
A9: Schedule 3A Items: Taxes (Including Income Taxes)
A11: Account Description | C11: FERC Form 1 | E11: Funct. Method | F11: Total | G11: Production | H11: Transmission | I11: Distribution/ Other
C12: Page | D12: Account
C13: Number | D13: Numbers
A15: FEDERAL
B16: Income Tax (Included on Schedule 2) | D16: 409.1 | E16: DIST | G16: =VLOOKUP($E16,Ratio,2,FALSE)*$F16 -> 0 | H16: =VLOOKUP($E16,Ratio,3,FALSE)*$F16 -> 0 | I16: =VLOOKUP($E16,Ratio,4,FALSE)*$F16 -> 0
B17: Employment Tax | D17: 408.1 | E17: LABOR | G17: =VLOOKUP($E17,Ratio,2,FALSE)*$F17 -> 0 | H17: =VLOOKUP($E17,Ratio,3,FALSE)*$F17 -> 0 | I17: =VLOOKUP($E17,Ratio,4,FALSE)*$F17 -> 0
B18: Other Federal Taxes | D18: 408.1 | E18: DIST | G18: =VLOOKUP($E18,Ratio,2,FALSE)*$F18 -> 0 | H18: =VLOOKUP($E18,Ratio,3,FALSE)*$F18 -> 0 | I18: =VLOOKUP($E18,Ratio,4,FALSE)*$F18 -> 0
A19: TOTAL FEDERAL | F19: =SUM(F16:F18) -> 0 | G19: =SUM(G16:G18) -> 0 | H19: =SUM(H16:H18) -> 0 | I19: =SUM(I16:I18) -> 0
A21: STATE AND OTHER
B22: Property (or In-Lieu) | D22: 408.1 | E22: PTDG | G22: =VLOOKUP($E22,Ratio,2,FALSE)*$F22 -> 0 | H22: =VLOOKUP($E22,Ratio,3,FALSE)*$F22 -> 0 | I22: =VLOOKUP($E22,Ratio,4,FALSE)*$F22 -> 0
B23: Unemployment | D23: 408.1 | E23: LABOR | G23: =VLOOKUP($E23,Ratio,2,FALSE)*$F23 -> 0 | H23: =VLOOKUP($E23,Ratio,3,FALSE)*$F23 -> 0 | I23: =VLOOKUP($E23,Ratio,4,FALSE)*$F23 -> 0
B24: State Income, B&O, etc. | D24: 409.1 | E24: DIST | G24: =VLOOKUP($E24,Ratio,2,FALSE)*$F24 -> 0 | H24: =VLOOKUP($E24,Ratio,3,FALSE)*$F24 -> 0 | I24: =VLOOKUP($E24,Ratio,4,FALSE)*$F24 -> 0
B25: Franchise Fees | D25: 408.1 | E25: DIST | G25: =VLOOKUP($E25,Ratio,2,FALSE)*$F25 -> 0 | H25: =VLOOKUP($E25,Ratio,3,FALSE)*$F25 -> 0 | I25: =VLOOKUP($E25,Ratio,4,FALSE)*$F25 -> 0
B26: Regulatory Commission | D26: 408.1 | E26: DIST | G26: =VLOOKUP($E26,Ratio,2,FALSE)*$F26 -> 0 | H26: =VLOOKUP($E26,Ratio,3,FALSE)*$F26 -> 0 | I26: =VLOOKUP($E26,Ratio,4,FALSE)*$F26 -> 0
B27: City/Municipal | D27: 408.1 | E27: DIST | G27: =VLOOKUP($E27,Ratio,2,FALSE)*$F27 -> 0 | H27: =VLOOKUP($E27,Ratio,3,FALSE)*$F27 -> 0 | I27: =VLOOKUP($E27,Ratio,4,FALSE)*$F27 -> 0
B28: Other | D28: 408.1 | E28: DIST | G28: =VLOOKUP($E28,Ratio,2,FALSE)*$F28 -> 0 | H28: =VLOOKUP($E28,Ratio,3,FALSE)*$F28 -> 0 | I28: =VLOOKUP($E28,Ratio,4,FALSE)*$F28 -> 0
A29: TOTAL STATE AND OTHER TAXES | F29: =SUM(F22:F28) -> 0 | G29: =SUM(G22:G28) -> 0 | H29: =SUM(H22:H28) -> 0 | I29: =SUM(I22:I28) -> 0
A31: TOTAL TAXES | F31: =F29+F19 -> 0 | G31: =G29+G19 -> 0 | H31: =H29+H19 -> 0 | I31: =I29+I19 -> 0

Sheet Sch 3B - Other Items
A1: BONNEVILLE POWER ADMINISTRATION
A2: RESIDENTIAL PURCHASE AND SALE AGREEMENT
A3: 2026 Average System Cost Methodology (ASCM) Appendix 1
A5: TOC | D5: UTILITY NAME: | E5: ='Sch 1- Rate Base '!$E$5 -> 0 | I5: BPA Reviews:
D6: End of Year Report Period: | E6: ='Sch 1- Rate Base '!$E$6 -> 2026 | I6: ='Sch 1- Rate Base '!I6
D7: ASC Filing Date: | E7: ='Sch 1- Rate Base '!$E$7 -> 0 | I7: ='Sch 1- Rate Base '!I7 | J7: Ties w/FF1
A9: Schedule 3B Other Included Items
A11: Account Description | C11: FERC Form 1 | E11: Functionalization | G11: Total | H11: Production | I11: Transmission | J11: Distribution/ Other | L11: Production | M11: Transmission | N11: Distribution/ Other
C12: Page | D12: Account
C13: Number | D13: Numbers | E13: Default | F13: Optional
A14: Other Included Items:
B15: Regulatory Credits | D15: 407.4 | E15: DIRECT | F15: PROD | H15: =IF($E15="DIRECT",$L15,VLOOKUP($E15,Ratio,2,FALSE)*$G15) -> 0 | I15: =IF($E15="DIRECT",$M15,VLOOKUP($E15,Ratio,3,FALSE)*$G15) -> 0 | J15: =IF($E15="DIRECT",$N15,VLOOKUP($E15,Ratio,4,FALSE)*$G15) -> 0
B16: (Less) Regulatory Debits | D16: 407.3 | E16: DIRECT | F16: DIST | H16: =IF($E16="DIRECT",$L16,VLOOKUP($E16,Ratio,2,FALSE)*$G16) -> 0 | I16: =IF($E16="DIRECT",$M16,VLOOKUP($E16,Ratio,3,FALSE)*$G16) -> 0 | J16: =IF($E16="DIRECT",$N16,VLOOKUP($E16,Ratio,4,FALSE)*$G16) -> 0
B17: Gain from Disposition of Utility Plant | D17: 411.6 | E17: DIRECT | F17: PROD | H17: =IF($E17="DIRECT",$L17,VLOOKUP($E17,Ratio,2,FALSE)*$G17) -> 0 | I17: =IF($E17="DIRECT",$M17,VLOOKUP($E17,Ratio,3,FALSE)*$G17) -> 0 | J17: =IF($E17="DIRECT",$N17,VLOOKUP($E17,Ratio,4,FALSE)*$G17) -> 0
B18: (Less) Loss from Disposition of Utility Plant | D18: 411.7 | E18: DIRECT | F18: DIST | H18: =IF($E18="DIRECT",$L18,VLOOKUP($E18,Ratio,2,FALSE)*$G18) -> 0 | I18: =IF($E18="DIRECT",$M18,VLOOKUP($E18,Ratio,3,FALSE)*$G18) -> 0 | J18: =IF($E18="DIRECT",$N18,VLOOKUP($E18,Ratio,4,FALSE)*$G18) -> 0
B19: Gain from Disposition of Allowances | D19: 411.8 | E19: PROD | H19: =VLOOKUP($E19,Ratio,2,FALSE)*$G19 -> 0 | I19: =VLOOKUP($E19,Ratio,3,FALSE)*$G19 -> 0 | J19: =VLOOKUP($E19,Ratio,4,FALSE)*$G19 -> 0
B20: (Less) Loss from Disposition of Allowances | D20: 411.9 | E20: PROD | H20: =VLOOKUP($E20,Ratio,2,FALSE)*$G20 -> 0 | I20: =VLOOKUP($E20,Ratio,3,FALSE)*$G20 -> 0 | J20: =VLOOKUP($E20,Ratio,4,FALSE)*$G20 -> 0
B21: Miscellaneous Nonoperating Income | D21: 421 | E21: DIRECT | F21: PROD | H21: =IF($E21="DIRECT",$L21,VLOOKUP($E21,Ratio,2,FALSE)*$G21) -> 0 | I21: =IF($E21="DIRECT",$M21,VLOOKUP($E21,Ratio,3,FALSE)*$G21) -> 0 | J21: =IF($E21="DIRECT",$N21,VLOOKUP($E21,Ratio,4,FALSE)*$G21) -> 0
A22: Total Other Included Items | G22: =G15-G16+G17-G18+G19-G20+G21 -> 0 | H22: =H15-H16+H17-H18+H19-H20+H21 -> 0 | I22: =I15-I16+I17-I18+I19-I20+I21 -> 0 | J22: =J15-J16+J17-J18+J19-J20+J21 -> 0
A24: Sales for Resale:
B25: Sales for Resale (long & short term) | D25: 447 | E25: PROD | G25: ='3-YEAR PP & OSS Worksheet'!D36 -> 0 | H25: =VLOOKUP($E25,Ratio,2,FALSE)*$G25 -> 0 | I25: =VLOOKUP($E25,Ratio,3,FALSE)*$G25 -> 0 | J25: =VLOOKUP($E25,Ratio,4,FALSE)*$G25 -> 0
B26: Transmission Sales for Resale | E26: DIRECT | G26: =SUM(L26:N26) -> 0 | H26: =IF($E26="DIRECT",$L26,VLOOKUP($E26,Ratio,2,FALSE)*$G26) -> 0 | I26: =IF($E26="DIRECT",$M26,VLOOKUP($E26,Ratio,3,FALSE)*$G26) -> 0 | J26: =IF($E26="DIRECT",$N26,VLOOKUP($E26,Ratio,4,FALSE)*$G26) -> 0
A27: Total Sales for Resale | G27: =SUM(G25:G26) -> 0 | H27: =SUM(H25:H26) -> 0 | I27: =SUM(I25:I26) -> 0 | J27: =SUM(J25:J26) -> 0
A29: Other Revenues:
B30: Forfeited Discounts | D30: 450 | E30: DIST | H30: =VLOOKUP($E30,Ratio,2,FALSE)*$G30 -> 0 | I30: =VLOOKUP($E30,Ratio,3,FALSE)*$G30 -> 0 | J30: =VLOOKUP($E30,Ratio,4,FALSE)*$G30 -> 0
B31: Miscellaneous Service Revenues | D31: 451 | E31: DIST | H31: =VLOOKUP($E31,Ratio,2,FALSE)*$G31 -> 0 | I31: =VLOOKUP($E31,Ratio,3,FALSE)*$G31 -> 0 | J31: =VLOOKUP($E31,Ratio,4,FALSE)*$G31 -> 0
B32: Sales of Water and Water Power | D32: 453 | E32: PROD | H32: =VLOOKUP($E32,Ratio,2,FALSE)*$G32 -> 0 | I32: =VLOOKUP($E32,Ratio,3,FALSE)*$G32 -> 0 | J32: =VLOOKUP($E32,Ratio,4,FALSE)*$G32 -> 0
B33: Rent from Electric Property | D33: 454 | E33: TD | H33: =VLOOKUP($E33,Ratio,2,FALSE)*$G33 -> 0 | I33: =VLOOKUP($E33,Ratio,3,FALSE)*$G33 -> 0 | J33: =VLOOKUP($E33,Ratio,4,FALSE)*$G33 -> 0
B34: Interdepartmental Rents | D34: 455 | E34: DIST | H34: =VLOOKUP($E34,Ratio,2,FALSE)*$G34 -> 0 | I34: =VLOOKUP($E34,Ratio,3,FALSE)*$G34 -> 0 | J34: =VLOOKUP($E34,Ratio,4,FALSE)*$G34 -> 0
B35: Other Electric Revenues | D35: 456 | E35: DIRECT | F35: PROD | H35: =IF($E35="DIRECT",$L35,VLOOKUP($E35,Ratio,2,FALSE)*$G35) -> 0 | I35: =IF($E35="DIRECT",$M35,VLOOKUP($E35,Ratio,3,FALSE)*$G35) -> 0 | J35: =IF($E35="DIRECT",$N35,VLOOKUP($E35,Ratio,4,FALSE)*$G35) -> 0
B36: Revenues from Transmission of Electricity of Others (i) | D36: 456.1 | E36: TRANS | H36: =VLOOKUP($E36,Ratio,2,FALSE)*$G36 -> 0 | I36: =VLOOKUP($E36,Ratio,3,FALSE)*$G36 -> 0 | J36: =VLOOKUP($E36,Ratio,4,FALSE)*$G36 -> 0
A38: Total Other Revenues | G38: =SUM(G30:G37) -> 0 | H38: =SUM(H30:H37) -> 0 | I38: =SUM(I30:I37) -> 0 | J38: =SUM(J30:J37) -> 0
A40: Total Other Included Items | G40: =+G38+G27+G22 -> 0 | H40: =+H38+H27+H22 -> 0 | I40: =+I38+I27+I22 -> 0 | J40: =+J38+J27+J22 -> 0
A41: (Total Disposition of Plant + Total Sales for Resale + Total Other Revenue)

Sheet Sch 4 - Average System Cost
A1: BONNEVILLE POWER ADMINISTRATION
A2: RESIDENTIAL PURCHASE AND SALE AGREEMENT
A3: 2026 Average System Cost Methodology (ASCM) Appendix 1
A5: TOC | B5: UTILITY NAME: | C5: ='Sch 1- Rate Base '!$E$5 -> 0 | F5: BPA Reviews:
B6: End of Year Report Period: | C6: ='Sch 1- Rate Base '!$E$6 -> 2026 | F6: ='Sch 1- Rate Base '!I6
B7: ASC Filing Date: | C7: ='Sch 1- Rate Base '!$E$7 -> 0 | F7: ='Sch 1- Rate Base '!I7
A9: Schedule 4: Average System Cost
C12: Total | D12: Production | E12: Transmission | F12: Distribution/Other
A13: Total Operating Expenses | C13: ='Sch 3 - Expenses'!G116 -> 0 | D13: ='Sch 3 - Expenses'!H116 -> 0 | E13: ='Sch 3 - Expenses'!I116 -> 0 | F13: ='Sch 3 - Expenses'!J116 -> 0
A14: (From Schedule 3)
A16: Federal Income Tax Adjusted Return on Rate Base | C16: =IF('Sch 2 -Rate of Return'!E42>0,'Sch 2 -Rate of Return'!E42,IF('Sch 2 -Rate of Return'!E98>0,'Sch 2 -Rate of Return'!E98,IF('Sch 2 -Rate of Return'!E125>0,'Sch 2 -Rate of Return'!E125,0))) -> 0 | D16: =IF('Sch 2 -Rate of Return'!F42>0,'Sch 2 -Rate of Return'!F42,IF('Sch 2 -Rate of Return'!F98>0,'Sch 2 -Rate of Return'!F98,IF('Sch 2 -Rate of Return'!F125>0,'Sch 2 -Rate of Return'!F125,0))) -> 0 | E16: =IF('Sch 2 -Rate of Return'!G42>0,'Sch 2 -Rate of Return'!G42,IF('Sch 2 -Rate of Return'!G98>0,'Sch 2 -Rate of Return'!G98,IF('Sch 2 -Rate of Return'!G125>0,'Sch 2 -Rate of Return'!G125,0))) -> 0 | F16: =IF('Sch 2 -Rate of Return'!H42>0,'Sch 2 -Rate of Return'!H42,IF('Sch 2 -Rate of Return'!H98>0,'Sch 2 -Rate of Return'!H98,IF('Sch 2 -Rate of Return'!H125>0,'Sch 2 -Rate of Return'!H125,0))) -> 0
A17: (From Schedule 2)
A19: State and Other Taxes | C19: ='Sch 3A - Taxes'!F31 -> 0 | D19: ='Sch 3A - Taxes'!G31 -> 0 | E19: ='Sch 3A - Taxes'!H31 -> 0 | F19: ='Sch 3A - Taxes'!I31 -> 0
A20: (From Schedule 3a)
A22: Total Other Included Items | C22: ='Sch 3B - Other Items'!G40 -> 0 | D22: ='Sch 3B - Other Items'!H40 -> 0 | E22: ='Sch 3B - Other Items'!I40 -> 0 | F22: ='Sch 3B - Other Items'!J40 -> 0
A23: (From Schedule 3b)
A25: Total Cost | C25: =C13+C16+C19-C22 -> 0 | D25: =D13+D16+D19-D22 -> 0 | E25: =E13+E16+E19-E22 -> 0 | F25: =F13+F16+F19-F22 -> 0
A26: (Total Operating Expenses + Return on Rate Base + State and Other Taxes - Total Other Included Items)
A31: Contract System Cost | D31: =IF($F$34=0,I31,J31) -> NLSL Removed-No New Resources | H31: ASC No NLSL | I31: NLSL Removed-No New Resources | J31: NLSL Removed-w/New Resources
A32: Production | D32: =H32 -> 0 | E32: =D32*0.01 -> 0 | F32: NLSL Fully Alloc. Cost ($/MWh) | H32: =+D25 -> 0 | I32: =$D$25 -> 0 | J32: =D25 -> 0
A33: (Less) New Large Single Load Costs (d) | D33: =IF($F$34=0,I33,J33) -> #DIV/0! | I33: =H44*F450 -> #DIV/0! | J33: =IF(D39=0,0,F34*D39) -> 0
A34: 925 Adjustment | D34: =IF('Sch 3 - Expenses'!H75>='Sch 4 - Average System Cost'!D32*0.01,('Sch 4 - Average System Cost'!D32*0.01)-'Sch 3 - Expenses'!H75,0) -> 0 | E34: NLSL | F34: ='NLSL_Base_New-Calc'!AA58 -> 0
A35: Total Contract System Cost | D35: =D32-D33+D34 -> #DIV/0! | H35: =H32 -> 0 | I35: =I32-I33-I34 -> #DIV/0! | J35: =J32-J33-J34 -> 0
A37: Contract System Load (MWh) | D37: Utility Input
A38: Total Retail Load | D38: 0 | H38: =D38 -> 0 | I38: =D38 -> 0 | J38: =D38 -> 0
A39: (Less) New Large Single Load | D39: =IF($F$34=0,I39,J39) -> 0 | I39: =F45 -> 0 | J39: =F45 -> 0
A40: Total Retail Load (Net of NLSL) (d) | D40: =IF($F$34=0,I40,J40) -> 0 | H40: =H38 -> 0 | I40: =I38-I39 -> 0 | J40: =D38-D39 -> 0
A41: Distribution Loss (f) (See Distribution Loss Schedule) | D41: =IF($F$34=0,I41,J41) -> 0 | F41: Distribution Losses (%) | H41: =IF($F$34=0,I41,J41) -> 0 | I41: =I38*F42 -> 0 | J41: =D38*F42 -> 0
A42: Total Contract System Load | D42: =IF($F$34=0,I42,J42) -> 0 | F42: ='Distribution Loss Calc'!F22 -> 0 | H42: =SUM(H40:H41) -> 0 | I42: =I40+I41 -> 0 | J42: =J40+J41 -> 0
A44: Average System Cost $/MWh | D44: =IF($F$34=0,I44,J44) -> $0 | F44: NLSL MWH | H44: =H35/H42 -> #DIV/0! | I44: =IF(I42=0,"$0",I35/I42) -> $0 | J44: =IF(J42=0,"$0",J35/J42) -> $0
F45: 0

Sheet 3-YEAR PP & OSS Worksheet
A1: BONNEVILLE POWER ADMINISTRATION
A2: RESIDENTIAL PURCHASE AND SALE AGREEMENT
A3: 2026 Average System Cost Methodology (ASCM) Appendix 1
F4: UTILITY NAME: | G4: ='Sch 1- Rate Base '!$E$5 -> 0 | K4: BPA Reviews:
B5: TOC | F5: End of Year Report Period: | G5: ='Sch 1- Rate Base '!$E$6 -> 2026 | K5: ='Sch 1- Rate Base '!I6
F6: ASC Filing Date: | G6: ='Sch 1- Rate Base '!$E$7 -> 0 | K6: ='Sch 1- Rate Base '!I7
A7: Purchased Power & Sales for Resale
B8: FERC Form 1 | D8: Purchased Power | G8: Purchased Power - Base Period Minus 1 | J8: Purchased Power - Base Period Minus 2
B9: Statistical | C9: Page
B10: Classification | C10: Number | D10: Settlement Total | E10: MWh Purchased | G10: Settlement Total | H10: MWh Purchased | J10: Settlement Total | K10: MWh Purchased
B11: RQ | C11: 326-327
B12: LF | C12: 326-327
B13: IF | C13: 326-327
B14: SF | C14: 326-327
B15: LU | C15: 326-327
B16: IU | C16: 326-327
B17: OS | C17: 326-327
B18: EX | C18: 326-327
B19: NA | C19: 326-327
B20: AD | C20: 326-327
B21: TOTAL | D21: =SUM(D11:D20) -> 0 | E21: =SUM(E11:E20) -> 0 | G21: =SUM(G11:G20) -> 0 | H21: =SUM(H11:H20) -> 0 | J21: =SUM(J11:J20) -> 0 | K21: =SUM(K11:K20) -> 0
B23: FERC Form 1 | D23: Sales for Resale | G23: Sales for Resale - Base Period Minus 1 | J23: Sales for Resale - Base Period Minus 2
B24: Statistical | C24: Page
B25: Classification | C25: Number | D25: Settlement Total | E25: MWh Sold | G25: Settlement Total | H25: MWh Sold | J25: Settlement Total | K25: MWh Sold
B26: RQ | C26: 310-311
B27: LF | C27: 310-311
B28: IF | C28: 310-311
B29: SF | C29: 310-311
B30: LU | C30: 310-311
B31: IU | C31: 310-311
B32: OS | C32: 310-311
B33: EX | C33: 310-311
B34: NA | C34: 310-311
B35: AD | C35: 310-311
B36: TOTAL | D36: =SUM(D26:D35) -> 0 | E36: =SUM(E26:E35) -> 0 | G36: =SUM(G26:G35) -> 0 | H36: =SUM(H26:H35) -> 0 | J36: =SUM(J26:J35) -> 0 | K36: =SUM(K26:K35) -> 0
D69: Average PP | E69: =IF((E14+E17+E18)=0,0,(D14+D17+D18)/(E14+E17+E18)) -> 0 | F69: =IF((H14+H17+H18)=0,0,(G14+G17+G18)/(H14+H17+H18)) -> 0 | G69: =IF((K14+K17+K18)=0,0,(J14+J17+J18)/(K14+K17+K18)) -> 0
D70: Average SS | E70: =IF((E29+E32+E33)=0,0,(D29+D32+D33)/(E29+E32+E33)) -> 0 | F70: =IF((H29+H32+H33)=0,0,(G29+G32+G33)/(H29+H32+H33)) -> 0 | G70: =IF((K29+K32+K33)=0,0,(J29+J32+J33)/(K29+K32+K33)) -> 0
D71: 1/2 difference | E71: =(E69-E70)/2 -> 0 | F71: =(F69-F70)/2 -> 0 | G71: =(G69-G70)/2 -> 0
D72: Mid Point | E72: =AVERAGE(E69:E70) -> 0 | F72: =AVERAGE(F69:F70) -> 0 | G72: =AVERAGE(G69:G70) -> 0
E73: =IF(E72=0,0,((E72+E71)/E72)-1) -> 0 | F73: =IF(F72=0,0,((F72+F71)/F72)-1) -> 0 | G73: =IF(G72=0,0,((G72+G71)/G72)-1) -> 0
...

Sheet Load Forecast
A1: Fiscal Year Load Forecast
A2: Fiscal Year MWh | B2: Base Period MWh | C2: Forecast Fiscal Year MWh
A3: FY | B3: 2023 | C3: =B3+1 -> 2024 | D3: =C3+1 -> 2025 | E3: =D3+1 -> 2026 | F3: =E3+1 -> 2027 | G3: =F3+1 -> 2028
A4: Total Retail Sales @ Meter | B4: ='Sch 4 - Average System Cost'!D38 -> 0
A5: Distribution Losses | B5: ='Sch 4 - Average System Cost'!D41 -> 0 | C5: =C4*B16 -> 0 | D5: =D4*B16 -> 0 | E5: =E4*B16 -> 0 | F5: =F4*B16 -> 0 | G5: =G4*B16 -> 0
A6: Contract System Load | B6: =B4+B5 -> 0 | C6: =C4+C5 -> 0 | D6: =D4+D5 -> 0 | E6: =E4+E5 -> 0 | F6: =F4+F5 -> 0 | G6: =G4+G5 -> 0
A7: Load for Dist Plant Adds | B7: =B6 -> 0 | C7: =C6 -> 0 | D7: =D6 -> 0 | E7: =E6 -> 0 | F7: =F6 -> 0 | G7: =G6 -> 0
A9: Base Period NLSL MWh | B9: ='Sch 4 - Average System Cost'!F45 -> 0
A10: New NLSL MWh
A11: Total NLSL MWh | B11: =B9 -> 0 | C11: =C10+B11 -> 0 | D11: =D10+C11 -> 0 | E11: =E10+D11 -> 0 | F11: =F10+E11 -> 0 | G11: =G10+F11 -> 0
A14: Annual Load Change | C14: =C6-B6 -> 0 | D14: =D6-C6 -> 0 | E14: =E6-D6 -> 0 | F14: =F6-E6 -> 0 | G14: =G6-F6 -> 0
A16: Distribution Loss Percentage | B16: =ROUND('Sch 4 - Average System Cost'!F42,4) -> 0
A20: TOC | D20: ='Sch 1- Rate Base '!E5 -> 0
D21: ='Sch 1- Rate Base '!E6 -> 2026
D22: ='Sch 1- Rate Base '!E7 -> 0
C25: BONNEVILLE POWER ADMINISTRATION
C26: RESIDENTIAL PURCHASE AND SALE AGREEMENT
C27: 2026 Average System Cost Methodology (ASCM) Appendix 1

Sheet Distribution Loss Calc
A1: BONNEVILLE POWER ADMINISTRATION
A2: RESIDENTIAL PURCHASE AND SALE AGREEMENT
A3: 2026 Average System Cost (ASCM) Appendix 1
A5: TOC | C5: UTILITY NAME: | D5: ='Sch 1- Rate Base '!$E$5 -> 0
C6: End of Year Report Period: | D6: ='Sch 1- Rate Base '!$E$6 -> 2026
C7: ASC Filing Date: | D7: ='Sch 1- Rate Base '!$E$7 -> 0
A10: Distribution Loss Calculation
E22: Distribution Loss Output

Sheet Salaries
A1: BONNEVILLE POWER ADMINISTRATION
A2: RESIDENTIAL PURCHASE AND SALE AGREEMENT
A3: 2026 Average System Cost Methodology (ASCM) Appendix 1
A5: TOC | B5: UTILITY NAME: | C5: ='Sch 1- Rate Base '!$E$5 -> 0
B6: End of Year Report Period: | C6: ='Sch 1- Rate Base '!$E$6 -> 2026
A7: 2/19/2010 | B7: ASC Filing Date: | C7: ='Sch 1- Rate Base '!$E$7 -> 0
A10: Distribution of Salaries and Wages (For Labor Ratio Calculation)
A11: Description | C11: Form 1 | D11: Amount
C12: Page
C13: Number
A14: Electric
A15: Operation
A16: 1 | B16: Production | C16: 354-355
A17: 2 | B17: Transmission | C17: 354-355
A18: 3 | B18: Distribution | C18: 354-355
A19: 4 | B19: Customer Accounts | C19: 354-355
A20: 5 | B20: Customer Service and Information | C20: 354-355
A21: 6 | B21: Sales | C21: 354-355
A22: 7 | B22: Administrative and General | C22: 354-355
A23: TOTAL Operation | D23: =SUM(D16:D22) -> 0
A25: Maintenance
A26: 9 | B26: Production | C26: 354-355
A27: 10 | B27: Transmission | C27: 354-355
A28: 11 | B28: Distribution | C28: 354-355
A29: 12 | B29: Administrative and General | C29: 354-355
A30: TOTAL Maintenance | D30: =SUM(D26:D29) -> 0
A32: Operation and Maintenance
B33: Production (Enter Total of lines 1 and 9) | C33: 354-355
B34: Transmission (Enter Total of lines 2 and 10) | C34: 354-355
B35: Distribution (Enter Total of lines 3 and 11) | C35: 354-355
B36: Customer Accounts (Transcribe from line 4) | C36: 354-355
B37: Customer Service and Information (Transcribe from line 5) | C37: 354-355
B38: Sales (Transcribe from line 6) | C38: 354-355
B39: Administrative and General (Enter Total of lines 7 and 12) | C39: 354-355
A40: TOTAL Operation and Maintenance | D40: =SUM(D33:D39) -> 0

Sheet New Resources - Individual
B1: ='Sch 1- Rate Base '!E5 -> 0 | AG1: 2008 | AH1: 1
A2: TOC | B2: Rate Period Mid-Point From ASC Tab | E2: Online Year | AG2: 2009 | AH2: 2
A3: é | B3: 46478 | E3: Online Month | AG3: 2010 | AH3: 3
E4: =B3 -> 46478 | F4: =IF(ISERROR(DATE(F2,F3,1)),"",(DATE(F2,F3,1))) | G4: =IF(ISERROR(DATE(G2,G3,1)),"",(DATE(G2,G3,1))) | H4: =IF(ISERROR(DATE(H2,H3,1)),"",(DATE(H2,H3,1))) | I4: =IF(ISERROR(DATE(I2,I3,1)),"",(DATE(I2,I3,1))) | J4: =IF(ISERROR(DATE(J2,J3,1)),"",(DATE(J2,J3,1))) | K4: =IF(ISERROR(DATE(K2,K3,1)),"",(DATE(K2,K3,1))) | L4: =IF(ISERROR(DATE(L2,L3,1)),"",(DATE(L2,L3,1))) | M4: =IF(ISERROR(DATE(M2,M3,1)),"",(DATE(M2,M3,1))) | ... Y4: =IF(ISERROR(DATE(Y2,Y3,1)),"",(DATE(Y2,Y3,1))) | AG4: 2011 | AH4: 4
A5: 1 | B5: 2 | C5: 3 | D5: 4 | E5: 5 | F5: 6 | G5: 7 | H5: 8 | I5: 9 | J5: 10 | K5: 11 | L5: 12 | M5: 13 | N5: 14 | O5: 15 | P5: 16 | Q5: 17 | R5: 18 | S5: 19 | T5: 20 | U5: 21 | V5: 22 | W5: 23 | X5: 24 | Y5: 25 | AA5: 1 | AB5: 5 | AC5: 5 | AD5: 5 | AG5: 2012 | AH5: 5
B6: New Resource Group Number | G6: 1 | H6: 2 | I6: 1 | J6: 1 | L6: 3 | M6: 1 | AG6: 2013 | AH6: 6
A7: 1 | B7: Steam Production Plant | C7: Accnt # | AH7: 7
A8: =A7+1 -> 2 | B8: Steam Production | C8: 310-317 | AH8: 8
A9: =A8+1 -> 3 | B9: Fuel (Stock) | C9: 151 | AH9: 9
A10: =A9+1 -> 4 | B10: Plant Materials and Operating Supplies | C10: 154 | AH10: 10
A11: =A10+1 -> 5 | B11: Allowances | C11: 158.1-158.2 | AH11: 11
A12: =A11+1 -> 6 | B12: Steam Expense | AH12: 12
A13: =A12+1 -> 7 | B13: Steam Power - Fuel | C13: 501
A14: =A13+1 -> 8 | B14: Steam Power - Op (Excluding 501 - Fuel) | C14: 500-509
A15: =A14+1 -> 9 | B15: Steam Power - Maintenance | C15: 510-515
A16: =A15+1 -> 10 | B16: Property Insurance | C16: 924
A17: =A16+1 -> 11 | B17: Depreciation | C17: 403 | D17: OK
A18: =A17+1 -> 12 | B18: Firm Sales for Resale ($) | C18: 447 | D18: OSS & PP
A19: =A18+1 -> 13 | B19: Firm Sales for Resale (MWh) | D19: OSS & PP
A20: =A19+1 -> 14 | B20: Expected Annual Generation (MWh) | D20: OSS & PP
A21: =A20+1 -> 15 | B21: Nuclear Production Plant
A22: =A21+1 -> 16 | B22: Nuclear Production | C22: 320-325
A23: =A22+1 -> 17 | B23: Nuclear Fuel (Stock) | C23: 120.1-120.6 | D23: OK
A24: =A23+1 -> 18 | B24: Plant Materials and Operating Supplies | C24: 154
A25: =A24+1 -> 19 | B25: Nuclear Expense
A26: =A25+1 -> 20 | B26: Nuclear - Fuel (Expense) | C26: 518
A27: =A26+1 -> 21 | B27: Nuclear - Operation ( Excluding 518 - Fuel) | C27: 517-525
A28: =A27+1 -> 22 | B28: Nuclear - Maintenance | C28: 528-532
A29: =A28+1 -> 23 | B29: Property Insurance | C29: 924
A30: =A29+1 -> 24 | B30: Depreciation | C30: 403 | D30: OK
A31: =A30+1 -> 25 | B31: Firm Sales for Resale ($) | C31: 447 | D31: OSS & PP
A32: =A31+1 -> 26 | B32: Firm Sales for Resale (MWh) | D32: OSS & PP
A33: =A32+1 -> 27 | B33: Expected Annual Generation (MWh) | D33: OSS & PP
A34: =A33+1 -> 28 | B34: Hydraulic Production Plant
A35: =A34+1 -> 29 | B35: Hydraulic Production | C35: 330-336
A36: =A35+1 -> 30 | B36: Plant Materials and Operating Supplies | C36: 154
A37: =A36+1 -> 31 | B37: Hydraulic Expense
A38: =A37+1 -> 32 | B38: Hydraulic - Operation | C38: 535-540.1
A39: =A38+1 -> 33 | B39: Hydraulic - Maintenance | C39: 541-545.1
A40: =A39+1 -> 34 | B40: Property Insurance | C40: 924
...

Sheet Materiality - Individual
F1: NRSW | M1: NR Switch | N1: 1 | U1: NR Switch | V1: 1 | AC1: NR Switch | AD1: 1 | AK1: NR Switch | AL1: 1 | AS1: NR Switch | AT1: 1 | BA1: NR Switch | BB1: 1 | BI1: NR Switch | BJ1: 1 | BQ1: NR Switch | BR1: 1 | BY1: NR Switch | BZ1: 1 | CG1: NR Switch | CH1: 1 | CO1: NR Switch | CP1: 1 | CW1: NR Switch | CX1: 1 | DE1: NR Switch | DF1: 1 | DM1: NR Switch | DN1: 1 | DU1: NR Switch | DV1: 1 | EC1: NR Switch | ED1: 1 | EK1: NR Switch | EL1: 1 | ES1: NR Switch | ET1: 1 | FA1: NR Switch | FB1: 1 | FI1: NR Switch | FJ1: 1
F2: NRCOL | M2: NR Column | N2: 6 | U2: NR Column | V2: 7 | AC2: NR Column | AD2: 8 | AK2: NR Column | AL2: 9 | AS2: NR Column | AT2: 10 | BA2: NR Column | BB2: 11 | BI2: NR Column | BJ2: 12 | BQ2: NR Column | BR2: 13 | BY2: NR Column | BZ2: 14 | CG2: NR Column | CH2: 15 | CO2: NR Column | CP2: 16 | CW2: NR Column | CX2: 17 | DE2: NR Column | DF2: 18 | DM2: NR Column | DN2: 19 | DU2: NR Column | DV2: 20 | EC2: NR Column | ED2: 21 | EK2: NR Column | EL2: 22 | ES2: NR Column | ET2: 23 | FA2: NR Column | FB2: 24 | FI2: NR Column | FJ2: 25
F3: Date | O3: =OFFSET('New Resources - Individual'!$A$1,3,N2-1) | W3: =OFFSET('New Resources - Individual'!$A$1,3,V2-1) | AE3: =OFFSET('New Resources - Individual'!$A$1,3,AD2-1) | AM3: =OFFSET('New Resources - Individual'!$A$1,3,AL2-1) | AU3: =OFFSET('New Resources - Individual'!$A$1,3,AT2-1) | BC3: =OFFSET('New Resources - Individual'!$A$1,3,BB2-1) | BK3: =OFFSET('New Resources - Individual'!$A$1,3,BJ2-1) | BS3: =OFFSET('New Resources - Individual'!$A$1,3,BR2-1) | CA3: =OFFSET('New Resources - Individual'!$A$1,3,BZ2-1) | CI3: =OFFSET('New Resources - Individual'!$A$1,3,CH2-1) | CQ3: =OFFSET('New Resources - Individual'!$A$1,3,CP2-1) | CY3: =OFFSET('New Resources - Individual'!$A$1,3,CX2-1) | DG3: =OFFSET('New Resources - Individual'!$A$1,3,DF2-1) | DO3: =OFFSET('New Resources - Individual'!$A$1,3,DN2-1) | DW3: =OFFSET('New Resources - Individual'!$A$1,3,DV2-1) | EE3: =OFFSET('New Resources - Individual'!$A$1,3,ED2-1) | EM3: =OFFSET('New Resources - Individual'!$A$1,3,EL2-1) | EU3: =OFFSET('New Resources - Individual'!$A$1,3,ET2-1) | FC3: =OFFSET('New Resources - Individual'!$A$1,3,FB2-1) | FK3: =OFFSET('New Resources - Individual'!$A$1,3,FJ2-1)
N4: New Resource | O4: Total | P4: Production | Q4: Transmission | R4: Distribution | V4: New Resource | W4: Total | X4: Production | Y4: Transmission | Z4: Distribution | AD4: New Resource | AE4: Total | AF4: Production | AG4: Transmission | AH4: Distribution | AL4: New Resource | AM4: Total | AN4: Production | AO4: Transmission | AP4: Distribution | AT4: New Resource | AU4: Total | AV4: Production | AW4: Transmission | AX4: Distribution | BB4: New Resource | BC4: Total | BD4: Production | BE4: Transmission | BF4: Distribution | BJ4: New Resource | BK4: Total | BL4: Production | BM4: Transmission | BN4: Distribution | BR4: New Resource | BS4: Total | BT4: Production | BU4: Transmission | BV4: Distribution | BZ4: New Resource | CA4: Total | CB4: Production | CC4: Transmission | CD4: Distribution | CH4: New Resource | CI4: Total | CJ4: Production | CK4: Transmission | CL4: Distribution | CP4: New Resource | CQ4: Total | CR4: Production | CS4: Transmission | CT4: Distribution | CX4: New Resource | CY4: Total | CZ4: Production | DA4: Transmission | DB4: Distribution | DF4: New Resource | DG4: Total | DH4: Production | DI4: Transmission | DJ4: Distribution | DN4: New Resource | DO4: Total | DP4: Production | DQ4: Transmission | DR4: Distribution | DV4: New Resource | DW4: Total | DX4: Production | DY4: Transmission | DZ4: Distribution | ED4: New Resource | EE4: Total | EF4: Production | EG4: Transmission | EH4: Distribution | EL4: New Resource | EM4: Total | EN4: Production | EO4: Transmission | EP4: Distribution | ET4: New Resource | EU4: Total | EV4: Production | EW4: Transmission | EX4: Distribution | FB4: New Resource | FC4: Total | FD4: Production | FE4: Transmission | FF4: Distribution | FJ4: New Resource | FK4: Total | FL4: Production | FM4: Transmission | FN4: Distribution
A5: TOC | B5: UTILITY NAME: | C5: ='Sch 1- Rate Base '!E5 -> 0
A6: é | B6: End of Year Report Period: | C6: ='Sch 1- Rate Base '!E6 -> 2026
B7: ASC Filing Date: | C7: ='Sch 1- Rate Base '!E7 -> 0
A9: 1 | B9: 2 | C9: 3 | D9: 4 | E9: 5 | F9: 6
A11: Schedule 1: Plant Investment / Rate Base
B12: Account Description | C12: FERC Form 1 | E12: Functionalization/ Escalation | G12: Total | H12: Production | I12: Transmission
C13: Page | D13: Account | J13: Distribution/
C14: Number | D14: Numbers | E14: Method | F14: Code | J14: Other
A15: Intangible Plant:
B16: Intangible Plant - Organization | D16: 301 | E16: ='Sch 1- Rate Base '!E16 -> DIST | G16: ='Sch 1- Rate Base '!G16 -> 0 | H16: ='Sch 1- Rate Base '!H16 -> 0 | I16: ='Sch 1- Rate Base '!I16 -> 0 | J16: ='Sch 1- Rate Base '!J16 -> 0 | K16: =IF($E16="DIRECT",0,1) -> 1 | O16: =$G16 -> 0 | P16: =VLOOKUP($E16,O$463:R$474,2,FALSE)*O16*($K16)+IF($G16>0,($H16/$G16)*O16,0)*(1-$K16) -> 0 | Q16: =VLOOKUP($E16,O$463:R$474,3,FALSE)*O16*($K16)+IF($G16>0,($I16/$G16)*O16,0)*(1-$K16) -> 0 | R16: =VLOOKUP($E16,O$463:R$474,4,FALSE)*O16*($K16)+(O16-P16-Q16)*(1-$K16) -> 0 | W16: =$G16 -> 0 | X16: =VLOOKUP($E16,W$463:Z$474,2,FALSE)*W16*($K16)+IF($G16>0,($H16/$G16)*W16,0)*(1-$K16) -> 0 | Y16: =VLOOKUP($E16,W$463:Z$474,3,FALSE)*W16*($K16)+IF($G16>0,($I16/$G16)*W16,0)*(1-$K16) -> 0 | Z16: =VLOOKUP($E16,W$463:Z$474,4,FALSE)*W16*($K16)+(W16-X16-Y16)*(1-$K16) -> 0 | AA16: 1 | AE16: =$G16 -> 0 | AF16: =VLOOKUP($E16,AE$463:AH$474,2,FALSE)*AE16*($K16)+IF($G16>0,($H16/$G16)*AE16,0)*(1-$K16) -> 0 | AG16: =VLOOKUP($E16,AE$463:AH$474,3,FALSE)*AE16*($K16)+IF($G16>0,($I16/$G16)*AE16,0)*(1-$K16) -> 0 | AH16: =VLOOKUP($E16,AE$463:AH$474,4,FALSE)*AE16*($K16)+(AE16-AF16-AG16)*(1-$K16) -> 0 | AM16: =$G16 -> 0 | AN16: =VLOOKUP($E16,AM$463:AP$474,2,FALSE)*AM16*($K16)+IF($G16>0,($H16/$G16)*AM16,0)*(1-$K16) -> 0 | AO16: =VLOOKUP($E16,AM$463:AP$474,3,FALSE)*AM16*($K16)+IF($G16>0,($I16/$G16)*AM16,0)*(1-$K16) -> 0 | AP16: =VLOOKUP($E16,AM$463:AP$474,4,FALSE)*AM16*($K16)+(AM16-AN16-AO16)*(1-$K16) -> 0 | AU16: =$G16 -> 0 | AV16: =VLOOKUP($E16,AU$463:AX$474,2,FALSE)*AU16*($K16)+IF($G16>0,($H16/$G16)*AU16,0)*(1-$K16) -> 0 | AW16: =VLOOKUP($E16,AU$463:AX$474,3,FALSE)*AU16*($K16)+IF($G16>0,($I16/$G16)*AU16,0)*(1-$K16) -> 0 | AX16: =VLOOKUP($E16,AU$463:AX$474,4,FALSE)*AU16*($K16)+(AU16-AV16-AW16)*(1-$K16) -> 0 | BC16: =$G16 -> 0 | BD16: =VLOOKUP($E16,BC$463:BF$474,2,FALSE)*BC16*($K16)+IF($G16>0,($H16/$G16)*BC16,0)*(1-$K16) -> 0 | BE16: =VLOOKUP($E16,BC$463:BF$474,3,FALSE)*BC16*($K16)+IF($G16>0,($I16/$G16)*BC16,0)*(1-$K16) -> 0 | BF16: =VLOOKUP($E16,BC$463:BF$474,4,FALSE)*BC16*($K16)+(BC16-BD16-BE16)*(1-$K16) -> 0 | BK16: =$G16 -> 0 | BL16: =VLOOKUP($E16,BK$463:BN$474,2,FALSE)*BK16*($K16)+IF($G16>0,($H16/$G16)*BK16,0)*(1-$K16) -> 0 | BM16: =VLOOKUP($E16,BK$463:BN$474,3,FALSE)*BK16*($K16)+IF($G16>0,($I16/$G16)*BK16,0)*(1-$K16) -> 0 | BN16: =VLOOKUP($E16,BK$463:BN$474,4,FALSE)*BK16*($K16)+(BK16-BL16-BM16)*(1-$K16) -> 0 | BS16: =$G16 -> 0 | BT16: =VLOOKUP($E16,BS$463:BV$474,2,FALSE)*BS16*($K16)+IF($G16>0,($H16/$G16)*BS16,0)*(1-$K16) -> 0 | BU16: =VLOOKUP($E16,BS$463:BV$474,3,FALSE)*BS16*($K16)+IF($G16>0,($I16/$G16)*BS16,0)*(1-$K16) -> 0 | BV16: =VLOOKUP($E16,BS$463:BV$474,4,FALSE)*BS16*($K16)+(BS16-BT16-BU16)*(1-$K16) -> 0 | CA16: =$G16 -> 0 | CB16: =VLOOKUP($E16,CA$463:CD$474,2,FALSE)*CA16*($K16)+IF($G16>0,($H16/$G16)*CA16,0)*(1-$K16) -> 0 | CC16: =VLOOKUP($E16,CA$463:CD$474,3,FALSE)*CA16*($K16)+IF($G16>0,($I16/$G16)*CA16,0)*(1-$K16) -> 0 | CD16: =VLOOKUP($E16,CA$463:CD$474,4,FALSE)*CA16*($K16)+(CA16-CB16-CC16)*(1-$K16) -> 0 | CI16: =$G16 -> 0 | CJ16: =VLOOKUP($E16,CI$463:CL$474,2,FALSE)*CI16*($K16)+IF($G16>0,($H16/$G16)*CI16,0)*(1-$K16) -> 0 | CK16: =VLOOKUP($E16,CI$463:CL$474,3,FALSE)*CI16*($K16)+IF($G16>0,($I16/$G16)*CI16,0)*(1-$K16) -> 0 | CL16: =VLOOKUP($E16,CI$463:CL$474,4,FALSE)*CI16*($K16)+(CI16-CJ16-CK16)*(1-$K16) -> 0 | CQ16: =$G16 -> 0 | CR16: =VLOOKUP($E16,CQ$463:CT$474,2,FALSE)*CQ16*($K16)+IF($G16>0,($H16/$G16)*CQ16,0)*(1-$K16) -> 0 | CS16: =VLOOKUP($E16,CQ$463:CT$474,3,FALSE)*CQ16*($K16)+IF($G16>0,($I16/$G16)*CQ16,0)*(1-$K16) -> 0 | CT16: =VLOOKUP($E16,CQ$463:CT$474,4,FALSE)*CQ16*($K16)+(CQ16-CR16-CS16)*(1-$K16) -> 0 | CY16: =$G16 -> 0 | CZ16: =VLOOKUP($E16,CY$463:DB$474,2,FALSE)*CY16*($K16)+IF($G16>0,($H16/$G16)*CY16,0)*(1-$K16) -> 0 | DA16: =VLOOKUP($E16,CY$463:DB$474,3,FALSE)*CY16*($K16)+IF($G16>0,($I16/$G16)*CY16,0)*(1-$K16) -> 0 | DB16: =VLOOKUP($E16,CY$463:DB$474,4,FALSE)*CY16*($K16)+(CY16-CZ16-DA16)*(1-$K16) -> 0 | DG16: =$G16 -> 0 | DH16: =VLOOKUP($E16,DG$463:DJ$474,2,FALSE)*DG16*($K16)+IF($G16>0,($H16/$G16)*DG16,0)*(1-$K16) -> 0 | DI16: =VLOOKUP($E16,DG$463:DJ$474,3,FALSE)*DG16*($K16)+IF($G16>0,($I16/$G16)*DG16,0)*(1-$K16) -> 0 | DJ16: =VLOOKUP($E16,DG$463:DJ$474,4,FALSE)*DG16*($K16)+(DG16-DH16-DI16)*(1-$K16) -> 0 | DO16: =$G16 -> 0 | DP16: =VLOOKUP($E16,DO$463:DR$474,2,FALSE)*DO16*($K16)+IF($G16>0,($H16/$G16)*DO16,0)*(1-$K16) -> 0 | DQ16: =VLOOKUP($E16,DO$463:DR$474,3,FALSE)*DO16*($K16)+IF($G16>0,($I16/$G16)*DO16,0)*(1-$K16) -> 0 | DR16: =VLOOKUP($E16,DO$463:DR$474,4,FALSE)*DO16*($K16)+(DO16-DP16-DQ16)*(1-$K16) -> 0 | DW16: =$G16 -> 0 | DX16: =VLOOKUP($E16,DW$463:DZ$474,2,FALSE)*DW16*($K16)+IF($G16>0,($H16/$G16)*DW16,0)*(1-$K16) -> 0 | DY16: =VLOOKUP($E16,DW$463:DZ$474,3,FALSE)*DW16*($K16)+IF($G16>0,($I16/$G16)*DW16,0)*(1-$K16) -> 0 | DZ16: =VLOOKUP($E16,DW$463:DZ$474,4,FALSE)*DW16*($K16)+(DW16-DX16-DY16)*(1-$K16) -> 0 | EE16: =$G16 -> 0 | EF16: =VLOOKUP($E16,EE$463:EH$474,2,FALSE)*EE16*($K16)+IF($G16>0,($H16/$G16)*EE16,0)*(1-$K16) -> 0 | EG16: =VLOOKUP($E16,EE$463:EH$474,3,FALSE)*EE16*($K16)+IF($G16>0,($I16/$G16)*EE16,0)*(1-$K16) -> 0 | EH16: =VLOOKUP($E16,EE$463:EH$474,4,FALSE)*EE16*($K16)+(EE16-EF16-EG16)*(1-$K16) -> 0 | EM16: =$G16 -> 0 | EN16: =VLOOKUP($E16,EM$463:EP$474,2,FALSE)*EM16*($K16)+IF($G16>0,($H16/$G16)*EM16,0)*(1-$K16) -> 0 | EO16: =VLOOKUP($E16,EM$463:EP$474,3,FALSE)*EM16*($K16)+IF($G16>0,($I16/$G16)*EM16,0)*(1-$K16) -> 0 | EP16: =VLOOKUP($E16,EM$463:EP$474,4,FALSE)*EM16*($K16)+(EM16-EN16-EO16)*(1-$K16) -> 0 | EU16: =$G16 -> 0 | EV16: =VLOOKUP($E16,EU$463:EX$474,2,FALSE)*EU16*($K16)+IF($G16>0,($H16/$G16)*EU16,0)*(1-$K16) -> 0 | EW16: =VLOOKUP($E16,EU$463:EX$474,3,FALSE)*EU16*($K16)+IF($G16>0,($I16/$G16)*EU16,0)*(1-$K16) -> 0 | EX16: =VLOOKUP($E16,EU$463:EX$474,4,FALSE)*EU16*($K16)+(EU16-EV16-EW16)*(1-$K16) -> 0 | FC16: =$G16 -> 0 | FD16: =VLOOKUP($E16,FC$463:FF$474,2,FALSE)*FC16*($K16)+IF($G16>0,($H16/$G16)*FC16,0)*(1-$K16) -> 0 | FE16: =VLOOKUP($E16,FC$463:FF$474,3,FALSE)*FC16*($K16)+IF($G16>0,($I16/$G16)*FC16,0)*(1-$K16) -> 0 | FF16: =VLOOKUP($E16,FC$463:FF$474,4,FALSE)*FC16*($K16)+(FC16-FD16-FE16)*(1-$K16) -> 0 | FK16: =$G16 -> 0 | FL16: =VLOOKUP($E16,FK$463:FN$474,2,FALSE)*FK16*($K16)+IF($G16>0,($H16/$G16)*FK16,0)*(1-$K16) -> 0 | FM16: =VLOOKUP($E16,FK$463:FN$474,3,FALSE)*FK16*($K16)+IF($G16>0,($I16/$G16)*FK16,0)*(1-$K16) -> 0 | FN16: =VLOOKUP($E16,FK$463:FN$474,4,FALSE)*FK16*($K16)+(FK16-FL16-FM16)*(1-$K16) -> 0
B17: Intangible Plant - Franchises and Consents | D17: 302 | E17: ='Sch 1- Rate Base '!E17 -> DIRECT | G17: ='Sch 1- Rate Base '!G17 -> 0 | H17: ='Sch 1- Rate Base '!H17 -> 0 | I17: ='Sch 1- Rate Base '!I17 -> 0 | J17: ='Sch 1- Rate Base '!J17 -> 0 | K17: =IF($E17="DIRECT",0,1) -> 0 | O17: =$G17 -> 0 | P17: =VLOOKUP($E17,O$463:R$474,2,FALSE)*O17*($K17)+IF($G17>0,($H17/$G17)*O17,0)*(1-$K17) -> 0 | Q17: =VLOOKUP($E17,O$463:R$474,3,FALSE)*O17*($K17)+IF($G17>0,($I17/$G17)*O17,0)*(1-$K17) -> 0 | R17: =VLOOKUP($E17,O$463:R$474,4,FALSE)*O17*($K17)+(O17-P17-Q17)*(1-$K17) -> 0 | W17: =$G17 -> 0 | X17: =VLOOKUP($E17,W$463:Z$474,2,FALSE)*W17*($K17)+IF($G17>0,($H17/$G17)*W17,0)*(1-$K17) -> 0 | Y17: =VLOOKUP($E17,W$463:Z$474,3,FALSE)*W17*($K17)+IF($G17>0,($I17/$G17)*W17,0)*(1-$K17) -> 0 | Z17: =VLOOKUP($E17,W$463:Z$474,4,FALSE)*W17*($K17)+(W17-X17-Y17)*(1-$K17) -> 0 | AA17: 0 | AE17: =$G17 -> 0 | AF17: =VLOOKUP($E17,AE$463:AH$474,2,FALSE)*AE17*($K17)+IF($G17>0,($H17/$G17)*AE17,0)*(1-$K17) -> 0 | AG17: =VLOOKUP($E17,AE$463:AH$474,3,FALSE)*AE17*($K17)+IF($G17>0,($I17/$G17)*AE17,0)*(1-$K17) -> 0 | AH17: =VLOOKUP($E17,AE$463:AH$474,4,FALSE)*AE17*($K17)+(AE17-AF17-AG17)*(1-$K17) -> 0 | AM17: =$G17 -> 0 | AN17: =VLOOKUP($E17,AM$463:AP$474,2,FALSE)*AM17*($K17)+IF($G17>0,($H17/$G17)*AM17,0)*(1-$K17) -> 0 | AO17: =VLOOKUP($E17,AM$463:AP$474,3,FALSE)*AM17*($K17)+IF($G17>0,($I17/$G17)*AM17,0)*(1-$K17) -> 0 | AP17: =VLOOKUP($E17,AM$463:AP$474,4,FALSE)*AM17*($K17)+(AM17-AN17-AO17)*(1-$K17) -> 0 | AU17: =$G17 -> 0 | AV17: =VLOOKUP($E17,AU$463:AX$474,2,FALSE)*AU17*($K17)+IF($G17>0,($H17/$G17)*AU17,0)*(1-$K17) -> 0 | AW17: =VLOOKUP($E17,AU$463:AX$474,3,FALSE)*AU17*($K17)+IF($G17>0,($I17/$G17)*AU17,0)*(1-$K17) -> 0 | AX17: =VLOOKUP($E17,AU$463:AX$474,4,FALSE)*AU17*($K17)+(AU17-AV17-AW17)*(1-$K17) -> 0 | BC17: =$G17 -> 0 | BD17: =VLOOKUP($E17,BC$463:BF$474,2,FALSE)*BC17*($K17)+IF($G17>0,($H17/$G17)*BC17,0)*(1-$K17) -> 0 | BE17: =VLOOKUP($E17,BC$463:BF$474,3,FALSE)*BC17*($K17)+IF($G17>0,($I17/$G17)*BC17,0)*(1-$K17) -> 0 | BF17: =VLOOKUP($E17,BC$463:BF$474,4,FALSE)*BC17*($K17)+(BC17-BD17-BE17)*(1-$K17) -> 0 | BK17: =$G17 -> 0 | BL17: =VLOOKUP($E17,BK$463:BN$474,2,FALSE)*BK17*($K17)+IF($G17>0,($H17/$G17)*BK17,0)*(1-$K17) -> 0 | BM17: =VLOOKUP($E17,BK$463:BN$474,3,FALSE)*BK17*($K17)+IF($G17>0,($I17/$G17)*BK17,0)*(1-$K17) -> 0 | BN17: =VLOOKUP($E17,BK$463:BN$474,4,FALSE)*BK17*($K17)+(BK17-BL17-BM17)*(1-$K17) -> 0 | BS17: =$G17 -> 0 | BT17: =VLOOKUP($E17,BS$463:BV$474,2,FALSE)*BS17*($K17)+IF($G17>0,($H17/$G17)*BS17,0)*(1-$K17) -> 0 | BU17: =VLOOKUP($E17,BS$463:BV$474,3,FALSE)*BS17*($K17)+IF($G17>0,($I17/$G17)*BS17,0)*(1-$K17) -> 0 | BV17: =VLOOKUP($E17,BS$463:BV$474,4,FALSE)*BS17*($K17)+(BS17-BT17-BU17)*(1-$K17) -> 0 | CA17: =$G17 -> 0 | CB17: =VLOOKUP($E17,CA$463:CD$474,2,FALSE)*CA17*($K17)+IF($G17>0,($H17/$G17)*CA17,0)*(1-$K17) -> 0 | CC17: =VLOOKUP($E17,CA$463:CD$474,3,FALSE)*CA17*($K17)+IF($G17>0,($I17/$G17)*CA17,0)*(1-$K17) -> 0 | CD17: =VLOOKUP($E17,CA$463:CD$474,4,FALSE)*CA17*($K17)+(CA17-CB17-CC17)*(1-$K17) -> 0 | CI17: =$G17 -> 0 | CJ17: =VLOOKUP($E17,CI$463:CL$474,2,FALSE)*CI17*($K17)+IF($G17>0,($H17/$G17)*CI17,0)*(1-$K17) -> 0 | CK17: =VLOOKUP($E17,CI$463:CL$474,3,FALSE)*CI17*($K17)+IF($G17>0,($I17/$G17)*CI17,0)*(1-$K17) -> 0 | CL17: =VLOOKUP($E17,CI$463:CL$474,4,FALSE)*CI17*($K17)+(CI17-CJ17-CK17)*(1-$K17) -> 0 | CQ17: =$G17 -> 0 | CR17: =VLOOKUP($E17,CQ$463:CT$474,2,FALSE)*CQ17*($K17)+IF($G17>0,($H17/$G17)*CQ17,0)*(1-$K17) -> 0 | CS17: =VLOOKUP($E17,CQ$463:CT$474,3,FALSE)*CQ17*($K17)+IF($G17>0,($I17/$G17)*CQ17,0)*(1-$K17) -> 0 | CT17: =VLOOKUP($E17,CQ$463:CT$474,4,FALSE)*CQ17*($K17)+(CQ17-CR17-CS17)*(1-$K17) -> 0 | CY17: =$G17 -> 0 | CZ17: =VLOOKUP($E17,CY$463:DB$474,2,FALSE)*CY17*($K17)+IF($G17>0,($H17/$G17)*CY17,0)*(1-$K17) -> 0 | DA17: =VLOOKUP($E17,CY$463:DB$474,3,FALSE)*CY17*($K17)+IF($G17>0,($I17/$G17)*CY17,0)*(1-$K17) -> 0 | DB17: =VLOOKUP($E17,CY$463:DB$474,4,FALSE)*CY17*($K17)+(CY17-CZ17-DA17)*(1-$K17) -> 0 | DG17: =$G17 -> 0 | DH17: =VLOOKUP($E17,DG$463:DJ$474,2,FALSE)*DG17*($K17)+IF($G17>0,($H17/$G17)*DG17,0)*(1-$K17) -> 0 | DI17: =VLOOKUP($E17,DG$463:DJ$474,3,FALSE)*DG17*($K17)+IF($G17>0,($I17/$G17)*DG17,0)*(1-$K17) -> 0 | DJ17: =VLOOKUP($E17,DG$463:DJ$474,4,FALSE)*DG17*($K17)+(DG17-DH17-DI17)*(1-$K17) -> 0 | DO17: =$G17 -> 0 | DP17: =VLOOKUP($E17,DO$463:DR$474,2,FALSE)*DO17*($K17)+IF($G17>0,($H17/$G17)*DO17,0)*(1-$K17) -> 0 | DQ17: =VLOOKUP($E17,DO$463:DR$474,3,FALSE)*DO17*($K17)+IF($G17>0,($I17/$G17)*DO17,0)*(1-$K17) -> 0 | DR17: =VLOOKUP($E17,DO$463:DR$474,4,FALSE)*DO17*($K17)+(DO17-DP17-DQ17)*(1-$K17) -> 0 | DW17: =$G17 -> 0 | DX17: =VLOOKUP($E17,DW$463:DZ$474,2,FALSE)*DW17*($K17)+IF($G17>0,($H17/$G17)*DW17,0)*(1-$K17) -> 0 | DY17: =VLOOKUP($E17,DW$463:DZ$474,3,FALSE)*DW17*($K17)+IF($G17>0,($I17/$G17)*DW17,0)*(1-$K17) -> 0 | DZ17: =VLOOKUP($E17,DW$463:DZ$474,4,FALSE)*DW17*($K17)+(DW17-DX17-DY17)*(1-$K17) -> 0 | EE17: =$G17 -> 0 | EF17: =VLOOKUP($E17,EE$463:EH$474,2,FALSE)*EE17*($K17)+IF($G17>0,($H17/$G17)*EE17,0)*(1-$K17) -> 0 | EG17: =VLOOKUP($E17,EE$463:EH$474,3,FALSE)*EE17*($K17)+IF($G17>0,($I17/$G17)*EE17,0)*(1-$K17) -> 0 | EH17: =VLOOKUP($E17,EE$463:EH$474,4,FALSE)*EE17*($K17)+(EE17-EF17-EG17)*(1-$K17) -> 0 | EM17: =$G17 -> 0 | EN17: =VLOOKUP($E17,EM$463:EP$474,2,FALSE)*EM17*($K17)+IF($G17>0,($H17/$G17)*EM17,0)*(1-$K17) -> 0 | EO17: =VLOOKUP($E17,EM$463:EP$474,3,FALSE)*EM17*($K17)+IF($G17>0,($I17/$G17)*EM17,0)*(1-$K17) -> 0 | EP17: =VLOOKUP($E17,EM$463:EP$474,4,FALSE)*EM17*($K17)+(EM17-EN17-EO17)*(1-$K17) -> 0 | EU17: =$G17 -> 0 | EV17: =VLOOKUP($E17,EU$463:EX$474,2,FALSE)*EU17*($K17)+IF($G17>0,($H17/$G17)*EU17,0)*(1-$K17) -> 0 | EW17: =VLOOKUP($E17,EU$463:EX$474,3,FALSE)*EU17*($K17)+IF($G17>0,($I17/$G17)*EU17,0)*(1-$K17) -> 0 | EX17: =VLOOKUP($E17,EU$463:EX$474,4,FALSE)*EU17*($K17)+(EU17-EV17-EW17)*(1-$K17) -> 0 | FC17: =$G17 -> 0 | FD17: =VLOOKUP($E17,FC$463:FF$474,2,FALSE)*FC17*($K17)+IF($G17>0,($H17/$G17)*FC17,0)*(1-$K17) -> 0 | FE17: =VLOOKUP($E17,FC$463:FF$474,3,FALSE)*FC17*($K17)+IF($G17>0,($I17/$G17)*FC17,0)*(1-$K17) -> 0 | FF17: =VLOOKUP($E17,FC$463:FF$474,4,FALSE)*FC17*($K17)+(FC17-FD17-FE17)*(1-$K17) -> 0 | FK17: =$G17 -> 0 | FL17: =VLOOKUP($E17,FK$463:FN$474,2,FALSE)*FK17*($K17)+IF($G17>0,($H17/$G17)*FK17,0)*(1-$K17) -> 0 | FM17: =VLOOKUP($E17,FK$463:FN$474,3,FALSE)*FK17*($K17)+IF($G17>0,($I17/$G17)*FK17,0)*(1-$K17) -> 0 | FN17: =VLOOKUP($E17,FK$463:FN$474,4,FALSE)*FK17*($K17)+(FK17-FL17-FM17)*(1-$K17) -> 0
