Workbook
Name _56F9DC9755BA473782653E2940F9FormId: "79XIZPe22EO4S40ETtyQHR6SSzqw2MZMgX2hLKkxMm5UNkJBVThJMThQWTFKRURLNzJTNDU4VExQNSQlQCN0PWcu"
Name _56F9DC9755BA473782653E2940F9ResponseSheet: "Form1"
Name _56F9DC9755BA473782653E2940F9SourceDocId: "{e50dfd7f-ac2f-40a5-b514-1bf91148ed70}"
Name _PTD1: '[1]Sch 1- Rate Base '!$P$1:$P$3
Name _PTD2: '[1]Sch 1- Rate Base '!$P$1:$P$3
Name _PTD3: '[1]Sch 1- Rate Base '!$P$1:$P$3
Name _WNP2: #REF!
Name _WNP2: #REF!
Name Alt_Load_Switch: #REF!
Name Alt_Load_Switch: #REF!
Name BlockSales: #REF!
Name BlockSales: #REF!
Name CompleAugHLH: #REF!
Name CompleAugHLH: #REF!
Name CompleAugLLH: #REF!
Name CompleAugLLH: #REF!
Name contr_time_period_default: [2]Start!#REF!
Name contr_time_period_default: [2]Start!#REF!
Name DIST: '[1]Sch 1- Rate Base '!$Q$1:$Q$3
Name DIST: '[1]Sch 1- Rate Base '!$Q$1:$Q$3
Name DIST: '[1]Sch 1- Rate Base '!$Q$1:$Q$3
Name DIST: '[1]Sch 1- Rate Base '!$Q$1:$Q$3
Name DIST: '[1]Sch 1- Rate Base '!$Q$1:$Q$3
Name DIST: '[1]Sch 1- Rate Base '!$Q$1:$Q$3
Name DIST: '[1]Sch 1- Rate Base '!$Q$1:$Q$3
Name DIST: '[1]Sch 1- Rate Base '!$Q$1:$Q$3
Name DIST: '[1]Sch 1- Rate Base '!$Q$1:$Q$3
Name DIST: '[1]Sch 1- Rate Base '!$Q$1:$Q$3
Name DIST: '[1]Sch 1- Rate Base '!$Q$1:$Q$3
Name DIST: #REF!
Name DIST: '[1]Sch 1- Rate Base '!$Q$1:$Q$3
Name DIST: '[1]Sch 1- Rate Base '!$Q$1:$Q$3
Name DIST: #REF!
Name DIST: '[1]Sch 1- Rate Base '!$Q$1:$Q$3
Name DIST: '[1]Sch 1- Rate Base '!$Q$1:$Q$3
Name DIST: '[1]Sch 1- Rate Base '!$Q$1:$Q$3
Name DIST: '[1]Sch 1- Rate Base '!$Q$1:$Q$3
Name DIST: '[1]Sch 1- Rate Base '!$Q$1:$Q$3
Name DIST: '[1]Sch 1- Rate Base '!$Q$1:$Q$3
Name DIST: 'Sch 1- Rate Base '!$Q$1:$Q$3
Name DIST1: '[1]Sch 1- Rate Base '!$Q$1:$Q$3
Name DIST2: '[1]Sch 1- Rate Base '!$Q$1:$Q$3
Name DIST3: '[1]Sch 1- Rate Base '!$Q$1:$Q$3
Name DSIHLH: #REF!
Name DSIHLH: #REF!
Name DSILLH: #REF!
Name DSILLH: #REF!
Name FedGenSliceHLH: #REF!
Name FedGenSliceHLH: #REF!
Name FedGenSliceLLH: #REF!
Name FedGenSliceLLH: #REF!
Name FirmConHLH: #REF!
Name FirmConHLH: #REF!
Name FirmConLLH: #REF!
Name FirmConLLH: #REF!
Name FPSPFHLH: #REF!
Name FPSPFHLH: #REF!
Name FPSPFLLH: #REF!
Name FPSPFLLH: #REF!
Name HydroGenHossHLH: #REF!

Sheet Revisions_2026-28
A4: 1 | B4: Change dates in Sch 1- Rate Base Tab
C6: Cell E6 | D6: Change from: | F6: 2021 | G6: to | H6: 2023
C8: Cell E7 | D8: Change from: | F8: 44743 | G8: to | H8: 45476
A11: 2 | B11: In NLSL_Base_New_Calc Tab
C13: Cell A47 | D13: Change from | F13: 2021 cost of serving NLSLs under Endnote d | G13: to | H13: 2023 cost of serving NLSLs under Endnote d
A16: 3 | B16: In Above-RHWM_Base_New_Calc Tab
C18: Cell A47 | D18: Change from | F18: 2021 cost of serving Above-RHWM Loads under Endnote d | G18: to | H18: 2023 cost of serving Above-RHWM Loads under Endnote d
A21: 4 | B21: Updated all Footers from | F21: FY 2024-2025 ASC Filing | G21: to | H21: FY 2024-2025 ASC Filing
A24: 5 | B24: In New Resources-Individual and New Resources Group Tabs
C26: Cell B3 | D26: Change from | F26: 45566 | G26: to | H26: 46478 | I26: Midpoint is different because of the three year rate period
A28: 6 | B28: In Schedule 1 - Rate Base
C30: Check all account numbers

Sheet TOC
A1: FY 2026-2028 ASC Appendix 1
A2: Table of Contents
A4: 1 | B4: Schedule 1 - Rate Base
A5: 2 | B5: Schedule 1A - Cash Working Capital
A6: 3 | B6: Schedule 2 -Rate of Return
A7: 5 | B7: Schedule 3 - Expenses
A8: 6 | B8: Schedule 3A - Taxes
A9: 7 | B9: Schedule 3B - Other Items
A10: 8 | B10: Schedule 4 - Average System Cost
A11: 9 | B11: 3-YEAR PP & OSS Worksheet
A12: 10 | B12: Load Forecast
A13: 11 | B13: Distribution Loss Calc
A14: 12 | B14: Salaries
A15: 13 | B15: Ratios
... A24: 22 | B24: Tiered Rates

Sheet Sch 1- Rate Base 
A1: BONNEVILLE POWER ADMINISTRATION
A2: RESIDENTIAL PURCHASE AND SALES AGREEMENT
A3: 2008 Average System Cost Methodology (ASCM) Appendix 1
A5: TOC | D5: UTILITY NAME: | E5: Utility Name | I5: BPA Reviews:
A6: é | D6: End of Year Report Period: | E6: 2023
D7: ASC Filing Date: | E7: 45446
A10: Schedule 1: Plant Investment / Rate Base
A12: Account Description | C12: FERC Form 1 | E12: Functionalization | G12: Total | H12: Production | I12: Transmission | J12: Distribution/ Other | L12: Production | M12: Transmission
C13: Page | D13: Account | E13: Method | N13: Distribution/
C14: Number | D14: Numbers | E14: Default | F14: Optional | N14: Other
A15: Intangible Plant:
B16: Intangible Plant - Organization | C16: 204-207 | D16: 301 | E16: DIST | G16: ='204-207'!M3 -> 0 | H16: =VLOOKUP($E16,Ratio,2,FALSE)*$G16 -> 0 | I16: =VLOOKUP($E16,Ratio,3,FALSE)*$G16 -> 0 | J16: =VLOOKUP($E16,Ratio,4,FALSE)*$G16 -> 0
B17: Intangible Plant - Franchises and Consents | C17: 204-207 | D17: 302 | E17: DIRECT | F17: PTD | G17: ='204-207'!M4 -> 46804271 | H17: =IF($E17="DIRECT",$L17,VLOOKUP($E17,Ratio,2,FALSE)*$G17) -> 42107008 | I17: =IF($E17="DIRECT",$M17,VLOOKUP($E17,Ratio,3,FALSE)*$G17) -> 0 | J17: =IF($E17="DIRECT",$N17,VLOOKUP($E17,Ratio,4,FALSE)*$G17) -> 4697263.3 | L17: ='1.1 Intangible Assets Summary'!F8 -> 42107008 | N17: 4697263.3
B18: Intangible Plant - Miscellaneous | C18: 204-207 | D18: 303 | E18: DIRECT | F18: DIST | G18: ='204-207'!M5 -> 57840902 | H18: =IF($E18="DIRECT",$L18,VLOOKUP($E18,Ratio,2,FALSE)*$G18) -> 21321713 | I18: =IF($E18="DIRECT",$M18,VLOOKUP($E18,Ratio,3,FALSE)*$G18) -> 0 | J18: =IF($E18="DIRECT",$N18,VLOOKUP($E18,Ratio,4,FALSE)*$G18) -> 36519189 | L18: ='1.1 Intangible Assets Summary'!F14 -> 21321713 | M18: =0 -> 0 | N18: ='1.1 Intangible Assets Summary'!H14+'1.1 Intangible Assets Summary'!G14 -> 36519189
A19: Total Intangible Plant | G19: =SUM(G16:G18) -> 104645173 | H19: =SUM(H16:H18) -> 63428720 | I19: =SUM(I16:I18) -> 0 | J19: =SUM(J16:J18) -> 41216452
A21: Production Plant:
B22: Steam Production | C22: 204-207 | D22: 310-317 | E22: PROD | G22: =SUM('204-207'!M9:M16) -> 494693042 | H22: =VLOOKUP($E22,Ratio,2,FALSE)*$G22 -> 494693042 | I22: =VLOOKUP($E22,Ratio,3,FALSE)*$G22 -> 0 | J22: =VLOOKUP($E22,Ratio,4,FALSE)*$G22 -> 0
B23: Nuclear Production | C23: 204-207 | D23: 320-326 | E23: PROD | G23: =SUM('204-207'!M19:M25) -> 0 | H23: =VLOOKUP($E23,Ratio,2,FALSE)*$G23 -> 0 | I23: =VLOOKUP($E23,Ratio,3,FALSE)*$G23 -> 0 | J23: =VLOOKUP($E23,Ratio,4,FALSE)*$G23 -> 0
B24: Hydraulic Production | C24: 204-207 | D24: 330-337 | E24: PROD | G24: =SUM('204-207'!M28:M34) -> 791656686 | H24: =VLOOKUP($E24,Ratio,2,FALSE)*$G24 -> 791656686 | I24: =VLOOKUP($E24,Ratio,3,FALSE)*$G24 -> 0 | J24: =VLOOKUP($E24,Ratio,4,FALSE)*$G24 -> 0
B25: Other Production | C25: 204-207 | D25: 340-348 | E25: PROD | G25: =SUM('204-207'!M38:M45) -> 327526210 | H25: =VLOOKUP($E25,Ratio,2,FALSE)*$G25 -> 327526210 | I25: =VLOOKUP($E25,Ratio,3,FALSE)*$G25 -> 0 | J25: =VLOOKUP($E25,Ratio,4,FALSE)*$G25 -> 0
A26: Total Production Plant | G26: =SUM(G22:G25) -> 1613875938 | H26: =SUM(H22:H25) -> 1613875938 | I26: =SUM(I22:I25) -> 0 | J26: =SUM(J22:J25) -> 0
B29: Transmission Plant | C29: 204-207 | D29: 350-359.1 | E29: TRANS | G29: =SUM('204-207'!M49:M58) -> 1057719030 | H29: =VLOOKUP($E29,Ratio,2,FALSE)*$G29 -> 0 | I29: =VLOOKUP($E29,Ratio,3,FALSE)*$G29 -> 0 | J29: =VLOOKUP($E29,Ratio,4,FALSE)*$G29 -> 1057719030
A30: Total Transmission Plant | G30: =SUM(G29) -> 1057719030 | H30: =SUM(H29) -> 0 | I30: =SUM(I29) -> 0 | J30: =SUM(J29) -> 1057719030
A32: Distribution Plant:
B33: Distribution Plant | C33: 204-207 | D33: 360-374 | E33: DIST | G33: =SUM('204-207'!M61:M75) -> 2407306658 | H33: =VLOOKUP($E33,Ratio,2,FALSE)*$G33 -> 0 | I33: =VLOOKUP($E33,Ratio,3,FALSE)*$G33 -> 0 | J33: =VLOOKUP($E33,Ratio,4,FALSE)*$G33 -> 2407306658
A34: Total Distribution Plant | G34: =SUM(G33) -> 2407306658 | H34: =SUM(H33) -> 0 | I34: =SUM(I33) -> 0 | J34: =SUM(J33) -> 2407306658
A36: General Plant:
B37: Land and Land Rights | C37: 204-207 | D37: 389 | E37: PTD | G37: =SUM('204-207'!M87) -> 1083006 | H37: =VLOOKUP($E37,Ratio,2,FALSE)*$G37 -> 344136.87 | I37: =VLOOKUP($E37,Ratio,3,FALSE)*$G37 -> 0 | J37: =VLOOKUP($E37,Ratio,4,FALSE)*$G37 -> 738869.13
B38: Structures and Improvements | C38: 204-207 | D38: 390 | E38: PTD | G38: =SUM('204-207'!M88) -> 21045508 | H38: =VLOOKUP($E38,Ratio,2,FALSE)*$G38 -> 6687437.8 | I38: =VLOOKUP($E38,Ratio,3,FALSE)*$G38 -> 0 | J38: =VLOOKUP($E38,Ratio,4,FALSE)*$G38 -> 14358070
B39: Furniture and Equipment | C39: 204-207 | D39: 391 | E39: LABOR | G39: =SUM('204-207'!M89) -> 3976622 | H39: =VLOOKUP($E39,Ratio,2,FALSE)*$G39 -> 1455724.6 | I39: =VLOOKUP($E39,Ratio,3,FALSE)*$G39 -> 0 | J39: =VLOOKUP($E39,Ratio,4,FALSE)*$G39 -> 2520897.4
B40: Transportation Equipment | C40: 204-207 | D40: 392 | E40: TD | G40: =SUM('204-207'!M90) -> 62357831 | H40: =VLOOKUP($E40,Ratio,2,FALSE)*$G40 -> 0 | I40: =VLOOKUP($E40,Ratio,3,FALSE)*$G40 -> 0 | J40: =VLOOKUP($E40,Ratio,4,FALSE)*$G40 -> 62357831
B41: Stores Equipment | C41: 204-207 | D41: 393 | E41: PTD | G41: =SUM('204-207'!M91) -> 472784 | H41: =VLOOKUP($E41,Ratio,2,FALSE)*$G41 -> 150232.23 | I41: =VLOOKUP($E41,Ratio,3,FALSE)*$G41 -> 0 | J41: =VLOOKUP($E41,Ratio,4,FALSE)*$G41 -> 322551.77
B42: Tools and Garage Equipment | C42: 204-207 | D42: 394 | E42: PTD | G42: =SUM('204-207'!M92) -> 9005539 | H42: =VLOOKUP($E42,Ratio,2,FALSE)*$G42 -> 2861607.4 | I42: =VLOOKUP($E42,Ratio,3,FALSE)*$G42 -> 0 | J42: =VLOOKUP($E42,Ratio,4,FALSE)*$G42 -> 6143931.6
B43: Laboratory Equipment | C43: 204-207 | D43: 395 | E43: PTD | G43: =SUM('204-207'!M93) -> 3305287 | H43: =VLOOKUP($E43,Ratio,2,FALSE)*$G43 -> 1050290.7 | I43: =VLOOKUP($E43,Ratio,3,FALSE)*$G43 -> 0 | J43: =VLOOKUP($E43,Ratio,4,FALSE)*$G43 -> 2254996.3
B44: Power Operated Equipment | C44: 204-207 | D44: 396 | E44: TD | G44: =SUM('204-207'!M94) -> 25432532 | H44: =VLOOKUP($E44,Ratio,2,FALSE)*$G44 -> 0 | I44: =VLOOKUP($E44,Ratio,3,FALSE)*$G44 -> 0 | J44: =VLOOKUP($E44,Ratio,4,FALSE)*$G44 -> 25432532
B45: Communication Equipment | C45: 204-207 | D45: 397 | E45: PTD | G45: =SUM('204-207'!M95) -> 42279271 | H45: =VLOOKUP($E45,Ratio,2,FALSE)*$G45 -> 13434696 | I45: =VLOOKUP($E45,Ratio,3,FALSE)*$G45 -> 0 | J45: =VLOOKUP($E45,Ratio,4,FALSE)*$G45 -> 28844575
B46: Miscellaneous Equipment | C46: 204-207 | D46: 398 | E46: PTD | G46: =SUM('204-207'!M96) -> 258773 | H46: =VLOOKUP($E46,Ratio,2,FALSE)*$G46 -> 82227.92 | I46: =VLOOKUP($E46,Ratio,3,FALSE)*$G46 -> 0 | J46: =VLOOKUP($E46,Ratio,4,FALSE)*$G46 -> 176545.08
B47: Other Tangible Property | C47: 204-207 | D47: 399 | E47: DIRECT | F47: PTD | G47: ='204-207'!M98 -> 0 | H47: =IF($E47="DIRECT",$L47,VLOOKUP($E47,Ratio,2,FALSE)*$G47) -> 0 | I47: =IF($E47="DIRECT",$M47,VLOOKUP($E47,Ratio,3,FALSE)*$G47) -> 0 | J47: =IF($E47="DIRECT",$N47,VLOOKUP($E47,Ratio,4,FALSE)*$G47) -> 0
B48: Asset Retirement Costs for General Plant | C48: 204-207 | D48: 399.1 | E48: PTD | G48: ='204-207'!M99 -> 0 | H48: =VLOOKUP($E48,Ratio,2,FALSE)*$G48 -> 0 | I48: =VLOOKUP($E48,Ratio,3,FALSE)*$G48 -> 0 | J48: =VLOOKUP($E48,Ratio,4,FALSE)*$G48 -> 0
A50: Total General Plant | G50: =SUM(G37:G49) -> 169217153 | H50: =SUM(H37:H49) -> 26066353 | I50: =SUM(I37:I49) -> 0 | J50: =SUM(J37:J49) -> 1.431508e+08
...

Sheet 1.1 Intangible Assets Summary
A1: Avista Utilities
A2: Intangible Plant Allocation
A3: 12 Months Ended December 2023
A5: Electric System | C5: Workpaper | D5: 2023 | F5: Production | G5: Transmission | H5: Distribution
A6: Account | B6: Description
A8: 302000 | B8: Franchises & Consents | C8: 1.1a Intangible Plt | D8: ='1.1a Intangible Detail'!G84 -> 46804271 | F8: ='1.1a Intangible Detail'!G81 -> 42107008 | G8: ='1.1a Intangible Detail'!G82 -> 4697263.3 | H8: ='[1]1.1a Intangible Detail'!G83 -> 0 | I8: =SUM(F8:H8)=D8 -> TRUE | J8: =SUM(F8:H8)-D8 -> 0
I9: =SUM(F9:H9)=D9 -> TRUE | J9: =SUM(F9:H9)-D9 -> 0
A10: 303000 | B10: Intangible Plant | C10: 1.1a Intangible Plt | D10: ='[1]1.1a Intangible Detail'!D32 -> 7494383.9 | F10: ='[1]1.1a Intangible Detail'!G92 -> 447092.23 | G10: ='[1]1.1a Intangible Detail'!G87 -> 6864993.7 | H10: ='[1]1.1a Intangible Detail'!G98 -> 182298 | I10: =SUM(F10:H10)=D10 -> TRUE | J10: =SUM(F10:H10)-D10 -> 0
A11: 303100 | B11: Intangible Plant - Software | C11: 1.1a Intangible Plt | D11: ='[1]1.1a Intangible Detail'!D45 -> 29766371 | F11: ='1.1a Intangible Detail'!G93 -> 16218177 | G11: ='1.1a Intangible Detail'!G88 -> 1759125.5 | H11: ='1.1a Intangible Detail'!G99 -> 11789069 | I11: =SUM(F11:H11)=D11 -> TRUE | J11: =SUM(F11:H11)-D11 -> 0
A12: 3031XX | B12: Misc Intangible Plant | C12: 1.1a Intangible Plt | D12: =SUM('1.1a Intangible Detail'!G89,'1.1a Intangible Detail'!G94,'1.1a Intangible Detail'!G100) -> 15923703 | F12: ='1.1a Intangible Detail'!G94 -> - | G12: ='1.1a Intangible Detail'!G89 -> 0 | H12: ='1.1a Intangible Detail'!G100 -> 15923703 | I12: =SUM(F12:H12)=D12 -> TRUE | J12: =SUM(F12:H12)-D12 -> 0
A13: 303345 | B13: Misc Intangible Plant | D13: ='1.1a Intangible Detail'!G95 -> 4656443.7 | F13: ='1.1a Intangible Detail'!G95 -> 4656443.7 | G13: 0 | H13: 0 | I13: =SUM(F13:H13)=D13 -> TRUE | J13: =SUM(F13:H13)-D13 -> 0 | K13: OK
B14: Total 303 | D14: =SUM(D10:D13) -> 57840902 | F14: =SUM(F10:F13) -> 21321713 | G14: =SUM(G10:G13) -> 8624119.2 | H14: =SUM(H10:H13) -> 27895070 | I14: =SUM(F14:H14)=D14 -> TRUE | J14: =SUM(F14:H14)-D14 -> 0
I15: =SUM(F15:H15)=D15 -> TRUE | J15: =SUM(F15:H15)-D15 -> 0
B16: Total Intangible Plant Assigned to Electric | D16: =SUM(D8:D13) -> 1.0464517e+08 | F16: =SUM(F8:F13) -> 63428720 | G16: =SUM(G8:G12) -> 13321383 | H16: =SUM(H8:H12) -> 27895070 | I16: =SUM(F16:H16)=D16 -> TRUE | J16: =SUM(F16:H16)-D16 -> 0
B17: Allocation Factor | F17: =F16/D16 -> 0.60613136 | G17: =G16/D16 -> 0.1273005 | H17: =H16/D16 -> 0.26656815 | J17: =SUM(F17:H17)-D17 -> 1
I18: =SUM(F18:H18)=D18 -> TRUE | J18: =SUM(F18:H18)-D18 -> 0
A19: Accumulated Depreciation | I19: =SUM(F19:H19)=D19 -> TRUE | J19: =SUM(F19:H19)-D19 -> 0
A20: 302000 | B20: Franchises & Consents | C20: 1.1c Intangible | D20: ='[1]Intangible Reserve 1.1c'!F11 -> -9306035.6 | F20: ='[1]Intangible Reserve 1.1c'!F40 -> -8402719.4 | G20: ='[1]Intangible Reserve 1.1c'!F41 -> -903316.2 | H20: 0 | I20: =SUM(F20:H20)=D20 -> TRUE | J20: =SUM(F20:H20)-D20 -> 0
I21: =SUM(F21:H21)=D21 -> TRUE | J21: =SUM(F21:H21)-D21 -> 0
A22: 303000 | B22: Intangible Plant | C22: 1.1c Intangible | D22: ='[1]Intangible Reserve 1.1c'!F27 -> -2268021.5 | F22: ='[1]Intangible Reserve 1.1c'!F51 -> -253088.65 | G22: ='[1]Intangible Reserve 1.1c'!F46 -> -1991040.7 | H22: ='[1]Intangible Reserve 1.1c'!F55 -> -23892.16 | J22: =SUM(F22:H22)-D22 -> 0
A23: 303100 | B23: Intangible Plant - Software | C23: 1.1c Intangible | D23: ='Intangible Reserve 1.1c'!F35 -> -5950612.2 | F23: ='[1]Intangible Reserve 1.1c'!F52 -> -4142690.7 | G23: ='[1]Intangible Reserve 1.1c'!F47 -> -294472.33 | H23: ='[1]Intangible Reserve 1.1c'!F56-0.44 -> -1513449.2 | J23: =SUM(F23:H23)-D23 -> 0.0032972088
A24: 303110 | B24: Intangible Plant -Software | I24: =SUM(F24:H24)=D24 -> TRUE | J24: =SUM(F24:H24)-D24 -> 0
B25: Total 303 | D25: =SUM(D22:D24) -> -8218633.7 | F25: =SUM(F22:F24) -> -4395779.4 | G25: =SUM(G22:G24) -> -2285513 | H25: =SUM(H22:H24) -> -1537341.3
A27: Accumulated Depreciation/Amortization | C27: 1.1b Intangible Dpr. | D27: =SUM(D20:D24) -> -17524669 | F27: =SUM(F20:F24) -> -12798499 | G27: =SUM(G20:G24) -> -3188829.2 | H27: =SUM(H20:H24) -> -1537341.3
F28: =F27/$D$27 -> 0.73031328 | G28: =G27/$D$27 -> 0.1819623 | H28: =H27/$D$27 -> 0.087724413
A29: Depreciation Expense
A30: 302000 | B30: Depreciation Expense | C30: Schedule 3 | D30: =D32*0.226 -> 2226233.1 | F30: =$D$30*(F20/D20) -> 2010137.6 | G30: =$D$30*(G20/D20) -> 216095.5 | H30: =$D$30*(H20/D20) -> 0
A31: 303000 | B31: Depreciation Expense | C31: Schedule 3 | D31: =D32*0.774 -> 7624355.9 | F31: =D31*F28 -> 5568168.4 | G31: =D31*G28 -> 1387345.4 | H31: =D31*H28 -> 668842.14
B32: Total Related Expense per FERC 336 | D32: =+'336'!E2 -> 9850589 | F32: =F30+F31 -> 7578306 | G32: =G30+G31 -> 1603440.9 | H32: =H30+H31 -> 668842.14
D33: =D30+D31-D32 -> 0
A39: Note: | B39: We have directly assigned accounts 302 and 303 Intangible Plant and Accumulated Depreciation as shown in workpapers 1.1a and 1.1b. We then used the allocation factor derived from the direct assignments to allocate Depreciation Expense above.

Sheet 1.1a Intangible Detail
E1: Accounting Period: 202312 Book type Code : AVA CORP Service:
D3: Ending Balance
A4: Plant Acct | B4: Facility Desc | C4: State
A5: 302000 | B5: CABINET GORGE HED | C5: ID | D5: 8667214.1 | E5: Production
B6: FOREST USE PERMITS - IDAHO | C6: ID | D6: 369469.5 | E6: Transmission
B7: LOLO-OXBOW 230KV LINE - OREGON | C7: OR | D7: 0 | E7: Production
B8: Long Lake | C8: WA | D8: 27217346 | E8: Production
B9: NOXON RAPIDS HED | C9: MT | D9: 6222447.9 | E9: Production
B10: POST FALLS HED | C10: ID | D10: 1572741 | E10: Transmission
B11: WASHINGTON STATE FRANCHISES 028 | C11: WA | D11: 2755052.9 | E11: Transmission
B12: AFUDC
B13: Total | D13: =SUM(D5:D12) -> 46804271
A14: 303000 | B14: ELECTRIC VEHICLE SUPPLY EQUIPMENT (WA) | C14: WA | D14: 182298 | E14: Distirbution
B15: BEACON-CABINET 230KV TRANSM LINE - IDAHO (AN) | C15: ID | D15: 5064969.8 | E15: Transmission
B16: BELL BPA SUB COMMUNICATION (AN) | C16: WA | D16: 303789.43 | E16: Transmission
B17: BELL BPA SUBSTATION (AN) | C17: WA | D17: 420295.36 | E17: Transmission
B18: CABINET GORGE NON-PROJECT | C18: ID | D18: 10924.77 | E18: Production
B19: COYOTE SPRINGS 2 | C19: OR | D19: 162603.68 | E19: Production
B20: DEER PARK BPA OWNED SUBSTA 115kV ONLY (AN) | C20: WA | D20: 141717.4 | E20: Transmission
B21: DEVILS GAP LARSON STRATFORD GRANT CO TRANSMN LINE | C21: WA | D21: 0
B22: DRY CREEK 230/115kV SUBSTA | C22: WA | D22: 0
B23: DRY CREEK 230/115kV SUBSTA (AN) | C23: WA | D23: 11937.03 | E23: Transmission
B24: HATWAI BPA SUB COMMUNICATION (AN) | C24: ID | D24: 160380.83 | E24: Transmission
B25: LANCASTER CT | C25: ID | D25: 40477.75 | E25: Production
B26: Long Lake Hydro - Non-Project | C26: WA | D26: 0 | E26: Production
B27: NORTHEAST SUBSTA | C27: WA | D27: 137418.35 | E27: Transmission
B28: NOXON NON-PROJECT | C28: MT | D28: 224178 | E28: Production
B29: NOXON RAPIDS HED | C29: MT | D29: 8908.03 | E29: Production
B30: SAND CREEK BPA SUBSTATION (AN) | C30: ID | D30: 607098.02 | E30: Transmission
B31: SYSTEM OPERATIONS ELECTRIC | C31: WA | D31: 17387.48 | E31: Transmission
B32: Total | D32: =SUM(D14:D31) -> 7494383.9
A33: 303100 | B33: ELECTRIC VEHICLE SUPPLY EQUIPMENT (WA) | C33: WA | D33: 317204 | E33: See 1.1b
B34: COLSTRIP-TOWNSEND 500KV TRANSM LINE A | C34: MT | D34: 1191.76 | E34: See 1.1b
B35: KETTLE FALLS GS (AN) | C35: WA | D35: 71758.33 | E35: See 1.1b
B36: MGMT NETWORK SGDP COMMUNICATION (WA) | C36: WA | D36: 0 | E36: See 1.1b
B37: NOXON RAPIDS HED | C37: MT | D37: 0 | E37: See 1.1b
B38: SYSTEM OPERATIONS ELECTRIC | C38: WA | D38: 0 | E38: See 1.1b
B39: UNSPECIFIED - Allocated North | C39: AN | D39: 0 | E39: See 1.1b
B40: UNSPECIFIED - Allocated North (ID) | C40: ID | D40: 101044.82 | E40: See 1.1b
B41: UNSPECIFIED - Allocated North (MT) | C41: MT | D41: 26007.52 | E41: See 1.1b
...

Sheet 1.1b Intangible Soft. 303100
A1: *Use FA_TTP Report in Cognos (excluding URGL transactions). Assume 5-year lookback based on depreciation schedule; ending balances represent Gross Plant Balances
I2: Allocation
A3: Plant Acct | B3: Service | C3: Jurisdiction | D3: Dpis: Year | E3: Ending Balance | F3: Project | G3: Project Name | H3: Method | I3: P | J3: T | K3: D
A4: 303100 | B4: ED | C4: AN | D4: 2019 | E4: 13916 | F4: 9806017 | G4: Autodesk Inventor Upgrade-2019 | H4: D | K4: 13916 | L4: =SUM(I4:K4) -> 13916 | M4: =E4-L4 -> 0
A5: 303100 | B5: ED | C5: AN | D5: 2019 | E5: 24305 | F5: 30405081 | G5: CG HED-BatteryBank&DC Upgrade | H5: P | I5: 24305 | L5: =SUM(I5:K5) -> 24305 | M5: =E5-L5 -> 0
A6: 303100 | B6: ED | C6: WA | D6: 2019 | E6: 321996 | F6: 2806669 | G6: EVSE Network Perp License-2019 | H6: D | K6: 321996 | L6: =SUM(I6:K6) -> 321996 | M6: =E6-L6 -> 0
A7: 303100 | B7: ED | C7: AN | D7: 2019 | E7: 1717 | F7: 40205146 | G7: Floating Pit Tag Antenna App C | H7: P | I7: 1717 | L7: =SUM(I7:K7) -> 1717 | M7: =E7-L7 -> 0
A8: 303100 | B8: ED | C8: AN | D8: 2019 | E8: 0 | F8: 21105005 | G8: KFCT- Solar CT Control SFTWR | H8: P | I8: 0 | L8: =SUM(I8:K8) -> 0 | M8: =E8-L8 -> 0
A9: 303100 | B9: ED | C9: AN | D9: 2019 | E9: 71758 | F9: 21205062 | G9: KFGS Repl Bailey Infin 90 desg | H9: P | I9: 71758 | L9: =SUM(I9:K9) -> 71758 | M9: =E9-L9 -> 0
A10: 303100 | B10: ED | C10: AN | D10: 2019 | E10: 10925 | F10: 9806014 | G10: QTS / QTD | H10: PTD | I10: 3580.6621 | J10: 2304.7579 | K10: 5039.58 | L10: =SUM(I10:K10) -> 10925 | M10: =E10-L10 -> 0
A11: 303100 | B11: ED | C11: AN | D11: 2019 | E11: 109 | F11: 9805988 | G11: Realtime Turret System Refresh | H11: P | I11: 109 | L11: =SUM(I11:K11) -> 109 | M11: =E11-L11 -> 0
A12: 303100 | B12: ED | C12: AN | D12: 2019 | E12: 47686 | F12: 9805860 | G12: Serveron TM View Upgrade | H12: PTD | I12: 15629.058 | J12: 10059.925 | K12: 21997.017 | L12: =SUM(I12:K12) -> 47686 | M12: =E12-L12 -> 0
A13: 303100 | B13: ED | C13: AN | D13: 2019 | E13: 14746 | F13: 9805984 | G13: Synergi Electric 6.1 Upgrade | H13: T | J13: 14746 | L13: =SUM(I13:K13) -> 14746 | M13: =E13-L13 -> 0
A14: 303100 | B14: ED | C14: AN | D14: 2019 | E14: 673594.74 | F14: 9805968 | G14: ADSS Package #1 | H14: P | I14: 673594.74 | L14: =SUM(I14:K14) -> 673594.74 | M14: =E14-L14 -> 0
A15: 303100 | B15: ED | C15: AN | D15: 2019 | E15: 804225.48 | F15: 9805970 | G15: ADSS Package #2 | H15: P | I15: 804225.48 | L15: =SUM(I15:K15) -> 804225.48 | M15: =E15-L15 -> 0
A16: 303100 | B16: ED | C16: AN | D16: 2019 | E16: 628076.01 | F16: 9805971 | G16: ADSS Package #3 | H16: P | I16: 628076.01 | L16: =SUM(I16:K16) -> 628076.01 | M16: =E16-L16 -> 0
A17: 303100 | B17: ED | C17: AN | D17: 2019 | E17: 641977.66 | F17: 9806009 | G17: ADSS Package #4 | H17: P | I17: 641977.66 | L17: =SUM(I17:K17) -> 641977.66 | M17: =E17-L17 -> 0
A18: 303100 | B18: ED | C18: AN | D18: 2019 | E18: 552731.62 | F18: 9806030 | G18: ADSS Phase 4 Pkg 1 | H18: P | I18: 552731.62 | L18: =SUM(I18:K18) -> 552731.62 | M18: =E18-L18 -> 0
A19: 303100 | B19: ED | C19: WA | D19: 2020 | E19: 790334.36 | F19: 2806731 | G19: Energy Management Alerts-WA | H19: D | K19: 790334.36 | L19: =SUM(I19:K19) -> 790334.36 | M19: =E19-L19 -> 0
A20: 303100 | B20: ED | C20: WA | D20: 2020 | E20: 563475.07 | F20: 2806796 | G20: AMI_HES Enhancements 2020 | H20: D | K20: 563475.07 | L20: =SUM(I20:K20) -> 563475.07 | M20: =E20-L20 -> 0
A21: 303100 | B21: ED | C21: AN | D21: 2020 | E21: 103326.11 | F21: 9805781 | G21: Substation Access Control | H21: TD | J21: 32425.205 | K21: 70900.905 | L21: =SUM(I21:K21) -> 103326.11 | M21: =E21-L21 -> 0
A22: 303100 | B22: ED | C22: AN | D22: 2020 | E22: -221.84 | F22: 9805860 | G22: Serveron TM View Upgrade | H22: PTD | I22: -72.707925 | J22: -46.79977 | K22: -102.3323 | L22: =SUM(I22:K22) -> -221.84 | M22: =E22-L22 -> 0
A23: 303100 | B23: ED | C23: AN | D23: 2020 | E23: 0 | F23: 9806014 | G23: QTS / QTD | H23: PTD | I23: 0 | J23: 0 | K23: 0 | L23: =SUM(I23:K23) -> 0 | M23: =E23-L23 -> 0
A24: 303100 | B24: ED | C24: AN | D24: 2020 | E24: 1746.01 | F24: 9806017 | G24: Autodesk Inventor Upgrade-2019 | H24: D | K24: 1746.01 | L24: =SUM(I24:K24) -> 1746.01 | M24: =E24-L24 -> 0
A25: 303100 | B25: ED | C25: AN | D25: 2020 | E25: 5459.54 | F25: 9806018 | G25: Global Mapper Upgrade-2019 | H25: T | J25: 5459.54 | L25: =SUM(I25:K25) -> 5459.54 | M25: =E25-L25 -> 0
A26: 303100 | B26: ED | C26: AN | D26: 2020 | E26: 687617.18 | F26: 9806019 | G26: GPSS Mobile Solution | H26: PTD | I26: 225366.11 | J26: 145060.97 | K26: 317190.1 | L26: =SUM(I26:K26) -> 687617.18 | M26: =E26-L26 -> 0
A27: 303100 | B27: ED | C27: AN | D27: 2020 | E27: 26037.19 | F27: 9806028 | G27: Stackvision Upgrade 2019 | H27: P | I27: 26037.19 | L27: =SUM(I27:K27) -> 26037.19 | M27: =E27-L27 -> 0
A28: 303100 | B28: ED | C28: AN | D28: 2020 | E28: 200120.51 | F28: 9806041 | G28: Energy Imbalance Market MV-90 | H28: D | K28: 200120.51 | L28: =SUM(I28:K28) -> 200120.51 | M28: =E28-L28 -> 0
A29: 303100 | B29: ED | C29: AN | D29: 2020 | E29: 1195412.2 | F29: 9806051 | G29: EMS Full Netwrk Model and Apps | H29: T | J29: 1195412.2 | L29: =SUM(I29:K29) -> 1195412.2 | M29: =E29-L29 -> 0
A30: 303100 | B30: ED | C30: AN | D30: 2020 | E30: 13308.18 | F30: 9806082 | G30: Synergi Electric - CY2020 | H30: D | K30: 13308.18 | L30: =SUM(I30:K30) -> 13308.18 | M30: =E30-L30 -> 0
A31: 303100 | B31: ED | C31: AN | D31: 2020 | E31: 23342.84 | F31: 9806086 | G31: Serveron TMview Upgrade 2020 | H31: PTD | I31: 7650.6016 | J31: 4924.448 | K31: 10767.79 | L31: =SUM(I31:K31) -> 23342.84 | M31: =E31-L31 -> 0
A32: 303100 | B32: ED | C32: AN | D32: 2020 | E32: 14798.42 | F32: 9806089 | G32: Power DB Pro_Upgrade 2020 | H32: PTD | I32: 4850.1732 | J32: 3121.9016 | K32: 6826.3452 | L32: =SUM(I32:K32) -> 14798.42 | M32: =E32-L32 -> 0
A33: 303100 | B33: ED | C33: AN | D33: 2020 | E33: 11029.53 | F33: 9806091 | G33: CYMCAP Upgrade 2020 | H33: TD | J33: 3461.2237 | K33: 7568.3063 | L33: =SUM(I33:K33) -> 11029.53 | M33: =E33-L33 -> 0
A34: 303100 | B34: ED | C34: AN | D34: 2020 | E34: 56147.1 | F34: 9806092 | G34: Generation Anitvirus Update | H34: P | I34: 56147.1 | L34: =SUM(I34:K34) -> 56147.1 | M34: =E34-L34 -> 0
A35: 303100 | B35: ED | C35: AN | D35: 2020 | E35: 82732.7 | F35: 9806093 | G35: Gen Remote Site Server Ref | H35: P | I35: 82732.7 | L35: =SUM(I35:K35) -> 82732.7 | M35: =E35-L35 -> 0
A36: 303100 | B36: ED | C36: AN | D36: 2020 | E36: 50184.17 | F36: 9806098 | G36: LIMS/WeighWiz/LabWiz 2020 | H36: P | I36: 50184.17 | L36: =SUM(I36:K36) -> 50184.17 | M36: =E36-L36 -> 0
A37: 303100 | B37: ED | C37: AN | D37: 2020 | E37: 440910.58 | F37: 9806104 | G37: AMI Outage Data Analytics v2 | H37: D | K37: 440910.58 | L37: =SUM(I37:K37) -> 440910.58 | M37: =E37-L37 -> 0
A38: 303100 | B38: ED | C38: AN | D38: 2020 | E38: 9419.9 | F38: 9806118 | G38: SKM Power Tools Upgrade | H38: P | I38: 9419.9 | L38: =SUM(I38:K38) -> 9419.9 | M38: =E38-L38 -> 0
A39: 303100 | B39: ED | C39: AN | D39: 2020 | E39: 6876.66 | F39: 9806137 | G39: OATI Ferc Order 676 Implement | H39: T | J39: 6876.66 | L39: =SUM(I39:K39) -> 6876.66 | M39: =E39-L39 -> 0
A40: 303100 | B40: ED | C40: AA | D40: 2020 | E40: 54216.48 | F40: 9906591 | G40: OATI-webSmart OASIS | H40: T | J40: 54216.48 | L40: =SUM(I40:K40) -> 54216.48 | M40: =E40-L40 -> 0
...

Sheet Intangible Reserve 1.1c
E1: 202312
E2: Beginning Balance | F2: Ending Balance
A3: Plant Acct | B3: Plant Acct Desc | C3: Facility Desc | D3: Jurisdiction
A4: 302000 | B4: INTANG PLT FRANCH&CONSENT | C4: CABINET GORGE HED | D4: AN | E4: -4630598.7 | F4: -4646745.2 | G4: Production
C5: FOREST USE PERMITS - IDAHO | D5: AN | E5: -245280.46 | F5: -246306.82 | G5: Transmission
C6: Long Lake | D6: AN | E6: =-5696388.11+5696388.11 -> 0 | F6: =-5741790.89+5741790.89 -> 0 | G6: Production
C7: NOXON RAPIDS HED | D7: AN | E7: -3286923.8 | F7: -3298257.9 | G7: Production
C8: POST FALLS HED | D8: AN | E8: -455092.78 | F8: -457716.38 | G8: Production
C9: UNSPECIFIED | D9: ID | E9: 0 | F9: 0
C10: WASHINGTON STATE FRANCHISES 028 | D10: WA | E10: -646368.19 | F10: -657009.38 | G10: Transmission
C11: Total | E11: =SUM(E4:E10) -> -9264264 | F11: =SUM(F4:F10) -> -9306035.6
A12: 303000 | B12: MISC INTANGIBLE PLANT | C12: ELECTRIC VEHICLE SUPPLY EQUIPMENT (WA) | D12: WA | E12: -23615.95 | F12: -23892.16 | G12: Distribution
C13: BEACON-CABINET 230KV TRANSM LINE - IDAHO (AN) | D13: AN | E13: -939589.49 | F13: -947425.64 | G13: Transmission
C14: BELL BPA SUB COMMUNICATION (AN) | D14: AN | E14: -208181.41 | F14: -208390.62 | G14: Transmission
C15: BELL BPA SUBSTATION (AN) | D15: AN | E15: -286989.01 | F15: -287280.71 | G15: Transmission
C16: COYOTE SPRINGS 2 | D16: AN | E16: -631.95 | F16: -648.8 | G16: Production
C17: DEER PARK BPA OWNED SUBSTA 115kV ONLY (AN) | D17: AN | E17: -142764.63 | F17: -143448.74 | G17: Transmission
C18: DRY CREEK 230/115kV SUBSTA (AN) | D18: AN | E18: -23617.35 | F18: -23837.04 | G18: Transmission
C19: HATWAI BPA SUB COMMUNICATION (AN) | D19: AN | E19: -4054.36 | F19: -4072.36 | G19: Transmission
C20: LANCASTER CT | D20: AN | E20: -160380.83 | F20: -160380.83 | G20: Production
C21: Long Lake Hydro - Non-Project | D21: AN | E21: -31699 | F21: -31924.63 | G21: Production
C22: NORTHEAST SUBSTA | D22: WA | E22: -47899.06 | F22: -48111.7 | G22: Transmission
C23: NOXON RAPIDS HED | D23: AN | E23: -506.25 | F23: -519.75 | G23: Production
C24: NOXON NON-PROJECT | D24: AN | E24: -59286.17 | F24: -59614.64 | G24: Production
... C26: SYSTEM OPERATIONS ELECTRIC | D26: AN | E26: -17387.48 | F26: -17387.48 | G26: Transmission
D27: Total | E27: =SUM(E12:E26) -> -2256672.1 | F27: =SUM(F12:F26) -> -2268021.5
A28: 303100 | B28: MISC INTANG PLT-SOFTWARE | C28: ELECTRIC VEHICLE SUPPLY EQUIPMENT (WA) | D28: WA | E28: -8560.31 | F28: -14439.93 | G28: See 1.1b
C29: KETTLE FALLS GS (AN) | D29: AN | E29: -6577.84 | F29: -7773.81 | G29: See 1.1b
C30: UNSPECIFIED - Allocated North (ID) | D30: AN | E30: -18451.33 | F30: -19010.98 | G30: See 1.1b
C31: UNSPECIFIED - Allocated North (MT) | D31: AN | E31: -6716.35 | F31: -7269.82 | G31: See 1.1b
C32: UNSPECIFIED - Allocated North (WA) | D32: AN | E32: -5633003.1 | F32: -5868836.7 | G32: See 1.1b
C33: UNSPECIFIED - Washington | D33: WA | E33: -761687.25 | F33: -20644.85 | G33: See 1.1b
A34: 303121 | B34: AMI SOFTWARE | C34: UNSPECIFIED - Washington | D34: WA | E34: -3052.42 | F34: -12636.18 | G34: See 1.1b
D35: Total | E35: =SUM(E28:E34) -> -6438048.6 | F35: =SUM(F28:F34) -> -5950612.2
A36: Total | D36: Grand Total | E36: =SUM(E35,E27,E11) -> -17958985 | F36: =SUM(F35,F27,F11) -> -17524669
A37: Page 1 of 3
F39: Acct. 111-302
A40: For Internal Use Only | F40: =SUM(F4,F6,F7,F8) -> -8402719.4 | G40: Production
F41: =SUM(F5,F10) -> -903316.2 | G41: Transmission
F42: 0 | G42: Distribution
...

Sheet 1.3 Common Plt Summary
A1: Avista Utilities
A2: Common Plant Service Allocation | N2: I17,I26,I35,I53,I62
A3: 12 Months Ended December 2023
A5: Electric System | C5: Workpaper | D5: 2023 | E5: Allocation
A6: Account | B6: Description
A7: 301 | B7: Organization
A8: 302 | B8: Franchises & Consents | G8: Production | H8: Transmission | I8: Distribution | N8: 2019 values pasted for comparison
A9: 303 | B9: Miscellaneous Intangible Plant-Software | C9: 1.3a Common Plt | D9: =SUM('[1]1.3a Common Plant'!I17,'[1]1.3a Common Plant'!I26,'[1]1.3a Common Plant'!I35,'[1]1.3a Common Plant'!I53,'[1]1.3a Common Plant'!I62,'[1]1.3a Common Plant'!I71,'[1]1.3a Common Plant'!I80) -> 222188264 | E9: D | G9: 0 | H9: 0 | I9: =D9 -> 222188264 | K9: =D9=SUM(G9:I9) -> TRUE | M9: 303 | N9: Miscellaneous Intangible Plant-Software | O9: 1.3a Common Plt | P9: 123724778 | Q9: D
A10: 389 | B10: Land and Land Rights | C10: 1.3a Common Plt | D10: ='[1]1.3a Common Plant'!I109 -> 10303494 | E10: PTD | G10: =D10*[1]Ratios!$E$50 -> 3274046.7 | H10: =D10*[1]Ratios!$F$50 -> 2145779.2 | I10: =D10*[1]Ratios!$G$50 -> 4883668.1 | K10: =D10=SUM(G10:I10) -> TRUE | M10: 389 | N10: Land and Land Rights | O10: 1.3a Common Plt | P10: 9895991 | Q10: PTD
A11: 390 | B11: Structures and Improvements | C11: 1.3a Common Plt | D11: ='[1]1.3a Common Plant'!I119 -> 117958282 | E11: PTD | G11: =D11*[1]Ratios!$E$50 -> 37482520 | H11: =D11*[1]Ratios!$F$50 -> 24565689 | I11: =D11*[1]Ratios!$G$50 -> 55910072 | K11: =D11=SUM(G11:I11) -> TRUE | M11: 390 | N11: Structures and Improvements | O11: 1.3a Common Plt | P11: 112447413 | Q11: PTD
A12: 391 | B12: Office Furniture and Equipment | C12: 1.3a Common Plt | D12: ='[1]1.3a Common Plant'!I129 -> 52107378 | E12: LABOR | G12: =D12*[1]Ratios!E22 -> 19074981 | H12: =D12*[1]Ratios!F22 -> 8309893.8 | I12: =D12*[1]Ratios!G22 -> 24722503 | K12: =D12=SUM(G12:I12) -> TRUE | M12: 391 | N12: Office Furniture and Equipment | O12: 1.3a Common Plt | P12: 65552553 | Q12: LABOR
A13: 392 | B13: Transportation Equipment | C13: 1.3a Common Plt | D13: ='[1]1.3a Common Plant'!I139 -> 10962380 | E13: TD | G13: =D13*[1]Ratios!$E$65 -> 0 | H13: =D13*[1]Ratios!$F$65 -> 3346329.6 | I13: =D13*[1]Ratios!$G$65 -> 7616050.4 | K13: =D13=SUM(G13:I13) -> TRUE | M13: 392 | N13: Transportation Equipment | O13: 1.3a Common Plt | P13: 10591056 | Q13: TD
A14: 393 | B14: Stores Equipment | C14: 1.3a Common Plt | D14: ='[1]1.3a Common Plant'!I149 -> 4684177 | E14: PTD | G14: =D14*[1]Ratios!$E$50 -> 1488447.9 | H14: =D14*[1]Ratios!$F$50 -> 975514.69 | I14: =D14*[1]Ratios!$G$50 -> 2220214.4 | K14: =D14=SUM(G14:I14) -> TRUE | M14: 393 | N14: Stores Equipment | O14: 1.3a Common Plt | P14: 3824165 | Q14: PTD
A15: 394 | B15: Tools, Shop and Garage Equipment | C15: 1.3a Common Plt | D15: ='[1]1.3a Common Plant'!I159 -> 12717622 | E15: PTD | G15: =D15*[1]Ratios!$E$50 -> 4041162 | H15: =D15*[1]Ratios!$F$50 -> 2648539.3 | I15: =D15*[1]Ratios!$G$50 -> 6027920.7 | K15: =D15=SUM(G15:I15) -> TRUE | M15: 394 | N15: Tools, Shop and Garage Equipment | O15: 1.3a Common Plt | P15: 10356500 | Q15: PTD
A16: 395 | B16: Laboratory Equipment | C16: 1.3a Common Plt | D16: ='[1]1.3a Common Plant'!I178 -> 929160 | E16: PTD | G16: =D16*[1]Ratios!$E$50 -> 295250.64 | H16: =D16*[1]Ratios!$F$50 -> 193504.48 | I16: =D16*[1]Ratios!$G$50 -> 440404.88 | K16: =D16=SUM(G16:I16) -> TRUE | M16: 395 | N16: Laboratory Equipment | O16: 1.3a Common Plt | P16: 1107027 | Q16: PTD
A17: 396 | B17: Power Operated Equipment | C17: 1.3a Common Plt | D17: ='[1]1.3a Common Plant'!I188 -> 1424950 | E17: TD | G17: =D17*[1]Ratios!$E$65 -> 0 | H17: =D17*[1]Ratios!$F$65 -> 434974.19 | I17: =D17*[1]Ratios!$G$65 -> 989975.81 | K17: =D17=SUM(G17:I17) -> TRUE | M17: 396 | N17: Power Operated Equipment | O17: 1.3a Common Plt | P17: 1539719 | Q17: TD
A18: 397 | B18: Communication Equipment | C18: 1.3a Common Plt | D18: ='[1]1.3a Common Plant'!I198 -> 93649773 | E18: PTD | G18: =D18*[1]Ratios!$E$50 -> 29758229 | H18: =D18*[1]Ratios!$F$50 -> 19503262 | I18: =D18*[1]Ratios!$G$50 -> 44388283 | K18: =D18=SUM(G18:I18) -> TRUE | M18: 397 | N18: Communication Equipment | O18: 1.3a Common Plt | P18: 55904154 | Q18: PTD
A19: 398 | B19: Miscellaneous Equipment | C19: 1.3a Common Plt | D19: ='[1]1.3a Common Plant'!I208 -> 594944 | E19: PTD | G19: =D19*[1]Ratios!$E$50 -> 189049.89 | H19: =D19*[1]Ratios!$F$50 -> 123901.51 | I19: =D19*[1]Ratios!$G$50 -> 281992.6 | K19: =D19=SUM(G19:I19) -> TRUE | M19: 398 | N19: Miscellaneous Equipment | O19: 1.3a Common Plt | P19: 442664 | Q19: PTD
A20: 399 | B20: Other Tangible Property | E20: N/A | K20: =D20=SUM(G20:I20) -> TRUE | M20: 399 | N20: Other Tangible Property | Q20: N/A
A21: 399.1 | B21: Asset Retirement Costs for General Plant | D21: 0 | E21: PTD | G21: =D21*[1]Ratios!$E$50 -> 0 | H21: =D21*[1]Ratios!$F$50 -> 0 | I21: =D21*[1]Ratios!$G$50 -> 0 | K21: =D21=SUM(G21:I21) -> TRUE | M21: 399.1 | N21: Asset Retirement Costs for General Plant | P21: 0 | Q21: PTD
B22: Total Common Plant Assigned to Electric | D22: =SUM(D9:D21) -> 527520424 | G22: =SUM(G9:G21) -> 95603687 | H22: =SUM(H9:H21) -> 62247388 | I22: =SUM(I9:I21) -> 3.6966935e+08 | K22: =D22=SUM(G22:I22) -> TRUE | N22: Total Common Plant Assigned to Electric | P22: 466550667
B23: Allocation Factor | G23: 0.28 | H23: 0.14 | I23: 0.58 | N23: Allocation Factor
B24: Accumulated Depreciation/Amortization | C24: 1.3b Common Dpr. | D24: ='1.3b Common Plt Acc. Depr'!E128 -> -219309854 | E24: Electric only. | G24: =G23*D24 -> -61406759 | H24: =D24*H23 -> -30703380 | I24: =D24*I23 -> -1.2719972e+08 | K24: =D24=SUM(G24:I24) -> TRUE | N24: Accumulated Depreciation/Amortization | O24: 1.3b Common Dpr. | P24: -140139684
B26: Depreciation Expense | C26: A/C 403 | D26: 18217879 | G26: =D26*G23 -> 5101006.1 | H26: =D26*H23 -> 2550503.1 | I26: =D26*I23 -> 10566370 | K26: =D26=SUM(G26:I26) -> TRUE
B27: Amortization Expense | C27: A/C 404 | D27: 36465620 | G27: =D27*G23 -> 10210374 | H27: =D27*H23 -> 5105186.8 | I27: =D27*I23 -> 21150060 | K27: =D27=SUM(G27:I27) -> TRUE
B28: Total Related Expense per FERC 336 | D28: =SUM(D26:D27) -> 54683499 | G28: =G26+G27 -> 15311380 | H28: =H26+H27 -> 7655689.9 | I28: =I26+I27 -> 31716429 | K28: =D28=SUM(G28:I28) -> TRUE | N28: 744829169
B30: CWIP Allocation | D30: =(D22/D58)*D62 -> 21660100 | G30: - | H30: - | I30: =D30 -> 21660100 | K30: =D30=SUM(G30:I30) -> TRUE
A32: Gas System | C32: Workpaper | D32: 2023 | E32: Allocation
A33: Account | B33: Description
A34: 301 | B34: Organization | C34: 1.3a Common Plt | E34: N/A
A35: 302 | B35: Franchises & Consents
A36: 303 | B36: Miscellaneous Intangible Plant | C36: 1.3a Common Plt | D36: ='[1]1.3a Common Plant'!Q81 -> 94171546 | E36: N/A
A37: 389 | B37: Land and Land Rights | C37: 1.3a Common Plt | D37: ='[1]1.3a Common Plant'!Q109 -> 4158883 | E37: N/A
A38: 390 | B38: Structures and Improvements | C38: 1.3a Common Plt | D38: ='[1]1.3a Common Plant'!Q119 -> 47021412 | E38: N/A
A39: 391 | B39: Office Furniture and Equipment | C39: 1.3a Common Plt | D39: ='[1]1.3a Common Plant'!Q129 -> 22075316 | E39: N/A
A40: 392 | B40: Transportation Equipment | C40: 1.3a Common Plt | D40: ='[1]1.3a Common Plant'!Q139 -> 3935750 | E40: N/A
A41: 393 | B41: Stores Equipment | C41: 1.3a Common Plt | D41: ='[1]1.3a Common Plant'!Q149 -> 1389035 | E41: N/A
A42: 394 | B42: Tools, Shop and Garage Equipment | C42: 1.3a Common Plt | D42: ='[1]1.3a Common Plant'!Q159 -> 5218298 | E42: N/A
A43: 395 | B43: Laboratory Equipment | C43: 1.3a Common Plt | D43: ='[1]1.3a Common Plant'!Q178 -> 396091 | E43: N/A
A44: 396 | B44: Power Operated Equipment | C44: 1.3a Common Plt | D44: ='[1]1.3a Common Plant'!Q188 -> 470370 | E44: N/A
...

Sheet 1.3a Common Plant
A2: RESULTS OF OPERATIONS | E2: Report ID: | H2: AVISTA UTILITIES
A3: COMMON INTANGIBLE PLANT | E3: C-IPL-12E
A4: For Twelve Months Ended December 31, 2023 | H4: Electric Copy
A5: Ending Balance Basis
F6: ********************** ELECTRIC *************************** | J6: ********************** GAS NORTH ************************** | N6: ************** OREGON GAS****************
A7: Ref/Basis | B7: Account | C7: Description | E7: Total | F7: Direct-WA | G7: Direct-ID | H7: Allocated | I7: Total | J7: Direct-WA | K7: Direct-ID | L7: Allocated | M7: Total | N7: Direct-OR | O7: Allocated | P7: Total
B9: 303000 | C9: Intangible Plant
A10: 99 | C10: ED-WA / ID / AN | E10: 12150827 | F10: 319716 | G10: 0 | H10: 11831111 | I10: 12150827 | J10: 0 | K10: 0 | L10: 0 | M10: 0 | N10: 0 | O10: 0 | P10: 0
A11: 99 | C11: GD-WA / ID / AN | E11: 1794111 | F11: 0 | G11: 0 | H11: 0 | I11: 0 | J11: 1022594 | K11: 771517 | L11: 0 | M11: 1794111 | N11: 0 | O11: 0 | P11: 0
A12: 99 | C12: GD-OR / AS | E12: 425951 | F12: 0 | G12: 0 | H12: 0 | I12: 0 | J12: 0 | K12: 0 | L12: 0 | M12: 0 | N12: 425951 | O12: 0 | P12: 425951
A13: 8 | C13: GD-AA | E13: 0 | F13: 0 | G13: 0 | H13: 0 | I13: 0 | J13: 0 | K13: 0 | L13: 0 | M13: 0 | N13: 0 | O13: 0 | P13: 0
A14: 7 | C14: CD-AA | E14: 6222493 | F14: 0 | G14: 0 | H14: 4362714 | I14: 4362714 | J14: 0 | K14: 0 | L14: 1288554 | M14: 1288554 | N14: 0 | O14: 571225 | P14: 571225
A15: 9 | C15: CD-WA / ID / AN | E15: 194058 | F15: 0 | G15: 0 | H15: 149702 | I15: 149702 | J15: 0 | K15: 0 | L15: 44356 | M15: 44356 | N15: 0 | O15: 0 | P15: 0
C16: TOTAL ACCOUNT | E16: =SUM(E10:E15) -> 20787440 | F16: =SUM(F10:F15) -> 319716 | G16: =SUM(G10:G15) -> 0 | H16: =SUM(H10:H15) -> 16343527 | I16: =SUM(I10:I15) -> 16663243 | J16: =SUM(J10:J15) -> 1022594 | K16: =SUM(K10:K15) -> 771517 | L16: =SUM(L10:L15) -> 1332910 | ... P16: =SUM(P10:P15) -> 997176
I17: =SUM(I14:I15) -> 4512416 | M17: =SUM(M14:M15) -> 1332910 | P17: =SUM(P14:P15) -> 571225 | Q17: =SUM(M17:P17) -> 1904135
B18: 303100 | C18: Misc Intangible Plant--Mainframe Software
A19: 99 | C19: ED-WA / ID / AN | E19: 29766371 | F19: 5213484 | G19: 0 | H19: 24552887 | I19: 29766371 | J19: 0 | K19: 0 | L19: 0 | M19: 0 | N19: 0 | O19: 0 | P19: 0
A20: 99 | C20: GD-WA / ID / AN | E20: 0 | F20: 0 | G20: 0 | H20: 0 | I20: 0 | J20: 0 | K20: 0 | L20: 0 | M20: 0 | N20: 0 | O20: 0 | P20: 0
A21: 99 | C21: GD-OR / AS | E21: 354611 | F21: 0 | G21: 0 | H21: 0 | I21: 0 | J21: 0 | K21: 0 | L21: 0 | M21: 0 | N21: 354611 | O21: 0 | P21: 354611
A22: 8 | C22: GD-AA | E22: 420398 | F22: 0 | G22: 0 | H22: 0 | I22: 0 | J22: 0 | K22: 0 | L22: 290222 | M22: 290222 | N22: 0 | O22: 130176 | P22: 130176
A23: 7 | C23: CD-AA | E23: 119731234 | F23: 0 | G23: 0 | H23: 83945963 | I23: 83945963 | J23: 0 | K23: 0 | L23: 24793944 | M23: 24793944 | N23: 0 | O23: 10991327 | P23: 10991327
A24: 9 | C24: CD-WA / ID / AN | E24: 1490369 | F24: 687019 | G24: 0 | H24: 462697 | I24: 1149716 | J24: 203559 | K24: 0 | L24: 137094 | M24: 340653 | N24: 0 | O24: 0 | P24: 0
C25: TOTAL ACCOUNT | E25: =SUM(E19:E24) -> 151762983 | F25: =SUM(F19:F24) -> 5900503 | G25: =SUM(G19:G24) -> 0 | H25: =SUM(H19:H24) -> 108961547 | I25: =SUM(I19:I24) -> 114862050 | J25: =SUM(J19:J24) -> 203559 | K25: =SUM(K19:K24) -> 0 | L25: =SUM(L19:L24) -> 25221260 | ... P25: =SUM(P19:P24) -> 11476114
I26: =SUM(I23:I24) -> 85095679 | M26: =SUM(M23:M24) -> 25134597 | P26: =SUM(P23:P24) -> 10991327 | Q26: =SUM(M26:P26) -> 36125924
B27: 30310X | C27: Misc Intangible Plant--Term On-Premise Software
A28: 99 | C28: ED-WA / ID / AN | E28: 5941658 | F28: 0 | G28: 0 | H28: 5941658 | I28: 5941658 | J28: 0 | K28: 0 | L28: 0 | M28: 0 | N28: 0 | O28: 0 | P28: 0
A29: 99 | C29: GD-WA / ID / AN | E29: 0 | F29: 0 | G29: 0 | H29: 0 | I29: 0 | J29: 0 | K29: 0 | L29: 0 | M29: 0 | N29: 0 | O29: 0 | P29: 0
A30: 99 | C30: GD-OR / AS | E30: 0 | F30: 0 | G30: 0 | H30: 0 | I30: 0 | J30: 0 | K30: 0 | L30: 0 | M30: 0 | N30: 0 | O30: 0 | P30: 0
A31: 8 | C31: GD-AA | E31: 1087713 | F31: 0 | G31: 0 | H31: 0 | I31: 0 | J31: 0 | K31: 0 | L31: 750903 | M31: 750903 | N31: 0 | O31: 336810 | P31: 336810
A32: 7 | C32: CD-AA | E32: 35412540 | F32: 0 | G32: 0 | H32: 24828440 | I32: 24828440 | J32: 0 | K32: 0 | L32: 7333229 | M32: 7333229 | N32: 0 | O32: 3250871 | P32: 3250871
A33: 9 | C33: CD-WA / ID / AN | E33: 0 | F33: 0 | G33: 0 | H33: 0 | I33: 0 | J33: 0 | K33: 0 | L33: 0 | M33: 0 | N33: 0 | O33: 0 | P33: 0
C34: TOTAL ACCOUNT | E34: =SUM(E28:E33) -> 42441911 | F34: =SUM(F28:F33) -> 0 | G34: =SUM(G28:G33) -> 0 | H34: =SUM(H28:H33) -> 30770098 | I34: =SUM(I28:I33) -> 30770098 | J34: =SUM(J28:J33) -> 0 | K34: =SUM(K28:K33) -> 0 | L34: =SUM(L28:L33) -> 8084132 | ... P34: =SUM(P28:P33) -> 3587681
I35: =SUM(I32:I33) -> 24828440 | M35: =SUM(M32:M33) -> 7333229 | P35: =SUM(P32:P33) -> 3250871 | Q35: =SUM(M35:P35) -> 10584100
B36: 303110 | C36: Misc Intangible Plant--PC Software
A37: 99 | C37: ED-WA / ID / AN | E37: 7813329 | F37: 0 | G37: 0 | H37: 7813329 | I37: 7813329 | J37: 0 | K37: 0 | L37: 0 | M37: 0 | N37: 0 | O37: 0 | P37: 0
A38: 99 | C38: GD-WA / ID / AN | E38: 0 | F38: 0 | G38: 0 | H38: 0 | I38: 0 | J38: 0 | K38: 0 | L38: 0 | M38: 0 | N38: 0 | O38: 0 | P38: 0
A39: 99 | C39: GD-OR / AS | E39: 0 | F39: 0 | G39: 0 | H39: 0 | I39: 0 | J39: 0 | K39: 0 | L39: 0 | M39: 0 | N39: 0 | O39: 0 | P39: 0
A40: 8 | C40: GD-AA | E40: 0 | F40: 0 | G40: 0 | H40: 0 | I40: 0 | J40: 0 | K40: 0 | L40: 0 | M40: 0 | N40: 0 | O40: 0 | P40: 0
A41: 7 | C41: CD-AA | E41: 0 | F41: 0 | G41: 0 | H41: 0 | I41: 0 | J41: 0 | K41: 0 | L41: 0 | M41: 0 | N41: 0 | O41: 0 | P41: 0
A42: 9 | C42: CD-WA / ID / AN | E42: 0 | F42: 0 | G42: 0 | H42: 0 | I42: 0 | J42: 0 | K42: 0 | L42: 0 | M42: 0 | N42: 0 | O42: 0 | P42: 0
...

Sheet 1.3b Common Plt Acc. Depr
A2: RESULTS OF OPERATIONS | E2: Report ID: | H2: AVISTA UTILITIES
A3: ELECTRIC ACCUMULATED DEPRECIATION | E3: E-ADEP-12E
A4: For Twelve Months Ended December 31, 2023
A5: Ending Balance Basis
E7: Assigned or | F7: Assigned or | G7: Assigned or
D8: System | E8: Allocated | F8: Allocated | G8: Allocated | I8: ******** ELECTRIC ******** | L8: ******** WASHINGTON ******** | O8: ******** IDAHO ********
A9: Ref/Basis | D9: Total | E9: to Electric | F9: to Gas-North | G9: to Gas-South | H9: Direct | I9: Allocated | J9: Total | K9: Direct | L9: Allocated | M9: Total | N9: Direct | O9: Allocated | P9: Total
A10: Electric Production
A11: 1 | B11: Steam (ED-AN) | D11: -82023072 | E11: -82023072 | I11: -82023072 | J11: -82023072 | L11: -52888477 | M11: -52888477 | O11: -29134595 | P11: -29134595
B12: Steam (ED-ID) | D12: -100069993 | E12: -100069993 | H12: -100069993 | J12: -100069993 | N12: -100069993 | P12: -100069993
B13: Steam (ED-WA) | D13: -197154614 | E13: -197154614 | H13: -197154614 | J13: -197154614 | K13: -197154614 | M13: -197154614
A14: 1 | B14: Hydro (ED-AN) | D14: -203413600 | E14: -203413600 | I14: -203413600 | J14: -203413600 | L14: -131161089 | M14: -131161089 | O14: -72252511 | P14: -72252511
A15: 1 | B15: Other (ED-AN) | D15: -180021272 | E15: -180021272 | I15: -180021272 | J15: -180021272 | L15: -116077716 | M15: -116077716 | O15: -63943556 | P15: -63943556
A16: Total Electric Production | D16: =SUM(D11:D15) -> -762682551 | E16: =SUM(E11:E15) -> -762682551 | H16: =SUM(H11:H15) -> -297224607 | I16: =SUM(I11:I15) -> -465457944 | J16: =SUM(J11:J15) -> -762682551 | K16: =SUM(K11:K15) -> -197154614 | L16: =SUM(L11:L15) -> -300127282 | M16: =SUM(M11:M15) -> -497281896 | N16: =SUM(N11:N15) -> -100069993 | O16: =SUM(O11:O15) -> -165330662 | P16: =SUM(P11:P15) -> -265400655
A18: Electric Transmission
A19: 1 | B19: ED-AN | D19: -258289052 | E19: -258289052 | I19: -258289052 | J19: -258289052 | L19: -166544781 | M19: -166544781 | O19: -91744271 | P19: -91744271
B20: ED-ID | D20: -10870481 | E20: -10870481 | H20: -10870481 | J20: -10870481 | N20: -10870481 | P20: -10870481
B21: ED-WA | D21: -17242792 | E21: -17242792 | H21: -17242792 | J21: -17242792 | K21: -17242792 | M21: -17242792
A22: Total Electric Transmission | D22: =SUM(D19:D21) -> -286402325 | E22: =SUM(E19:E21) -> -286402325 | H22: =SUM(H19:H21) -> -28113273 | I22: =SUM(I19:I21) -> -258289052 | J22: =SUM(J19:J21) -> -286402325 | K22: =SUM(K19:K21) -> -17242792 | L22: =SUM(L19:L21) -> -166544781 | M22: =SUM(M19:M21) -> -183787573 | N22: =SUM(N19:N21) -> -10870481 | O22: =SUM(O19:O21) -> -91744271 | P22: =SUM(P19:P21) -> -102614752
A24: Electric Distribution
A25: 3 | B25: ED-AN | D25: -577679 | E25: -577679 | I25: -577679 | J25: -577679 | L25: -402145 | M25: -402145 | O25: -175534 | P25: -175534
B26: ED-ID | D26: -295908105 | E26: -295908105 | H26: -295908105 | J26: -295908105 | N26: -295908105 | P26: -295908105
B27: ED-WA | D27: -492331554 | E27: -492331554 | H27: -492331554 | J27: -492331554 | K27: -492331554 | M27: -492331554
A28: Total Electric Distribution | D28: =SUM(D25:D27) -> -788817338 | E28: =SUM(E25:E27) -> -788817338 | H28: =SUM(H25:H27) -> -788239659 | I28: =SUM(I25:I27) -> -577679 | J28: =SUM(J25:J27) -> -788817338 | K28: =SUM(K25:K27) -> -492331554 | L28: =SUM(L25:L27) -> -402145 | M28: =SUM(M25:M27) -> -492733699 | N28: =SUM(N25:N27) -> -295908105 | O28: =SUM(O25:O27) -> -175534 | P28: =SUM(P25:P27) -> -296083639
A30: Gas Underground Storage
B31: GD-AN | D31: -19980348 | F31: -19980348
B32: GD-OR | D32: -1773512 | G32: -1773512
A33: Total Gas Underground Storage | D33: =SUM(D31:D32) -> -21753860 | F33: =SUM(F31:F32) -> -19980348 | G33: =SUM(G31:G32) -> -1773512
A35: Gas Distribution
B36: GD-AN | D36: -2080935 | F36: -2080935
B37: GD-ID | D37: -107960786 | F37: -107960786
B38: GD-WA | D38: -202174606 | F38: -202174606
B39: GD-OR | D39: -149690561 | G39: -149690561
A40: Total Gas Distribution | D40: =SUM(D36:D39) -> -461906888 | F40: =SUM(F36:F39) -> -312216327 | G40: =SUM(G36:G39) -> -149690561
A42: General Plant
A43: 4 | B43: ED-AN | D43: -36984577 | E43: -36984577 | I43: -36984577 | J43: -36984577 | L43: -25409514 | M43: -25409514 | O43: -11575063 | P43: -11575063
B44: ED-ID | D44: -13778734 | E44: -13778734 | H44: -13778734 | J44: -13778734 | N44: -13778734 | P44: -13778734
B45: ED-WA | D45: -27325224 | E45: -27325224 | H45: -27325224 | J45: -27325224 | K45: -27325224 | M45: -27325224
A46: 7,4 | B46: CD-AA | D46: -110355496 | E46: -77372445 | F46: -22852416 | G46: -10130635 | I46: -77372445 | J46: -77372445 | L46: -53157191 | M46: -53157191 | O46: -24215254 | P46: -24215254
A47: 9,4 | B47: CD-AN | D47: -9087635 | E47: -7010474 | F47: -2077161 | I47: -7010474 | J47: -7010474 | L47: -4816406 | M47: -4816406 | O47: -2194068 | P47: -2194068
...

Sheet 1.3c Common Amort Exp
A1: RESULTS OF OPERATIONS | E1: Report ID: | H1: AVISTA UTILITIES
A2: ELECTRIC AMORTIZATION EXPENSE | E2: E-AMTX-12E
A3: For Twelve Months Ended December 31, 2023
A4: Ending Balance Basis
E6: Assigned or | F6: Assigned or | G6: Assigned or
D7: System | E7: Allocated | F7: Allocated | G7: Allocated | I7: ******** ELECTRIC ******** | L7: ******** WASHINGTON ******** | O7: ******** IDAHO ********
A8: Ref/Basis | D8: Total | E8: to Electric | F8: to Gas-North | G8: to Gas-South | H8: Direct | I8: Allocated | J8: Total | K8: Direct | L8: Allocated | M8: Total | N8: Direct | O8: Allocated | P8: Total
A9: Production/Transmission
A10: 1 | B10: Franchises (302000) | C10: ED-AN | D10: 918400 | E10: 918400 | I10: 918400 | J10: 918400 | L10: 592184 | M10: 592184 | O10: 326216 | P10: 326216
A11: 1 | B11: Misc Intangible Plt (303000) | C11: ED-AN | D11: 262754 | E11: 262754 | I11: 262754 | J11: 262754 | L11: 169424 | M11: 169424 | O11: 93330 | P11: 93330
A12: Total Production/Transmission | D12: =SUM(D10:D11) -> 1181154 | E12: =SUM(E10:E11) -> 1181154 | I12: =SUM(I10:I11) -> 1181154 | J12: =SUM(J10:J11) -> 1181154 | L12: =SUM(L10:L11) -> 761608 | M12: =SUM(M10:M11) -> 761608 | O12: =SUM(O10:O11) -> 419546 | P12: =SUM(P10:P11) -> 419546
A14: Distribution
B15: Franchises (302000) | C15: ED-WA | D15: 109887 | E15: 109887 | H15: 109887 | J15: 109887 | K15: 109887 | M15: 109887
B16: Misc Intangible Plt (303000) | C16: ED-WA | D16: 5866 | E16: 5866 | H16: 5866 | J16: 5866 | K16: 5866 | M16: 5866
A17: Total Distribution | D17: =SUM(D15:D16) -> 115753 | E17: =SUM(E15:E16) -> 115753 | H17: =SUM(H15:H16) -> 115753 | J17: =SUM(J15:J16) -> 115753 | K17: =SUM(K15:K16) -> 115753 | M17: =SUM(M15:M16) -> 115753
A19: General Plant - 303000
A20: 7,4 | C20: CD-AA | D20: 414834 | E20: 290848 | F20: 85904 | G20: 38082 | I20: 290848 | J20: 290848 | L20: 199821 | M20: 199821 | O20: 91027 | P20: 91027
A21: 9,1 | C21: CD-AN | D21: 9729 | E21: 7505 | F21: 2224 | I21: 7505 | J21: 7505 | L21: 4839 | M21: 4839 | O21: 2666 | P21: 2666
C22: GD-ID | D22: 14795 | F22: 14795
C23: GD-WA | D23: 24862 | F23: 24862
C24: GD-OR | D24: 6607 | G24: 6607
A25: Total General Plant - 303000 | D25: =SUM(D20:D24) -> 470827 | E25: =SUM(E20:E24) -> 298353 | F25: =SUM(F20:F24) -> 127785 | G25: =SUM(G20:G24) -> 44689 | I25: =SUM(I20:I24) -> 298353 | J25: =SUM(J20:J24) -> 298353 | L25: =SUM(L20:L24) -> 204660 | M25: =SUM(M20:M24) -> 204660 | O25: =SUM(O20:O24) -> 93693 | P25: =SUM(P20:P24) -> 93693
A27: Miscellaneous IT Intangible Plant - 3031XX
A28: 7,4 | C28: CD-AA | D28: 29913664 | E28: 21112466 | F28: 6136190 | G28: 2665008 | I28: 21112466 | J28: 21112466 | L28: 14607504 | M28: 14607504 | O28: 6504962 | P28: 6504962
A29: 9,4 | C29: CD-AN | D29: 86219 | E29: 67141 | F29: 19078 | I29: 67141 | J29: 67141 | L29: 46454 | M29: 46454 | O29: 20687 | P29: 20687
A30: 9,4 | C30: CD-ID | D30: 7834 | E30: 6101 | F30: 1733 | H30: 6101 | J30: 6101 | N30: 6101 | P30: 6101
A31: 9,4 | C31: CD-WA | D31: 3703616 | E31: 2884117 | F31: 819499 | H31: 2884117 | J31: 2884117 | K31: 2884117 | M31: 2884117 | P31: 0
A32: 4 | C32: ED-AN | D32: 2727532 | E32: 2727532 | I32: 2727532 | J32: 2727532 | L32: 1887152 | M32: 1887152 | O32: 840380 | P32: 840380
C33: ED-ID | D33: -32 | E33: -32 | H33: -32 | J33: -32 | N33: -32 | P33: -32
C34: ED-WA | D34: 227798 | E34: 227798 | H34: 227798 | J34: 227798 | K34: 227798 | M34: 227798
A35: 8 | C35: GD-AA | D35: 128573 | F35: 89713 | G35: 38860
C36: GD-AN | D36: 0 | F36: 0
C37: GD-OR | D37: 0 | G37: 0
A38: Total Miscellaneous IT Intangible Plt - 3031XX | D38: =SUM(D28:D37) -> 36795204 | E38: =SUM(E28:E37) -> 27025123 | F38: =SUM(F28:F37) -> 7066213 | G38: =SUM(G28:G37) -> 2703868 | H38: =SUM(H28:H37) -> 3117984 | I38: =SUM(I28:I37) -> 23907139 | J38: =SUM(J28:J37) -> 27025123 | K38: =SUM(K28:K37) -> 3111915 | ... P38: =SUM(P28:P37) -> 7372098
A40: Gas Underground Storage
C41: GD-AN | D41: 0 | F41: 0
A42: Total Gas Underground Storage | D42: 0 | F42: 0
A44: General Plant - 390200, 396200
A45: 7,4 | C45: CD-AA | D45: 0 | E45: 0 | F45: 0 | G45: 0 | I45: 0 | J45: 0 | L45: 0 | M45: 0 | O45: 0 | P45: 0
A46: 4 | C46: ED-AN | D46: 422431 | E46: 422431 | I46: 422431 | J46: 422431 | L46: 290223 | M46: 290223 | O46: 132208 | P46: 132208
...

Sheet 1.4 Reg Assets
A1: Avista Corp. | L1: 1.4 Reg Assets
A2: BPA Appendix 1 - FY 23
A3: Other Regulatory Assets
A4: A/C 182.3
A6: Other Regulatory Assets (182.3) | B6: Page No | C6: Account No | D6: Funct Method | E6: Total | F6: Production | G6: Transmission | H6: Distribution | I6: Associated Liability? | J6: Description | K6: Authorizing Order(s) and/or Regulatory Support | L6: Attachments
A7: WA Excess Nat Gas Line Extension Allowance | E7: 2583244 | H7: =E7 -> 2583244 | J7: Relates to Gas operations.
A8: Reg Asset Post Ret Liab | B8: 232 | C8: 182.305 | D8: DIR-D | E8: 112462393 | H8: =E8 -> 112462393 | J8: This accrual is for our defined benefit pension and other post retirement plans. This is different from the above accrual because it requires us to measure the funded status of our benefit plans and record it here in other reg assets.
A9: Regulatory Asset FAS109 Utility Plant | B9: 232 | C9: 182.31&182.32 | D9: DIR-D | E9: 78172454 | H9: =E9 -> 78172454 | I9: Yes | J9: Income Tax accrual - Reflects the amount of taxes payable or refundable for the current year and deferred tax liabilities and assets for future years. | K9: Balance sheet only account
A10: Regulatory Asset FAS109 DSIT Non Plant | B10: 232 | C10: 182.315 | D10: DIR-D | E10: 2681673 | H10: =E10 -> 2681673 | I10: Yes | J10: Income Tax accrual - Reflects the amount of taxes payable or refundable for the current year and deferred tax liabilities and assets for future years. | K10: Balance sheet only account
A11: Regulatory Asset FAS109 WNP3 | B11: 232 | C11: 182.32 | D11: DIR-D | E11: 0 | H11: =E11 -> 0 | I11: Yes | K11: Balance sheet only account
A12: Regulatory Asset- Spokane River Relicense | B12: 232 | D12: DIR-P | E12: 0 | F12: =E12 -> 0 | J12: Related to Hydro system assign to production. | K12: UE-100467 Order 07
A13: Reg Assets-Decouplings Surcharge | B13: 232 | D13: DIR-D | E13: 2435722 | H13: =E13 -> 2435722 | J13: Amortization of prior deferred revenue.
A14: Reg Asset - Colstrip | B14: 232 | D14: DIR-D | E14: 19428968 | F14: =E14 -> 19428968 | J14: For Washington Electric,we are currently deferring ARO expenses. Amortization period to be determined. For Idaho Electric, amortization is for 34 years as per Order 34276,_x000D_ AVU-E-18-03. | K14: Order 34276, AVU-E-18-03.
A15: Commodity MTM LT Regulatory Asset | B15: 232 | C15: 182.374/75 | D15: Dir-D | E15: 0 | F15: =E15 -> 0 | H15: =E15 -> 0 | I15: Yes | J15: This account is for derivative instruments. They offset the liability for derivatives and regulatory liabilities. Therefore, the MTM transactions for reg. assets+ derivative assets +reg liabilities + derivative liabilities = 0.
A16: Regulatory Asset FAS143 Asset Retirement Obligation | B16: 232 | C16: 182.46 | D16: DIR-D | E16: 2298569 | H16: =E16 -> 2298569 | J16: Asset Retirement Obligations - These are retirement obligations that the utility has accrued for, the offsetting amt to the reserve is accounted for here. | K16: AVU-G-05-3 AVU-E-05-9, UE-051852 Order No. 1
A17: Reg Asset AN-CDA Lake Settlement | B17: 232 | C17: 182.3 | D17: DIR-P | E17: 36692352 | F17: =E17 -> 36692352 | J17: Related to Hydro system assign to production. | K17: UE-090134 Order 10
A18: Regulatory Asset Workers Comp | B18: 232 | C18: 182.76 | D18: DIR-D | E18: 1930165 | F18: 0 | G18: 0 | H18: =SUM(E18) -> 1930165 | J18: Workers Compensation costs
A19: Settled Interest Rate Swap Asset | B19: 232 | C19: 182.3 | E19: 179488399 | H19: =E19 -> 179488399 | J19: Interest Rate Swaps account
A20: DSM Asset | B20: 232 | C20: 182.3 | D20: Dir-D | E20: 10257486 | H20: =E20 -> 10257486 | I20: Yes | J20: Related to Demand Side Management - Please see the Company's recent filing in WA for it's DSM programs at http://www.avistautilities.com/services/energypricing/wa/Documents/Combined%20Filing.pdf
A21: Deferred ITC | C21: 182.3 | E21: 3602106 | H21: =E21 -> 3602106 | I21: Yes | J21: Relates to Nine Mile Generating Facility
A22: Regulatory Asset MDM System | C22: 182.337 | E22: 29345159 | H22: =E22 -> 29345159 | J22: MDM System (Distribution assets)
A23: Regulatory Asset BPA Residential Exchange | B23: 232 | C23: 182.36 | D23: Dir-D | E23: 1550215 | H23: =E23 -> 1550215 | J23: This account is put all to distribution as timing differences associated with past residential exchange benefits should not be included in the average system cost used to determine future residential exchange benefits.
A24: Regulatory Assets FISERV | B24: 232 | C24: 182.314 | E24: 170311 | F24: 0 | H24: =SUM(E24) -> 170311 | J24: Credit card payment for customers (distribution)
A25: Regulatory Assets - AFUDC & Equity DFIT | B25: 232 | C25: 182.3 | E25: 59066092 | H25: =E25 -> 59066092 | J25: Change to AFUDC due to FERC recommendation (audit)
A26: Regulatory Asset ID PCA Deferral - 1 year | B26: 232 | C26: 182.3 | E26: 7627491 | H26: =E26 -> 7627491
A27: Existing Meters/ERTS Retirement Def | B27: 232 | C27: 182.331 | E27: 17635170 | H27: =E27 -> 17635170 | J27: Washington Docket#s UE-180418 and UG-180419. Amortization period to be determined.
A28: Regulatory Asset Colstrip Community Fund | B28: 232 | C28: 182.3 | E28: 750000 | F28: =E28 -> 750000 | J28: WA Order 09 in Dockets UE-190222. Deferral of customer poriton for future rate recovery. The funds are set aside to help the Colstrip Community transition away from economic activity related to coal-fired generation.
A29: Regulatory Asset Covid-19 | B29: 232 | C29: 182.347 | E29: 657789 | F29: 0 | G29: 0 | H29: =SUM(E29) -> 657789 | I29: Yes | J29: Deferral of COVID-19 costs as per ID PUC Order no 34718, OR PUC Order no 20-401, Docket UM2069 and WA UTC order no. 01, Dockets UE-200407 and UG-200408
A30: Regulatory Asset Energy Imbalance Market | B30: 232 | C30: 182.3 | E30: 582599 | H30: =E30 -> 582599 | J30: ID PUC Order No 34606. Deferral of costs related to Avista's entry in the Energy Imbalance Market in March of 2022
A31: Regulatory Asset OR CAT Tax | B31: 232 | C31: 182.341 | E31: 10064 | H31: =E31 -> 10064 | J31: OR PUC Order No. 20-398, Docket UM-2042
A32: Regulatory Asset Wildfire Resiliency & Balancing | B32: 232 | C32: 182.344 | E32: 23737455 | F32: 0 | G32: 0 | H32: =E32 -> 23737455 | J32: Deferral of O&M wildfire expenses as per ID PUC order 34883 and WA Dockets UE-200900, UG-200901, and UE-200894
A33: Deferral for CS2 & Colstrip (O&M, Excess Depr) | B33: 232 | C33: 182.355 | E33: 2018257 | F33: =E33 -> 2018257 | J33: WA Order 09, Docket Nos. UE-190334, UG-190335, and UE-190222
A34: Regulatory Asset Tax Basis Flow through | B34: 232 | C34: 182.3 | E34: 145169206 | H34: =E34 -> 145169206 | I34: Yes | J34: WA order 01, Dockets UE-200895 and UG-200896, ID Case Nos. AVU-E-20-12 and AVU-G-20-07 Order No. 34906 and OR Docket no UM 2124 Order No 21-131 - Accounting method Change for federal income tax expense associated with Industry Director Directive No 5 mixed service costs for meters
A35: Regulatory Asset - Intervenor Fund Deferral | B35: 232 | C35: 182.357 | E35: 105939 | F35: 0 | G35: 0 | H35: =E35 -> 105939 | J35: WA Docket No UG-220596 and UE-220151
A36: Unrealized Currency Exchange | B36: 232 | C36: 182.3 | E36: 0 | J36: Recognition of other liability related to foreign exchange hedge rates over a two year period
A37: Regulatory Asset Commodity MTM ST & LT | B37: 232 | C37: 182.374/75 | E37: 69139449 | F37: 0 | H37: =E37 -> 69139449 | J37: WA Docket No UE-002066 and ID Order no 28648
A38: Regulatory Asset Energy Affordability Act | B38: 232 | C38: 182.354 | E38: 1301000 | H38: =E38 -> 1301000 | J38: Deferral of costs associated with OR House Bill 2475
