Workbook
Name Act: _Top1:Bottom1
Name Act: _Top1:Bottom1
Name Act: _Top1:Bottom1
Name Act: _Top1:Bottom1
Name Act: _Top1:Bottom1
Name Actuals: High_Act:Low_Act
Name Actuals: High_Act:Low_Act
Name Actuals: High_Act:Low_Act
Name Actuals: High_Act:Low_Act
Name Actuals: High_Act:Low_Act
Name BRIDGER_COAL_COMPANY: "aug3mth1997"
Name DispatchSum: "GRID Thermal Generation!R2C1:R4C2"
Name DIST: 'Sch 1- Rate Base (ID)'!$Q$1:$Q$3
Name DIST: 'Sch 1- Rate Base (OR)'!$Q$1:$Q$3
Name DIST: 'Sch 1- Rate Base (WA)'!$Q$1:$Q$3
Name DIST: 'Sch 1- Rate Base '!$Q$1:$Q$3
Name Item_Number: "GP Detail"
Name MD: High_MD:Low_MD
Name MD: High_MD:Low_MD
Name MD: High_MD:Low_MD
Name MD: High_MD:Low_MD
Name MD: High_MD:Low_MD
Name PROD: 'Sch 1- Rate Base (ID)'!$R$1:$R$3
Name PROD: 'Sch 1- Rate Base (OR)'!$R$1:$R$3
Name PROD: 'Sch 1- Rate Base (WA)'!$R$1:$R$3
Name PROD: 'Sch 1- Rate Base '!$R$1:$R$3
Name PTD: 'Sch 1- Rate Base (ID)'!$P$1:$P$3
Name PTD: 'Sch 1- Rate Base (OR)'!$P$1:$P$3
Name PTD: 'Sch 1- Rate Base (WA)'!$P$1:$P$3
Name PTD: 'Sch 1- Rate Base '!$P$1:$P$3
Name Ratio: 'A-RHWM_Ratios'!$D$77:$G$87
Name Ratio: Ratios!$D$77:$G$87
Name RevenueSum: "GRID Thermal Revenue!R2C1:R4C2"
Name SPWS_WBID: "12F19027-1C25-43D5-BF1F-44D7E5A374C0"

Sheet Revisions_2026-28
A4: 1 | B4: Change dates in Sch 1- Rate Base Tab
C6: Cell E6 | D6: Change from: | F6: 2021 | G6: to | H6: 2023
C8: Cell E7 | D8: Change from: | F8: 44743 | G8: to | H8: 45476
A11: 2 | B11: In NLSL_Base_New_Calc Tab
C13: Cell A47 | D13: Change from | F13: 2021 cost of serving NLSLs under Endnote d | G13: to | H13: 2023 cost of serving NLSLs under Endnote d
A16: 3 | B16: In Above-RHWM_Base_New_Calc Tab
C18: Cell A47 | D18: Change from | F18: 2021 cost of serving Above-RHWM Loads under Endnote d | G18: to | H18: 2023 cost of serving Above-RHWM Loads under Endnote d
A21: 4 | B21: Updated all Footers from | F21: FY 2024-2025 ASC Filing | G21: to | H21: FY 2024-2025 ASC Filing
A24: 5 | B24: In New Resources-Individual and New Resources Group Tabs
C26: Cell B3 | D26: Change from | F26: 45566 | G26: to | H26: 46478 | I26: Midpoint is different because of the three year rate period
A28: 6 | B28: In Schedule 1 - Rate Base
C30: Check all account numbers

Sheet TOC
A1: FY 2026-2028 ASC Appendix 1
A2: Table of Contents
A4: 1 | B4: Schedule 1 - Rate Base
A5: 2 | B5: Schedule 1A - Cash Working Capital
A6: 3 | B6: Schedule 2 -Rate of Return
A7: 5 | B7: Schedule 3 - Expenses
A8: 6 | B8: Schedule 3A - Taxes
A9: 7 | B9: Schedule 3B - Other Items
A10: 8 | B10: Schedule 4 - Average System Cost
A11: 9 | B11: 3-YEAR PP & OSS Worksheet
A12: 10 | B12: Load Forecast
A13: 11 | B13: Distribution Loss Calc
A14: 12 | B14: Salaries
A15: 13 | B15: Ratios
... A24: 22 | B24: Tiered Rates

Sheet Sch 1- Rate Base 
A1: BONNEVILLE POWER ADMINISTRATION
A2: RESIDENTIAL PURCHASE AND SALES AGREEMENT
A3: 2008 Average System Cost Methodology (ASCM) Appendix 1
A5: TOC | D5: UTILITY NAME: | E5: PacifiCorp | I5: BPA Reviews:
A6: é | D6: End of Year Report Period: | E6: 2023
D7: ASC Filing Date: | E7: 45446
A10: Schedule 1: Plant Investment / Rate Base
A12: Account Description | C12: FERC Form 1 | E12: Functionalization | G12: Total | H12: Production | I12: Transmission | J12: Distribution/ Other | L12: Production | M12: Transmission
C13: Page | D13: Account | E13: Method | N13: Distribution/
C14: Number | D14: Numbers | E14: Default | F14: Optional | N14: Other
A15: Intangible Plant:
B16: Intangible Plant - Organization | C16: 204-207 | D16: 301 | E16: DIST | G16: =SUM('Sch 1- Rate Base (OR)'!G16+'Sch 1- Rate Base (WA)'!G16+'Sch 1- Rate Base (ID)'!G16) -> 0 | H16: =VLOOKUP($E16,Ratio,2,FALSE)*$G16 -> 0 | I16: =VLOOKUP($E16,Ratio,3,FALSE)*$G16 -> 0 | J16: =VLOOKUP($E16,Ratio,4,FALSE)*$G16 -> 0
B17: Intangible Plant - Franchises and Consents | C17: 204-207 | D17: 302 | E17: DIRECT | F17: PTD | G17: =SUM('Sch 1- Rate Base (OR)'!G17+'Sch 1- Rate Base (WA)'!G17+'Sch 1- Rate Base (ID)'!G17) -> 71764696 | H17: =IF($E17="DIRECT",$L17,VLOOKUP($E17,Ratio,2,FALSE)*$G17) -> 71764696 | I17: =IF($E17="DIRECT",$M17,VLOOKUP($E17,Ratio,3,FALSE)*$G17) -> 0 | J17: =IF($E17="DIRECT",$N17,VLOOKUP($E17,Ratio,4,FALSE)*$G17) -> 1380340.4 | L17: =SUM('Sch 1- Rate Base (OR)'!L17+'Sch 1- Rate Base (WA)'!L17+'Sch 1- Rate Base (ID)'!L17) -> 71764696 | M17: 0 | N17: 1380340.4
B18: Intangible Plant - Miscellaneous | C18: 204-207 | D18: 303 | E18: DIRECT | F18: DIST | G18: =SUM('Sch 1- Rate Base (OR)'!G18+'Sch 1- Rate Base (WA)'!G18+'Sch 1- Rate Base (ID)'!G18) -> 3.910104e+08 | H18: =IF($E18="DIRECT",$L18,VLOOKUP($E18,Ratio,2,FALSE)*$G18) -> 1.2980719e+08 | I18: =IF($E18="DIRECT",$M18,VLOOKUP($E18,Ratio,3,FALSE)*$G18) -> 0 | J18: =IF($E18="DIRECT",$N18,VLOOKUP($E18,Ratio,4,FALSE)*$G18) -> 2.6120322e+08 | L18: =SUM('Sch 1- Rate Base (OR)'!L18+'Sch 1- Rate Base (WA)'!L18+'Sch 1- Rate Base (ID)'!L18) -> 1.2980719e+08 | M18: =SUM('Sch 1- Rate Base (OR)'!M18+'Sch 1- Rate Base (WA)'!M18+'Sch 1- Rate Base (ID)'!M18) -> 0 | N18: =SUM('Sch 1- Rate Base (OR)'!N18+'Sch 1- Rate Base (WA)'!N18+'Sch 1- Rate Base (ID)'!N18) -> 2.6120322e+08
A19: Total Intangible Plant | G19: =SUM(G16:G18) -> 4.627751e+08 | H19: =SUM(H16:H18) -> 2.0157188e+08 | I19: =SUM(I16:I18) -> 0 | J19: =SUM(J16:J18) -> 2.6258356e+08
A21: Production Plant:
B22: Steam Production | C22: 204-207 | D22: 310-317 | E22: PROD | G22: =SUM('Sch 1- Rate Base (OR)'!G22+'Sch 1- Rate Base (WA)'!G22+'Sch 1- Rate Base (ID)'!G22) -> 2.8906259e+09 | H22: =VLOOKUP($E22,Ratio,2,FALSE)*$G22 -> 2.8906259e+09 | I22: =VLOOKUP($E22,Ratio,3,FALSE)*$G22 -> 0 | J22: =VLOOKUP($E22,Ratio,4,FALSE)*$G22 -> 0
B23: Nuclear Production | C23: 204-207 | D23: 320-326 | E23: PROD | G23: =SUM('Sch 1- Rate Base (OR)'!G23+'Sch 1- Rate Base (WA)'!G23+'Sch 1- Rate Base (ID)'!G23) -> 0 | H23: =VLOOKUP($E23,Ratio,2,FALSE)*$G23 -> 0 | I23: =VLOOKUP($E23,Ratio,3,FALSE)*$G23 -> 0 | J23: =VLOOKUP($E23,Ratio,4,FALSE)*$G23 -> 0
B24: Hydraulic Production | C24: 204-207 | D24: 330-337 | E24: PROD | G24: =SUM('Sch 1- Rate Base (OR)'!G24+'Sch 1- Rate Base (WA)'!G24+'Sch 1- Rate Base (ID)'!G24) -> 4.3336029e+08 | H24: =VLOOKUP($E24,Ratio,2,FALSE)*$G24 -> 4.3336029e+08 | I24: =VLOOKUP($E24,Ratio,3,FALSE)*$G24 -> 0 | J24: =VLOOKUP($E24,Ratio,4,FALSE)*$G24 -> 0
B25: Other Production | C25: 204-207 | D25: 340-348 | E25: PROD | G25: =SUM('Sch 1- Rate Base (OR)'!G25+'Sch 1- Rate Base (WA)'!G25+'Sch 1- Rate Base (ID)'!G25) -> 2.2583856e+09 | H25: =VLOOKUP($E25,Ratio,2,FALSE)*$G25 -> 2.2583856e+09 | I25: =VLOOKUP($E25,Ratio,3,FALSE)*$G25 -> 0 | J25: =VLOOKUP($E25,Ratio,4,FALSE)*$G25 -> 0
A26: Total Production Plant | G26: =SUM(G22:G25) -> 5.5823719e+09 | H26: =SUM(H22:H25) -> 5.5823719e+09 | I26: =SUM(I22:I25) -> 0 | J26: =SUM(J22:J25) -> 0
B29: Transmission Plant | C29: 204-207 | D29: 350-359.1 | E29: TRANS | G29: =SUM('Sch 1- Rate Base (OR)'!G29+'Sch 1- Rate Base (WA)'!G29+'Sch 1- Rate Base (ID)'!G29) -> 3.295839e+09 | H29: =VLOOKUP($E29,Ratio,2,FALSE)*$G29 -> 0 | I29: =VLOOKUP($E29,Ratio,3,FALSE)*$G29 -> 0 | J29: =VLOOKUP($E29,Ratio,4,FALSE)*$G29 -> 3.295839e+09
A30: Total Transmission Plant | G30: =SUM(G29) -> 3.295839e+09 | H30: =SUM(H29) -> 0 | I30: =SUM(I29) -> 0 | J30: =SUM(J29) -> 3.295839e+09
A32: Distribution Plant:
B33: Distribution Plant | C33: 204-207 | D33: 360-374 | E33: DIST | G33: =SUM('Sch 1- Rate Base (OR)'!G33+'Sch 1- Rate Base (WA)'!G33+'Sch 1- Rate Base (ID)'!G33) -> 3.8033447e+09 | H33: =VLOOKUP($E33,Ratio,2,FALSE)*$G33 -> 0 | I33: =VLOOKUP($E33,Ratio,3,FALSE)*$G33 -> 0 | J33: =VLOOKUP($E33,Ratio,4,FALSE)*$G33 -> 3.8033447e+09
A34: Total Distribution Plant | G34: =SUM(G33) -> 3.8033447e+09 | H34: =SUM(H33) -> 0 | I34: =SUM(I33) -> 0 | J34: =SUM(J33) -> 3.8033447e+09
A36: General Plant:
B37: Land and Land Rights | C37: 204-207 | D37: 389 | E37: PTD | G37: =SUM('Sch 1- Rate Base (OR)'!G37+'Sch 1- Rate Base (WA)'!G37+'Sch 1- Rate Base (ID)'!G37) -> 10980785 | H37: =VLOOKUP($E37,Ratio,2,FALSE)*$G37 -> 4833699.1 | I37: =VLOOKUP($E37,Ratio,3,FALSE)*$G37 -> 0 | J37: =VLOOKUP($E37,Ratio,4,FALSE)*$G37 -> 6147085.6
B38: Structures and Improvements | C38: 204-207 | D38: 390 | E38: PTD | G38: =SUM('Sch 1- Rate Base (OR)'!G38+'Sch 1- Rate Base (WA)'!G38+'Sch 1- Rate Base (ID)'!G38) -> 1.345266e+08 | H38: =VLOOKUP($E38,Ratio,2,FALSE)*$G38 -> 59218092 | I38: =VLOOKUP($E38,Ratio,3,FALSE)*$G38 -> 0 | J38: =VLOOKUP($E38,Ratio,4,FALSE)*$G38 -> 75308511
B39: Furniture and Equipment | C39: 204-207 | D39: 391 | E39: LABOR | G39: =SUM('Sch 1- Rate Base (OR)'!G39+'Sch 1- Rate Base (WA)'!G39+'Sch 1- Rate Base (ID)'!G39) -> 38698719 | H39: =VLOOKUP($E39,Ratio,2,FALSE)*$G39 -> 16131693 | I39: =VLOOKUP($E39,Ratio,3,FALSE)*$G39 -> 0 | J39: =VLOOKUP($E39,Ratio,4,FALSE)*$G39 -> 22567026
B40: Transportation Equipment | C40: 204-207 | D40: 392 | E40: TD | G40: =SUM('Sch 1- Rate Base (OR)'!G40+'Sch 1- Rate Base (WA)'!G40+'Sch 1- Rate Base (ID)'!G40) -> 70926423 | H40: =VLOOKUP($E40,Ratio,2,FALSE)*$G40 -> 0 | I40: =VLOOKUP($E40,Ratio,3,FALSE)*$G40 -> 0 | J40: =VLOOKUP($E40,Ratio,4,FALSE)*$G40 -> 70926423
B41: Stores Equipment | C41: 204-207 | D41: 393 | E41: PTD | G41: =SUM('Sch 1- Rate Base (OR)'!G41+'Sch 1- Rate Base (WA)'!G41+'Sch 1- Rate Base (ID)'!G41) -> 8843323.2 | H41: =VLOOKUP($E41,Ratio,2,FALSE)*$G41 -> 3892796.8 | I41: =VLOOKUP($E41,Ratio,3,FALSE)*$G41 -> 0 | J41: =VLOOKUP($E41,Ratio,4,FALSE)*$G41 -> 4950526.4
B42: Tools and Garage Equipment | C42: 204-207 | D42: 394 | E42: PTD | G42: =SUM('Sch 1- Rate Base (OR)'!G42+'Sch 1- Rate Base (WA)'!G42+'Sch 1- Rate Base (ID)'!G42) -> 28801736 | H42: =VLOOKUP($E42,Ratio,2,FALSE)*$G42 -> 12678413 | I42: =VLOOKUP($E42,Ratio,3,FALSE)*$G42 -> 0 | J42: =VLOOKUP($E42,Ratio,4,FALSE)*$G42 -> 16123323
B43: Laboratory Equipment | C43: 204-207 | D43: 395 | E43: PTD | G43: =SUM('Sch 1- Rate Base (OR)'!G43+'Sch 1- Rate Base (WA)'!G43+'Sch 1- Rate Base (ID)'!G43) -> 22065131 | H43: =VLOOKUP($E43,Ratio,2,FALSE)*$G43 -> 9712985.6 | I43: =VLOOKUP($E43,Ratio,3,FALSE)*$G43 -> 0 | J43: =VLOOKUP($E43,Ratio,4,FALSE)*$G43 -> 12352145
B44: Power Operated Equipment | C44: 204-207 | D44: 396 | E44: TD | G44: =SUM('Sch 1- Rate Base (OR)'!G44+'Sch 1- Rate Base (WA)'!G44+'Sch 1- Rate Base (ID)'!G44) -> 1.0422438e+08 | H44: =VLOOKUP($E44,Ratio,2,FALSE)*$G44 -> 0 | I44: =VLOOKUP($E44,Ratio,3,FALSE)*$G44 -> 0 | J44: =VLOOKUP($E44,Ratio,4,FALSE)*$G44 -> 1.0422438e+08
B45: Communication Equipment | C45: 204-207 | D45: 397 | E45: PTD | G45: =SUM('Sch 1- Rate Base (OR)'!G45+'Sch 1- Rate Base (WA)'!G45+'Sch 1- Rate Base (ID)'!G45) -> 2.2516638e+08 | H45: =VLOOKUP($E45,Ratio,2,FALSE)*$G45 -> 99117374 | I45: =VLOOKUP($E45,Ratio,3,FALSE)*$G45 -> 0 | J45: =VLOOKUP($E45,Ratio,4,FALSE)*$G45 -> 1.2604901e+08
B46: Miscellaneous Equipment | C46: 204-207 | D46: 398 | E46: PTD | G46: =SUM('Sch 1- Rate Base (OR)'!G46+'Sch 1- Rate Base (WA)'!G46+'Sch 1- Rate Base (ID)'!G46) -> 3889871.2 | H46: =VLOOKUP($E46,Ratio,2,FALSE)*$G46 -> 1712306.3 | I46: =VLOOKUP($E46,Ratio,3,FALSE)*$G46 -> 0 | J46: =VLOOKUP($E46,Ratio,4,FALSE)*$G46 -> 2177564.9
B47: Other Tangible Property | C47: 204-207 | D47: 399 | E47: DIRECT | F47: PTD | G47: =SUM('Sch 1- Rate Base (OR)'!G47+'Sch 1- Rate Base (WA)'!G47+'Sch 1- Rate Base (ID)'!G47) -> 708735.65 | H47: =IF($E47="DIRECT",$L47,VLOOKUP($E47,Ratio,2,FALSE)*$G47) -> 708735.65 | I47: =IF($E47="DIRECT",$M47,VLOOKUP($E47,Ratio,3,FALSE)*$G47) -> 0 | J47: =IF($E47="DIRECT",$N47,VLOOKUP($E47,Ratio,4,FALSE)*$G47) -> 0 | L47: =SUM('Sch 1- Rate Base (OR)'!L47+'Sch 1- Rate Base (WA)'!L47+'Sch 1- Rate Base (ID)'!L47) -> 708735.65 | M47: =SUM('Sch 1- Rate Base (OR)'!M47+'Sch 1- Rate Base (WA)'!M47+'Sch 1- Rate Base (ID)'!M47) -> 0 | N47: =SUM('Sch 1- Rate Base (OR)'!N47+'Sch 1- Rate Base (WA)'!N47+'Sch 1- Rate Base (ID)'!N47) -> 0
B48: Asset Retirement Costs for General Plant | C48: 204-207 | D48: 399.1 | E48: PTD | G48: =SUM('Sch 1- Rate Base (OR)'!G48+'Sch 1- Rate Base (WA)'!G48+'Sch 1- Rate Base (ID)'!G48) -> 15896.576 | H48: =VLOOKUP($E48,Ratio,2,FALSE)*$G48 -> 6997.6116 | I48: =VLOOKUP($E48,Ratio,3,FALSE)*$G48 -> 0 | J48: =VLOOKUP($E48,Ratio,4,FALSE)*$G48 -> 8898.9647
A50: Total General Plant | G50: =SUM(G37:G49) -> 6.4884799e+08 | H50: =SUM(H37:H49) -> 2.0801309e+08 | I50: =SUM(I37:I49) -> 0 | J50: =SUM(J37:J49) -> 4.408349e+08
...

Sheet Sch 1A - Cash Working Capital
A1: BONNEVILLE POWER ADMINISTRATION
A2: RESIDENTIAL PURCHASE AND SALE AGREEMENT
A3: 2008 Average System Cost Methodology (ASCM) Appendix 1
A5: TOC | B5: UTILITY NAME: | C5: ='Sch 1- Rate Base '!$E$5 -> PacifiCorp | F5: BPA Reviews:
B6: End of Year Report Period: | C6: ='Sch 1- Rate Base '!$E$6 -> 2023 | F6: ='Sch 1- Rate Base '!I6
B7: ASC Filing Date: | C7: ='Sch 1- Rate Base '!$E$7 -> 45446 | F7: ='Sch 1- Rate Base '!I7
A10: Schedule 1A: Cash Working Capital (f)
A11: (Automatic Input from Schedule 3- Expenses)
A12: Account Description | C12: Total | D12: Production | E12: Transmission | F12: Distribution/ Other
A14: Cash Working Capital Calculation:
B15: Total Production O&M | C15: ='Sch 3 - Expenses'!G36 -> 1.5599196e+09 | D15: ='Sch 3 - Expenses'!H36 -> 1.5576553e+09 | E15: ='Sch 3 - Expenses'!I36 -> 0 | F15: ='Sch 3 - Expenses'!J36 -> 2264245.6
B16: Total Transmission O&M (i) | C16: ='Sch 3 - Expenses'!G42 -> 1.0345326e+08 | D16: ='Sch 3 - Expenses'!H42 -> 65955212 | E16: ='Sch 3 - Expenses'!I42 -> 0 | F16: ='Sch 3 - Expenses'!J42 -> 37498044
B17: Total Distribution O&M | C17: ='Sch 3 - Expenses'!G47 -> 1.7808029e+08 | D17: ='Sch 3 - Expenses'!H47 -> 0 | E17: ='Sch 3 - Expenses'!I47 -> 0 | F17: ='Sch 3 - Expenses'!J47 -> 1.7808029e+08
B18: Total Customer & Sales | C18: ='Sch 3 - Expenses'!G55 -> 1.4332481e+08 | D18: ='Sch 3 - Expenses'!H55 -> 92632458 | E18: ='Sch 3 - Expenses'!I55 -> 0 | F18: ='Sch 3 - Expenses'!J55 -> 50692350
B19: Total Administrative and General O&M | C19: ='Sch 3 - Expenses'!G75 -> 8.1633753e+08 | D19: ='Sch 3 - Expenses'!H75 -> 3.3269378e+08 | E19: ='Sch 3 - Expenses'!I75 -> 0 | F19: ='Sch 3 - Expenses'!J75 -> 4.8364068e+08
B20: Less Purchased Power, Public Purpose Charge, REP Reversal, Fuel Costs | C20: ='Sch 3 - Expenses'!G16+'Sch 3 - Expenses'!G20+'Sch 3 - Expenses'!G27+'Sch 3 - Expenses'!G31+'Sch 3 - Expenses'!G34+'Sch 3 - Expenses'!G35+G30 -> 1.3485127e+09 | D20: ='Sch 3 - Expenses'!H16+'Sch 3 - Expenses'!H20+'Sch 3 - Expenses'!H27+'Sch 3 - Expenses'!H31+'Sch 3 - Expenses'!H34+'Sch 3 - Expenses'!H35+H30 -> 1.3462485e+09 | E20: ='Sch 3 - Expenses'!I16+'Sch 3 - Expenses'!I20+'Sch 3 - Expenses'!I27+'Sch 3 - Expenses'!I31+'Sch 3 - Expenses'!I34+'Sch 3 - Expenses'!I35 -> 0 | F20: ='Sch 3 - Expenses'!J16+'Sch 3 - Expenses'!J20+'Sch 3 - Expenses'!J27+'Sch 3 - Expenses'!J31+'Sch 3 - Expenses'!J34+'Sch 3 - Expenses'!J35 -> 2264245.6
A21: Revised Total O&M Expenses | C21: =SUM(C15:C19)-C20 -> 1.4526028e+09 | D21: =SUM(D15:D19)-D20 -> 7.0268834e+08 | E21: =SUM(E15:E19)-E20 -> 0 | F21: =SUM(F15:F19)-F20 -> 7.4991136e+08
A23: One-Eighth Revised Total O&M Expenses
A24: Allowable Functionalized Cash Working Capital | C24: =C21/8 -> 1.8157535e+08 | D24: =D21/8 -> 87836042 | E24: =E21/8 -> 0 | F24: =F21/8 -> 93738920
B30: Account 557 Disallowed Amounts | H30: =G30 -> 0

Sheet Sch 2 -Rate of Return
A1: BONNEVILLE POWER ADMINISTRATION
A2: RESIDENTIAL PURCHASE AND SALE AGREEMENT
A3: 2008 Average System Cost Methodology (ASCM) Appendix 1
A5: TOC | C5: UTILITY NAME: | D5: ='Sch 1- Rate Base '!$E$5 -> PacifiCorp | H5: BPA Reviews:
A6: é | C6: End of Year Report Period: | D6: ='Sch 1- Rate Base '!$E$6 -> 2023 | H6: ='Sch 1- Rate Base '!I6
C7: ASC Filing Date: | D7: ='Sch 1- Rate Base '!$E$7 -> 45446 | H7: ='Sch 1- Rate Base '!I7
A8: Schedule 2: Capital Structure and Rate of Return (b)
D10: SUMMARY (for use by ASC Forecast Model)
D11: Single-Jurisdiction Investor-Owned Utility Return Calculation: | E11: =E35 -> 0
D12: Multi-Jurisdiction Investor-Owned Utility Return Calculation: | E12: =E90 -> 0.084185221
D13: Consumer-Owned Utility Return Calculation: | E13: =E118 -> 0
D14: Rate of Return : | E14: =SUM(E11:E13) -> 0.084185221
A16: Single-Jurisdiction Investor-Owned Utility Return Calculation
A18: Step 1: Weighted Cost of Capital from Most Recent State Commission Rate Order
A19: Note: Multi-jurisdictional utilities must begin on Page 2
A20: Publicly-owned utilities must begin on Page 4
B22: Capitalization Structure | D22: Effective Cost
A23: Component | B23: Amount | C23: Percent | D23: Embedded | E23: Weighted
A24: Debt | C24: =IF($B$27=0,0,B24/$B$27) -> 0 | E24: =ROUNDUP(D24*C24,5) -> 0
A25: Preferred Equity | C25: =IF($B$27=0,0,B25/$B$27) -> 0 | E25: =ROUNDUP(D25*C25,5) -> 0
A26: Common Equity | C26: =IF($B$27=0,0,B26/$B$27) -> 0 | E26: =ROUNDUP(D26*C26,5) -> 0
A27: Weighted Cost of Capital | B27: =SUM(B24:B26) -> 0 | C27: =IF($B$27=0,0,B27/$B$27) -> 0 | E27: =SUM(E24:E26) -> 0
A29: Step 2: Gross Up Equity Return for Federal Income Taxes
A31: Federal Income Tax Rate (21% during Base Period) | D31: 0.21
A32: Federal Income Tax Factor | E32: =(E27-(E24))*(D31/(1-D31)) -> 0
A33: {(ROR – (Embedded Cost of Debt * (Debt / (Total Capital))} * {(Federal Tax Rate / (1- Federal Tax Rate)}
A35: Federal Income Tax Adjusted Weighted Cost of Capital | E35: =E27+E32 -> 0
A36: (Weighted Cost of Capital Plus Federal Income Tax Factor)
A38: Step 3: Calculate Return on Rate Base
E39: Total | F39: Production | G39: Transmission | H39: Other
A40: Total Rate Base from Schedule 1 | E40: ='Sch 1- Rate Base '!G161 -> 9.9275815e+09 | F40: ='Sch 1- Rate Base '!H161 -> 4.0588988e+09 | G40: ='Sch 1- Rate Base '!I161 -> 23892856 | H40: ='Sch 1- Rate Base '!J161 -> 5.8437804e+09
A41: Federal Income Tax Adjusted Weighted Cost of Capital | E41: =$E$35 -> 0 | F41: =$E$35 -> 0 | G41: =$E$35 -> 0 | H41: =$E$35 -> 0
A42: Federal Income Tax Adjusted Return on Rate Base | E42: =E41*E40 -> 0 | F42: =F41*F40 -> 0 | G42: =G41*G40 -> 0 | H42: =H41*H40 -> 0
A43: (Total Rate Base * Federal Income Tax Adjusted Weighted Cost of Capital)
A47: Multi-Jurisdiction Investor-Owned Utility Return Calculation
A48: Step 1:
A49: Weighted Cost of Capital from Most Recent State Commission Rate Order in OREGON (UE-399, ORDER NO 22-491):
B51: Capitalization Structure | D51: Effective Cost | F51: Jurisdictional | G51: Effective Cost -
A52: Component | B52: Amount | C52: Percent | D52: Embedded | E52: Weighted | F52: Allocation | G52: Weighted State Allocation
A53: Debt | C53: 0.4999 | D53: 0.04717 | E53: 0.023580283 | F53: =IF(B75=0,"0",B75/$B$78) -> 0.66293362 | G53: =E53*$F$53 -> 0.015632162 | H53: =C53*$F$53 -> 0.33140051
...

Sheet Sch 3 - Expenses
A1: BONNEVILLE POWER ADMINISTRATION
A2: RESIDENTIAL PURCHASE AND SALE AGREEMENT
A3: 2008 Average System Cost Methodology (ASCM) Appendix 1
A5: TOC | D5: UTILITY NAME: | E5: ='Sch 1- Rate Base '!$E$5 -> PacifiCorp | I5: BPA Reviews:
A6: é | D6: End of Year Report Period: | E6: ='Sch 1- Rate Base '!$E$6 -> 2023 | I6: ='Sch 1- Rate Base '!I6
D7: ASC Filing Date: | E7: ='Sch 1- Rate Base '!$E$7 -> 45446 | I7: ='Sch 1- Rate Base '!I7
A9: Schedule 3: Expenses
A11: Account Description | C11: Form 1 | E11: Functionalization | G11: Total | H11: Production | I11: Transmission | J11: Distribution/ Other | L11: Production | M11: Transmission | N11: Distribution/ Other
C12: Page | D12: Account | E12: Method
C13: Number | D13: Numbers | E13: Default | F13: Optional
A14: Power Production Expenses:
B15: Steam Power Generation
B16: Steam Power - Fuel | C16: 320-323 | D16: 501 | E16: PROD | G16: =VLOOKUP(D16,'Base Expense Data'!$D$6:$I$86,3,FALSE) -> 2.5238886e+08 | H16: =VLOOKUP($E16,Ratio,2,FALSE)*$G16 -> 2.5238886e+08 | I16: =VLOOKUP($E16,Ratio,3,FALSE)*$G16 -> 0 | J16: =VLOOKUP($E16,Ratio,4,FALSE)*$G16 -> 0
B17: Steam Power - Operations (Excluding 501 - Fuel) | C17: 320-323 | D17: 500-509 | E17: PROD | G17: =VLOOKUP(D17,'Base Expense Data'!$D$6:$I$86,3,FALSE) -> 54995738 | H17: =VLOOKUP($E17,Ratio,2,FALSE)*$G17 -> 54995738 | I17: =VLOOKUP($E17,Ratio,3,FALSE)*$G17 -> 0 | J17: =VLOOKUP($E17,Ratio,4,FALSE)*$G17 -> 0
B18: Steam Power - Maintenance | C18: 320-323 | D18: 510-515 | E18: PROD | G18: =VLOOKUP(D18,'Base Expense Data'!$D$6:$I$86,3,FALSE) -> 67931641 | H18: =VLOOKUP($E18,Ratio,2,FALSE)*$G18 -> 67931641 | I18: =VLOOKUP($E18,Ratio,3,FALSE)*$G18 -> 0 | J18: =VLOOKUP($E18,Ratio,4,FALSE)*$G18 -> 0
B19: Nuclear Power Generation
B20: Nuclear - Fuel | C20: 320-323 | D20: 518 | E20: PROD | G20: =VLOOKUP(D20,'Base Expense Data'!$D$6:$I$86,3,FALSE) -> 0 | H20: =VLOOKUP($E20,Ratio,2,FALSE)*$G20 -> 0 | I20: =VLOOKUP($E20,Ratio,3,FALSE)*$G20 -> 0 | J20: =VLOOKUP($E20,Ratio,4,FALSE)*$G20 -> 0
B21: Nuclear - Operation ( Excluding 518 - Fuel) | C21: 320-323 | D21: 517-525 | E21: PROD | G21: =VLOOKUP(D21,'Base Expense Data'!$D$6:$I$86,3,FALSE) -> 0 | H21: =VLOOKUP($E21,Ratio,2,FALSE)*$G21 -> 0 | I21: =VLOOKUP($E21,Ratio,3,FALSE)*$G21 -> 0 | J21: =VLOOKUP($E21,Ratio,4,FALSE)*$G21 -> 0
B22: Nuclear - Maintenance | C22: 320-323 | D22: 528-532 | E22: PROD | G22: =VLOOKUP(D22,'Base Expense Data'!$D$6:$I$86,3,FALSE) -> 0 | H22: =VLOOKUP($E22,Ratio,2,FALSE)*$G22 -> 0 | I22: =VLOOKUP($E22,Ratio,3,FALSE)*$G22 -> 0 | J22: =VLOOKUP($E22,Ratio,4,FALSE)*$G22 -> 0
B23: Hydraulic Power Generation
B24: Hydraulic - Operation | C24: 320-323 | D24: 535-540.1 | E24: PROD | G24: =VLOOKUP(D24,'Base Expense Data'!$D$6:$I$86,3,FALSE) -> 19964758 | H24: =VLOOKUP($E24,Ratio,2,FALSE)*$G24 -> 19964758 | I24: =VLOOKUP($E24,Ratio,3,FALSE)*$G24 -> 0 | J24: =VLOOKUP($E24,Ratio,4,FALSE)*$G24 -> 0
B25: Hydraulic - Maintenance | C25: 320-323 | D25: 541-545.1 | E25: PROD | G25: =VLOOKUP(D25,'Base Expense Data'!$D$6:$I$86,3,FALSE) -> 3239558.2 | H25: =VLOOKUP($E25,Ratio,2,FALSE)*$G25 -> 3239558.2 | I25: =VLOOKUP($E25,Ratio,3,FALSE)*$G25 -> 0 | J25: =VLOOKUP($E25,Ratio,4,FALSE)*$G25 -> 0
B26: Other Power Generation
B27: Other Power - Fuel | C27: 320-323 | D27: 547 | E27: PROD | G27: =VLOOKUP(D27,'Base Expense Data'!$D$6:$I$86,3,FALSE) -> 1.8915109e+08 | H27: =VLOOKUP($E27,Ratio,2,FALSE)*$G27 -> 1.8915109e+08 | I27: =VLOOKUP($E27,Ratio,3,FALSE)*$G27 -> 0 | J27: =VLOOKUP($E27,Ratio,4,FALSE)*$G27 -> 0
B28: Other Power - Operations (Excluding 547 - Fuel) | C28: 320-323 | D28: 546-550.1 | E28: PROD | G28: =VLOOKUP(D28,'Base Expense Data'!$D$6:$I$86,3,FALSE) -> 21057680 | H28: =VLOOKUP($E28,Ratio,2,FALSE)*$G28 -> 21057680 | I28: =VLOOKUP($E28,Ratio,3,FALSE)*$G28 -> 0 | J28: =VLOOKUP($E28,Ratio,4,FALSE)*$G28 -> 0
B29: Other Power - Maintenance | C29: 320-323 | D29: 551-554.1 | E29: PROD | G29: =VLOOKUP(D29,'Base Expense Data'!$D$6:$I$86,3,FALSE) -> 15505412 | H29: =VLOOKUP($E29,Ratio,2,FALSE)*$G29 -> 15505412 | I29: =VLOOKUP($E29,Ratio,3,FALSE)*$G29 -> 0 | J29: =VLOOKUP($E29,Ratio,4,FALSE)*$G29 -> 0
B30: Other Power Supply Expenses
B31: Purchased Power (Excluding REP Reversal) | C31: 320-323 | D31: 555 | E31: PROD | G31: ='3-YEAR PP & OSS Worksheet'!D21 -> 8.827129e+08 | H31: =VLOOKUP($E31,Ratio,2,FALSE)*$G31 -> 8.827129e+08 | I31: =VLOOKUP($E31,Ratio,3,FALSE)*$G31 -> 0 | J31: =VLOOKUP($E31,Ratio,4,FALSE)*$G31 -> 0
B32: System Control and Load Dispatching | C32: 320-323 | D32: 556 | E32: PROD | G32: =VLOOKUP(D32,'Base Expense Data'!$D$6:$I$86,3,FALSE) -> 1404247.6 | H32: =VLOOKUP($E32,Ratio,2,FALSE)*$G32 -> 1404247.6 | I32: =VLOOKUP($E32,Ratio,3,FALSE)*$G32 -> 0 | J32: =VLOOKUP($E32,Ratio,4,FALSE)*$G32 -> 0
B33: Other Expenses | C33: 320-323 | D33: 557 | E33: PROD | G33: =VLOOKUP(D33,'Base Expense Data'!$D$6:$I$86,3,FALSE) -> 27307851 | H33: =VLOOKUP($E33,Ratio,2,FALSE)*$G33 -> 27307851 | I33: =VLOOKUP($E33,Ratio,3,FALSE)*$G33 -> 0 | J33: =VLOOKUP($E33,Ratio,4,FALSE)*$G33 -> 0
B34: BPA REP Reversal | C34: 326-327 | D34: 555 | E34: PROD | G34: 0 | H34: =VLOOKUP($E34,Ratio,2,FALSE)*$G34 -> 0 | I34: =VLOOKUP($E34,Ratio,3,FALSE)*$G34 -> 0 | J34: =VLOOKUP($E34,Ratio,4,FALSE)*$G34 -> 0
B35: Public Purpose Charges (h) | E35: DIRECT | F35: DIST | G35: =VLOOKUP(B35,'Base Expense Data'!$B$6:$I$86,5,FALSE) -> 24259861 | H35: =IF($E35="DIRECT",$L35,VLOOKUP($E35,Ratio,2,FALSE)*$G35) -> 21995615 | I35: =IF($E35="DIRECT",$M35,VLOOKUP($E35,Ratio,3,FALSE)*$G35) -> 0 | J35: =IF($E35="DIRECT",$N35,VLOOKUP($E35,Ratio,4,FALSE)*$G35) -> 2264245.6 | L35: =G35-N35 -> 21995615 | M35: 0 | N35: ='PPC Charge'!S341 -> 2264245.6
A36: Total Production Expense | G36: =SUM(G16:G35) -> 1.5599196e+09 | H36: =SUM(H16:H35) -> 1.5576553e+09 | I36: =SUM(I16:I35) -> 0 | J36: =SUM(J16:J35) -> 2264245.6
A38: Transmission Expenses: (i)
B39: Transmission of Electricity by Others (Wheeling) | C39: 320-323 | D39: 565 | E39: prod | G39: =VLOOKUP(D39,'Base Expense Data'!$D$6:$I$86,3,FALSE) -> 65955212 | H39: =VLOOKUP($E39,Ratio,2,FALSE)*$G39 -> 65955212 | I39: =VLOOKUP($E39,Ratio,3,FALSE)*$G39 -> 0 | J39: =VLOOKUP($E39,Ratio,4,FALSE)*$G39 -> 0
B40: Total Operations less Wheeling | C40: 320-323 | D40: 560-567.1 | E40: TRANS | G40: =VLOOKUP(D40,'Base Expense Data'!$D$6:$I$86,3,FALSE) -> 17122104 | H40: =VLOOKUP($E40,Ratio,2,FALSE)*$G40 -> 0 | I40: =VLOOKUP($E40,Ratio,3,FALSE)*$G40 -> 0 | J40: =VLOOKUP($E40,Ratio,4,FALSE)*$G40 -> 17122104
B41: Total Maintenance | C41: 320-323 | D41: 568-574 | E41: TRANS | G41: =VLOOKUP(D41,'Base Expense Data'!$D$6:$I$86,3,FALSE) -> 20375940 | H41: =VLOOKUP($E41,Ratio,2,FALSE)*$G41 -> 0 | I41: =VLOOKUP($E41,Ratio,3,FALSE)*$G41 -> 0 | J41: =VLOOKUP($E41,Ratio,4,FALSE)*$G41 -> 20375940
A42: Total Transmission Expense | G42: =SUM(G39:G41) -> 1.0345326e+08 | H42: =SUM(H39:H41) -> 65955212 | I42: =SUM(I39:I41) -> 0 | J42: =SUM(J39:J41) -> 37498044
A44: Distribution Expense:
B45: Total Operations | C45: 320-323 | D45: 580-589 | E45: DIST | G45: =VLOOKUP(D45,'Base Expense Data'!$D$6:$I$86,3,FALSE) -> 34234231 | H45: =VLOOKUP($E45,Ratio,2,FALSE)*$G45 -> 0 | I45: =VLOOKUP($E45,Ratio,3,FALSE)*$G45 -> 0 | J45: =VLOOKUP($E45,Ratio,4,FALSE)*$G45 -> 34234231
...

Sheet Sch 3A - Taxes
A1: BONNEVILLE POWER ADMINISTRATION
A2: RESIDENTIAL PURCHASE AND SALE AGREEMENT
A3: 2008 Average System Cost Methodology (ASCM) Appendix 1
A5: TOC | D5: UTILITY NAME: | E5: ='Sch 1- Rate Base '!$E$5 -> PacifiCorp | I5: BPA Reviews:
D6: End of Year Report Period: | E6: ='Sch 1- Rate Base '!$E$6 -> 2023 | I6: ='Sch 1- Rate Base '!I6
D7: ASC Filing Date: | E7: ='Sch 1- Rate Base '!$E$7 -> 45446 | I7: ='Sch 1- Rate Base '!I7
A9: Schedule 3A Items: Taxes (Including Income Taxes)
A11: Account Description | C11: FERC Form 1 | E11: Funct. Method | F11: Total | G11: Production | H11: Transmission | I11: Distribution/ Other
C12: Page | D12: Account
C13: Number | D13: Numbers
A15: FEDERAL
B16: Income Tax (Included on Schedule 2) | C16: 262-263 | D16: 409.1 | E16: DIST | F16: 0 | G16: =VLOOKUP($E16,Ratio,2,FALSE)*$F16 -> 0 | H16: =VLOOKUP($E16,Ratio,3,FALSE)*$F16 -> 0 | I16: =VLOOKUP($E16,Ratio,4,FALSE)*$F16 -> 0
B17: Employment Tax | C17: 262-263 | D17: 408.1 | E17: LABOR | F17: ='Pg 262 - Taxes Accrued Prepaid '!K162 -> 19019048 | G17: =VLOOKUP($E17,Ratio,2,FALSE)*$F17 -> 7928154.9 | H17: =VLOOKUP($E17,Ratio,3,FALSE)*$F17 -> 0 | I17: =VLOOKUP($E17,Ratio,4,FALSE)*$F17 -> 11090893
B18: Other Federal Taxes | C18: 262-263 | D18: 408.1 | E18: DIST | F18: 0 | G18: =VLOOKUP($E18,Ratio,2,FALSE)*$F18 -> 0 | H18: =VLOOKUP($E18,Ratio,3,FALSE)*$F18 -> 0 | I18: =VLOOKUP($E18,Ratio,4,FALSE)*$F18 -> 0
A19: TOTAL FEDERAL | F19: =SUM(F16:F18) -> 19019048 | G19: =SUM(G16:G18) -> 7928154.9 | H19: =SUM(H16:H18) -> 0 | I19: =SUM(I16:I18) -> 11090893
A21: STATE AND OTHER
B22: Property | C22: 262-263 | D22: 408.1 | E22: PTDG | F22: ='Pg 262 - Taxes Accrued Prepaid '!K165 -> 62757269 | G22: =VLOOKUP($E22,Ratio,2,FALSE)*$F22 -> 27262668 | H22: =VLOOKUP($E22,Ratio,3,FALSE)*$F22 -> 0 | I22: =VLOOKUP($E22,Ratio,4,FALSE)*$F22 -> 35500882
B23: Unemployment | C23: 262-263 | D23: 408.1 | E23: LABOR | F23: ='Pg 262 - Taxes Accrued Prepaid '!K166 -> 1364755 | G23: =VLOOKUP($E23,Ratio,2,FALSE)*$F23 -> 568902.75 | H23: =VLOOKUP($E23,Ratio,3,FALSE)*$F23 -> 0 | I23: =VLOOKUP($E23,Ratio,4,FALSE)*$F23 -> 795852.22
B24: State Income, B&O, et. | C24: 262-263 | D24: 409.1 | E24: DIST | F24: ='Pg 262 - Taxes Accrued Prepaid '!K167 -> 1066334.6 | G24: =VLOOKUP($E24,Ratio,2,FALSE)*$F24 -> 0 | H24: =VLOOKUP($E24,Ratio,3,FALSE)*$F24 -> 0 | I24: =VLOOKUP($E24,Ratio,4,FALSE)*$F24 -> 1066334.6
B25: Franchise Fees | C25: 262-263 | D25: 408.1 | E25: DIST | F25: ='Pg 262 - Taxes Accrued Prepaid '!K168 -> 33981773 | G25: =VLOOKUP($E25,Ratio,2,FALSE)*$F25 -> 0 | H25: =VLOOKUP($E25,Ratio,3,FALSE)*$F25 -> 0 | I25: =VLOOKUP($E25,Ratio,4,FALSE)*$F25 -> 33981773
B26: Regulatory Commission | C26: 262-263 | D26: 408.1 | E26: DIST | F26: ='Pg 262 - Taxes Accrued Prepaid '!K169 -> 7839988.4 | G26: =VLOOKUP($E26,Ratio,2,FALSE)*$F26 -> 0 | H26: =VLOOKUP($E26,Ratio,3,FALSE)*$F26 -> 0 | I26: =VLOOKUP($E26,Ratio,4,FALSE)*$F26 -> 7839988.4
B27: City/Municipal | C27: 262-263 | D27: 408.1 | E27: DIST | F27: ='Pg 262 - Taxes Accrued Prepaid '!K170 -> 6706015.4 | G27: =VLOOKUP($E27,Ratio,2,FALSE)*$F27 -> 0 | H27: =VLOOKUP($E27,Ratio,3,FALSE)*$F27 -> 0 | I27: =VLOOKUP($E27,Ratio,4,FALSE)*$F27 -> 6706015.4
B28: Other | C28: 262-263 | D28: 408.1 | E28: DIST | F28: ='Pg 262 - Taxes Accrued Prepaid '!K171 -> 5067613.3 | G28: =VLOOKUP($E28,Ratio,2,FALSE)*$F28 -> 0 | H28: =VLOOKUP($E28,Ratio,3,FALSE)*$F28 -> 0 | I28: =VLOOKUP($E28,Ratio,4,FALSE)*$F28 -> 5067613.3
A29: TOTAL STATE AND OTHER TAXES | F29: =SUM(F22:F28) -> 1.1878375e+08 | G29: =SUM(G22:G28) -> 27831570 | H29: =SUM(H22:H28) -> 0 | I29: =SUM(I22:I28) -> 90958459
A31: TOTAL TAXES | F31: =F29+F19 -> 1.378028e+08 | G31: =G29+G19 -> 35759725 | H31: =H29+H19 -> 0 | I31: =I29+I19 -> 1.0204935e+08

Sheet Sch 3B - Other Items
A1: BONNEVILLE POWER ADMINISTRATION
A2: RESIDENTIAL PURCHASE AND SALE AGREEMENT
A3: 2008 Average System Cost Methodology (ASCM) Appendix 1
A5: TOC | D5: UTILITY NAME: | E5: ='Sch 1- Rate Base '!$E$5 -> PacifiCorp | I5: BPA Reviews:
D6: End of Year Report Period: | E6: ='Sch 1- Rate Base '!$E$6 -> 2023 | I6: ='Sch 1- Rate Base '!I6
D7: ASC Filing Date: | E7: ='Sch 1- Rate Base '!$E$7 -> 45446 | I7: ='Sch 1- Rate Base '!I7
A9: Schedule 3B Other Included Items
A11: Account Description | C11: FERC Form 1 | E11: Functionalization | G11: Total | H11: Production | I11: Transmission | J11: Distribution/ Other | L11: Production | M11: Transmission | N11: Distribution/ Other
C12: Page | D12: Account | E12: Method
C13: Number | D13: Numbers | E13: Default | F13: Optional
A14: Other Included Items:
B15: Regulatory Credits | C15: 114-117 | D15: 407.4 | E15: DIRECT | F15: PROD | G15: 0 | H15: =IF($E15="DIRECT",$L15,VLOOKUP($E15,Ratio,2,FALSE)*$G15) -> 0 | I15: =IF($E15="DIRECT",$M15,VLOOKUP($E15,Ratio,3,FALSE)*$G15) -> 0 | J15: =IF($E15="DIRECT",$N15,VLOOKUP($E15,Ratio,4,FALSE)*$G15) -> 0 | L15: =G15 -> 0 | M15: 0 | N15: 0
B16: (Less) Regulatory Debits | C16: 114-117 | D16: 407.3 | E16: DIRECT | F16: DIST | G16: =VLOOKUP(D16,'Pg 114 - Income Statement'!$C$90:$F$96,4,FALSE) -> 5441242.9 | H16: =IF($E16="DIRECT",$L16,VLOOKUP($E16,Ratio,2,FALSE)*$G16) -> 739917.13 | I16: =IF($E16="DIRECT",$M16,VLOOKUP($E16,Ratio,3,FALSE)*$G16) -> 0 | J16: =IF($E16="DIRECT",$N16,VLOOKUP($E16,Ratio,4,FALSE)*$G16) -> 4701325.8 | L16: ='407.3 - Reg Debits_2023'!L201 -> 739917.13 | M16: ='407.3 - Reg Debits_2023'!M201 -> 0 | N16: ='407.3 - Reg Debits_2023'!N201 -> 4701325.8
B17: Gain from Disposition of Utility Plant | C17: 114-117 | D17: 411.6 | E17: DIRECT | F17: PROD | G17: =VLOOKUP(D17,'Pg 114 - Income Statement'!$C$90:$F$96,4,FALSE) -> 0 | H17: =IF($E17="DIRECT",$L17,VLOOKUP($E17,Ratio,2,FALSE)*$G17) -> 0 | I17: =IF($E17="DIRECT",$M17,VLOOKUP($E17,Ratio,3,FALSE)*$G17) -> 0 | J17: =IF($E17="DIRECT",$N17,VLOOKUP($E17,Ratio,4,FALSE)*$G17) -> 0
B18: (Less) Loss from Disposition of Utility Plant | C18: 114-117 | D18: 411.7 | E18: DIRECT | F18: DIST | G18: =VLOOKUP(D18,'Pg 114 - Income Statement'!$C$90:$F$96,4,FALSE) -> 0 | H18: =IF($E18="DIRECT",$L18,VLOOKUP($E18,Ratio,2,FALSE)*$G18) -> 0 | I18: =IF($E18="DIRECT",$M18,VLOOKUP($E18,Ratio,3,FALSE)*$G18) -> 0 | J18: =IF($E18="DIRECT",$N18,VLOOKUP($E18,Ratio,4,FALSE)*$G18) -> 0
B19: Gain from Disposition of Allowances | C19: 114-117 | D19: 411.8 | E19: PROD | G19: =VLOOKUP(D19,'Pg 114 - Income Statement'!$C$90:$F$96,4,FALSE) -> 36.514148 | H19: =VLOOKUP($E19,Ratio,2,FALSE)*$G19 -> 36.514148 | I19: =VLOOKUP($E19,Ratio,3,FALSE)*$G19 -> 0 | J19: =VLOOKUP($E19,Ratio,4,FALSE)*$G19 -> 0
B20: (Less) Loss from Disposition of Allowances | C20: 114-117 | D20: 411.9 | E20: PROD | G20: =VLOOKUP(D20,'Pg 114 - Income Statement'!$C$90:$F$96,4,FALSE) -> 0 | H20: =VLOOKUP($E20,Ratio,2,FALSE)*$G20 -> 0 | I20: =VLOOKUP($E20,Ratio,3,FALSE)*$G20 -> 0 | J20: =VLOOKUP($E20,Ratio,4,FALSE)*$G20 -> 0
B21: Miscellaneous Nonoperating Income | C21: 114-117 | D21: 421 | E21: DIRECT | F21: PROD | G21: =ROUND(VLOOKUP(D21,'Pg 114 - Income Statement'!$C$90:$F$96,4,FALSE),0) -> 989991 | H21: =IF($E21="DIRECT",$L21,VLOOKUP($E21,Ratio,2,FALSE)*$G21) -> 1739 | I21: =IF($E21="DIRECT",$M21,VLOOKUP($E21,Ratio,3,FALSE)*$G21) -> 0 | J21: =IF($E21="DIRECT",$N21,VLOOKUP($E21,Ratio,4,FALSE)*$G21) -> 988252 | L21: =ROUND(-'421 - Misc Income_2023'!Q60,0) -> 1739 | M21: =-'421 - Misc Income_2023'!R60 -> 0 | N21: =ROUNDDOWN(-'421 - Misc Income_2023'!S60,0) -> 988252
A22: Total Other Included Items | G22: =G15-G16+G17-G18+G19-G20+G21 -> -4451215.4 | H22: =H15-H16+H17-H18+H19-H20+H21 -> -738141.62 | I22: =I15-I16+I17-I18+I19-I20+I21 -> 0 | J22: =J15-J16+J17-J18+J19-J20+J21 -> -3713073.8
A24: Sales for Resale:
B25: Sales for Resale | C25: 310 | D25: 447 | E25: PROD | G25: ='3-YEAR PP & OSS Worksheet'!D36 -> 79486841 | H25: =VLOOKUP($E25,Ratio,2,FALSE)*$G25 -> 79486841 | I25: =VLOOKUP($E25,Ratio,3,FALSE)*$G25 -> 0 | J25: =VLOOKUP($E25,Ratio,4,FALSE)*$G25 -> 0
A26: Total Sales for Resale | G26: =SUM(G25) -> 79486841 | H26: =SUM(H25) -> 79486841 | I26: =SUM(I25) -> 0 | J26: =SUM(J25) -> 0
A28: Other Revenues:
B29: Forfeited Discounts | C29: 300 | D29: 450 | E29: DIST | G29: =SUMIF('Pg 300 - Electric Operating Rev'!$F$40:$F$46,D29,'Pg 300 - Electric Operating Rev'!$E$40:$E$46) -> 8515319.7 | H29: =VLOOKUP($E29,Ratio,2,FALSE)*$G29 -> 0 | I29: =VLOOKUP($E29,Ratio,3,FALSE)*$G29 -> 0 | J29: =VLOOKUP($E29,Ratio,4,FALSE)*$G29 -> 8515319.7
B30: Miscellaneous Service Revenues | C30: 300 | D30: 451 | E30: DIST | G30: =SUMIF('Pg 300 - Electric Operating Rev'!$F$40:$F$46,D30,'Pg 300 - Electric Operating Rev'!$E$40:$E$46) -> 1980493.1 | H30: =VLOOKUP($E30,Ratio,2,FALSE)*$G30 -> 0 | I30: =VLOOKUP($E30,Ratio,3,FALSE)*$G30 -> 0 | J30: =VLOOKUP($E30,Ratio,4,FALSE)*$G30 -> 1980493.1
B31: Sales of Water and Water Power | C31: 300 | D31: 453 | E31: PROD | G31: =SUMIF('Pg 300 - Electric Operating Rev'!$F$40:$F$46,D31,'Pg 300 - Electric Operating Rev'!$E$40:$E$46) -> 0 | H31: =VLOOKUP($E31,Ratio,2,FALSE)*$G31 -> 0 | I31: =VLOOKUP($E31,Ratio,3,FALSE)*$G31 -> 0 | J31: =VLOOKUP($E31,Ratio,4,FALSE)*$G31 -> 0
B32: Rent from Electric Property | C32: 300 | D32: 454 | E32: TD | G32: =SUMIF('Pg 300 - Electric Operating Rev'!$F$40:$F$46,D32,'Pg 300 - Electric Operating Rev'!$E$40:$E$46) -> 9825273.8 | H32: =VLOOKUP($E32,Ratio,2,FALSE)*$G32 -> 0 | I32: =VLOOKUP($E32,Ratio,3,FALSE)*$G32 -> 0 | J32: =VLOOKUP($E32,Ratio,4,FALSE)*$G32 -> 9825273.8
B33: Interdepartmental Rents | C33: 300 | D33: 455 | E33: DIST | G33: =SUMIF('Pg 300 - Electric Operating Rev'!$F$40:$F$46,D33,'Pg 300 - Electric Operating Rev'!$E$40:$E$46) -> 0 | H33: =VLOOKUP($E33,Ratio,2,FALSE)*$G33 -> 0 | I33: =VLOOKUP($E33,Ratio,3,FALSE)*$G33 -> 0 | J33: =VLOOKUP($E33,Ratio,4,FALSE)*$G33 -> 0
B34: Other Electric Revenues | C34: 300 | D34: 456 | E34: DIRECT | F34: PROD | G34: =SUMIF('Pg 300 - Electric Operating Rev'!$F$40:$F$46,D34,'Pg 300 - Electric Operating Rev'!$E$40:$E$46) -> 17726557 | H34: =IF($E34="DIRECT",$L34,VLOOKUP($E34,Ratio,2,FALSE)*$G34) -> 16037719 | I34: =IF($E34="DIRECT",$M34,VLOOKUP($E34,Ratio,3,FALSE)*$G34) -> 0 | J34: =IF($E34="DIRECT",$N34,VLOOKUP($E34,Ratio,4,FALSE)*$G34) -> 1688838.7 | L34: =$G$34*'Pg 114 - Income Statement'!E115 -> 16037719 | M34: =0 -> 0 | N34: =$G$34*'Pg 114 - Income Statement'!G115+$G$34*'Pg 114 - Income Statement'!F115 -> 1688838.7
B35: Revenues from Transmission of Electricity of Others (i) | C35: 330 | D35: 456.1 | E35: TRANS | G35: =SUMIF('Pg 300 - Electric Operating Rev'!$F$40:$F$46,D35,'Pg 300 - Electric Operating Rev'!$E$40:$E$46) -> 63773432 | H35: =VLOOKUP($E35,Ratio,2,FALSE)*$G35 -> 0 | I35: =VLOOKUP($E35,Ratio,3,FALSE)*$G35 -> 0 | J35: =VLOOKUP($E35,Ratio,4,FALSE)*$G35 -> 63773432
A37: Total Other Revenues | G37: =SUM(G29:G36) -> 1.0182108e+08 | H37: =SUM(H29:H36) -> 16037719 | I37: =SUM(I29:I36) -> 0 | J37: =SUM(J29:J36) -> 85783357
A39: Total Other Included Items | G39: =+G37+G26+G22 -> 1.768567e+08 | H39: =+H37+H26+H22 -> 94786417 | I39: =+I37+I26+I22 -> 0 | J39: =+J37+J26+J22 -> 82070284
A40: (Total Disposition of Plant + Total Sales for Resale + Total Other Revenue)

Sheet Sch 4 - Average System Cost
A1: BONNEVILLE POWER ADMINISTRATION
A2: RESIDENTIAL PURCHASE AND SALE AGREEMENT
A3: 2008 Average System Cost Methodology (ASCM) Appendix 1
A5: TOC | B5: UTILITY NAME: | C5: ='Sch 1- Rate Base '!$E$5 -> PacifiCorp | F5: BPA Reviews:
B6: End of Year Report Period: | C6: ='Sch 1- Rate Base '!$E$6 -> 2023 | F6: ='Sch 1- Rate Base '!I6
B7: ASC Filing Date: | C7: ='Sch 1- Rate Base '!$E$7 -> 45446 | F7: ='Sch 1- Rate Base '!I7
A9: Schedule 4: Average System Cost
C12: Total | D12: Production | E12: Transmission | F12: Distribution/Other
A13: Total Operating Expenses | C13: ='Sch 3 - Expenses'!G100 -> 3.2295558e+09 | D13: ='Sch 3 - Expenses'!H100 -> 2.3064627e+09 | E13: ='Sch 3 - Expenses'!I100 -> 0 | F13: ='Sch 3 - Expenses'!J100 -> 9.2311835e+08
A14: (From Schedule 3)
A16: Federal Income Tax Adjusted Return on Rate Base | C16: =IF('Sch 2 -Rate of Return'!E42>0,'Sch 2 -Rate of Return'!E42,IF('Sch 2 -Rate of Return'!E98>0,'Sch 2 -Rate of Return'!E98,IF('Sch 2 -Rate of Return'!E125>0,'Sch 2 -Rate of Return'!E125,0))) -> 8.3575564e+08 | D16: =IF('Sch 2 -Rate of Return'!F42>0,'Sch 2 -Rate of Return'!F42,IF('Sch 2 -Rate of Return'!F98>0,'Sch 2 -Rate of Return'!F98,IF('Sch 2 -Rate of Return'!F125>0,'Sch 2 -Rate of Return'!F125,0))) -> 3.416993e+08 | E16: =IF('Sch 2 -Rate of Return'!G42>0,'Sch 2 -Rate of Return'!G42,IF('Sch 2 -Rate of Return'!G98>0,'Sch 2 -Rate of Return'!G98,IF('Sch 2 -Rate of Return'!G125>0,'Sch 2 -Rate of Return'!G125,0))) -> 2011425.3 | F16: =IF('Sch 2 -Rate of Return'!H42>0,'Sch 2 -Rate of Return'!H42,IF('Sch 2 -Rate of Return'!H98>0,'Sch 2 -Rate of Return'!H98,IF('Sch 2 -Rate of Return'!H125>0,'Sch 2 -Rate of Return'!H125,0))) -> 4.9195994e+08
A17: (From Schedule 2)
A19: State and Other Taxes | C19: ='Sch 3A - Taxes'!F31 -> 1.378028e+08 | D19: ='Sch 3A - Taxes'!G31 -> 35759725 | E19: ='Sch 3A - Taxes'!H31 -> 0 | F19: ='Sch 3A - Taxes'!I31 -> 1.0204935e+08
A20: (From Schedule 3a)
A22: Total Other Included Items | C22: ='Sch 3B - Other Items'!G39 -> 1.768567e+08 | D22: ='Sch 3B - Other Items'!H39 -> 94786417 | E22: ='Sch 3B - Other Items'!I39 -> 0 | F22: ='Sch 3B - Other Items'!J39 -> 82070284
A23: (From Schedule 3b)
A25: Total Cost | C25: =C13+C16+C19-C22 -> 4.0262576e+09 | D25: =D13+D16+D19-D22 -> 2.5891353e+09 | E25: =E13+E16+E19-E22 -> 2011425.3 | F25: =F13+F16+F19-F22 -> 1.4350574e+09
A26: (Total Operating Expenses + Return on Rate Base + State and Other Taxes - Total Other Included Items)
H29: Without NLSL | J29: With | K29: With NLSL and
H30: or Above-RHWM Load | I30: With NLSL | J30: Above-RHWM Load | K30: Above-RHWM Load
A31: Contract System Cost | H31: Removed | I31: Removed | J31: Removed | K31: Removed
A32: Production | D32: =D25 -> 2.5891353e+09 | F32: NLSL Fully Alloc. Cost ($/MWh) | H32: =$D$25 -> 2.5891353e+09 | I32: =$D$25 -> 2.5891353e+09 | J32: =$D$25 -> 2.5891353e+09 | K32: =$D$25 -> 2.5891353e+09
A33: Transmission | D33: =E25 -> 2011425.3 | H33: =$E$25 -> 2011425.3 | I33: =$E$25 -> 2011425.3 | J33: =$E$25 -> 2011425.3 | K33: =$E$25 -> 2011425.3
A34: (Less) New Large Single Load Costs (d) | D34: =F34*D40 -> 0 | E34: NLSL | F34: ='NLSL_Base_New-Calc'!AA43+'NLSL_Base_New-Calc'!AA46 -> 87.450004 | H34: 0 | I34: =F34*F45 -> 1.179133e+08 | J34: 0 | K34: =F34*K40 -> 1.179133e+08
A35: (Less) Above-RHWM Load Costs (d) | D35: =F35*D43 -> 0 | E35: Above-RHWM | F35: ='Above-RHWM_Base_Calc'!AA43+'Above-RHWM_Base_Calc'!AA46 -> 73.968283 | H35: 0 | I35: 0 | J35: =F35*F48 -> 0 | K35: =F35*K43 -> 0
A36: Total Contract System Cost | D36: =D32+D33-D34-D35 -> 2.5911468e+09 | H36: =H32+H33-H34-H35 -> 2.5911468e+09 | I36: =I32+I33-I34-I35 -> 2.4732335e+09 | J36: =J32+J33-J34-J35 -> 2.5911468e+09 | K36: =K32+K33-K34-K35 -> 2.4732335e+09
A38: Contract System Load (MWh)
A39: Total Retail Load | D39: ='pg 304 Summary'!C18 -> 21294859 | H39: =D39 -> 21294859 | I39: =D39 -> 21294859 | J39: =D39 -> 21294859 | K39: =D39 -> 21294859
A40: (Less) New Large Single Load | D40: =IF(F34>MIN(H46,J46),F45,0) -> 0 | H40: 0 | I40: =F45 -> 1348351 | J40: 0 | K40: =F45 -> 1348351
A41: Total Retail Load (Net of NLSL) (d) | D41: =D39-D40 -> 21294859 | F41: Distribution Losses (%) | H41: =H39-H40 -> 21294859 | I41: =I39-I40 -> 19946508 | J41: =J39-J40 -> 21294859 | K41: =K39-K40 -> 19946508
A42: Distribution Loss (f) (See Distribution Loss Schedule) | D42: =D39*F42 -> 1007459.8 | F42: ='Distribution Loss Calc'!D27 -> 0.04731 | H42: =H39*F42 -> 1007459.8 | I42: =I39*F42 -> 1007459.8 | J42: =J39*F42 -> 1007459.8 | K42: =K39*F42 -> 1007459.8
A43: (Less) Above-RHWM Load | D43: =IF(F35>MIN(H46,I46),F48,0) -> 0 | H43: 0 | I43: 0 | J43: =F48 -> 0 | K43: =F48 -> 0
A44: Total Contract System Load | D44: =D41+D42-D43 -> 22302319 | F44: NLSL MWH | H44: =H41+H42 -> 22302319 | I44: =I41+I42-I43 -> 20953968 | J44: =J41+J42-J43 -> 22302319 | K44: =K41+K42-K43 -> 20953968
F45: 1348351
A46: Average System Cost $/MWh | D46: =IF(D44=0,"$0",D36/D44) -> 116.18284 | H46: =IF(H44=0,"$0",H36/H44) -> 116.18284 | I46: =IF(I44=0,"$0",I36/I44) -> 118.03175 | J46: =IF(J44=0,"$0",J36/J44) -> 116.18284 | K46: =IF(K44=0,"$0",K36/K44) -> 118.03175
F47: Above-RHWM Load MWh

Sheet 3-YEAR PP & OSS Worksheet
A1: BONNEVILLE POWER ADMINISTRATION
A2: RESIDENTIAL PURCHASE AND SALE AGREEMENT
A3: 2008 Average System Cost Methodology (ASCM) Appendix 1
F4: UTILITY NAME: | G4: ='Sch 1- Rate Base '!$E$5 -> PacifiCorp | K4: BPA Reviews:
B5: TOC | F5: End of Year Report Period: | G5: ='Sch 1- Rate Base '!$E$6 -> 2023 | K5: ='Sch 1- Rate Base '!I6
F6: ASC Filing Date: | G6: ='Sch 1- Rate Base '!$E$7 -> 45446 | K6: ='Sch 1- Rate Base '!I7
A7: Purchased Power & Sales for Resale
B8: FERC Form 1 | D8: Purchased Power | G8: Purchased Power - Base Period Minus 1 | J8: Purchased Power - Base Period Minus 2
B9: Statistical | C9: Page
B10: Classification | C10: Number | D10: Settlement Total | E10: MWh Purchased | G10: Settlement Total | H10: MWh Purchased | J10: Settlement Total | K10: MWh Purchased
B11: RQ | C11: 326-327 | D11: =D41*$F$21 -> 0 | E11: =E41*$F$21 -> 0 | G11: =G41*$I$21 -> 0 | H11: =H41*$I$21 -> 0 | J11: =J41*$L$21 -> 0 | K11: =K41*$L$21 -> 0
B12: LF | C12: 326-327 | D12: =D42*$F$21 -> 454578.44 | E12: =E42*$F$21 -> 9599.9902 | G12: =G42*$I$21 -> 913525.79 | H12: =H42*$I$21 -> 17904.853 | J12: =J42*$L$21 -> 17735284 | K12: =K42*$L$21 -> 249447.32
B13: IF | C13: 326-327 | D13: =D43*$F$21 -> 12664733 | E13: =E43*$F$21 -> 0 | G13: =G43*$I$21 -> 0 | H13: =H43*$I$21 -> 0 | J13: =J43*$L$21 -> 0 | K13: =K43*$L$21 -> 0
B14: SF | C14: 326-327 | D14: =D44*$F$21 -> 5.7160161e+08 | E14: =E44*$F$21 -> 5019348.9 | G14: =G44*$I$21 -> 5.0748996e+08 | H14: =H44*$I$21 -> 5460472.7 | J14: =J44*$L$21 -> 1.9456899e+08 | K14: =K44*$L$21 -> 2784644.7
B15: LU | C15: 326-327 | D15: =D45*$F$21 -> 2.9662005e+08 | E15: =E45*$F$21 -> 5926438.8 | G15: =G45*$I$21 -> 3.3954371e+08 | H15: =H45*$I$21 -> 6499442.2 | J15: =J45*$L$21 -> 2.1720682e+08 | K15: =K45*$L$21 -> 4233088
B16: IU | C16: 326-327 | D16: =D46*$F$21 -> 10894003 | E16: =E46*$F$21 -> 91826.074 | G16: =G46*$I$21 -> 24779746 | H16: =H46*$I$21 -> 98633.886 | J16: =J46*$L$21 -> 16157745 | K16: =K46*$L$21 -> 67443.509
B17: OS | C17: 326-327 | D17: =D47*$F$21 -> 605133.22 | E17: =E47*$F$21 -> 0 | G17: =G47*$I$21 -> 413135.67 | H17: =H47*$I$21 -> 0 | J17: =J47*$L$21 -> -27358.068 | K17: =K47*$L$21 -> 0
B18: EX | C18: 326-327 | D18: =D48*$F$21 -> -11809290 | E18: =E48*$F$21 -> 0 | G18: =G48*$I$21 -> -1.8420144e+08 | H18: =H48*$I$21 -> 0 | J18: =J48*$L$21 -> -76330421 | K18: =K48*$L$21 -> 0
B19: NA | C19: 326-327 | D19: =D49*$F$21 -> 0 | E19: =E49*$F$21 -> 0 | G19: =G49*$I$21 -> 0 | H19: =H49*$I$21 -> 0 | J19: =J49*$L$21 -> 0 | K19: =K49*$L$21 -> 0
B20: AD | C20: 326-327 | D20: =D50*$F$21 -> 1682070.8 | E20: =E50*$F$21 -> 70920.658 | G20: =G50*$I$21 -> -1896042.2 | H20: =H50*$I$21 -> 4645.5136 | J20: =J50*$L$21 -> 1052801.6 | K20: =K50*$L$21 -> 3656.3236
B21: TOTAL | D21: =SUM(D11:D20) -> 8.827129e+08 | E21: =SUM(E11:E20) -> 11118134 | F21: =('B2-O&M'!G839+'B2-O&M'!H839+'B2-O&M'!I839)/'B2-O&M'!F839 -> 0.61479284 | G21: =SUM(G11:G20) -> 6.870426e+08 | H21: =SUM(H11:H20) -> 12081099 | I21: 0.64556887 | J21: =SUM(J11:J20) -> 3.7036385e+08 | K21: =SUM(K11:K20) -> 7338279.8 | L21: 0.45006446
B23: FERC Form 1 | D23: Sales for Resale | G23: Sales for Resale - Base Period Minus 1 | J23: Sales for Resale - Base Period Minus 2
B24: Statistical | C24: Page
B25: Classification | C25: Number | D25: Settlement Total | E25: MWh Sold | G25: Settlement Total | H25: MWh Sold | J25: Settlement Total | K25: MWh Sold
B26: RQ | C26: 310-311 | D26: =D56*$F$36 -> 5888933.4 | E26: =E56*$F$36 -> 113303.78 | G26: =G56*$I$36 -> 5185165.4 | H26: =H56*$I$36 -> 104946.57 | J26: =J56*$L$36 -> 4994007.4 | K26: =K56*$L$36 -> 105140.99
B27: LF | C27: 310-311 | D27: =D57*$F$36 -> 3640370.7 | E27: =E57*$F$36 -> 122914.77 | G27: =G57*$I$36 -> 3779447.4 | H27: =H57*$I$36 -> 131380.8 | J27: =J57*$L$36 -> 3387549.7 | K27: =K57*$L$36 -> 129065.65
B28: IF | C28: 310-311 | D28: =D58*$F$36 -> 3976220.3 | E28: =E58*$F$36 -> 113360.06 | G28: =G58*$I$36 -> 507598.9 | H28: =H58*$I$36 -> 22175.997 | J28: =J58*$L$36 -> 5962.6889 | K28: =K58*$L$36 -> 101.81028
B29: SF | C29: 310-311 | D29: =D59*$F$36 -> 59445662 | E29: =E59*$F$36 -> 739446.41 | G29: =G59*$I$36 -> 1.3091547e+08 | H29: =H59*$I$36 -> 2018823.7 | J29: =J59*$L$36 -> 85082848 | K29: =K59*$L$36 -> 2290339.2
B30: LU | C30: 310-311 | D30: =D60*$F$36 -> 0 | E30: =E60*$F$36 -> 0 | G30: =G60*$I$36 -> 0 | H30: =H60*$I$36 -> 0 | J30: =J60*$L$36 -> 0 | K30: =K60*$L$36 -> 0
B31: IU | C31: 310-311 | D31: =D61*$F$36 -> 0 | E31: =E61*$F$36 -> 0 | G31: =G61*$I$36 -> 0 | H31: =H61*$I$36 -> 0 | J31: =J61*$L$36 -> 0 | K31: =K61*$L$36 -> 0
B32: OS | C32: 310-311 | D32: =D62*$F$36 -> 6293054.3 | E32: =E62*$F$36 -> 125883.48 | G32: =G62*$I$36 -> 9133223.6 | H32: =H62*$I$36 -> 141090.86 | J32: =J62*$L$36 -> 3444741.1 | K32: =K62*$L$36 -> 71640.502
B33: EX | C33: 310-311 | D33: =D63*$F$36 -> 0 | E33: =E63*$F$36 -> 0 | G33: =G63*$I$36 -> 0 | H33: =H63*$I$36 -> 0 | J33: =J63*$L$36 -> 0 | K33: =K63*$L$36 -> 0
B34: NA | C34: 310-311 | D34: =D64*$F$36 -> 0 | E34: =E64*$F$36 -> 0 | G34: =G64*$I$36 -> 0 | H34: =H64*$I$36 -> 0 | J34: =J64*$L$36 -> 0 | K34: =K64*$L$36 -> 0
B35: AD | C35: 310-311 | D35: =D65*$F$36 -> 242600 | E35: =E65*$F$36 -> 425.25842 | G35: =G65*$I$36 -> 1389352.5 | H35: =H65*$I$36 -> 47823.713 | J35: =J65*$L$36 -> 60931.192 | K35: =K65*$L$36 -> 3286.5867
B36: TOTAL | D36: =SUM(D26:D35) -> 79486841 | E36: =SUM(E26:E35) -> 1215333.8 | F36: ='B1-Electric Ops Rvn'!P465 -> 0.36787061 | G36: =SUM(G26:G35) -> 1.5091026e+08 | H36: =SUM(H26:H35) -> 2466241.6 | I36: 0.38403984 | J36: =SUM(J26:J35) -> 96976041 | K36: =SUM(K26:K35) -> 2599574.7 | L36: 0.37707512
B38: FERC Form 1 | D38: Purchased Power | G38: Purchased Power - Base Period Minus 1 | J38: Purchased Power - Base Period Minus 2
B39: Statistical | C39: Page
B40: Classification | C40: Number | D40: Settlement Total | E40: MWh Purchased | G40: Settlement Total | H40: MWh Purchased | J40: Settlement Total | K40: MWh Purchased
B41: RQ | C41: 326-327 | D41: =SUMIFS('Pg 326 - Purchased Power (23)'!$O$7:$O$335,'Pg 326 - Purchased Power (23)'!$C$7:$C$335,B41) -> 0 | E41: =SUMIF('Pg 326 - Purchased Power (23)'!$C$7:$C$335,B41,'Pg 326 - Purchased Power (23)'!$H$7:$H$335) -> 0 | G41: =SUMIFS('Pg 326 - Purchased Power (22)'!$O$7:$O$338,'Pg 326 - Purchased Power (22)'!$C$7:$C$338,B41) -> 0 | H41: =SUMIF('Pg 326 - Purchased Power (22)'!$C$7:$C$338,B41,'Pg 326 - Purchased Power (22)'!$H$7:$H$338) -> 0 | J41: =SUMIFS('Pg 326 - Purchased Power (21)'!$O$7:$O$339,'Pg 326 - Purchased Power (21)'!$C$7:$C$339,B41) -> 0 | K41: =SUMIF('Pg 326 - Purchased Power (21)'!$C$7:$C$339,B41,'Pg 326 - Purchased Power (21)'!$H$7:$H$339) -> 0
B42: LF | C42: 326-327 | D42: =SUMIFS('Pg 326 - Purchased Power (23)'!$O$7:$O$335,'Pg 326 - Purchased Power (23)'!$C$7:$C$335,B42) -> 739401 | E42: =SUMIF('Pg 326 - Purchased Power (23)'!$C$7:$C$335,B42,'Pg 326 - Purchased Power (23)'!$H$7:$H$335) -> 15615 | G42: =SUMIFS('Pg 326 - Purchased Power (22)'!$O$7:$O$338,'Pg 326 - Purchased Power (22)'!$C$7:$C$338,B42) -> 1415071 | H42: =SUMIF('Pg 326 - Purchased Power (22)'!$C$7:$C$338,B42,'Pg 326 - Purchased Power (22)'!$H$7:$H$338) -> 27735 | J42: =SUMIFS('Pg 326 - Purchased Power (21)'!$O$7:$O$339,'Pg 326 - Purchased Power (21)'!$C$7:$C$339,B42) -> 39406098 | K42: =SUMIF('Pg 326 - Purchased Power (21)'!$C$7:$C$339,B42,'Pg 326 - Purchased Power (21)'!$H$7:$H$339) -> 554248
...

Sheet Load Forecast
A1: Fiscal Year Load Forecast
A2: Fiscal Year MWh | B2: Base Period MWh | C2: Forecast Fiscal Year MWh
A3: FY | B3: ='Sch 1- Rate Base '!E6 -> 2023 | C3: =B3+1 -> 2024 | D3: =C3+1 -> 2025 | E3: =D3+1 -> 2026 | F3: =E3+1 -> 2027 | G3: =F3+1 -> 2028
A4: Total Retail Sales @ Meter | B4: ='Sch 4 - Average System Cost'!D39 -> 21294859 | C4: =C48*B4+C49*C31 -> 21981745 | D4: =C$48*C31+D$49*D31 -> 22688843 | E4: =D$48*D31+E$49*E31 -> 23328613 | F4: =E$48*E31+F$49*F31 -> 24203796 | G4: =F$48*F31+G$49*G31 -> 25443765
A5: Distribution Losses | B5: ='Sch 4 - Average System Cost'!D42 -> 1007459.8 | C5: =IF($B$4=0,0,C4*$B$16) -> 1039736.5 | D5: =IF($B$4=0,0,D4*$B$16) -> 1073182.3 | E5: =IF($B$4=0,0,E4*$B$16) -> 1103443.4 | F5: =IF($B$4=0,0,F4*$B$16) -> 1144839.5 | G5: =IF($B$4=0,0,G4*$B$16) -> 1203490.1
A6: Contract System Load | B6: =B4+B5 -> 22302319 | C6: =IF('Tiered Rates'!C14>0,'Tiered Rates'!C14*8784,C4+C5) -> 23021481 | D6: =IF('Tiered Rates'!D14>0,'Tiered Rates'!D14*8760,D4+D5) -> 23762026 | E6: =IF('Tiered Rates'!E14>0,'Tiered Rates'!E14*8784,E4+E5) -> 24432056 | F6: =IF('Tiered Rates'!E14>0,'Tiered Rates'!E14*8760,F4+F5) -> 25348635 | G6: =IF('Tiered Rates'!F14>0,'Tiered Rates'!F14*8760,G4+G5) -> 26647255
A7: Load for Dist Plant Adds | B7: =B6 -> 22302319 | C7: =MAX(C6,B7) -> 23021481 | D7: =MAX(D6,C7) -> 23762026 | E7: =MAX(E6,D7) -> 24432056 | F7: =MAX(F6,E7) -> 25348635 | G7: =MAX(G6,F7) -> 26647255
A9: Base Period NLSL MWh | B9: ='Sch 4 - Average System Cost'!F45 -> 1348351
A10: New NLSL MWh
A11: Total NLSL MWh | B11: =B9 -> 1348351 | C11: =C10+B11 -> 1348351 | D11: =D10+C11 -> 1348351 | E11: =E10+D11 -> 1348351 | F11: =F10+E11 -> 1348351 | G11: =G10+F11 -> 1348351
A14: Annual Load Change | C14: =C6-B6 -> 719162.57 | D14: =D6-C6 -> 740544.34 | E14: =E6-D6 -> 670030.21 | F14: =F6-E6 -> 916579.41 | G14: =G6-F6 -> 1298620
A16: Distribution Loss Percentage | B16: =ROUND('Sch 4 - Average System Cost'!F42,4) -> 0.0473
A20: TOC | D20: ='Sch 1- Rate Base '!E5 -> PacifiCorp
D21: ='Sch 1- Rate Base '!E6 -> 2023
D22: ='Sch 1- Rate Base '!E7 -> 45446
C25: BONNEVILLE POWER ADMINISTRATION
C26: RESIDENTIAL PURCHASE AND SALE AGREEMENT
C27: 2008 Average System Cost Methodology (ASCM) Appendix 1
C28: 2024 | D28: 2025 | E28: 2026 | F28: 2027 | G28: 2028
A29: Total BPA Eligible Retail Load @ Meter | C29: =SUM(C36:C47) -> 8666385.8 | D29: =SUM(D36:D47) -> 8651003.5 | E29: =SUM(E36:E47) -> 8669661.3 | F29: =SUM(F36:F47) -> 8693129.9 | G29: =SUM(G36:G47) -> 8761879.5
A31: Total Retail Load (OR,WA, ID) at meter | C31: 22222807 | D31: 22886676 | E31: 23497373 | F31: 24476342 | G31: 25780723
A34: BPA Eligible Retail Load by Month
A36: Jan | C36: 892887.59 | D36: 895143.5 | E36: 897653.77 | F36: 899098.36 | G36: 903585.78
A37: Feb | C37: 780308.48 | D37: 756076.33 | E37: 757659.33 | F37: 759257.24 | G37: 788302.74
A38: Mar | C38: 708693.87 | D38: 710415.93 | E38: 711013.15 | F38: 711721.62 | G38: 714383.61
A39: Apr | C39: 612076.27 | D39: 612426.97 | E39: 612790.73 | F39: 613259.06 | G39: 615452.63
A40: May | C40: 605025.84 | D40: 605243.15 | E40: 605096.99 | F40: 605308.63 | G40: 606640.43
A41: Jun | C41: 662498.97 | D41: 662119.28 | E41: 662715.49 | F41: 663630.87 | G41: 666765.44
A42: Jul | C42: 819009.84 | D42: 818449.83 | E42: 819481.95 | F42: 821520.01 | G42: 822962.61
A43: Aug | C43: 744615.77 | D43: 744246.44 | E43: 745934.77 | F43: 747460.42 | G43: 751527.32
A44: Sep | C44: 589914.67 | D44: 589932.92 | E44: 592016.72 | F44: 594493.81 | G44: 598485.19
A45: Oct | C45: 586247.01 | D45: 586899.57 | E45: 588706.64 | F45: 591396.83 | G45: 595451.32
A46: Nov | C46: 740853.41 | D46: 742812.88 | E46: 745593.26 | F46: 749933.07 | G46: 756515.32
A47: Dec | C47: 924254.08 | D47: 927236.74 | E47: 930998.46 | F47: 936049.99 | G47: 941807.11
A48: Pro-ration: Oct to Dec | C48: =SUM(C45:C47)/C29 -> 0.25978009 | D48: =SUM(D45:D47)/D29 -> 0.26088871 | E48: =SUM(E45:E47)/E29 -> 0.2612903 | F48: =SUM(F45:F47)/F29 -> 0.26197468 | G48: =SUM(G45:G47)/G29 -> 0.26179015
A49: Pro-ration: Jan to Sep | C49: =SUM(C36:C44)/C29 -> 0.74021991 | D49: =SUM(D36:D44)/D29 -> 0.73911129 | E49: =SUM(E36:E44)/E29 -> 0.7387097 | F49: =SUM(F36:F44)/F29 -> 0.73802532 | G49: =SUM(G36:G44)/G29 -> 0.73820985

Sheet Distribution Loss Calc
A1: BONNEVILLE POWER ADMINISTRATION
A2: RESIDENTIAL PURCHASE AND SALE AGREEMENT
A3: 2008 Average System Cost (ASCM) Appendix 1
A5: TOC | C5: UTILITY NAME: | D5: ='Sch 1- Rate Base '!$E$5 -> PacifiCorp
C6: End of Year Report Period: | D6: ='Sch 1- Rate Base '!$E$6 -> 2023
C7: ASC Filing Date: | D7: ='Sch 1- Rate Base '!$E$7 -> 45446
A10: Distribution Loss Calculation
B13: PacifiCorp 2018 Line Loss Study
B14: State | C14: Voltage | D14: Demand (kW) | E14: Energy (kWh)
B15: Idaho | C15: Transmission | D15: 0.03816 | E15: 0.03503
C16: Distribution | D16: 0.06018 | E16: 0.05558
C17: Total | D17: 0.09834 | E17: 0.09061
B19: Oregon | C19: Transmission | D19: 0.03816 | E19: 0.03503
C20: Distribution | D20: 0.04651 | E20: 0.04462
C21: Total | D21: 0.08467 | E21: 0.07965
B23: Washington | C23: Transmission | D23: 0.03816 | E23: 0.03503
C24: Distribution | D24: 0.0394 | E24: 0.04173
C25: Total | D25: 0.07756 | E25: 0.07676
B27: PNW Distribution Loss | D27: =AVERAGE(E16,E20,E24) -> 0.04731

Sheet Salaries
A1: BONNEVILLE POWER ADMINISTRATION
A2: RESIDENTIAL PURCHASE AND SALE AGREEMENT
A3: 2008 Average System Cost Methodology (ASCM) Appendix 1
A5: TOC | B5: UTILITY NAME: | C5: ='Sch 1- Rate Base '!$E$5 -> PacifiCorp
B6: End of Year Report Period: | C6: ='Sch 1- Rate Base '!$E$6 -> 2023
A7: 2/19/2010 | B7: ASC Filing Date: | C7: ='Sch 1- Rate Base '!$E$7 -> 45446
A10: Distribution of Salaries and Wages (For Labor Ratio Calculation)
A11: Description | C11: Form 1 | D11: Amount
C12: Page
C13: Number
A14: Electric
A15: Operation
A16: 1 | B16: Production | C16: 354-355 | D16: =SUMIF('Pg 354 - Distribution of Salari'!$B$10:$B$17,B16,'Pg 354 - Distribution of Salari'!$C$10:$C$17) -> 101070250
A17: 2 | B17: Transmission | C17: 354-355 | D17: =SUMIF('Pg 354 - Distribution of Salari'!$B$10:$B$17,B17,'Pg 354 - Distribution of Salari'!$C$10:$C$17) -> 19918542
A18: 3 | B18: Distribution | C18: 354-355 | D18: =SUMIF('Pg 354 - Distribution of Salari'!$B$10:$B$17,B18,'Pg 354 - Distribution of Salari'!$C$10:$C$17) -> 47998132
A19: 4 | B19: Customer Accounts | C19: 354-355 | D19: =SUMIF('Pg 354 - Distribution of Salari'!$B$10:$B$17,B19,'Pg 354 - Distribution of Salari'!$C$10:$C$17) -> 29892118
A20: 5 | B20: Customer Service and Information | C20: 354-355 | D20: =SUMIF('Pg 354 - Distribution of Salari'!$B$10:$B$17,"Customer Service and Informational",'Pg 354 - Distribution of Salari'!$C$10:$C$17) -> 8580394
A21: 6 | B21: Sales | C21: 354-355 | D21: =SUMIF('Pg 354 - Distribution of Salari'!$B$10:$B$17,B21,'Pg 354 - Distribution of Salari'!$C$10:$C$17) -> 0
A22: 7 | B22: Administrative and General | C22: 354-355 | D22: =SUMIF('Pg 354 - Distribution of Salari'!$B$10:$B$17,B22,'Pg 354 - Distribution of Salari'!$C$10:$C$17) -> 38419021
A23: TOTAL Operation | D23: =SUM(D16:D22) -> 245878457
A25: Maintenance
A26: 9 | B26: Production | C26: 354-355 | D26: =SUMIF('Pg 354 - Distribution of Salari'!$B$20:$B$24,B26,'Pg 354 - Distribution of Salari'!$C$20:$C$24) -> 42331535
A27: 10 | B27: Transmission | C27: 354-355 | D27: =SUMIF('Pg 354 - Distribution of Salari'!$B$20:$B$24,B27,'Pg 354 - Distribution of Salari'!$C$20:$C$24) -> 13251987
A28: 11 | B28: Distribution | C28: 354-355 | D28: =SUMIF('Pg 354 - Distribution of Salari'!$B$20:$B$24,B28,'Pg 354 - Distribution of Salari'!$C$20:$C$24) -> 83215928
A29: 12 | B29: Administrative and General | C29: 354-355 | D29: =SUMIF('Pg 354 - Distribution of Salari'!$B$20:$B$24,B29,'Pg 354 - Distribution of Salari'!$C$20:$C$24) -> 1739480
A30: TOTAL Maintenance | D30: =SUM(D26:D29) -> 140538930
A32: Operation and Maintenance
B33: Production (Enter Total of lines 1 and 9) | C33: 354-355 | D33: =+D16+D26 -> 143401785
B34: Transmission (Enter Total of lines 2 and 10) | C34: 354-355 | D34: =+D17+D27 -> 33170529
B35: Distribution (Enter Total of lines 3 and 11) | C35: 354-355 | D35: =+D18+D28 -> 131214060
B36: Customer Accounts (Transcribe from line 4) | C36: 354-355 | D36: =+D19 -> 29892118
B37: Customer Service and Information (Transcribe from line 5) | C37: 354-355 | D37: =+D20 -> 8580394
B38: Sales (Transcribe from line 6) | C38: 354-355 | D38: =+D21 -> 0
B39: Administrative and General (Enter Total of lines 7 and 12) | C39: 354-355 | D39: =+D22+D29 -> 40158501
A40: TOTAL Operation and Maintenance | D40: =SUM(D33:D39) -> 386417387

Sheet Ratios
A1: BONNEVILLE POWER ADMINISTRATION | M1: NLSL Production Plant | R1: =R46 -> 2.8717238e+09
A2: RESIDENTIAL PURCHASE AND SALE AGREEMENT | M2: Total Production Plant | R2: =E46 -> 5.5823719e+09
A3: 2008 Average System Cost Methodology (ASCM) Appendix 1 | M3: NLSL Production Plant percent of Total Prod. Plant | R3: =IF(R2=0,0,R1/R2) -> 0.51442718
M4: Non-NLSL Production plant percent of Total Prod. Plant | R4: =IF(R2=0,0,(R2-R1)/R2) -> 0.48557282
A5: TOC | B5: UTILITY NAME: | C5: ='Sch 1- Rate Base '!$E$5 -> PacifiCorp
A6: é | B6: End of Year Report Period: | C6: ='Sch 1- Rate Base '!$E$6 -> 2023 | M6: NLSL Production Plant O&M | R6: ='NLSL_Base_New-Calc'!AA33+'NLSL_Base_New-Calc'!AA34 -> 67592980
B7: ASC Filing Date: | C7: ='Sch 1- Rate Base '!$E$7 -> 45446 | M7: Total Production Plant O&M | R7: ='Sch 3 - Expenses'!H17+'Sch 3 - Expenses'!H18+'Sch 3 - Expenses'!H21+'Sch 3 - Expenses'!H22+'Sch 3 - Expenses'!H24+'Sch 3 - Expenses'!H25+'Sch 3 - Expenses'!H28+'Sch 3 - Expenses'!H29 -> 1.8269479e+08
M8: NLSL Production Plant O&M percent of Total Prod. Plant O&M | R8: =IF(R7=0,0,R6/R7) -> 0.36997761
A9: Ratio Table | M9: Non-NLSL Production Plant O&M percent of Total Prod. Plant O&M | R9: =IF(R7=0,0,(R7-R6)/R7) -> 0.63002239
Q11: Production
A12: Labor Ratio Input: | C12: Ratio Used | D12: Total | E12: Production | F12: Transmission | G12: Distribution | Q12: Non-NLSL | R12: NLSL | S12: Total
B13: Production | C13: PROD | D13: =Salaries!D33 -> 143401785 | E13: =VLOOKUP($C13,Ratio,2,FALSE)*$D13 -> 143401785 | F13: =VLOOKUP($C13,Ratio,3,FALSE)*$D13 -> 0 | G13: =VLOOKUP($C13,Ratio,4,FALSE)*$D13 -> 0 | Q13: =E13*R9 -> 90346336 | R13: =E13*R8 -> 53055449 | S13: =SUM(Q13:R13) -> 143401785
B14: Transmission | C14: TRANS | D14: =Salaries!D34 -> 33170529 | E14: =VLOOKUP($C14,Ratio,2,FALSE)*$D14 -> 0 | F14: =VLOOKUP($C14,Ratio,3,FALSE)*$D14 -> 0 | G14: =VLOOKUP($C14,Ratio,4,FALSE)*$D14 -> 33170529 | Q14: 0 | R14: 0
B15: Distribution | C15: DIST | D15: =Salaries!D35 -> 131214060 | E15: =VLOOKUP($C15,Ratio,2,FALSE)*$D15 -> 0 | F15: =VLOOKUP($C15,Ratio,3,FALSE)*$D15 -> 0 | G15: =VLOOKUP($C15,Ratio,4,FALSE)*$D15 -> 131214060 | Q15: 0 | R15: 0
