Workbook
Name DIST: 'Sch 1- Rate Base '!$Q$1:$Q$3
Name PROD: 'Sch 1- Rate Base '!$R$1:$R$3
Name PTD: 'Sch 1- Rate Base '!$P$1:$P$3
Name Ratio: 'A-RHWM_Ratios'!$D$77:$G$87
Name Ratio: Ratios!$D$77:$G$87

Sheet Revisions_2026-28
A4: 1 | B4: Change dates in Sch 1- Rate Base Tab
C6: Cell E6 | D6: Change from: | F6: 2021 | G6: to | H6: 2023
C8: Cell E7 | D8: Change from: | F8: 44743 | G8: to | H8: 45476
A11: 2 | B11: In NLSL_Base_New_Calc Tab
C13: Cell A47 | D13: Change from | F13: 2021 cost of serving NLSLs under Endnote d | G13: to | H13: 2023 cost of serving NLSLs under Endnote d
A16: 3 | B16: In Above-RHWM_Base_New_Calc Tab
C18: Cell A47 | D18: Change from | F18: 2021 cost of serving Above-RHWM Loads under Endnote d | G18: to | H18: 2023 cost of serving Above-RHWM Loads under Endnote d
A21: 4 | B21: Updated all Footers from | F21: FY 2024-2025 ASC Filing | G21: to | H21: FY 2024-2025 ASC Filing
A24: 5 | B24: In New Resources-Individual and New Resources Group Tabs
C26: Cell B3 | D26: Change from | F26: 45566 | G26: to | H26: 46478 | I26: Midpoint is different because of the three year rate period
A28: 6 | B28: In Schedule 1 - Rate Base
C30: Check all account numbers

Sheet TOC
A1: FY 2026-2028 ASC Appendix 1
A2: Table of Contents
A4: 1 | B4: Schedule 1 - Rate Base
A5: 2 | B5: Schedule 1A - Cash Working Capital
A6: 3 | B6: Schedule 2 -Rate of Return
A7: 5 | B7: Schedule 3 - Expenses
A8: 6 | B8: Schedule 3A - Taxes
A9: 7 | B9: Schedule 3B - Other Items
A10: 8 | B10: Schedule 4 - Average System Cost
A11: 9 | B11: 3-YEAR PP & OSS Worksheet
A12: 10 | B12: Load Forecast
A13: 11 | B13: Distribution Loss Calc
A14: 12 | B14: Salaries
A15: 13 | B15: Ratios
... A24: 22 | B24: Tiered Rates

Sheet Sch 1- Rate Base 
A1: BONNEVILLE POWER ADMINISTRATION
A2: RESIDENTIAL PURCHASE AND SALES AGREEMENT
A3: 2008 Average System Cost Methodology (ASCM) Appendix 1
A5: TOC | D5: UTILITY NAME: | E5: PUGET SOUND ENERGY | I5: BPA Reviews:
A6: é | D6: End of Year Report Period: | E6: 2023
D7: ASC Filing Date: | E7: 45474
A10: Schedule 1: Plant Investment / Rate Base
A12: Account Description | C12: FERC Form 1 | E12: Functionalization | G12: Total | H12: Production | I12: Transmission | J12: Distribution/ Other | L12: Production | M12: Transmission
C13: Page | D13: Account | E13: Method | N13: Distribution/
C14: Number | D14: Numbers | E14: Default | F14: Optional | N14: Other
A15: Intangible Plant:
B16: Intangible Plant - Organization | C16: 204-207 | D16: 301 | E16: DIST | G16: ='FERC p204-207 Electric Plant'!H13 -> 114202 | H16: =VLOOKUP($E16,Ratio,2,FALSE)*$G16 -> 0 | I16: =VLOOKUP($E16,Ratio,3,FALSE)*$G16 -> 0 | J16: =VLOOKUP($E16,Ratio,4,FALSE)*$G16 -> 114202
B17: Intangible Plant - Franchises and Consents | C17: 204-207 | D17: 302 | E17: DIRECT | F17: PTD | G17: ='FERC p204-207 Electric Plant'!H14 -> 80196650 | H17: =IF($E17="DIRECT",$L17,VLOOKUP($E17,Ratio,2,FALSE)*$G17) -> 55817303 | I17: =IF($E17="DIRECT",$M17,VLOOKUP($E17,Ratio,3,FALSE)*$G17) -> 0 | J17: =IF($E17="DIRECT",$N17,VLOOKUP($E17,Ratio,4,FALSE)*$G17) -> 24379346 | L17: ='E Intangible_Summary'!G12 -> 55817303 | M17: ='E Intangible_Summary'!H12 -> 0 | N17: ='E Intangible_Summary'!I12 -> 24379346
B18: Intangible Plant - Miscellaneous | C18: 204-207 | D18: 303 | E18: DIRECT | F18: DIST | G18: ='FERC p204-207 Electric Plant'!H15 -> 75530269 | H18: =IF($E18="DIRECT",$L18,VLOOKUP($E18,Ratio,2,FALSE)*$G18) -> 10321489 | I18: =IF($E18="DIRECT",$M18,VLOOKUP($E18,Ratio,3,FALSE)*$G18) -> 0 | J18: =IF($E18="DIRECT",$N18,VLOOKUP($E18,Ratio,4,FALSE)*$G18) -> 65208779 | L18: ='E Intangible_Summary'!G19 -> 10321489 | M18: ='E Intangible_Summary'!H19 -> 0 | N18: ='E Intangible_Summary'!I19 -> 65208779
A19: Total Intangible Plant | G19: =SUM(G16:G18) -> 155841121 | H19: =SUM(H16:H18) -> 66138792 | I19: =SUM(I16:I18) -> 0 | J19: =SUM(J16:J18) -> 89702327
A21: Production Plant:
B22: Steam Production | C22: 204-207 | D22: 310-317 | E22: PROD | G22: ='FERC p204-207 Electric Plant'!H27 -> 1034308926 | H22: =VLOOKUP($E22,Ratio,2,FALSE)*$G22 -> 1034308926 | I22: =VLOOKUP($E22,Ratio,3,FALSE)*$G22 -> 0 | J22: =VLOOKUP($E22,Ratio,4,FALSE)*$G22 -> 0
B23: Nuclear Production | C23: 204-207 | D23: 320-326 | E23: PROD | G23: ='FERC p204-207 Electric Plant'!H36 -> 0 | H23: =VLOOKUP($E23,Ratio,2,FALSE)*$G23 -> 0 | I23: =VLOOKUP($E23,Ratio,3,FALSE)*$G23 -> 0 | J23: =VLOOKUP($E23,Ratio,4,FALSE)*$G23 -> 0
B24: Hydraulic Production | C24: 204-207 | D24: 330-337 | E24: PROD | G24: ='FERC p204-207 Electric Plant'!H46 -> 788941762 | H24: =VLOOKUP($E24,Ratio,2,FALSE)*$G24 -> 788941762 | I24: =VLOOKUP($E24,Ratio,3,FALSE)*$G24 -> 0 | J24: =VLOOKUP($E24,Ratio,4,FALSE)*$G24 -> 0
B25: Other Production | C25: 204-207 | D25: 340-348 | E25: PROD | G25: ='FERC p204-207 Electric Plant'!H57 -> 2079134143 | H25: =VLOOKUP($E25,Ratio,2,FALSE)*$G25 -> 2079134143 | I25: =VLOOKUP($E25,Ratio,3,FALSE)*$G25 -> 0 | J25: =VLOOKUP($E25,Ratio,4,FALSE)*$G25 -> 0
A26: Total Production Plant | G26: =SUM(G22:G25) -> 3902384831 | H26: =SUM(H22:H25) -> 3902384831 | I26: =SUM(I22:I25) -> 0 | J26: =SUM(J22:J25) -> 0
B29: Transmission Plant | C29: 204-207 | D29: 350-359.1 | E29: TRANS | G29: ='FERC p204-207 Electric Plant'!H76 -> 1992381238 | H29: =VLOOKUP($E29,Ratio,2,FALSE)*$G29 -> 0 | I29: =VLOOKUP($E29,Ratio,3,FALSE)*$G29 -> 0 | J29: =VLOOKUP($E29,Ratio,4,FALSE)*$G29 -> 1992381238
A30: Total Transmission Plant | G30: =SUM(G29) -> 1992381238 | H30: =SUM(H29) -> 0 | I30: =SUM(I29) -> 0 | J30: =SUM(J29) -> 1992381238
A32: Distribution Plant:
B33: Distribution Plant | C33: 204-207 | D33: 360-374 | E33: DIST | G33: ='FERC p204-207 Electric Plant'!H93 -> 5283922742 | H33: =VLOOKUP($E33,Ratio,2,FALSE)*$G33 -> 0 | I33: =VLOOKUP($E33,Ratio,3,FALSE)*$G33 -> 0 | J33: =VLOOKUP($E33,Ratio,4,FALSE)*$G33 -> 5283922742
A34: Total Distribution Plant | G34: =SUM(G33) -> 5283922742 | H34: =SUM(H33) -> 0 | I34: =SUM(I33) -> 0 | J34: =SUM(J33) -> 5283922742
A36: General Plant:
B37: Land and Land Rights | C37: 204-207 | D37: 389 | E37: PTD | G37: ='FERC p204-207 Electric Plant'!H104 -> 5100521 | H37: =VLOOKUP($E37,Ratio,2,FALSE)*$G37 -> 1780548.3 | I37: =VLOOKUP($E37,Ratio,3,FALSE)*$G37 -> 0 | J37: =VLOOKUP($E37,Ratio,4,FALSE)*$G37 -> 3319972.7
B38: Structures and Improvements | C38: 204-207 | D38: 390 | E38: PTD | G38: ='FERC p204-207 Electric Plant'!H105 -> 126721170 | H38: =VLOOKUP($E38,Ratio,2,FALSE)*$G38 -> 44237279 | I38: =VLOOKUP($E38,Ratio,3,FALSE)*$G38 -> 0 | J38: =VLOOKUP($E38,Ratio,4,FALSE)*$G38 -> 82483891
B39: Furniture and Equipment | C39: 204-207 | D39: 391 | E39: LABOR | G39: ='FERC p204-207 Electric Plant'!H106 -> 31597697 | H39: =VLOOKUP($E39,Ratio,2,FALSE)*$G39 -> 10737850 | I39: =VLOOKUP($E39,Ratio,3,FALSE)*$G39 -> 0 | J39: =VLOOKUP($E39,Ratio,4,FALSE)*$G39 -> 20859847
B40: Transportation Equipment | C40: 204-207 | D40: 392 | E40: TD | G40: ='FERC p204-207 Electric Plant'!H107 -> 3994065 | H40: =VLOOKUP($E40,Ratio,2,FALSE)*$G40 -> 0 | I40: =VLOOKUP($E40,Ratio,3,FALSE)*$G40 -> 0 | J40: =VLOOKUP($E40,Ratio,4,FALSE)*$G40 -> 3994065
B41: Stores Equipment | C41: 204-207 | D41: 393 | E41: PTD | G41: ='FERC p204-207 Electric Plant'!H108 -> 1969191 | H41: =VLOOKUP($E41,Ratio,2,FALSE)*$G41 -> 687427.77 | I41: =VLOOKUP($E41,Ratio,3,FALSE)*$G41 -> 0 | J41: =VLOOKUP($E41,Ratio,4,FALSE)*$G41 -> 1281763.2
B42: Tools and Garage Equipment | C42: 204-207 | D42: 394 | E42: PTD | G42: ='FERC p204-207 Electric Plant'!H109 -> 32372182 | H42: =VLOOKUP($E42,Ratio,2,FALSE)*$G42 -> 11300852 | I42: =VLOOKUP($E42,Ratio,3,FALSE)*$G42 -> 0 | J42: =VLOOKUP($E42,Ratio,4,FALSE)*$G42 -> 21071330
B43: Laboratory Equipment | C43: 204-207 | D43: 395 | E43: PTD | G43: ='FERC p204-207 Electric Plant'!H110 -> 5973622 | H43: =VLOOKUP($E43,Ratio,2,FALSE)*$G43 -> 2085340.4 | I43: =VLOOKUP($E43,Ratio,3,FALSE)*$G43 -> 0 | J43: =VLOOKUP($E43,Ratio,4,FALSE)*$G43 -> 3888281.6
B44: Power Operated Equipment | C44: 204-207 | D44: 396 | E44: TD | G44: ='FERC p204-207 Electric Plant'!H111 -> 2715513 | H44: =VLOOKUP($E44,Ratio,2,FALSE)*$G44 -> 0 | I44: =VLOOKUP($E44,Ratio,3,FALSE)*$G44 -> 0 | J44: =VLOOKUP($E44,Ratio,4,FALSE)*$G44 -> 2715513
B45: Communication Equipment | C45: 204-207 | D45: 397 | E45: PTD | G45: ='FERC p204-207 Electric Plant'!H112 -> 105832047 | H45: =VLOOKUP($E45,Ratio,2,FALSE)*$G45 -> 36945064 | I45: =VLOOKUP($E45,Ratio,3,FALSE)*$G45 -> 0 | J45: =VLOOKUP($E45,Ratio,4,FALSE)*$G45 -> 68886983
B46: Miscellaneous Equipment | C46: 204-207 | D46: 398 | E46: PTD | G46: ='FERC p204-207 Electric Plant'!H113 -> 381575 | H46: =VLOOKUP($E46,Ratio,2,FALSE)*$G46 -> 133204.57 | I46: =VLOOKUP($E46,Ratio,3,FALSE)*$G46 -> 0 | J46: =VLOOKUP($E46,Ratio,4,FALSE)*$G46 -> 248370.43
B47: Other Tangible Property | C47: 204-207 | D47: 399 | E47: DIRECT | F47: PTD | G47: ='FERC p204-207 Electric Plant'!H115 -> 0 | H47: =IF($E47="DIRECT",$L47,VLOOKUP($E47,Ratio,2,FALSE)*$G47) -> 0 | I47: =IF($E47="DIRECT",$M47,VLOOKUP($E47,Ratio,3,FALSE)*$G47) -> 0 | J47: =IF($E47="DIRECT",$N47,VLOOKUP($E47,Ratio,4,FALSE)*$G47) -> 0 | L47: 0 | M47: 0 | N47: 0
B48: Asset Retirement Costs for General Plant | C48: 204-207 | D48: 399.1 | E48: PTD | G48: ='FERC p204-207 Electric Plant'!H116 -> 0 | H48: =VLOOKUP($E48,Ratio,2,FALSE)*$G48 -> 0 | I48: =VLOOKUP($E48,Ratio,3,FALSE)*$G48 -> 0 | J48: =VLOOKUP($E48,Ratio,4,FALSE)*$G48 -> 0
A50: Total General Plant | G50: =SUM(G37:G49) -> 316657583 | H50: =SUM(H37:H49) -> 1.0790757e+08 | I50: =SUM(I37:I49) -> 0 | J50: =SUM(J37:J49) -> 2.0875002e+08
...

Sheet Sch 1A - Cash Working Capital
A1: BONNEVILLE POWER ADMINISTRATION
A2: RESIDENTIAL PURCHASE AND SALE AGREEMENT
A3: 2008 Average System Cost Methodology (ASCM) Appendix 1
A5: TOC | B5: UTILITY NAME: | C5: ='Sch 1- Rate Base '!$E$5 -> PUGET SOUND ENERGY | F5: BPA Reviews:
B6: End of Year Report Period: | C6: ='Sch 1- Rate Base '!$E$6 -> 2023 | F6: ='Sch 1- Rate Base '!I6
B7: ASC Filing Date: | C7: ='Sch 1- Rate Base '!$E$7 -> 45474 | F7: ='Sch 1- Rate Base '!I7
A10: Schedule 1A: Cash Working Capital (f)
A11: (Automatic Input from Schedule 3- Expenses)
A12: Account Description | C12: Total | D12: Production | E12: Transmission | F12: Distribution/ Other
A14: Cash Working Capital Calculation:
B15: Total Production O&M | C15: ='Sch 3 - Expenses'!G36 -> 1755510842 | D15: ='Sch 3 - Expenses'!H36 -> 1755510842 | E15: ='Sch 3 - Expenses'!I36 -> 0 | F15: ='Sch 3 - Expenses'!J36 -> 0
B16: Total Transmission O&M (i) | C16: ='Sch 3 - Expenses'!G42 -> 188803479 | D16: ='Sch 3 - Expenses'!H42 -> 162583424 | E16: ='Sch 3 - Expenses'!I42 -> 0 | F16: ='Sch 3 - Expenses'!J42 -> 26220055
B17: Total Distribution O&M | C17: ='Sch 3 - Expenses'!G47 -> 108646732 | D17: ='Sch 3 - Expenses'!H47 -> 0 | E17: ='Sch 3 - Expenses'!I47 -> 0 | F17: ='Sch 3 - Expenses'!J47 -> 108646732
B18: Total Customer & Sales | C18: ='Sch 3 - Expenses'!G55 -> 208270735 | D18: ='Sch 3 - Expenses'!H55 -> 97941405 | E18: ='Sch 3 - Expenses'!I55 -> 0 | F18: ='Sch 3 - Expenses'!J55 -> 1.1032933e+08
B19: Total Administrative and General O&M | C19: ='Sch 3 - Expenses'!G75 -> 172081054 | D19: ='Sch 3 - Expenses'!H75 -> 46585106 | E19: ='Sch 3 - Expenses'!I75 -> 0 | F19: ='Sch 3 - Expenses'!J75 -> 1.2549595e+08
B20: Less Purchased Power, Public Purpose Charge, REP Reversal, Fuel Costs | C20: ='Sch 3 - Expenses'!G16+'Sch 3 - Expenses'!G20+'Sch 3 - Expenses'!G27+'Sch 3 - Expenses'!G31+'Sch 3 - Expenses'!G34+'Sch 3 - Expenses'!G35+G30 -> 1567872638 | D20: ='Sch 3 - Expenses'!H16+'Sch 3 - Expenses'!H20+'Sch 3 - Expenses'!H27+'Sch 3 - Expenses'!H31+'Sch 3 - Expenses'!H34+'Sch 3 - Expenses'!H35+H30 -> 1567872638 | E20: ='Sch 3 - Expenses'!I16+'Sch 3 - Expenses'!I20+'Sch 3 - Expenses'!I27+'Sch 3 - Expenses'!I31+'Sch 3 - Expenses'!I34+'Sch 3 - Expenses'!I35 -> 0 | F20: ='Sch 3 - Expenses'!J16+'Sch 3 - Expenses'!J20+'Sch 3 - Expenses'!J27+'Sch 3 - Expenses'!J31+'Sch 3 - Expenses'!J34+'Sch 3 - Expenses'!J35 -> 0
A21: Revised Total O&M Expenses | C21: =SUM(C15:C19)-C20 -> 865440204 | D21: =SUM(D15:D19)-D20 -> 4.9474814e+08 | E21: =SUM(E15:E19)-E20 -> 0 | F21: =SUM(F15:F19)-F20 -> 3.7069207e+08
A23: One-Eighth Revised Total O&M Expenses
A24: Allowable Functionalized Cash Working Capital | C24: =C21/8 -> 1.0818003e+08 | D24: =D21/8 -> 61843517 | E24: =E21/8 -> 0 | F24: =F21/8 -> 46336508
B30: Account 557 Disallowed Amounts | G30: ='557 Details'!$C$56 -> 24948345 | H30: =G30 -> 24948345

Sheet Sch 2 -Rate of Return
A1: BONNEVILLE POWER ADMINISTRATION
A2: RESIDENTIAL PURCHASE AND SALE AGREEMENT
A3: 2008 Average System Cost Methodology (ASCM) Appendix 1
A5: TOC | C5: UTILITY NAME: | D5: ='Sch 1- Rate Base '!$E$5 -> PUGET SOUND ENERGY | H5: BPA Reviews:
A6: é | C6: End of Year Report Period: | D6: ='Sch 1- Rate Base '!$E$6 -> 2023 | H6: ='Sch 1- Rate Base '!I6
C7: ASC Filing Date: | D7: ='Sch 1- Rate Base '!$E$7 -> 45474 | H7: ='Sch 1- Rate Base '!I7
A8: Schedule 2: Capital Structure and Rate of Return (b)
D10: SUMMARY (for use by ASC Forecast Model)
D11: Single-Jurisdiction Investor-Owned Utility Return Calculation: | E11: =E35 -> 0.083803797
D12: Multi-Jurisdiction Investor-Owned Utility Return Calculation: | E12: =E90 -> 0
D13: Consumer-Owned Utility Return Calculation: | E13: =E118 -> 0
D14: Rate of Return : | E14: =SUM(E11:E13) -> 0.083803797
A16: Single-Jurisdiction Investor-Owned Utility Return Calculation
A18: Step 1: Weighted Cost of Capital from Most Recent State Commission Rate Order
A19: Note: Multi-jurisdictional utilities must begin on Page 2
A20: Publicly-owned utilities must begin on Page 4
B22: Capitalization Structure | D22: Effective Cost
A23: Component | B23: Amount | C23: Percent | D23: Embedded | E23: Weighted
A24: Debt | B24: ='2022 GRC Compliance COC+ConvF'!C10 -> 0.51 | C24: =IF($B$27=0,0,B24/$B$27) -> 0.51 | D24: ='2022 GRC Compliance COC+ConvF'!D10 -> 0.05 | E24: =ROUNDUP(D24*C24,5) -> 0.0255
A25: Preferred Equity | B25: 0 | C25: =IF($B$27=0,0,B25/$B$27) -> 0 | E25: =ROUNDUP(D25*C25,5) -> 0
A26: Common Equity | B26: ='2022 GRC Compliance COC+ConvF'!C11 -> 0.49 | C26: =IF($B$27=0,0,B26/$B$27) -> 0.49 | D26: ='2022 GRC Compliance COC+ConvF'!D11 -> 0.094 | E26: =ROUNDUP(D26*C26,5) -> 0.04606
A27: Weighted Cost of Capital | B27: =SUM(B24:B26) -> 1 | C27: =IF($B$27=0,0,B27/$B$27) -> 1 | E27: =SUM(E24:E26) -> 0.07156
A29: Step 2: Gross Up Equity Return for Federal Income Taxes
A31: Federal Income Tax Rate (21% during Base Period) | D31: 0.21
A32: Federal Income Tax Factor | E32: =(E27-(E24))*(D31/(1-D31)) -> 0.012243797
A33: {(ROR – (Embedded Cost of Debt * (Debt / (Total Capital))} * {(Federal Tax Rate / (1- Federal Tax Rate)}
A35: Federal Income Tax Adjusted Weighted Cost of Capital | E35: =E27+E32 -> 0.083803797
A36: (Weighted Cost of Capital Plus Federal Income Tax Factor)
A38: Step 3: Calculate Return on Rate Base
E39: Total | F39: Production | G39: Transmission | H39: Other
A40: Total Rate Base from Schedule 1 | E40: ='Sch 1- Rate Base '!G161 -> 7.6025204e+09 | F40: ='Sch 1- Rate Base '!H161 -> 2.2171678e+09 | G40: ='Sch 1- Rate Base '!I161 -> 0 | H40: ='Sch 1- Rate Base '!J161 -> 5.3853526e+09
A41: Federal Income Tax Adjusted Weighted Cost of Capital | E41: =$E$35 -> 0.083803797 | F41: =$E$35 -> 0.083803797 | G41: =$E$35 -> 0.083803797 | H41: =$E$35 -> 0.083803797
A42: Federal Income Tax Adjusted Return on Rate Base | E42: =E41*E40 -> 6.3712008e+08 | F42: =F41*F40 -> 1.8580708e+08 | G42: =G41*G40 -> 0 | H42: =H41*H40 -> 4.51313e+08
A43: (Total Rate Base * Federal Income Tax Adjusted Weighted Cost of Capital)
A47: Multi-Jurisdiction Investor-Owned Utility Return Calculation
A48: Step 1:
A49: Weighted Cost of Capital from Most Recent State Commission Rate Order in Jurisdiction 1
B51: Capitalization Structure | D51: Effective Cost | F51: Jurisdictional | G51: Effective Cost -
A52: Component | B52: Amount | C52: Percent | D52: Embedded | E52: Weighted | F52: Allocation | G52: Weighted State Allocation
A53: Debt | C53: =IF($B$56=0,0,B53/$B$56) -> 0 | E53: =ROUNDUP(D53*C53,5) -> 0 | F53: =IF(B75=0,"0",B75/$B$78) -> 0 | G53: =E53*$F$53 -> 0 | H53: =C53*$F$53 -> 0
...

Sheet Sch 3 - Expenses
A1: BONNEVILLE POWER ADMINISTRATION
A2: RESIDENTIAL PURCHASE AND SALE AGREEMENT
A3: 2008 Average System Cost Methodology (ASCM) Appendix 1
A5: TOC | D5: UTILITY NAME: | E5: ='Sch 1- Rate Base '!$E$5 -> PUGET SOUND ENERGY | I5: BPA Reviews:
A6: é | D6: End of Year Report Period: | E6: ='Sch 1- Rate Base '!$E$6 -> 2023 | I6: ='Sch 1- Rate Base '!I6
D7: ASC Filing Date: | E7: ='Sch 1- Rate Base '!$E$7 -> 45474 | I7: ='Sch 1- Rate Base '!I7
A9: Schedule 3: Expenses
A11: Account Description | C11: Form 1 | E11: Functionalization | G11: Total | H11: Production | I11: Transmission | J11: Distribution/ Other | L11: Production | M11: Transmission | N11: Distribution/ Other
C12: Page | D12: Account | E12: Method
C13: Number | D13: Numbers | E13: Default | F13: Optional
A14: Power Production Expenses:
B15: Steam Power Generation
B16: Steam Power - Fuel | C16: 320-323 | D16: 501 | E16: PROD | G16: ='FERC p320-323 Elec. O&M'!C16 -> 60636604 | H16: =VLOOKUP($E16,Ratio,2,FALSE)*$G16 -> 60636604 | I16: =VLOOKUP($E16,Ratio,3,FALSE)*$G16 -> 0 | J16: =VLOOKUP($E16,Ratio,4,FALSE)*$G16 -> 0
B17: Steam Power - Operations (Excluding 501 - Fuel) | C17: 320-323 | D17: 500-509 | E17: PROD | G17: ='FERC p320-323 Elec. O&M'!C24-G16 -> 20123737 | H17: =VLOOKUP($E17,Ratio,2,FALSE)*$G17 -> 20123737 | I17: =VLOOKUP($E17,Ratio,3,FALSE)*$G17 -> 0 | J17: =VLOOKUP($E17,Ratio,4,FALSE)*$G17 -> 0
B18: Steam Power - Maintenance | C18: 320-323 | D18: 510-515 | E18: PROD | G18: ='FERC p320-323 Elec. O&M'!C31 -> 23219450 | H18: =VLOOKUP($E18,Ratio,2,FALSE)*$G18 -> 23219450 | I18: =VLOOKUP($E18,Ratio,3,FALSE)*$G18 -> 0 | J18: =VLOOKUP($E18,Ratio,4,FALSE)*$G18 -> 0
B19: Nuclear Power Generation
B20: Nuclear - Fuel | C20: 320-323 | D20: 518 | E20: PROD | G20: ='FERC p320-323 Elec. O&M'!C36 -> 0 | H20: =VLOOKUP($E20,Ratio,2,FALSE)*$G20 -> 0 | I20: =VLOOKUP($E20,Ratio,3,FALSE)*$G20 -> 0 | J20: =VLOOKUP($E20,Ratio,4,FALSE)*$G20 -> 0
B21: Nuclear - Operation ( Excluding 518 - Fuel) | C21: 320-323 | D21: 517-525 | E21: PROD | G21: ='FERC p320-323 Elec. O&M'!C44-G20 -> 0 | H21: =VLOOKUP($E21,Ratio,2,FALSE)*$G21 -> 0 | I21: =VLOOKUP($E21,Ratio,3,FALSE)*$G21 -> 0 | J21: =VLOOKUP($E21,Ratio,4,FALSE)*$G21 -> 0
B22: Nuclear - Maintenance | C22: 320-323 | D22: 528-532 | E22: PROD | G22: ='FERC p320-323 Elec. O&M'!C51 -> 0 | H22: =VLOOKUP($E22,Ratio,2,FALSE)*$G22 -> 0 | I22: =VLOOKUP($E22,Ratio,3,FALSE)*$G22 -> 0 | J22: =VLOOKUP($E22,Ratio,4,FALSE)*$G22 -> 0
B23: Hydraulic Power Generation
B24: Hydraulic - Operation | C24: 320-323 | D24: 535-540.1 | E24: PROD | G24: ='FERC p320-323 Elec. O&M'!C61 -> 7020837 | H24: =VLOOKUP($E24,Ratio,2,FALSE)*$G24 -> 7020837 | I24: =VLOOKUP($E24,Ratio,3,FALSE)*$G24 -> 0 | J24: =VLOOKUP($E24,Ratio,4,FALSE)*$G24 -> 0
B25: Hydraulic - Maintenance | C25: 320-323 | D25: 541-545.1 | E25: PROD | G25: ='FERC p320-323 Elec. O&M'!C69 -> 6951788 | H25: =VLOOKUP($E25,Ratio,2,FALSE)*$G25 -> 6951788 | I25: =VLOOKUP($E25,Ratio,3,FALSE)*$G25 -> 0 | J25: =VLOOKUP($E25,Ratio,4,FALSE)*$G25 -> 0
B26: Other Power Generation
B27: Other Power - Fuel | C27: 320-323 | D27: 547 | E27: PROD | G27: ='FERC p320-323 Elec. O&M'!C81 -> 396650165 | H27: =VLOOKUP($E27,Ratio,2,FALSE)*$G27 -> 396650165 | I27: =VLOOKUP($E27,Ratio,3,FALSE)*$G27 -> 0 | J27: =VLOOKUP($E27,Ratio,4,FALSE)*$G27 -> 0
B28: Other Power - Operations (Excluding 547 - Fuel) | C28: 320-323 | D28: 546-550.1 | E28: PROD | G28: ='FERC p320-323 Elec. O&M'!C86-G27 -> 33443518 | H28: =VLOOKUP($E28,Ratio,2,FALSE)*$G28 -> 33443518 | I28: =VLOOKUP($E28,Ratio,3,FALSE)*$G28 -> 0 | J28: =VLOOKUP($E28,Ratio,4,FALSE)*$G28 -> 0
B29: Other Power - Maintenance | C29: 320-323 | D29: 551-554.1 | E29: PROD | G29: ='FERC p320-323 Elec. O&M'!C93 -> 27656590 | H29: =VLOOKUP($E29,Ratio,2,FALSE)*$G29 -> 27656590 | I29: =VLOOKUP($E29,Ratio,3,FALSE)*$G29 -> 0 | J29: =VLOOKUP($E29,Ratio,4,FALSE)*$G29 -> 0
B30: Other Power Supply Expenses
B31: Purchased Power (Excluding REP Reversal) | C31: 320-323 | D31: 555 | E31: PROD | G31: ='3-YEAR PP & OSS Worksheet'!D21 -> 1085637524 | H31: =VLOOKUP($E31,Ratio,2,FALSE)*$G31 -> 1085637524 | I31: =VLOOKUP($E31,Ratio,3,FALSE)*$G31 -> 0 | J31: =VLOOKUP($E31,Ratio,4,FALSE)*$G31 -> 0
B32: System Control and Load Dispatching | C32: 320-323 | D32: 556 | E32: PROD | G32: ='FERC p320-323 Elec. O&M'!C98 -> 28612 | H32: =VLOOKUP($E32,Ratio,2,FALSE)*$G32 -> 28612 | I32: =VLOOKUP($E32,Ratio,3,FALSE)*$G32 -> 0 | J32: =VLOOKUP($E32,Ratio,4,FALSE)*$G32 -> 0
B33: Other Expenses | C33: 320-323 | D33: 557 | E33: PROD | G33: ='FERC p320-323 Elec. O&M'!C99 -> 94142017 | H33: =VLOOKUP($E33,Ratio,2,FALSE)*$G33 -> 94142017 | I33: =VLOOKUP($E33,Ratio,3,FALSE)*$G33 -> 0 | J33: =VLOOKUP($E33,Ratio,4,FALSE)*$G33 -> 0
B34: BPA REP Reversal | C34: 326-327 | D34: 555 | E34: PROD | G34: 0 | H34: =VLOOKUP($E34,Ratio,2,FALSE)*$G34 -> 0 | I34: =VLOOKUP($E34,Ratio,3,FALSE)*$G34 -> 0 | J34: =VLOOKUP($E34,Ratio,4,FALSE)*$G34 -> 0
B35: Public Purpose Charges (h) | E35: DIRECT | F35: DIST | G35: 0 | H35: =IF($E35="DIRECT",$L35,VLOOKUP($E35,Ratio,2,FALSE)*$G35) -> 0 | I35: =IF($E35="DIRECT",$M35,VLOOKUP($E35,Ratio,3,FALSE)*$G35) -> 0 | J35: =IF($E35="DIRECT",$N35,VLOOKUP($E35,Ratio,4,FALSE)*$G35) -> 0
A36: Total Production Expense | G36: =SUM(G16:G35) -> 1755510842 | H36: =SUM(H16:H35) -> 1755510842 | I36: =SUM(I16:I35) -> 0 | J36: =SUM(J16:J35) -> 0
A38: Transmission Expenses: (i)
B39: Transmission of Electricity by Others (Wheeling) | C39: 320-323 | D39: 565 | E39: prod | G39: ='FERC p320-323 Elec. O&M'!C118 -> 162583424 | H39: =VLOOKUP($E39,Ratio,2,FALSE)*$G39 -> 162583424 | I39: =VLOOKUP($E39,Ratio,3,FALSE)*$G39 -> 0 | J39: =VLOOKUP($E39,Ratio,4,FALSE)*$G39 -> 0
B40: Total Operations less Wheeling | C40: 320-323 | D40: 560-567.1 | E40: TRANS | G40: ='FERC p320-323 Elec. O&M'!C121-G39 -> 14310154 | H40: =VLOOKUP($E40,Ratio,2,FALSE)*$G40 -> 0 | I40: =VLOOKUP($E40,Ratio,3,FALSE)*$G40 -> 0 | J40: =VLOOKUP($E40,Ratio,4,FALSE)*$G40 -> 14310154
B41: Total Maintenance | C41: 320-323 | D41: 568-574 | E41: TRANS | G41: ='FERC p320-323 Elec. O&M'!C134 -> 11909901 | H41: =VLOOKUP($E41,Ratio,2,FALSE)*$G41 -> 0 | I41: =VLOOKUP($E41,Ratio,3,FALSE)*$G41 -> 0 | J41: =VLOOKUP($E41,Ratio,4,FALSE)*$G41 -> 11909901
A42: Total Transmission Expense | G42: =SUM(G39:G41) -> 188803479 | H42: =SUM(H39:H41) -> 162583424 | I42: =SUM(I39:I41) -> 0 | J42: =SUM(J39:J41) -> 26220055
A44: Distribution Expense:
B45: Total Operations | C45: 320-323 | D45: 580-589 | E45: DIST | G45: ='FERC p320-323 Elec. O&M'!C175 -> 44589259 | H45: =VLOOKUP($E45,Ratio,2,FALSE)*$G45 -> 0 | I45: =VLOOKUP($E45,Ratio,3,FALSE)*$G45 -> 0 | J45: =VLOOKUP($E45,Ratio,4,FALSE)*$G45 -> 44589259
...

Sheet Sch 3A - Taxes
A1: BONNEVILLE POWER ADMINISTRATION
A2: RESIDENTIAL PURCHASE AND SALE AGREEMENT
A3: 2008 Average System Cost Methodology (ASCM) Appendix 1
A5: TOC | D5: UTILITY NAME: | E5: ='Sch 1- Rate Base '!$E$5 -> PUGET SOUND ENERGY | I5: BPA Reviews:
D6: End of Year Report Period: | E6: ='Sch 1- Rate Base '!$E$6 -> 2023 | I6: ='Sch 1- Rate Base '!I6
D7: ASC Filing Date: | E7: ='Sch 1- Rate Base '!$E$7 -> 45474 | I7: ='Sch 1- Rate Base '!I7
A9: Schedule 3A Items: Taxes (Including Income Taxes)
A11: Account Description | C11: FERC Form 1 | E11: Funct. Method | F11: Total | G11: Production | H11: Transmission | I11: Distribution/ Other
C12: Page | D12: Account
C13: Number | D13: Numbers
A15: FEDERAL
B16: Income Tax (Included on Schedule 2) | C16: 262-263 | D16: 409.1 | E16: DIST | F16: ='FERC p262 Taxes'!M39 -> 181201019 | G16: =VLOOKUP($E16,Ratio,2,FALSE)*$F16 -> 0 | H16: =VLOOKUP($E16,Ratio,3,FALSE)*$F16 -> 0 | I16: =VLOOKUP($E16,Ratio,4,FALSE)*$F16 -> 181201019
B17: Employment Tax | C17: 262-263 | D17: 408.1 | E17: LABOR | F17: ='FERC p262 Taxes'!M75 -> 10966229 | G17: =VLOOKUP($E17,Ratio,2,FALSE)*$F17 -> 3726655.1 | H17: =VLOOKUP($E17,Ratio,3,FALSE)*$F17 -> 0 | I17: =VLOOKUP($E17,Ratio,4,FALSE)*$F17 -> 7239573.9
B18: Other Federal Taxes | C18: 262-263 | D18: 408.1 | E18: DIST | F18: ='FERC p262 Taxes'!M57 -> 0 | G18: =VLOOKUP($E18,Ratio,2,FALSE)*$F18 -> 0 | H18: =VLOOKUP($E18,Ratio,3,FALSE)*$F18 -> 0 | I18: =VLOOKUP($E18,Ratio,4,FALSE)*$F18 -> 0
A19: TOTAL FEDERAL | F19: =SUM(F16:F18) -> 192167248 | G19: =SUM(G16:G18) -> 3726655.1 | H19: =SUM(H16:H18) -> 0 | I19: =SUM(I16:I18) -> 1.8844059e+08
A21: STATE AND OTHER
B22: Property | C22: 262-263 | D22: 408.1 | E22: PTDG | F22: ='FERC p262 Taxes'!M27 -> 47092120 | G22: =VLOOKUP($E22,Ratio,2,FALSE)*$F22 -> 16476242 | H22: =VLOOKUP($E22,Ratio,3,FALSE)*$F22 -> 0 | I22: =VLOOKUP($E22,Ratio,4,FALSE)*$F22 -> 30615878
B23: Unemployment | C23: 262-263 | D23: 408.1 | E23: LABOR | F23: ='FERC p262 Taxes'!M33 -> 0 | G23: =VLOOKUP($E23,Ratio,2,FALSE)*$F23 -> 0 | H23: =VLOOKUP($E23,Ratio,3,FALSE)*$F23 -> 0 | I23: =VLOOKUP($E23,Ratio,4,FALSE)*$F23 -> 0
B24: State Income, B&O, et. | C24: 262-263 | D24: 409.1 | E24: DIST | F24: ='FERC p262 Taxes'!M42 -> 104687355 | G24: =VLOOKUP($E24,Ratio,2,FALSE)*$F24 -> 0 | H24: =VLOOKUP($E24,Ratio,3,FALSE)*$F24 -> 0 | I24: =VLOOKUP($E24,Ratio,4,FALSE)*$F24 -> 104687355
B25: Franchise Fees | C25: 262-263 | D25: 408.1 | E25: DIST | F25: 0 | G25: =VLOOKUP($E25,Ratio,2,FALSE)*$F25 -> 0 | H25: =VLOOKUP($E25,Ratio,3,FALSE)*$F25 -> 0 | I25: =VLOOKUP($E25,Ratio,4,FALSE)*$F25 -> 0
B26: Regulatory Commission | C26: 262-263 | D26: 408.1 | E26: DIST | F26: 0 | G26: =VLOOKUP($E26,Ratio,2,FALSE)*$F26 -> 0 | H26: =VLOOKUP($E26,Ratio,3,FALSE)*$F26 -> 0 | I26: =VLOOKUP($E26,Ratio,4,FALSE)*$F26 -> 0
B27: City/Municipal | C27: 262-263 | D27: 408.1 | E27: DIST | F27: ='FERC p262 Taxes'!M21 -> 103454099 | G27: =VLOOKUP($E27,Ratio,2,FALSE)*$F27 -> 0 | H27: =VLOOKUP($E27,Ratio,3,FALSE)*$F27 -> 0 | I27: =VLOOKUP($E27,Ratio,4,FALSE)*$F27 -> 103454099
B28: Other | C28: 262-263 | D28: 408.1 | E28: DIST | F28: ='FERC p262 Taxes'!M24 -> 879365 | G28: =VLOOKUP($E28,Ratio,2,FALSE)*$F28 -> 0 | H28: =VLOOKUP($E28,Ratio,3,FALSE)*$F28 -> 0 | I28: =VLOOKUP($E28,Ratio,4,FALSE)*$F28 -> 879365
A29: TOTAL STATE AND OTHER TAXES | F29: =SUM(F22:F28) -> 256112939 | G29: =SUM(G22:G28) -> 16476242 | H29: =SUM(H22:H28) -> 0 | I29: =SUM(I22:I28) -> 2.396367e+08
A31: TOTAL TAXES | F31: =F29+F19 -> 448280187 | G31: =G29+G19 -> 20202897 | H31: =H29+H19 -> 0 | I31: =I29+I19 -> 4.2807729e+08

Sheet Sch 3B - Other Items
A1: BONNEVILLE POWER ADMINISTRATION
A2: RESIDENTIAL PURCHASE AND SALE AGREEMENT
A3: 2008 Average System Cost Methodology (ASCM) Appendix 1
A5: TOC | D5: UTILITY NAME: | E5: ='Sch 1- Rate Base '!$E$5 -> PUGET SOUND ENERGY | I5: BPA Reviews:
D6: End of Year Report Period: | E6: ='Sch 1- Rate Base '!$E$6 -> 2023 | I6: ='Sch 1- Rate Base '!I6
D7: ASC Filing Date: | E7: ='Sch 1- Rate Base '!$E$7 -> 45474 | I7: ='Sch 1- Rate Base '!I7
A9: Schedule 3B Other Included Items
A11: Account Description | C11: FERC Form 1 | E11: Functionalization | G11: Total | H11: Production | I11: Transmission | J11: Distribution/ Other | L11: Production | M11: Transmission | N11: Distribution/ Other
C12: Page | D12: Account | E12: Method
C13: Number | D13: Numbers | E13: Default | F13: Optional
A14: Other Included Items:
B15: Regulatory Credits | C15: 114-117 | D15: 407.4 | E15: DIRECT | F15: PROD | G15: ='FERC p114-117a Income'!H25 -> 134166092 | H15: =IF($E15="DIRECT",$L15,VLOOKUP($E15,Ratio,2,FALSE)*$G15) -> 1.0117803e+08 | I15: =IF($E15="DIRECT",$M15,VLOOKUP($E15,Ratio,3,FALSE)*$G15) -> 0 | J15: =IF($E15="DIRECT",$N15,VLOOKUP($E15,Ratio,4,FALSE)*$G15) -> 32988060 | L15: =-'DIRECT 4073 & 4074'!H126 -> 1.0117803e+08 | M15: =-'DIRECT 4073 & 4074'!I126 -> 0 | N15: =-'DIRECT 4073 & 4074'!J126 -> 32988060
B16: (Less) Regulatory Debits | C16: 114-117 | D16: 407.3 | E16: DIRECT | F16: DIST | G16: ='FERC p114-117a Income'!H24 -> 66572207 | H16: =IF($E16="DIRECT",$L16,VLOOKUP($E16,Ratio,2,FALSE)*$G16) -> 35561739 | I16: =IF($E16="DIRECT",$M16,VLOOKUP($E16,Ratio,3,FALSE)*$G16) -> 0 | J16: =IF($E16="DIRECT",$N16,VLOOKUP($E16,Ratio,4,FALSE)*$G16) -> 31010468 | L16: ='DIRECT 4073 & 4074'!H45 -> 35561739 | M16: ='DIRECT 4073 & 4074'!I45 -> 0 | N16: ='DIRECT 4073 & 4074'!J45 -> 31010468
B17: Gain from Disposition of Utility Plant | C17: 114-117 | D17: 411.6 | E17: DIRECT | F17: PROD | G17: ='FERC p114-117a Income'!H32 -> 611696 | H17: =IF($E17="DIRECT",$L17,VLOOKUP($E17,Ratio,2,FALSE)*$G17) -> 213537.99 | I17: =IF($E17="DIRECT",$M17,VLOOKUP($E17,Ratio,3,FALSE)*$G17) -> 0 | J17: =IF($E17="DIRECT",$N17,VLOOKUP($E17,Ratio,4,FALSE)*$G17) -> 398158.4 | L17: =-SUM('DIRECT 411.6 & 411.7'!I7:I9) -> 213537.99 | M17: =-SUM('DIRECT 411.6 & 411.7'!J7:J9) -> 0 | N17: =-SUM('DIRECT 411.6 & 411.7'!K7:K9) -> 398158.4
B18: (Less) Loss from Disposition of Utility Plant | C18: 114-117 | D18: 411.7 | E18: DIRECT | F18: DIST | G18: ='FERC p114-117a Income'!H33 -> 5519 | H18: =IF($E18="DIRECT",$L18,VLOOKUP($E18,Ratio,2,FALSE)*$G18) -> 1926.566 | I18: =IF($E18="DIRECT",$M18,VLOOKUP($E18,Ratio,3,FALSE)*$G18) -> 0 | J18: =IF($E18="DIRECT",$N18,VLOOKUP($E18,Ratio,4,FALSE)*$G18) -> 3592.234 | L18: =SUM('DIRECT 411.6 & 411.7'!I10:I12) -> 1926.566 | M18: =SUM('DIRECT 411.6 & 411.7'!J10:J12) -> 0 | N18: =SUM('DIRECT 411.6 & 411.7'!K10:K12) -> 3592.234
B19: Gain from Disposition of Allowances | C19: 114-117 | D19: 411.8 | E19: PROD | G19: ='FERC p114-117a Income'!H34 -> 0 | H19: =VLOOKUP($E19,Ratio,2,FALSE)*$G19 -> 0 | I19: =VLOOKUP($E19,Ratio,3,FALSE)*$G19 -> 0 | J19: =VLOOKUP($E19,Ratio,4,FALSE)*$G19 -> 0
B20: (Less) Loss from Disposition of Allowances | C20: 114-117 | D20: 411.9 | E20: PROD | G20: ='FERC p114-117a Income'!H35 -> 0 | H20: =VLOOKUP($E20,Ratio,2,FALSE)*$G20 -> 0 | I20: =VLOOKUP($E20,Ratio,3,FALSE)*$G20 -> 0 | J20: =VLOOKUP($E20,Ratio,4,FALSE)*$G20 -> 0
B21: Miscellaneous Nonoperating Income | C21: 114-117 | D21: 421 | E21: DIRECT | F21: PROD | G21: ='FERC p114-117a Income'!D53-'DIRECT 421'!$F$9 -> -261571031 | H21: =IF($E21="DIRECT",$L21,VLOOKUP($E21,Ratio,2,FALSE)*$G21) -> 11756.069 | I21: =IF($E21="DIRECT",$M21,VLOOKUP($E21,Ratio,3,FALSE)*$G21) -> 0 | J21: =IF($E21="DIRECT",$N21,VLOOKUP($E21,Ratio,4,FALSE)*$G21) -> -2.6158279e+08 | L21: =-'DIRECT 421'!I39 -> 11756.069 | M21: =-'DIRECT 421'!J39 -> 0 | N21: =-'DIRECT 421'!K39 -> -2.6158279e+08
A22: Total Other Included Items | G22: =G15-G16+G17-G18+G19-G20+G21 -> -193370969 | H22: =H15-H16+H17-H18+H19-H20+H21 -> 65839660 | I22: =I15-I16+I17-I18+I19-I20+I21 -> 0 | J22: =J15-J16+J17-J18+J19-J20+J21 -> -2.5921063e+08
A24: Sales for Resale:
B25: Sales for Resale | C25: 310 | D25: 447 | E25: PROD | G25: ='3-YEAR PP & OSS Worksheet'!D36 -> 640830574 | H25: =VLOOKUP($E25,Ratio,2,FALSE)*$G25 -> 640830574 | I25: =VLOOKUP($E25,Ratio,3,FALSE)*$G25 -> 0 | J25: =VLOOKUP($E25,Ratio,4,FALSE)*$G25 -> 0
A26: Total Sales for Resale | G26: =SUM(G25) -> 640830574 | H26: =SUM(H25) -> 640830574 | I26: =SUM(I25) -> 0 | J26: =SUM(J25) -> 0
A28: Other Revenues:
B29: Forfeited Discounts | C29: 300 | D29: 450 | E29: DIST | G29: ='FERC p300-301 Op Revenues'!C28 -> -758 | H29: =VLOOKUP($E29,Ratio,2,FALSE)*$G29 -> 0 | I29: =VLOOKUP($E29,Ratio,3,FALSE)*$G29 -> 0 | J29: =VLOOKUP($E29,Ratio,4,FALSE)*$G29 -> -758
B30: Miscellaneous Service Revenues | C30: 300 | D30: 451 | E30: DIST | G30: ='FERC p300-301 Op Revenues'!C29 -> 16254690 | H30: =VLOOKUP($E30,Ratio,2,FALSE)*$G30 -> 0 | I30: =VLOOKUP($E30,Ratio,3,FALSE)*$G30 -> 0 | J30: =VLOOKUP($E30,Ratio,4,FALSE)*$G30 -> 16254690
B31: Sales of Water and Water Power | C31: 300 | D31: 453 | E31: PROD | G31: ='FERC p300-301 Op Revenues'!$C$30 -> 0 | H31: =VLOOKUP($E31,Ratio,2,FALSE)*$G31 -> 0 | I31: =VLOOKUP($E31,Ratio,3,FALSE)*$G31 -> 0 | J31: =VLOOKUP($E31,Ratio,4,FALSE)*$G31 -> 0
B32: Rent from Electric Property | C32: 300 | D32: 454 | E32: TD | G32: ='FERC p300-301 Op Revenues'!C31 -> 16990858 | H32: =VLOOKUP($E32,Ratio,2,FALSE)*$G32 -> 0 | I32: =VLOOKUP($E32,Ratio,3,FALSE)*$G32 -> 0 | J32: =VLOOKUP($E32,Ratio,4,FALSE)*$G32 -> 16990858
B33: Interdepartmental Rents | C33: 300 | D33: 455 | E33: DIST | G33: ='FERC p300-301 Op Revenues'!C32 -> 0 | H33: =VLOOKUP($E33,Ratio,2,FALSE)*$G33 -> 0 | I33: =VLOOKUP($E33,Ratio,3,FALSE)*$G33 -> 0 | J33: =VLOOKUP($E33,Ratio,4,FALSE)*$G33 -> 0
B34: Other Electric Revenues | C34: 300 | D34: 456 | E34: DIRECT | F34: PROD | G34: ='FERC p300-301 Op Revenues'!C33 -> 33809167 | H34: =IF($E34="DIRECT",$L34,VLOOKUP($E34,Ratio,2,FALSE)*$G34) -> 46941386 | I34: =IF($E34="DIRECT",$M34,VLOOKUP($E34,Ratio,3,FALSE)*$G34) -> 0 | J34: =IF($E34="DIRECT",$N34,VLOOKUP($E34,Ratio,4,FALSE)*$G34) -> -13132219 | L34: =-'DIRECT 456'!G93 -> 46941386 | M34: =-'DIRECT 456'!H93 -> 0 | N34: =-'DIRECT 456'!I93 -> -13132219
B35: Revenues from Transmission of Electricity of Others (i) | C35: 330 | D35: 456.1 | E35: TRANS | G35: ='FERC p300-301 Op Revenues'!C34 -> 34371414 | H35: =VLOOKUP($E35,Ratio,2,FALSE)*$G35 -> 0 | I35: =VLOOKUP($E35,Ratio,3,FALSE)*$G35 -> 0 | J35: =VLOOKUP($E35,Ratio,4,FALSE)*$G35 -> 34371414
A37: Total Other Revenues | G37: =SUM(G29:G36) -> 101425371 | H37: =SUM(H29:H36) -> 46941386 | I37: =SUM(I29:I36) -> 0 | J37: =SUM(J29:J36) -> 54483985
A39: Total Other Included Items | G39: =+G37+G26+G22 -> 548884976 | H39: =+H37+H26+H22 -> 7.5361162e+08 | I39: =+I37+I26+I22 -> 0 | J39: =+J37+J26+J22 -> -2.0472664e+08
A40: (Total Disposition of Plant + Total Sales for Resale + Total Other Revenue)

Sheet Sch 4 - Average System Cost
A1: BONNEVILLE POWER ADMINISTRATION
A2: RESIDENTIAL PURCHASE AND SALE AGREEMENT
A3: 2008 Average System Cost Methodology (ASCM) Appendix 1
A5: TOC | B5: UTILITY NAME: | C5: ='Sch 1- Rate Base '!$E$5 -> PUGET SOUND ENERGY | F5: BPA Reviews:
B6: End of Year Report Period: | C6: ='Sch 1- Rate Base '!$E$6 -> 2023 | F6: ='Sch 1- Rate Base '!I6
B7: ASC Filing Date: | C7: ='Sch 1- Rate Base '!$E$7 -> 45474 | F7: ='Sch 1- Rate Base '!I7
A9: Schedule 4: Average System Cost
C12: Total | D12: Production | E12: Transmission | F12: Distribution/Other
A13: Total Operating Expenses | C13: ='Sch 3 - Expenses'!G100 -> 2.9311667e+09 | D13: ='Sch 3 - Expenses'!H100 -> 2.2504203e+09 | E13: ='Sch 3 - Expenses'!I100 -> 0 | F13: ='Sch 3 - Expenses'!J100 -> 6.8074638e+08
A14: (From Schedule 3)
A16: Federal Income Tax Adjusted Return on Rate Base | C16: =IF('Sch 2 -Rate of Return'!E42>0,'Sch 2 -Rate of Return'!E42,IF('Sch 2 -Rate of Return'!E98>0,'Sch 2 -Rate of Return'!E98,IF('Sch 2 -Rate of Return'!E125>0,'Sch 2 -Rate of Return'!E125,0))) -> 6.3712008e+08 | D16: =IF('Sch 2 -Rate of Return'!F42>0,'Sch 2 -Rate of Return'!F42,IF('Sch 2 -Rate of Return'!F98>0,'Sch 2 -Rate of Return'!F98,IF('Sch 2 -Rate of Return'!F125>0,'Sch 2 -Rate of Return'!F125,0))) -> 1.8580708e+08 | E16: =IF('Sch 2 -Rate of Return'!G42>0,'Sch 2 -Rate of Return'!G42,IF('Sch 2 -Rate of Return'!G98>0,'Sch 2 -Rate of Return'!G98,IF('Sch 2 -Rate of Return'!G125>0,'Sch 2 -Rate of Return'!G125,0))) -> 0 | F16: =IF('Sch 2 -Rate of Return'!H42>0,'Sch 2 -Rate of Return'!H42,IF('Sch 2 -Rate of Return'!H98>0,'Sch 2 -Rate of Return'!H98,IF('Sch 2 -Rate of Return'!H125>0,'Sch 2 -Rate of Return'!H125,0))) -> 4.51313e+08
A17: (From Schedule 2)
A19: State and Other Taxes | C19: ='Sch 3A - Taxes'!F31 -> 448280187 | D19: ='Sch 3A - Taxes'!G31 -> 20202897 | E19: ='Sch 3A - Taxes'!H31 -> 0 | F19: ='Sch 3A - Taxes'!I31 -> 4.2807729e+08
A20: (From Schedule 3a)
A22: Total Other Included Items | C22: ='Sch 3B - Other Items'!G39 -> 548884976 | D22: ='Sch 3B - Other Items'!H39 -> 7.5361162e+08 | E22: ='Sch 3B - Other Items'!I39 -> 0 | F22: ='Sch 3B - Other Items'!J39 -> -2.0472664e+08
A23: (From Schedule 3b)
A25: Total Cost | C25: =C13+C16+C19-C22 -> 3.467682e+09 | D25: =D13+D16+D19-D22 -> 1.7028187e+09 | E25: =E13+E16+E19-E22 -> 0 | F25: =F13+F16+F19-F22 -> 1.7648633e+09
A26: (Total Operating Expenses + Return on Rate Base + State and Other Taxes - Total Other Included Items)
H29: Without NLSL | J29: With | K29: With NLSL and
H30: or Above-RHWM Load | I30: With NLSL | J30: Above-RHWM Load | K30: Above-RHWM Load
A31: Contract System Cost | H31: Removed | I31: Removed | J31: Removed | K31: Removed
A32: Production | D32: =D25 -> 1.7028187e+09 | F32: NLSL Fully Alloc. Cost ($/MWh) | H32: =$D$25 -> 1.7028187e+09 | I32: =$D$25 -> 1.7028187e+09 | J32: =$D$25 -> 1.7028187e+09 | K32: =$D$25 -> 1.7028187e+09
A33: Transmission | D33: =E25 -> 0 | H33: =$E$25 -> 0 | I33: =$E$25 -> 0 | J33: =$E$25 -> 0 | K33: =$E$25 -> 0
A34: (Less) New Large Single Load Costs (d) | D34: =F34*D40 -> 0 | E34: NLSL | F34: ='NLSL_Base_New-Calc'!AA43+'NLSL_Base_New-Calc'!AA46 -> 61.165569 | H34: 0 | I34: =F34*F45 -> 0 | J34: 0 | K34: =F34*K40 -> 0
A35: (Less) Above-RHWM Load Costs (d) | D35: =F35*D43 -> 0 | E35: Above-RHWM | F35: ='Above-RHWM_Base_Calc'!AA43+'Above-RHWM_Base_Calc'!AA46 -> 108.08009 | H35: 0 | I35: 0 | J35: =F35*F48 -> 0 | K35: =F35*K43 -> 0
A36: Total Contract System Cost | D36: =D32+D33-D34-D35 -> 1.7028187e+09 | H36: =H32+H33-H34-H35 -> 1.7028187e+09 | I36: =I32+I33-I34-I35 -> 1.7028187e+09 | J36: =J32+J33-J34-J35 -> 1.7028187e+09 | K36: =K32+K33-K34-K35 -> 1.7028187e+09
A38: Contract System Load (MWh)
A39: Total Retail Load | D39: ='FERC p401a Energy Acct BP - 23'!C31 -> 21165762 | H39: =D39 -> 21165762 | I39: =D39 -> 21165762 | J39: =D39 -> 21165762 | K39: =D39 -> 21165762
A40: (Less) New Large Single Load | D40: =IF(F34>MIN(H46,J46),F45,0) -> 0 | H40: 0 | I40: =F45 -> 0 | J40: 0 | K40: =F45 -> 0
A41: Total Retail Load (Net of NLSL) (d) | D41: =D39-D40 -> 21165762 | F41: Distribution Losses (%) | H41: =H39-H40 -> 21165762 | I41: =I39-I40 -> 21165762 | J41: =J39-J40 -> 21165762 | K41: =K39-K40 -> 21165762
A42: Distribution Loss (f) (See Distribution Loss Schedule) | D42: =D39*F42 -> 982091.36 | F42: ='Distribution Loss Calc'!F26 -> 0.0464 | H42: =H39*F42 -> 982091.36 | I42: =I39*F42 -> 982091.36 | J42: =J39*F42 -> 982091.36 | K42: =K39*F42 -> 982091.36
A43: (Less) Above-RHWM Load | D43: =IF(F35>MIN(H46,I46),F48,0) -> 0 | H43: 0 | I43: 0 | J43: =F48 -> 0 | K43: =F48 -> 0
A44: Total Contract System Load | D44: =D41+D42-D43 -> 22147853 | F44: NLSL MWH | H44: =H41+H42 -> 22147853 | I44: =I41+I42-I43 -> 22147853 | J44: =J41+J42-J43 -> 22147853 | K44: =K41+K42-K43 -> 22147853
A46: Average System Cost $/MWh | D46: =IF(D44=0,"$0",D36/D44) -> 76.884141 | H46: =IF(H44=0,"$0",H36/H44) -> 76.884141 | I46: =IF(I44=0,"$0",I36/I44) -> 76.884141 | J46: =IF(J44=0,"$0",J36/J44) -> 76.884141 | K46: =IF(K44=0,"$0",K36/K44) -> 76.884141
F47: Above-RHWM Load MWh

Sheet 3-YEAR PP & OSS Worksheet
A1: BONNEVILLE POWER ADMINISTRATION
A2: RESIDENTIAL PURCHASE AND SALE AGREEMENT
A3: 2008 Average System Cost Methodology (ASCM) Appendix 1
F4: UTILITY NAME: | G4: ='Sch 1- Rate Base '!$E$5 -> PUGET SOUND ENERGY | K4: BPA Reviews:
B5: TOC | F5: End of Year Report Period: | G5: ='Sch 1- Rate Base '!$E$6 -> 2023 | K5: ='Sch 1- Rate Base '!I6
F6: ASC Filing Date: | G6: ='Sch 1- Rate Base '!$E$7 -> 45474 | K6: ='Sch 1- Rate Base '!I7
A7: Purchased Power & Sales for Resale
B8: FERC Form 1 | D8: Purchased Power | G8: Purchased Power - Base Period Minus 1 | J8: Purchased Power - Base Period Minus 2
B9: Statistical | C9: Page
B10: Classification | C10: Number | D10: Settlement Total | E10: MWh Purchased | G10: Settlement Total | H10: MWh Purchased | J10: Settlement Total | K10: MWh Purchased
B11: RQ | C11: 326-327
B12: LF | C12: 326-327 | D12: ='FERC p326-327 Purchased Pwr 23'!T3 -> 20964343 | E12: ='FERC p326-327 Purchased Pwr 23'!U3 -> 243042 | G12: =GETPIVOTDATA("Sum of (n)",'FERC p326-327 Purchased Pwr 22'!$S$2,"(b)","LF") -> 21047048 | H12: =GETPIVOTDATA("Sum of (g)",'FERC p326-327 Purchased Pwr 22'!$S$2,"(b)","LF") -> 244785 | J12: ='FERC p326-327 Purchased Pwr 21'!T7 -> 117812219 | K12: ='FERC p326-327 Purchased Pwr 21'!U7 -> 3458996
B13: IF | C13: 326-327 | D13: ='FERC p326-327 Purchased Pwr 23'!T4 -> 195413332 | E13: ='FERC p326-327 Purchased Pwr 23'!U4 -> 1716317 | G13: =GETPIVOTDATA("Sum of (n)",'FERC p326-327 Purchased Pwr 22'!$S$2,"(b)","IF") -> 109977591 | H13: =GETPIVOTDATA("Sum of (g)",'FERC p326-327 Purchased Pwr 22'!$S$2,"(b)","IF") -> 996550 | J13: ='FERC p326-327 Purchased Pwr 21'!T5 -> 967549 | K13: ='FERC p326-327 Purchased Pwr 21'!U5 -> 18119
B14: SF | C14: 326-327
B15: LU | C15: 326-327 | D15: ='FERC p326-327 Purchased Pwr 23'!T5 -> 503086094 | E15: ='FERC p326-327 Purchased Pwr 23'!U5 -> 9891590 | G15: =GETPIVOTDATA("Sum of (n)",'FERC p326-327 Purchased Pwr 22'!$S$2,"(b)","LU") -> 427708427 | H15: =GETPIVOTDATA("Sum of (g)",'FERC p326-327 Purchased Pwr 22'!$S$2,"(b)","LU") -> 9438020 | J15: ='FERC p326-327 Purchased Pwr 21'!T8 -> 263063266 | K15: ='FERC p326-327 Purchased Pwr 21'!U8 -> 4962210
B16: IU | C16: 326-327 | D16: ='FERC p326-327 Purchased Pwr 23'!T6 -> 36868643 | E16: ='FERC p326-327 Purchased Pwr 23'!U6 -> 498674 | G16: =GETPIVOTDATA("Sum of (n)",'FERC p326-327 Purchased Pwr 22'!$S$2,"(b)","IU") -> 8423625 | H16: =GETPIVOTDATA("Sum of (g)",'FERC p326-327 Purchased Pwr 22'!$S$2,"(b)","IU") -> 234450 | J16: ='FERC p326-327 Purchased Pwr 21'!T6 -> 123482 | K16: ='FERC p326-327 Purchased Pwr 21'!U6 -> 3144
B17: OS | C17: 326-327 | D17: ='FERC p326-327 Purchased Pwr 23'!T7 -> 227867672 | E17: ='FERC p326-327 Purchased Pwr 23'!U7 -> 4250173 | G17: =GETPIVOTDATA("Sum of (n)",'FERC p326-327 Purchased Pwr 22'!$S$2,"(b)","OS") -> 550550865 | H17: =GETPIVOTDATA("Sum of (g)",'FERC p326-327 Purchased Pwr 22'!$S$2,"(b)","OS") -> 7019328 | J17: ='FERC p326-327 Purchased Pwr 21'!T9 -> 393915086 | K17: ='FERC p326-327 Purchased Pwr 21'!U9 -> 7991092
B18: EX | C18: 326-327 | D18: ='FERC p326-327 Purchased Pwr 23'!$T$8 -> 1141967 | E18: 0 | G18: =GETPIVOTDATA("Sum of (n)",'FERC p326-327 Purchased Pwr 22'!$S$2,"(b)","EX") -> 1154053 | H18: =GETPIVOTDATA("Sum of (g)",'FERC p326-327 Purchased Pwr 22'!$S$2,"(b)","EX") -> 0 | J18: ='FERC p326-327 Purchased Pwr 21'!T4 -> 948565 | K18: ='FERC p326-327 Purchased Pwr 21'!U4 -> 0
B19: NA | C19: 326-327
B20: AD | C20: 326-327 | D20: ='FERC p326-327 Purchased Pwr 23'!T9 -> 100295473 | E20: ='FERC p326-327 Purchased Pwr 23'!U9 -> 3958 | G20: =GETPIVOTDATA("Sum of (n)",'FERC p326-327 Purchased Pwr 22'!$S$2,"(b)","AD") -> 1860982 | H20: =GETPIVOTDATA("Sum of (g)",'FERC p326-327 Purchased Pwr 22'!$S$2,"(b)","AD") -> -879 | J20: ='FERC p326-327 Purchased Pwr 21'!T3 -> -3435473 | K20: ='FERC p326-327 Purchased Pwr 21'!U3 -> -1058
B21: TOTAL | D21: =SUM(D11:D20) -> 1085637524 | E21: =SUM(E11:E20) -> 16603754 | G21: =SUM(G11:G20) -> 1120722591 | H21: =SUM(H11:H20) -> 17932254 | J21: =SUM(J11:J20) -> 773394694 | K21: =SUM(K11:K20) -> 16432503
B23: FERC Form 1 | D23: Sales for Resale | G23: Sales for Resale - Base Period Minus 1 | J23: Sales for Resale - Base Period Minus 2
B24: Statistical | C24: Page
B25: Classification | C25: Number | D25: Settlement Total | E25: MWh Sold | G25: Settlement Total | H25: MWh Sold | J25: Settlement Total | K25: MWh Sold
B26: RQ | C26: 310-311 | D26: ='FERC p310-311 Sales for Rsl 23'!O3 -> 324999 | E26: ='FERC p310-311 Sales for Rsl 23'!P3 -> 6700 | G26: ='FERC p310-311 Sales for Rsl 22'!O5 -> 343677 | H26: ='FERC p310-311 Sales for Rsl 22'!P5 -> 7136 | J26: ='FERC p310-311 Sales for Rsl 21'!O5 -> 349832 | K26: ='FERC p310-311 Sales for Rsl 21'!P5 -> 7204
B27: LF | C27: 310-311
B28: IF | C28: 310-311
B29: SF | C29: 310-311
B30: LU | C30: 310-311
B31: IU | C31: 310-311
B32: OS | C32: 310-311 | D32: ='FERC p310-311 Sales for Rsl 23'!O4 -> 640780730 | E32: ='FERC p310-311 Sales for Rsl 23'!P4 -> 9027709 | G32: ='FERC p310-311 Sales for Rsl 22'!O4 -> 546361826 | H32: ='FERC p310-311 Sales for Rsl 22'!P4 -> 6037163 | J32: ='FERC p310-311 Sales for Rsl 21'!O4 -> 292596957 | K32: ='FERC p310-311 Sales for Rsl 21'!P4 -> 6641435
B33: EX | C33: 310-311
B34: NA | C34: 310-311
B35: AD | C35: 310-311 | D35: ='FERC p310-311 Sales for Rsl 23'!O5 -> -275155 | E35: ='FERC p310-311 Sales for Rsl 23'!P5 -> -785 | G35: ='FERC p310-311 Sales for Rsl 22'!O3 -> 255176 | H35: ='FERC p310-311 Sales for Rsl 22'!P3 -> 134 | J35: ='FERC p310-311 Sales for Rsl 21'!O3 -> 60369 | K35: ='FERC p310-311 Sales for Rsl 21'!P3 -> 1309
B36: TOTAL | D36: =SUM(D26:D35) -> 640830574 | E36: =SUM(E26:E35) -> 9033624 | G36: =SUM(G26:G35) -> 546960679 | H36: =SUM(H26:H35) -> 6044433 | J36: =SUM(J26:J35) -> 293007158 | K36: =SUM(K26:K35) -> 6649948
D69: Average PP | E69: =IF((E14+E17+E18)=0,0,(D14+D17+D18)/(E14+E17+E18)) -> 53.882428 | F69: =IF((H14+H17+H18)=0,0,(G14+G17+G18)/(H14+H17+H18)) -> 78.597968 | G69: =IF((K14+K17+K18)=0,0,(J14+J17+J18)/(K14+K17+K18)) -> 49.412978
D70: Average SS | E70: =IF((E29+E32+E33)=0,0,(D29+D32+D33)/(E29+E32+E33)) -> 70.979329 | F70: =IF((H29+H32+H33)=0,0,(G29+G32+G33)/(H29+H32+H33)) -> 90.499764 | G70: =IF((K29+K32+K33)=0,0,(J29+J32+J33)/(K29+K32+K33)) -> 44.056286
D71: 1/2 difference | E71: =(E69-E70)/2 -> -8.5484508 | F71: =(F69-F70)/2 -> -5.9508979 | G71: =(G69-G70)/2 -> 2.6783461
D72: Mid Point | E72: =AVERAGE(E69:E70) -> 62.430878 | F72: =AVERAGE(F69:F70) -> 84.548866 | G72: =AVERAGE(G69:G70) -> 46.734632
E73: =IF(E72=0,0,((E72+E71)/E72)-1) -> -0.13692665 | F73: =IF(F72=0,0,((F72+F71)/F72)-1) -> -0.070384124 | G73: =IF(G72=0,0,((G72+G71)/G72)-1) -> 0.057309665
...

Sheet Load Forecast
A1: Fiscal Year Load Forecast
A2: Fiscal Year MWh | B2: Base Period MWh | C2: Forecast Fiscal Year MWh
A3: FY | B3: ='Sch 1- Rate Base '!E6 -> 2023 | C3: =B3+1 -> 2024 | D3: =C3+1 -> 2025 | E3: =D3+1 -> 2026 | F3: =E3+1 -> 2027 | G3: =F3+1 -> 2028
A4: Total Retail Sales @ Meter | B4: ='Sch 4 - Average System Cost'!D39 -> 21165762 | C4: ='PSE F24 Forecast Load'!J7 -> 21133873 | D4: ='PSE F24 Forecast Load'!J8 -> 21226594 | E4: ='PSE F24 Forecast Load'!J9 -> 21400392 | F4: ='PSE F24 Forecast Load'!J10 -> 21558214 | G4: ='PSE F24 Forecast Load'!J11 -> 21854080
A5: Distribution Losses | B5: ='Sch 4 - Average System Cost'!D42 -> 982091.36 | C5: =IF($B$4=0,0,C4*$B$16) -> 980611.71 | D5: =IF($B$4=0,0,D4*$B$16) -> 984913.96 | E5: =IF($B$4=0,0,E4*$B$16) -> 992978.19 | F5: =IF($B$4=0,0,F4*$B$16) -> 1000301.1 | G5: =IF($B$4=0,0,G4*$B$16) -> 1014029.3
A6: Contract System Load | B6: =B4+B5 -> 22147853 | C6: =IF('Tiered Rates'!C14>0,'Tiered Rates'!C14*8784,C4+C5) -> 22114485 | D6: =IF('Tiered Rates'!D14>0,'Tiered Rates'!D14*8760,D4+D5) -> 22211508 | E6: =IF('Tiered Rates'!E14>0,'Tiered Rates'!E14*8784,E4+E5) -> 22393370 | F6: =IF('Tiered Rates'!E14>0,'Tiered Rates'!E14*8760,F4+F5) -> 22558515 | G6: =IF('Tiered Rates'!F14>0,'Tiered Rates'!F14*8760,G4+G5) -> 22868109
A7: Load for Dist Plant Adds | B7: =B6 -> 22147853 | C7: =MAX(C6,B7) -> 22147853 | D7: =MAX(D6,C7) -> 22211508 | E7: =MAX(E6,D7) -> 22393370 | F7: =MAX(F6,E7) -> 22558515 | G7: =MAX(G6,F7) -> 22868109
A9: Base Period NLSL MWh | B9: ='Sch 4 - Average System Cost'!F45 -> 0
A10: New NLSL MWh
A11: Total NLSL MWh | B11: =B9 -> 0 | C11: =C10+B11 -> 0 | D11: =D10+C11 -> 0 | E11: =E10+D11 -> 0 | F11: =F10+E11 -> 0 | G11: =G10+F11 -> 0
A14: Annual Load Change | C14: =C6-B6 -> -33368.65 | D14: =D6-C6 -> 97023.254 | E14: =E6-D6 -> 181862.23 | F14: =F6-E6 -> 165144.94 | G14: =G6-F6 -> 309594.18
A16: Distribution Loss Percentage | B16: =ROUND('Sch 4 - Average System Cost'!F42,4) -> 0.0464
A20: TOC | D20: ='Sch 1- Rate Base '!E5 -> PUGET SOUND ENERGY
D21: ='Sch 1- Rate Base '!E6 -> 2023
D22: ='Sch 1- Rate Base '!E7 -> 45474
C25: BONNEVILLE POWER ADMINISTRATION
C26: RESIDENTIAL PURCHASE AND SALE AGREEMENT
C27: 2008 Average System Cost Methodology (ASCM) Appendix 1

Sheet Distribution Loss Calc
A1: BONNEVILLE POWER ADMINISTRATION
A2: RESIDENTIAL PURCHASE AND SALE AGREEMENT
A3: 2008 Average System Cost (ASCM) Appendix 1
A5: TOC | C5: UTILITY NAME: | D5: ='Sch 1- Rate Base '!$E$5 -> PUGET SOUND ENERGY
C6: End of Year Report Period: | D6: ='Sch 1- Rate Base '!$E$6 -> 2023
C7: ASC Filing Date: | D7: ='Sch 1- Rate Base '!$E$7 -> 45474
A10: Distribution Loss Calculation
C12: Base Year | D12: pg 401 losses | E12: pg 401 sales to ultimate consumers | F12: Loss Factor
B13: 1 | C13: 2023 | D13: ='FERC p401a Energy Acct BP - 23'!C36 -> 1090701 | E13: ='FERC p401a Energy Acct BP - 23'!$C$31 -> 21165762 | F13: =ROUND(+D13/E13,4) -> 0.0515
B14: 2 | C14: 2022 | D14: ='FERC p401a Energy Acct BP - 22'!C36 -> 1343941 | E14: ='FERC p401a Energy Acct BP - 22'!$C$31 -> 21613415 | F14: =ROUND(+D14/E14,4) -> 0.0622
B15: 3 | C15: 2021 | D15: ='FERC p401a Energy Acct BP - 21'!C36 -> 1459849 | E15: ='FERC p401a Energy Acct BP - 21'!C31 -> 21036614 | F15: =ROUND(+D15/E15,4) -> 0.0694
B16: 4 | C16: 2020 | D16: ='FERC p401a Energy Acct BP - 20'!F28 -> 1588951 | E16: ='FERC p401a Energy Acct BP - 20'!F23 -> 20088222 | F16: =ROUND(+D16/E16,4) -> 0.0791
B17: 5 | C17: 2019 | D17: ='FERC p401a Energy Acct BP - 19'!F28 -> 1275898 | E17: ='FERC p401a Energy Acct BP - 19'!F23 -> 20833230 | F17: =ROUND(+D17/E17,4) -> 0.0612
C19: 5 year Total | D19: =SUM(D13:D17) -> 6759340 | E19: =SUM(E13:E17) -> 1.0473724e+08 | F19: =ROUND(+D19/E19,4) -> 0.0645
C20: Average | D20: =AVERAGE(D13:D17) -> 1351868 | E20: =AVERAGE(E13:E17) -> 20947449 | F20: =ROUND(+D20/E20,4) -> 0.0645
B22: Loss Factor (5 year Average) | F22: =F20 -> 0.0645
B23: Less:
B24: Loss factor for BPA's transmission system. | F24: 0.0181
B26: Method 3 Default Loss factor for 2023 Base ASC | F26: =ROUND(+F22-F24,4) -> 0.0464

Sheet Salaries
A1: BONNEVILLE POWER ADMINISTRATION
A2: RESIDENTIAL PURCHASE AND SALE AGREEMENT
A3: 2008 Average System Cost Methodology (ASCM) Appendix 1
A5: TOC | B5: UTILITY NAME: | C5: ='Sch 1- Rate Base '!$E$5 -> PUGET SOUND ENERGY
B6: End of Year Report Period: | C6: ='Sch 1- Rate Base '!$E$6 -> 2023
A7: 2/19/2010 | B7: ASC Filing Date: | C7: ='Sch 1- Rate Base '!$E$7 -> 45474
A10: Distribution of Salaries and Wages (For Labor Ratio Calculation)
A11: Description | C11: Form 1 | D11: Amount
C12: Page
C13: Number
A14: Electric
A15: Operation
A16: 1 | B16: Production | C16: 354-355 | D16: ='FERC p354-355 Salaries & Wages'!C12 -> 27351096
A17: 2 | B17: Transmission | C17: 354-355 | D17: ='FERC p354-355 Salaries & Wages'!C13 -> 8264727
A18: 3 | B18: Distribution | C18: 354-355 | D18: ='FERC p354-355 Salaries & Wages'!C15 -> 30436062
A19: 4 | B19: Customer Accounts | C19: 354-355 | D19: ='FERC p354-355 Salaries & Wages'!C16 -> 10042836
A20: 5 | B20: Customer Service and Information | C20: 354-355 | D20: ='FERC p354-355 Salaries & Wages'!C17 -> 2377648
A21: 6 | B21: Sales | C21: 354-355 | D21: ='FERC p354-355 Salaries & Wages'!C18 -> 834733
A22: 7 | B22: Administrative and General | C22: 354-355 | D22: ='FERC p354-355 Salaries & Wages'!C19 -> 42501370
A23: TOTAL Operation | D23: =SUM(D16:D22) -> 121808472
A25: Maintenance
A26: 9 | B26: Production | C26: 354-355 | D26: ='FERC p354-355 Salaries & Wages'!C22 -> 5284488
A27: 10 | B27: Transmission | C27: 354-355 | D27: ='FERC p354-355 Salaries & Wages'!C23 -> 2233833
A28: 11 | B28: Distribution | C28: 354-355 | D28: ='FERC p354-355 Salaries & Wages'!C25 -> 10369106
A29: 12 | B29: Administrative and General | C29: 354-355 | D29: ='FERC p354-355 Salaries & Wages'!C26 -> 46045
A30: TOTAL Maintenance | D30: =SUM(D26:D29) -> 17933472
A32: Operation and Maintenance
B33: Production (Enter Total of lines 1 and 9) | C33: 354-355 | D33: =+D16+D26 -> 32635584
B34: Transmission (Enter Total of lines 2 and 10) | C34: 354-355 | D34: =+D17+D27 -> 10498560
B35: Distribution (Enter Total of lines 3 and 11) | C35: 354-355 | D35: =+D18+D28 -> 40805168
B36: Customer Accounts (Transcribe from line 4) | C36: 354-355 | D36: =+D19 -> 10042836
B37: Customer Service and Information (Transcribe from line 5) | C37: 354-355 | D37: =+D20 -> 2377648
B38: Sales (Transcribe from line 6) | C38: 354-355 | D38: =+D21 -> 834733
B39: Administrative and General (Enter Total of lines 7 and 12) | C39: 354-355 | D39: =+D22+D29 -> 42547415
A40: TOTAL Operation and Maintenance | D40: =SUM(D33:D39) -> 139741944

Sheet Ratios
A1: BONNEVILLE POWER ADMINISTRATION | M1: NLSL Production Plant | R1: =R46 -> 3.1039243e+09
A2: RESIDENTIAL PURCHASE AND SALE AGREEMENT | M2: Total Production Plant | R2: =E46 -> 3902384831
A3: 2008 Average System Cost Methodology (ASCM) Appendix 1 | M3: NLSL Production Plant percent of Total Prod. Plant | R3: =IF(R2=0,0,R1/R2) -> 0.79539165
M4: Non-NLSL Production plant percent of Total Prod. Plant | R4: =IF(R2=0,0,(R2-R1)/R2) -> 0.20460835
A5: TOC | B5: UTILITY NAME: | C5: ='Sch 1- Rate Base '!$E$5 -> PUGET SOUND ENERGY
A6: é | B6: End of Year Report Period: | C6: ='Sch 1- Rate Base '!$E$6 -> 2023 | M6: NLSL Production Plant O&M | R6: ='NLSL_Base_New-Calc'!AA33+'NLSL_Base_New-Calc'!AA34 -> 1.0118364e+08
B7: ASC Filing Date: | C7: ='Sch 1- Rate Base '!$E$7 -> 45474 | M7: Total Production Plant O&M | R7: ='Sch 3 - Expenses'!H17+'Sch 3 - Expenses'!H18+'Sch 3 - Expenses'!H21+'Sch 3 - Expenses'!H22+'Sch 3 - Expenses'!H24+'Sch 3 - Expenses'!H25+'Sch 3 - Expenses'!H28+'Sch 3 - Expenses'!H29 -> 118415920
M8: NLSL Production Plant O&M percent of Total Prod. Plant O&M | R8: =IF(R7=0,0,R6/R7) -> 0.85447663
A9: Ratio Table | M9: Non-NLSL Production Plant O&M percent of Total Prod. Plant O&M | R9: =IF(R7=0,0,(R7-R6)/R7) -> 0.14552337
Q11: Production
A12: Labor Ratio Input: | C12: Ratio Used | D12: Total | E12: Production | F12: Transmission | G12: Distribution | Q12: Non-NLSL | R12: NLSL | S12: Total
B13: Production | C13: PROD | D13: =Salaries!D33 -> 32635584 | E13: =VLOOKUP($C13,Ratio,2,FALSE)*$D13 -> 32635584 | F13: =VLOOKUP($C13,Ratio,3,FALSE)*$D13 -> 0 | G13: =VLOOKUP($C13,Ratio,4,FALSE)*$D13 -> 0 | Q13: =E13*R9 -> 4749240.1 | R13: =E13*R8 -> 27886344 | S13: =SUM(Q13:R13) -> 32635584
B14: Transmission | C14: TRANS | D14: =Salaries!D34 -> 10498560 | E14: =VLOOKUP($C14,Ratio,2,FALSE)*$D14 -> 0 | F14: =VLOOKUP($C14,Ratio,3,FALSE)*$D14 -> 0 | G14: =VLOOKUP($C14,Ratio,4,FALSE)*$D14 -> 10498560 | Q14: 0 | R14: 0
B15: Distribution | C15: DIST | D15: =Salaries!D35 -> 40805168 | E15: =VLOOKUP($C15,Ratio,2,FALSE)*$D15 -> 0 | F15: =VLOOKUP($C15,Ratio,3,FALSE)*$D15 -> 0 | G15: =VLOOKUP($C15,Ratio,4,FALSE)*$D15 -> 40805168 | Q15: 0 | R15: 0
B16: Customer Accounts | C16: DIST | D16: =Salaries!D36 -> 10042836 | E16: =VLOOKUP($C16,Ratio,2,FALSE)*$D16 -> 0 | F16: =VLOOKUP($C16,Ratio,3,FALSE)*$D16 -> 0 | G16: =VLOOKUP($C16,Ratio,4,FALSE)*$D16 -> 10042836 | I16: Prod. | J16: Trans. | K16: Dist. | Q16: 0 | R16: 0
B17: Customer Service and Informational | C17: DIST | D17: =Salaries!D37 -> 2377648 | E17: =IF($C17="DIRECT",I17,VLOOKUP($C17,Ratio,2,FALSE)*$D17) -> 0 | F17: =IF($C17="DIRECT",J17,VLOOKUP($C17,Ratio,3,FALSE)*$D17) -> 0 | G17: =IF($C17="DIRECT",K17,VLOOKUP($C17,Ratio,4,FALSE)*$D17) -> 2377648 | Q17: =E17 -> 0 | R17: 0 | S17: =SUM(Q17:R17) -> 0
B18: Sales | C18: DIST | D18: =Salaries!D38 -> 834733 | E18: =VLOOKUP($C18,Ratio,2,FALSE)*$D18 -> 0 | F18: =VLOOKUP($C18,Ratio,3,FALSE)*$D18 -> 0 | G18: =VLOOKUP($C18,Ratio,4,FALSE)*$D18 -> 834733 | Q18: 0 | R18: 0
B19: Administrative & General | C19: PTD | D19: =Salaries!D39 -> 42547415 | E19: =VLOOKUP($C19,Ratio,2,FALSE)*$D19 -> 14852939 | F19: =VLOOKUP($C19,Ratio,3,FALSE)*$D19 -> 0 | G19: =VLOOKUP($C19,Ratio,4,FALSE)*$D19 -> 27694476 | Q19: =D19*Q50 -> 3039035.4 | R19: =D19*R50 -> 11813904 | S19: =SUM(Q19:R19) -> 14852939
A21: Total Labor | D21: =SUM(D13:D20) -> 139741944 | E21: =SUM(E13:E20) -> 47488523 | F21: =SUM(F13:F20) -> 0 | G21: =SUM(G13:G20) -> 92253421 | Q21: =SUM(Q13:Q19) -> 7788275.5 | R21: =SUM(R13:R19) -> 39700248 | S21: =SUM(Q21:R21) -> 47488523
B22: Labor Ratio | D22: =IF($D21=0,0,D21/$D21) -> 1 | E22: =IF($D21=0,0,E21/$D21) -> 0.33983013 | F22: 0 | G22: =IF($D21=0,0,G21/$D21)+IF($D21=0,0,F21/$D21) -> 0.66016987 | O22: Labor Ratio | Q22: =IF(D21=0,0,Q21/D21) -> 0.05573327 | R22: =IF(D21=0,0,R21/D21) -> 0.28409686 | S22: =SUM(Q22:R22) -> 0.33983013
A24: GP | B24: General Plant Ratio | C24: Ratio Used | D24: Total | E24: Production | F24: Transmission | G24: Distribution | Q24: Non-NLSL | R24: NLSL | S24: Total
B25: Land and Land Rights | C25: PTD | D25: ='Sch 1- Rate Base '!G37 -> 5100521 | E25: ='Sch 1- Rate Base '!H37 -> 1780548.3 | F25: ='Sch 1- Rate Base '!I37 -> 0 | G25: ='Sch 1- Rate Base '!J37 -> 3319972.7 | Q25: =D25*Q$50 -> 364315.05 | R25: =D25*R$50 -> 1416233.3 | S25: =SUM(Q25:R25) -> 1780548.3
B26: Structures and Improvements | C26: PTD | D26: ='Sch 1- Rate Base '!G38 -> 126721170 | E26: ='Sch 1- Rate Base '!H38 -> 44237279 | F26: ='Sch 1- Rate Base '!I38 -> 0 | G26: ='Sch 1- Rate Base '!J38 -> 82483891 | Q26: =D26*Q$50 -> 9051316.5 | R26: =D26*R$50 -> 35185962 | S26: =SUM(Q26:R26) -> 44237279
B27: Furniture and Equipment | C27: LABOR | D27: ='Sch 1- Rate Base '!G39 -> 31597697 | E27: ='Sch 1- Rate Base '!H39 -> 10737850 | F27: ='Sch 1- Rate Base '!I39 -> 0 | G27: ='Sch 1- Rate Base '!J39 -> 20859847 | Q27: =D27*Q$22 -> 1761043 | R27: =D27*R$22 -> 8976806.6 | S27: =SUM(Q27:R27) -> 10737850
B28: Transportation Equipment | C28: TD | D28: ='Sch 1- Rate Base '!G40 -> 3994065 | E28: ='Sch 1- Rate Base '!H40 -> 0 | F28: ='Sch 1- Rate Base '!I40 -> 0 | G28: ='Sch 1- Rate Base '!J40 -> 3994065 | Q28: 0 | R28: 0
B29: Stores Equipment | C29: PTD | D29: ='Sch 1- Rate Base '!G41 -> 1969191 | E29: ='Sch 1- Rate Base '!H41 -> 687427.77 | F29: ='Sch 1- Rate Base '!I41 -> 0 | G29: ='Sch 1- Rate Base '!J41 -> 1281763.2 | Q29: =D29*Q$50 -> 140653.46 | R29: =D29*R$50 -> 546774.31 | S29: =SUM(Q29:R29) -> 687427.77
B30: Tools and Garage Equipment | C30: PTD | D30: ='Sch 1- Rate Base '!G42 -> 32372182 | E30: ='Sch 1- Rate Base '!H42 -> 11300852 | F30: ='Sch 1- Rate Base '!I42 -> 0 | G30: ='Sch 1- Rate Base '!J42 -> 21071330 | Q30: =D30*Q$50 -> 2312248.7 | R30: =D30*R$50 -> 8988603.6 | S30: =SUM(Q30:R30) -> 11300852
B31: Laboratory Equipment | C31: PTD | D31: ='Sch 1- Rate Base '!G43 -> 5973622 | E31: ='Sch 1- Rate Base '!H43 -> 2085340.4 | F31: ='Sch 1- Rate Base '!I43 -> 0 | G31: ='Sch 1- Rate Base '!J43 -> 3888281.6 | Q31: =D31*Q$50 -> 426678.06 | R31: =D31*R$50 -> 1658662.4 | S31: =SUM(Q31:R31) -> 2085340.4
B32: Power Operated Equipment | C32: TD | D32: ='Sch 1- Rate Base '!G44 -> 2715513 | E32: ='Sch 1- Rate Base '!H44 -> 0 | F32: ='Sch 1- Rate Base '!I44 -> 0 | G32: ='Sch 1- Rate Base '!J44 -> 2715513 | Q32: 0 | R32: 0
B33: Communication Equipment | C33: PTD | D33: ='Sch 1- Rate Base '!G45 -> 105832047 | E33: ='Sch 1- Rate Base '!H45 -> 36945064 | F33: ='Sch 1- Rate Base '!I45 -> 0 | G33: ='Sch 1- Rate Base '!J45 -> 68886983 | Q33: =D33*Q$50 -> 7559268.5 | R33: =D33*R$50 -> 29385796 | S33: =SUM(Q33:R33) -> 36945064
B34: Miscellaneous Equipment | C34: PTD | D34: ='Sch 1- Rate Base '!G46 -> 381575 | E34: ='Sch 1- Rate Base '!H46 -> 133204.57 | F34: ='Sch 1- Rate Base '!I46 -> 0 | G34: ='Sch 1- Rate Base '!J46 -> 248370.43 | Q34: =D34*Q$50 -> 27254.768 | R34: =D34*R$50 -> 105949.81 | S34: =SUM(Q34:R34) -> 133204.57
B35: Other Tangible Property | C35: ='Sch 1- Rate Base '!E47 -> DIRECT | D35: ='Sch 1- Rate Base '!G47 -> 0 | E35: ='Sch 1- Rate Base '!H47 -> 0 | F35: ='Sch 1- Rate Base '!I47 -> 0 | G35: ='Sch 1- Rate Base '!J47 -> 0 | Q35: =E35*R4 -> 0 | R35: =E35*R3 -> 0
B36: Asset Retirement Costs for General Plant | C36: PTD | D36: ='Sch 1- Rate Base '!G48 -> 0 | E36: ='Sch 1- Rate Base '!H48 -> 0 | F36: ='Sch 1- Rate Base '!I48 -> 0 | G36: ='Sch 1- Rate Base '!J48 -> 0 | Q36: =D36*Q$50 -> 0 | R36: =D36*R$50 -> 0 | S36: =SUM(Q36:R36) -> 0
B37: TOTAL | D37: =SUM(D25:D36) -> 316657583 | E37: =SUM(E25:E36) -> 1.0790757e+08 | F37: =SUM(F25:F36) -> 0 | G37: =SUM(G25:G36) -> 2.0875002e+08 | Q37: =SUM(Q25:Q36) -> 21642778 | R37: =SUM(R25:R36) -> 86264788 | S37: =SUM(Q37:R37) -> 1.0790757e+08
B38: RATIO (GP) | D38: =IF($D37=0,0,D37/$D37) -> 1 | E38: =IF($D37=0,0,E37/$D37) -> 0.34077051 | F38: 0 | G38: =IF($D37=0,0,G37/$D37)+IF($D37=0,0,F37/$D37) -> 0.65922949 | O38: GP Ratio | Q38: =IF(D37=0,0,Q37/D37) -> 0.068347576 | R38: =IF(D37=0,0,R37/D37) -> 0.27242293 | S38: =SUM(Q38:R38) -> 0.34077051
A41: PTD | B41: Production, Transmission, Distribution Ratio | C41: Ratio Used | D41: Total | E41: Production | F41: Transmission | G41: Distribution | Q41: Non-NLSL | R41: NLSL | S41: Total
