Workbook
Name CurrentYear: #REF!
Name DemandRateSelect: #REF!
Name DemandRateSelect: #REF!
Name No: #REF!
Name No: #REF!
Name YesNo: #REF!

Sheet Discount Details
B1: Eligible Low Density Discount for FY2024
B2: (Excluding Phase-In Adjustment Procedure)
T4: =SUM(T6:T58) -> 31702229 | U4: =SUM(U6:U58) -> 36377446
B5: BESID | C5: Preference Customer Name | D5: Killowatthour/ Investment Ratio | E5: Consumers/ Mile of Line Ratio | F5: K/I Ratio Percentage Discount based on Table B in GRSPII.B.3 | G5: C/M Ratio Percentage Discount based on Table B in GRSPII.B.3 | H5: Preliminary Eligible LDD Percentage (Sum of K/I and C/M Percentage) (Before Phase-In Adjustment) | I5: Adjustment for Very Low Densities (0.5% if C/M Ratio < or = 3 and K/I Ratio < or = 26) | J5: PNGC in BP24 | K5: Slice/Block in BP24 | L5: Eligible LDD w/o phase-in 2024 | M5: LDD adjTRL/RHWM 2024 TRMbd | N5: Applicable LDD 2024 | O5: FY 2024 Composite and Non-Slice Charges + Load Shaping, LSTU, Demand from non-PNGC | P5: FY 2024 Load Shaping and Demand for PNGC members (pro-rata using TOCAs) | Q5: FY 2024 Tier 1 Non-Slice Charges not including IRD and LDD | R5: FY 2024 Tier 1 Load MWh | S5: Tier 1 Effective Rate | T5: STATUS QUO Eligible LDD $ | U5: STATUS QUO Applicable LDD $
B6: 10005 | C6: Alder Mutual Light | D6: 46.767851 | E6: 7.7894791 | F6: 0 | G6: 0.02 | H6: 0.02 | I6: 0 | J6: 0 | K6: 0 | L6: =MIN(H6+I6, 0.07) -> 0.02 | M6: 1.2408759 | N6: =ROUND(L6*M6,5) -> 0.02482 | O6: =VLOOKUP(B6, Charges_NonSlice!$B$4:$U$138, 20, FALSE) -> 175219.73 | P6: =IF(J6=1,VLOOKUP(B6,PNGC!$D$6:$K$22,8,FALSE),0) -> 0 | Q6: =O6+P6 -> 175219.73 | R6: =IF(J6=1, VLOOKUP(B6, PNGC!$D$6:$L$21, 9, FALSE), VLOOKUP('Discount Details'!B6, Charges_NonSlice!$B$4:$V$138, 21, FALSE)) -> 4813.632 | S6: =Q6/R6 -> 36.400732 | T6: =L6*Q6 -> 3504.3945 | U6: =Q6*N6 -> 4348.9536
B7: 10025 | C7: Benton Rural Elect. Assoc. | D7: 7.4648575 | E7: 8.8016667 | F7: 0.04 | G7: 0.015 | H7: 0.055 | I7: 0 | J7: 0 | K7: 0 | L7: =MIN(H7+I7, 0.07) -> 0.055 | M7: 1.0865754 | N7: =ROUND(L7*M7,5) -> 0.05976 | O7: =VLOOKUP(B7, Charges_NonSlice!$B$4:$U$138, 20, FALSE) -> 18497147 | P7: =IF(J7=1,VLOOKUP(B7,PNGC!$D$6:$K$22,8,FALSE),0) -> 0 | Q7: =O7+P7 -> 18497147 | R7: =IF(J7=1, VLOOKUP(B7, PNGC!$D$6:$L$21, 9, FALSE), VLOOKUP('Discount Details'!B7, Charges_NonSlice!$B$4:$V$138, 21, FALSE)) -> 519652.25 | S7: =Q7/R7 -> 35.595241 | T7: =L7*Q7 -> 1017343.1 | U7: =Q7*N7 -> 1105389.5
B8: 10027 | C8: Big Bend Electric Coop. | D8: 10.062278 | E8: 4.0188912 | F8: 0.04 | G8: 0.035 | H8: 0.07 | I8: 0 | J8: 0 | K8: 0 | L8: =MIN(H8+I8, 0.07) -> 0.07 | M8: 1.1078047 | N8: =ROUND(L8*M8,5) -> 0.07755 | O8: =VLOOKUP(B8, Charges_NonSlice!$B$4:$U$138, 20, FALSE) -> 18700875 | P8: =IF(J8=1,VLOOKUP(B8,PNGC!$D$6:$K$22,8,FALSE),0) -> 0 | Q8: =O8+P8 -> 18700875 | R8: =IF(J8=1, VLOOKUP(B8, PNGC!$D$6:$L$21, 9, FALSE), VLOOKUP('Discount Details'!B8, Charges_NonSlice!$B$4:$V$138, 21, FALSE)) -> 537528.1 | S8: =Q8/R8 -> 34.790508 | T8: =L8*Q8 -> 1309061.3 | U8: =Q8*N8 -> 1450252.9
B9: 10029 | C9: Blachly-Lane Electric | D9: 6.7839019 | E9: 7.3747495 | F9: 0.045 | G9: 0.02 | H9: 0.065 | I9: 0 | J9: 1 | K9: 0 | L9: =MIN(H9+I9, 0.07) -> 0.065 | M9: 1.2306426 | N9: =ROUND(L9*M9,5) -> 0.07999 | O9: =VLOOKUP(B9, Charges_NonSlice!$B$4:$U$138, 20, FALSE) -> 5121048.9 | P9: =IF(J9=1,VLOOKUP(B9,PNGC!$D$6:$K$22,8,FALSE),0) -> 550579.69 | Q9: =O9+P9 -> 5671628.6 | R9: =IF(J9=1, VLOOKUP(B9, PNGC!$D$6:$L$21, 9, FALSE), VLOOKUP('Discount Details'!B9, Charges_NonSlice!$B$4:$V$138, 21, FALSE)) -> 154758.14 | S9: =Q9/R9 -> 36.648339 | T9: =L9*Q9 -> 368655.86 | U9: =Q9*N9 -> 453673.57
B10: 10065 | C10: City of Cascade Locks | D10: 15.707839 | E10: 11.082192 | F10: 0.03 | G10: 0.005 | H10: 0.035 | I10: 0 | J10: 0 | K10: 0 | L10: =MIN(H10+I10, 0.07) -> 0.035 | M10: 1.8957107 | N10: =ROUND(L10*M10,5) -> 0.06635 | O10: =VLOOKUP(B10, Charges_NonSlice!$B$4:$U$138, 20, FALSE) -> 703729.07 | P10: =IF(J10=1,VLOOKUP(B10,PNGC!$D$6:$K$22,8,FALSE),0) -> 0 | Q10: =O10+P10 -> 703729.07 | R10: =IF(J10=1, VLOOKUP(B10, PNGC!$D$6:$L$21, 9, FALSE), VLOOKUP('Discount Details'!B10, Charges_NonSlice!$B$4:$V$138, 21, FALSE)) -> 20888.352 | S10: =Q10/R10 -> 33.690023 | T10: =L10*Q10 -> 24630.517 | U10: =Q10*N10 -> 46692.424
B11: 10046 | C11: Central Electric | D11: 5.1512493 | E11: 7.6824012 | F11: 0.045 | G11: 0.02 | H11: 0.065 | I11: 0 | J11: 1 | K11: 0 | L11: =MIN(H11+I11, 0.07) -> 0.065 | M11: 1.2080366 | N11: =ROUND(L11*M11,5) -> 0.07852 | O11: =VLOOKUP(B11, Charges_NonSlice!$B$4:$U$138, 20, FALSE) -> 23794397 | P11: =IF(J11=1,VLOOKUP(B11,PNGC!$D$6:$K$22,8,FALSE),0) -> 2558208.7 | Q11: =O11+P11 -> 26352606 | R11: =IF(J11=1, VLOOKUP(B11, PNGC!$D$6:$L$21, 9, FALSE), VLOOKUP('Discount Details'!B11, Charges_NonSlice!$B$4:$V$138, 21, FALSE)) -> 719066.86 | S11: =Q11/R11 -> 36.648339 | T11: =L11*Q11 -> 1712919.4 | U11: =Q11*N11 -> 2069206.6
B12: 10101 | C12: Clallam County PUD | D12: 4.7041188 | E12: 11.395987 | F12: 0.045 | G12: 0.005 | H12: 0.05 | I12: 0 | J12: 0 | K12: 0 | L12: =MIN(H12+I12, 0.07) -> 0.05 | M12: 1.0190719 | N12: =ROUND(L12*M12,5) -> 0.05095 | O12: =VLOOKUP(B12, Charges_NonSlice!$B$4:$U$138, 20, FALSE) -> 24356937 | P12: =IF(J12=1,VLOOKUP(B12,PNGC!$D$6:$K$22,8,FALSE),0) -> 0 | Q12: =O12+P12 -> 24356937 | R12: =IF(J12=1, VLOOKUP(B12, PNGC!$D$6:$L$21, 9, FALSE), VLOOKUP('Discount Details'!B12, Charges_NonSlice!$B$4:$V$138, 21, FALSE)) -> 667829.95 | S12: =Q12/R12 -> 36.471766 | T12: =L12*Q12 -> 1217846.9 | U12: =Q12*N12 -> 1240986
B13: 10106 | C13: Clearwater Power | D13: 3.8719234 | E13: 3.6789927 | F13: 0.045 | G13: 0.035 | H13: 0.07 | I13: 0 | J13: 1 | K13: 0 | L13: =MIN(H13+I13, 0.07) -> 0.07 | M13: 1.0105113 | N13: =ROUND(L13*M13,5) -> 0.07074 | O13: =VLOOKUP(B13, Charges_NonSlice!$B$4:$U$138, 20, FALSE) -> 6941752.2 | P13: =IF(J13=1,VLOOKUP(B13,PNGC!$D$6:$K$22,8,FALSE),0) -> 746329.09 | Q13: =O13+P13 -> 7688081.3 | R13: =IF(J13=1, VLOOKUP(B13, PNGC!$D$6:$L$21, 9, FALSE), VLOOKUP('Discount Details'!B13, Charges_NonSlice!$B$4:$V$138, 21, FALSE)) -> 209779.8 | S13: =Q13/R13 -> 36.648339 | T13: =L13*Q13 -> 538165.69 | U13: =Q13*N13 -> 543854.87
B14: 10109 | C14: Columbia Basin Coop. | D14: 6.9927995 | E14: 3.20626 | F14: 0.045 | G14: 0.04 | H14: 0.07 | I14: 0 | J14: 0 | K14: 0 | L14: =MIN(H14+I14, 0.07) -> 0.07 | M14: 1.2241294 | N14: =ROUND(L14*M14,5) -> 0.08569 | O14: =VLOOKUP(B14, Charges_NonSlice!$B$4:$U$138, 20, FALSE) -> 3901417.8 | P14: =IF(J14=1,VLOOKUP(B14,PNGC!$D$6:$K$22,8,FALSE),0) -> 0 | Q14: =O14+P14 -> 3901417.8 | R14: =IF(J14=1, VLOOKUP(B14, PNGC!$D$6:$L$21, 9, FALSE), VLOOKUP('Discount Details'!B14, Charges_NonSlice!$B$4:$V$138, 21, FALSE)) -> 106443.95 | S14: =Q14/R14 -> 36.65232 | T14: =L14*Q14 -> 273099.25 | U14: =Q14*N14 -> 334312.49
B15: 10111 | C15: Columbia Power Coop. | D15: 1.4332886 | E15: 1.8814532 | F15: 0.05 | G15: 0.045 | H15: 0.07 | I15: 0.005 | J15: 0 | K15: 0 | L15: =MIN(H15+I15, 0.07) -> 0.07 | M15: 1 | N15: =ROUND(L15*M15,5) -> 0.07 | O15: =VLOOKUP(B15, Charges_NonSlice!$B$4:$U$138, 20, FALSE) -> 1009928.1 | P15: =IF(J15=1,VLOOKUP(B15,PNGC!$D$6:$K$22,8,FALSE),0) -> 0 | Q15: =O15+P15 -> 1009928.1 | R15: =IF(J15=1, VLOOKUP(B15, PNGC!$D$6:$L$21, 9, FALSE), VLOOKUP('Discount Details'!B15, Charges_NonSlice!$B$4:$V$138, 21, FALSE)) -> 27554.403 | S15: =Q15/R15 -> 36.652149 | T15: =L15*Q15 -> 70694.966 | U15: =Q15*N15 -> 70694.966
B16: 10113 | C16: Columbia REA | D16: 4.0008804 | E16: 4.5633188 | F16: 0.045 | G16: 0.035 | H16: 0.07 | I16: 0 | J16: 0 | K16: 0 | L16: =MIN(H16+I16, 0.07) -> 0.07 | M16: 1.1547767 | N16: =ROUND(L16*M16,5) -> 0.08083 | O16: =VLOOKUP(B16, Charges_NonSlice!$B$4:$U$138, 20, FALSE) -> 11180301 | P16: =IF(J16=1,VLOOKUP(B16,PNGC!$D$6:$K$22,8,FALSE),0) -> 0 | Q16: =O16+P16 -> 11180301 | R16: =IF(J16=1, VLOOKUP(B16, PNGC!$D$6:$L$21, 9, FALSE), VLOOKUP('Discount Details'!B16, Charges_NonSlice!$B$4:$V$138, 21, FALSE)) -> 331095.31 | S16: =Q16/R16 -> 33.767621 | T16: =L16*Q16 -> 782621.07 | U16: =Q16*N16 -> 903703.73
B17: 10118 | C17: Consumers Power | D17: 3.8670977 | E17: 7.6554209 | F17: 0.045 | G17: 0.02 | H17: 0.065 | I17: 0 | J17: 1 | K17: 0 | L17: =MIN(H17+I17, 0.07) -> 0.065 | M17: 1.0775715 | N17: =ROUND(L17*M17,5) -> 0.07004 | O17: =VLOOKUP(B17, Charges_NonSlice!$B$4:$U$138, 20, FALSE) -> 13277562 | P17: =IF(J17=1,VLOOKUP(B17,PNGC!$D$6:$K$22,8,FALSE),0) -> 1427511.4 | Q17: =O17+P17 -> 14705073 | R17: =IF(J17=1, VLOOKUP(B17, PNGC!$D$6:$L$21, 9, FALSE), VLOOKUP('Discount Details'!B17, Charges_NonSlice!$B$4:$V$138, 21, FALSE)) -> 401248.01 | S17: =Q17/R17 -> 36.648339 | T17: =L17*Q17 -> 955829.74 | U17: =Q17*N17 -> 1029943.3
... B58: 10502 | C58: Yakama Power | D58: 3.6895777 | E58: 4.2549858 | F58: 0.045 | G58: 0.035 | H58: 0.07 | I58: 0 | J58: 0 | K58: 0 | L58: =MIN(H58+I58, 0.07) -> 0.07 | M58: 1 | N58: =ROUND(L58*M58,5) -> 0.07 | O58: =VLOOKUP(B58, Charges_NonSlice!$B$4:$U$138, 20, FALSE) -> 5842469 | P58: =IF(J58=1,VLOOKUP(B58,PNGC!$D$6:$K$22,8,FALSE),0) -> 0 | Q58: =O58+P58 -> 5842469 | R58: =IF(J58=1, VLOOKUP(B58, PNGC!$D$6:$L$21, 9, FALSE), VLOOKUP('Discount Details'!B58, Charges_NonSlice!$B$4:$V$138, 21, FALSE)) -> 163515.14 | S58: =Q58/R58 -> 35.730446 | T58: =L58*Q58 -> 408972.83 | U58: =Q58*N58 -> 408972.83

Sheet LDD Alt 1
R2: cap: | S2: 0.08
V3: =SUM(V5:V59) -> 36377446
Q5: =SUM(Q7:Q59) -> 39298319 | S5: =SUM(S7:S59) -> 37342188 | V5: APPLICABLE LDD COMPARISON (Current Application)
B6: Protential LDD Table (GRSP Table B) | I6: BESID | J6: Preference Customer Name | K6: Killowatthour/ Investment Ratio | L6: Consumers/ Mile of Line Ratio | M6: K/I % | N6: C/M % | O6: Very Low Density Adjustment | P6: Eligible LDD Before Cap | Q6: $ Discount | R6: Eligible LDD After Cap | S6: $ | T6: Δ Uncapped and Capped | V6: STATUS QUO Applicable LDD $ | W6: Before Cap to Status Quo | X6: After Cap to Status Quo | Z6: STATUS QUO Applicable LDD % | AA6: Before Cap Percentage Difference | AB6: After Cap Percentage Difference
B7: Percentage Discount | C7: K/I Min | D7: K/I Max | E7: C/M Min | F7: C/M Max | I7: ='Discount Details'!B6 -> 10005 | J7: ='Discount Details'!C6 -> Alder Mutual Light | K7: ='Discount Details'!D6 -> 46.767851 | L7: ='Discount Details'!E6 -> 7.7894791 | M7: {=LOOKUP(2, 1/((K7 >= $C$8:$C$20) * (K7 <= $D$8:$D$20)), $B$8:$B$20)} -> 0 | N7: {=LOOKUP(2, 1/((L7 >= $E$8:$E$20) * (L7 <= $F$8:$F$20)), $B$8:$B$20)} -> 0.025 | O7: ='Discount Details'!I6 -> 0 | P7: =M7+N7+O7 -> 0.025 | Q7: =$P7*'Discount Details'!Q6 -> 4380.4932 | R7: =MIN(P7, $S$2) -> 0.025 | S7: =$R7*'Discount Details'!Q6 -> 4380.4932 | T7: =Q7-S7 -> 0 | V7: ='Discount Details'!U6 -> 4348.9536 | W7: =Q7-V7 -> 31.539551 | X7: =S7-V7 -> 31.539551 | Z7: =VLOOKUP($I7, 'Discount Details'!$B$6:$N$58, 13, FALSE) -> 0.02482 | AA7: =P7-Z7 -> 0.00018 | AB7: =R7-Z7 -> 0.00018
B8: 0 | C8: =D9 -> 36 | D8: 100 | E8: =F9 -> 12 | I8: ='Discount Details'!B7 -> 10025 | J8: ='Discount Details'!C7 -> Benton Rural Elect. Assoc. | K8: ='Discount Details'!D7 -> 7.4648575 | L8: ='Discount Details'!E7 -> 8.8016667 | M8: {=LOOKUP(2, 1/((K8 >= $C$8:$C$20) * (K8 <= $D$8:$D$20)), $B$8:$B$20)} -> 0.05 | N8: {=LOOKUP(2, 1/((L8 >= $E$8:$E$20) * (L8 <= $F$8:$F$20)), $B$8:$B$20)} -> 0.02 | O8: ='Discount Details'!I7 -> 0 | P8: =M8+N8+O8 -> 0.07 | Q8: =$P8*'Discount Details'!Q7 -> 1294800.3 | R8: =MIN(P8, $S$2) -> 0.07 | S8: =$R8*'Discount Details'!Q7 -> 1294800.3 | T8: =Q8-S8 -> 0 | V8: ='Discount Details'!U7 -> 1105389.5 | W8: =Q8-V8 -> 189410.78 | X8: =S8-V8 -> 189410.78 | Z8: =VLOOKUP($I8, 'Discount Details'!$B$6:$N$58, 13, FALSE) -> 0.05976 | AA8: =P8-Z8 -> 0.01024 | AB8: =R8-Z8 -> 0.01024
B9: 0.005 | C9: =D10 -> 33 | D9: 36 | E9: =F10 -> 11 | F9: 12 | I9: ='Discount Details'!B8 -> 10027 | J9: ='Discount Details'!C8 -> Big Bend Electric Coop. | K9: ='Discount Details'!D8 -> 10.062278 | L9: ='Discount Details'!E8 -> 4.0188912 | M9: {=LOOKUP(2, 1/((K9 >= $C$8:$C$20) * (K9 <= $D$8:$D$20)), $B$8:$B$20)} -> 0.045 | N9: {=LOOKUP(2, 1/((L9 >= $E$8:$E$20) * (L9 <= $F$8:$F$20)), $B$8:$B$20)} -> 0.04 | O9: ='Discount Details'!I8 -> 0 | P9: =M9+N9+O9 -> 0.085 | Q9: =$P9*'Discount Details'!Q8 -> 1589574.4 | R9: =MIN(P9, $S$2) -> 0.08 | S9: =$R9*'Discount Details'!Q8 -> 1496070 | T9: =Q9-S9 -> 93504.376 | V9: ='Discount Details'!U8 -> 1450252.9 | W9: =Q9-V9 -> 139321.52 | X9: =S9-V9 -> 45817.144 | Z9: =VLOOKUP($I9, 'Discount Details'!$B$6:$N$58, 13, FALSE) -> 0.07755 | AA9: =P9-Z9 -> 0.00745 | AB9: =R9-Z9 -> 0.00245
B10: 0.01 | C10: =D11 -> 30 | D10: 33 | E10: =F11 -> 10 | F10: 11 | I10: ='Discount Details'!B9 -> 10029 | J10: ='Discount Details'!C9 -> Blachly-Lane Electric | K10: ='Discount Details'!D9 -> 6.7839019 | L10: ='Discount Details'!E9 -> 7.3747495 | M10: {=LOOKUP(2, 1/((K10 >= $C$8:$C$20) * (K10 <= $D$8:$D$20)), $B$8:$B$20)} -> 0.05 | N10: {=LOOKUP(2, 1/((L10 >= $E$8:$E$20) * (L10 <= $F$8:$F$20)), $B$8:$B$20)} -> 0.025 | O10: ='Discount Details'!I9 -> 0 | P10: =M10+N10+O10 -> 0.075 | Q10: =$P10*'Discount Details'!Q9 -> 425372.15 | R10: =MIN(P10, $S$2) -> 0.075 | S10: =$R10*'Discount Details'!Q9 -> 425372.15 | T10: =Q10-S10 -> 0 | V10: ='Discount Details'!U9 -> 453673.57 | W10: =Q10-V10 -> -28301.427 | X10: =S10-V10 -> -28301.427 | Z10: =VLOOKUP($I10, 'Discount Details'!$B$6:$N$58, 13, FALSE) -> 0.07999 | AA10: =P10-Z10 -> -0.00499 | AB10: =R10-Z10 -> -0.00499
B11: 0.015 | C11: =D12 -> 27 | D11: 30 | E11: =F12 -> 9 | F11: 10 | I11: ='Discount Details'!B10 -> 10065 | J11: ='Discount Details'!C10 -> City of Cascade Locks | K11: ='Discount Details'!D10 -> 15.707839 | L11: ='Discount Details'!E10 -> 11.082192 | M11: {=LOOKUP(2, 1/((K11 >= $C$8:$C$20) * (K11 <= $D$8:$D$20)), $B$8:$B$20)} -> 0.035 | N11: {=LOOKUP(2, 1/((L11 >= $E$8:$E$20) * (L11 <= $F$8:$F$20)), $B$8:$B$20)} -> 0.005 | O11: ='Discount Details'!I10 -> 0 | P11: =M11+N11+O11 -> 0.04 | Q11: =$P11*'Discount Details'!Q10 -> 28149.163 | R11: =MIN(P11, $S$2) -> 0.04 | S11: =$R11*'Discount Details'!Q10 -> 28149.163 | T11: =Q11-S11 -> 0 | V11: ='Discount Details'!U10 -> 46692.424 | W11: =Q11-V11 -> -18543.261 | X11: =S11-V11 -> -18543.261 | Z11: =VLOOKUP($I11, 'Discount Details'!$B$6:$N$58, 13, FALSE) -> 0.06635 | AA11: =P11-Z11 -> -0.02635 | AB11: =R11-Z11 -> -0.02635
B12: 0.02 | C12: =D13 -> 24 | D12: 27 | E12: =F13 -> 8 | F12: 9 | I12: ='Discount Details'!B11 -> 10046 | J12: ='Discount Details'!C11 -> Central Electric | K12: ='Discount Details'!D11 -> 5.1512493 | L12: ='Discount Details'!E11 -> 7.6824012 | M12: {=LOOKUP(2, 1/((K12 >= $C$8:$C$20) * (K12 <= $D$8:$D$20)), $B$8:$B$20)} -> 0.055 | N12: {=LOOKUP(2, 1/((L12 >= $E$8:$E$20) * (L12 <= $F$8:$F$20)), $B$8:$B$20)} -> 0.025 | O12: ='Discount Details'!I11 -> 0 | P12: =M12+N12+O12 -> 0.08 | Q12: =$P12*'Discount Details'!Q11 -> 2108208.5 | R12: =MIN(P12, $S$2) -> 0.08 | S12: =$R12*'Discount Details'!Q11 -> 2108208.5 | T12: =Q12-S12 -> 0 | V12: ='Discount Details'!U11 -> 2069206.6 | W12: =Q12-V12 -> 39001.857 | X12: =S12-V12 -> 39001.857 | Z12: =VLOOKUP($I12, 'Discount Details'!$B$6:$N$58, 13, FALSE) -> 0.07852 | AA12: =P12-Z12 -> 0.00148 | AB12: =R12-Z12 -> 0.00148
B13: 0.025 | C13: =D14 -> 21 | D13: 24 | E13: =F14 -> 7 | F13: 8 | I13: ='Discount Details'!B12 -> 10101 | J13: ='Discount Details'!C12 -> Clallam County PUD | K13: ='Discount Details'!D12 -> 4.7041188 | L13: ='Discount Details'!E12 -> 11.395987 | M13: {=LOOKUP(2, 1/((K13 >= $C$8:$C$20) * (K13 <= $D$8:$D$20)), $B$8:$B$20)} -> 0.055 | N13: {=LOOKUP(2, 1/((L13 >= $E$8:$E$20) * (L13 <= $F$8:$F$20)), $B$8:$B$20)} -> 0.005 | O13: ='Discount Details'!I12 -> 0 | P13: =M13+N13+O13 -> 0.06 | Q13: =$P13*'Discount Details'!Q12 -> 1461416.2 | R13: =MIN(P13, $S$2) -> 0.06 | S13: =$R13*'Discount Details'!Q12 -> 1461416.2 | T13: =Q13-S13 -> 0 | V13: ='Discount Details'!U12 -> 1240986 | W13: =Q13-V13 -> 220430.28 | X13: =S13-V13 -> 220430.28 | Z13: =VLOOKUP($I13, 'Discount Details'!$B$6:$N$58, 13, FALSE) -> 0.05095 | AA13: =P13-Z13 -> 0.00905 | AB13: =R13-Z13 -> 0.00905
B14: 0.03 | C14: =D15 -> 18 | D14: 21 | E14: =F15 -> 6 | F14: 7 | I14: ='Discount Details'!B13 -> 10106 | J14: ='Discount Details'!C13 -> Clearwater Power | K14: ='Discount Details'!D13 -> 3.8719234 | L14: ='Discount Details'!E13 -> 3.6789927 | M14: {=LOOKUP(2, 1/((K14 >= $C$8:$C$20) * (K14 <= $D$8:$D$20)), $B$8:$B$20)} -> 0.055 | N14: {=LOOKUP(2, 1/((L14 >= $E$8:$E$20) * (L14 <= $F$8:$F$20)), $B$8:$B$20)} -> 0.045 | O14: ='Discount Details'!I13 -> 0 | P14: =M14+N14+O14 -> 0.1 | Q14: =$P14*'Discount Details'!Q13 -> 768808.13 | R14: =MIN(P14, $S$2) -> 0.08 | S14: =$R14*'Discount Details'!Q13 -> 615046.51 | T14: =Q14-S14 -> 153761.63 | V14: ='Discount Details'!U13 -> 543854.87 | W14: =Q14-V14 -> 224953.26 | X14: =S14-V14 -> 71191.633 | Z14: =VLOOKUP($I14, 'Discount Details'!$B$6:$N$58, 13, FALSE) -> 0.07074 | AA14: =P14-Z14 -> 0.02926 | AB14: =R14-Z14 -> 0.00926
B15: 0.035 | C15: =D16 -> 15 | D15: 18 | E15: =F16 -> 5 | F15: 6 | I15: ='Discount Details'!B14 -> 10109 | J15: ='Discount Details'!C14 -> Columbia Basin Coop. | K15: ='Discount Details'!D14 -> 6.9927995 | L15: ='Discount Details'!E14 -> 3.20626 | M15: {=LOOKUP(2, 1/((K15 >= $C$8:$C$20) * (K15 <= $D$8:$D$20)), $B$8:$B$20)} -> 0.05 | N15: {=LOOKUP(2, 1/((L15 >= $E$8:$E$20) * (L15 <= $F$8:$F$20)), $B$8:$B$20)} -> 0.045 | O15: ='Discount Details'!I14 -> 0 | P15: =M15+N15+O15 -> 0.095 | Q15: =$P15*'Discount Details'!Q14 -> 370634.69 | R15: =MIN(P15, $S$2) -> 0.08 | S15: =$R15*'Discount Details'!Q14 -> 312113.43 | T15: =Q15-S15 -> 58521.267 | V15: ='Discount Details'!U14 -> 334312.49 | W15: =Q15-V15 -> 36322.2 | X15: =S15-V15 -> -22199.067 | Z15: =VLOOKUP($I15, 'Discount Details'!$B$6:$N$58, 13, FALSE) -> 0.08569 | AA15: =P15-Z15 -> 0.00931 | AB15: =R15-Z15 -> -0.00569
B16: 0.04 | C16: =D17 -> 12 | D16: 15 | E16: =F17 -> 4 | F16: 5 | I16: ='Discount Details'!B15 -> 10111 | J16: ='Discount Details'!C15 -> Columbia Power Coop. | K16: ='Discount Details'!D15 -> 1.4332886 | L16: ='Discount Details'!E15 -> 1.8814532 | M16: {=LOOKUP(2, 1/((K16 >= $C$8:$C$20) * (K16 <= $D$8:$D$20)), $B$8:$B$20)} -> 0.06 | N16: {=LOOKUP(2, 1/((L16 >= $E$8:$E$20) * (L16 <= $F$8:$F$20)), $B$8:$B$20)} -> 0.055 | O16: ='Discount Details'!I15 -> 0.005 | P16: =M16+N16+O16 -> 0.12 | Q16: =$P16*'Discount Details'!Q15 -> 121191.37 | R16: =MIN(P16, $S$2) -> 0.08 | S16: =$R16*'Discount Details'!Q15 -> 80794.246 | T16: =Q16-S16 -> 40397.123 | V16: ='Discount Details'!U15 -> 70694.966 | W16: =Q16-V16 -> 50496.404 | X16: =S16-V16 -> 10099.281 | Z16: =VLOOKUP($I16, 'Discount Details'!$B$6:$N$58, 13, FALSE) -> 0.07 | AA16: =P16-Z16 -> 0.05 | AB16: =R16-Z16 -> 0.01
B17: 0.045 | C17: =D18 -> 9 | D17: 12 | E17: =F18 -> 3 | F17: 4 | I17: ='Discount Details'!B16 -> 10113 | J17: ='Discount Details'!C16 -> Columbia REA | K17: ='Discount Details'!D16 -> 4.0008804 | L17: ='Discount Details'!E16 -> 4.5633188 | M17: {=LOOKUP(2, 1/((K17 >= $C$8:$C$20) * (K17 <= $D$8:$D$20)), $B$8:$B$20)} -> 0.055 | N17: {=LOOKUP(2, 1/((L17 >= $E$8:$E$20) * (L17 <= $F$8:$F$20)), $B$8:$B$20)} -> 0.04 | O17: ='Discount Details'!I16 -> 0 | P17: =M17+N17+O17 -> 0.095 | Q17: =$P17*'Discount Details'!Q16 -> 1062128.6 | R17: =MIN(P17, $S$2) -> 0.08 | S17: =$R17*'Discount Details'!Q16 -> 894424.08 | T17: =Q17-S17 -> 167704.52 | V17: ='Discount Details'!U16 -> 903703.73 | W17: =Q17-V17 -> 158424.87 | X17: =S17-V17 -> -9279.6499 | Z17: =VLOOKUP($I17, 'Discount Details'!$B$6:$N$58, 13, FALSE) -> 0.08083 | AA17: =P17-Z17 -> 0.01417 | AB17: =R17-Z17 -> -0.00083
B18: 0.05 | C18: 6 | D18: 9 | E18: 2 | F18: 3 | I18: ='Discount Details'!B17 -> 10118 | J18: ='Discount Details'!C17 -> Consumers Power | K18: ='Discount Details'!D17 -> 3.8670977 | L18: ='Discount Details'!E17 -> 7.6554209 | M18: {=LOOKUP(2, 1/((K18 >= $C$8:$C$20) * (K18 <= $D$8:$D$20)), $B$8:$B$20)} -> 0.055 | N18: {=LOOKUP(2, 1/((L18 >= $E$8:$E$20) * (L18 <= $F$8:$F$20)), $B$8:$B$20)} -> 0.025 | O18: ='Discount Details'!I17 -> 0 | P18: =M18+N18+O18 -> 0.08 | Q18: =$P18*'Discount Details'!Q17 -> 1176405.8 | R18: =MIN(P18, $S$2) -> 0.08 | S18: =$R18*'Discount Details'!Q17 -> 1176405.8 | T18: =Q18-S18 -> 0 | V18: ='Discount Details'!U17 -> 1029943.3 | W18: =Q18-V18 -> 146462.53 | X18: =S18-V18 -> 146462.53 | Z18: =VLOOKUP($I18, 'Discount Details'!$B$6:$N$58, 13, FALSE) -> 0.07004 | AA18: =P18-Z18 -> 0.00996 | AB18: =R18-Z18 -> 0.00996
B19: 0.055 | C19: 3 | D19: 6 | E19: 1 | F19: 2 | I19: ='Discount Details'!B18 -> 10121 | J19: ='Discount Details'!C18 -> Coos-Curry Electric | K19: ='Discount Details'!D18 -> 3.8803511 | L19: ='Discount Details'!E18 -> 9.1088861 | M19: {=LOOKUP(2, 1/((K19 >= $C$8:$C$20) * (K19 <= $D$8:$D$20)), $B$8:$B$20)} -> 0.055 | N19: {=LOOKUP(2, 1/((L19 >= $E$8:$E$20) * (L19 <= $F$8:$F$20)), $B$8:$B$20)} -> 0.015 | O19: ='Discount Details'!I18 -> 0 | P19: =M19+N19+O19 -> 0.07 | Q19: =$P19*'Discount Details'!Q18 -> 890081.42 | R19: =MIN(P19, $S$2) -> 0.07 | S19: =$R19*'Discount Details'!Q18 -> 890081.42 | T19: =Q19-S19 -> 0 | V19: ='Discount Details'!U18 -> 762926.93 | W19: =Q19-V19 -> 127154.49 | X19: =S19-V19 -> 127154.49 | Z19: =VLOOKUP($I19, 'Discount Details'!$B$6:$N$58, 13, FALSE) -> 0.06 | AA19: =P19-Z19 -> 0.01 | AB19: =R19-Z19 -> 0.01
B20: 0.06 | C20: 0 | D20: 3 | E20: 0 | F20: 1 | I20: ='Discount Details'!B19 -> 10136 | J20: ='Discount Details'!C19 -> Douglas Electric Coop. | K20: ='Discount Details'!D19 -> 3.5610412 | L20: ='Discount Details'!E19 -> 6.5276569 | M20: {=LOOKUP(2, 1/((K20 >= $C$8:$C$20) * (K20 <= $D$8:$D$20)), $B$8:$B$20)} -> 0.055 | N20: {=LOOKUP(2, 1/((L20 >= $E$8:$E$20) * (L20 <= $F$8:$F$20)), $B$8:$B$20)} -> 0.03 | O20: ='Discount Details'!I19 -> 0 | P20: =M20+N20+O20 -> 0.085 | Q20: =$P20*'Discount Details'!Q19 -> 503429.54 | R20: =MIN(P20, $S$2) -> 0.08 | S20: =$R20*'Discount Details'!Q19 -> 473816.04 | T20: =Q20-S20 -> 29613.502 | V20: ='Discount Details'!U19 -> 414589.03 | W20: =Q20-V20 -> 88840.507 | X20: =S20-V20 -> 59227.004 | Z20: =VLOOKUP($I20, 'Discount Details'!$B$6:$N$58, 13, FALSE) -> 0.07 | AA20: =P20-Z20 -> 0.015 | AB20: =R20-Z20 -> 0.01
I21: ='Discount Details'!B20 -> 10142 | J21: ='Discount Details'!C20 -> East End Mutual Elect. | K21: ='Discount Details'!D20 -> 43.30611 | L21: ='Discount Details'!E20 -> 5.65625 | M21: {=LOOKUP(2, 1/((K21 >= $C$8:$C$20) * (K21 <= $D$8:$D$20)), $B$8:$B$20)} -> 0 | N21: {=LOOKUP(2, 1/((L21 >= $E$8:$E$20) * (L21 <= $F$8:$F$20)), $B$8:$B$20)} -> 0.035 | O21: ='Discount Details'!I20 -> 0 | P21: =M21+N21+O21 -> 0.035 | Q21: =$P21*'Discount Details'!Q20 -> 30336.338 | R21: =MIN(P21, $S$2) -> 0.035 | S21: =$R21*'Discount Details'!Q20 -> 30336.338 | T21: =Q21-S21 -> 0 | V21: ='Discount Details'!U20 -> 32069.843 | W21: =Q21-V21 -> -1733.505 | X21: =S21-V21 -> -1733.505 | Z21: =VLOOKUP($I21, 'Discount Details'!$B$6:$N$58, 13, FALSE) -> 0.037 | AA21: =P21-Z21 -> -0.002 | AB21: =R21-Z21 -> -0.002
B22: Potential Methodology | I22: ='Discount Details'!B21 -> 10157 | J22: ='Discount Details'!C21 -> Emerald PUD | K22: ='Discount Details'!D21 -> 6.3865724 | L22: ='Discount Details'!E21 -> 10.6455 | M22: {=LOOKUP(2, 1/((K22 >= $C$8:$C$20) * (K22 <= $D$8:$D$20)), $B$8:$B$20)} -> 0.05 | N22: {=LOOKUP(2, 1/((L22 >= $E$8:$E$20) * (L22 <= $F$8:$F$20)), $B$8:$B$20)} -> 0.01 | O22: ='Discount Details'!I21 -> 0 | P22: =M22+N22+O22 -> 0.06 | Q22: =$P22*'Discount Details'!Q21 -> 890268.03 | R22: =MIN(P22, $S$2) -> 0.06 | S22: =$R22*'Discount Details'!Q21 -> 890268.03 | T22: =Q22-S22 -> 0 | V22: ='Discount Details'!U21 -> 894570.99 | W22: =Q22-V22 -> -4302.9621 | X22: =S22-V22 -> -4302.9621 | Z22: =VLOOKUP($I22, 'Discount Details'!$B$6:$N$58, 13, FALSE) -> 0.06029 | AA22: =P22-Z22 -> -0.00029 | AB22: =R22-Z22 -> -0.00029
B23: K/I Methodology | I23: ='Discount Details'!B22 -> 10173 | J23: ='Discount Details'!C22 -> Fall River Electric Coop. | K23: ='Discount Details'!D22 -> 6.1317435 | L23: ='Discount Details'!E22 -> 6.1473341 | M23: {=LOOKUP(2, 1/((K23 >= $C$8:$C$20) * (K23 <= $D$8:$D$20)), $B$8:$B$20)} -> 0.05 | N23: {=LOOKUP(2, 1/((L23 >= $E$8:$E$20) * (L23 <= $F$8:$F$20)), $B$8:$B$20)} -> 0.03 | O23: ='Discount Details'!I22 -> 0 | P23: =M23+N23+O23 -> 0.08 | Q23: =$P23*'Discount Details'!Q22 -> 853318.58 | R23: =MIN(P23, $S$2) -> 0.08 | S23: =$R23*'Discount Details'!Q22 -> 853318.58 | T23: =Q23-S23 -> 0 | V23: ='Discount Details'!U22 -> 904304.37 | W23: =Q23-V23 -> -50985.785 | X23: =S23-V23 -> -50985.785 | Z23: =VLOOKUP($I23, 'Discount Details'!$B$6:$N$58, 13, FALSE) -> 0.08478 | AA23: =P23-Z23 -> -0.00478 | AB23: =R23-Z23 -> -0.00478
B24: LINEAR | I24: ='Discount Details'!B23 -> 10177 | J24: ='Discount Details'!C23 -> Ferry County PUD | K24: ='Discount Details'!D23 -> 7.4405758 | L24: ='Discount Details'!E23 -> 5.6565809 | M24: {=LOOKUP(2, 1/((K24 >= $C$8:$C$20) * (K24 <= $D$8:$D$20)), $B$8:$B$20)} -> 0.05 | N24: {=LOOKUP(2, 1/((L24 >= $E$8:$E$20) * (L24 <= $F$8:$F$20)), $B$8:$B$20)} -> 0.035 | O24: ='Discount Details'!I23 -> 0 | P24: =M24+N24+O24 -> 0.085 | Q24: =$P24*'Discount Details'!Q23 -> 228889.05 | R24: =MIN(P24, $S$2) -> 0.08 | S24: =$R24*'Discount Details'!Q23 -> 215424.99 | T24: =Q24-S24 -> 13464.062 | V24: ='Discount Details'!U23 -> 188496.87 | W24: =Q24-V24 -> 40392.186 | X24: =S24-V24 -> 26928.124 | Z24: =VLOOKUP($I24, 'Discount Details'!$B$6:$N$58, 13, FALSE) -> 0.07 | AA24: =P24-Z24 -> 0.015 | AB24: =R24-Z24 -> 0.01
B25: f(x) = -6x+36 | I25: ='Discount Details'!B24 -> 10186 | J25: ='Discount Details'!C24 -> Glacier Electric Coop. | K25: ='Discount Details'!D24 -> 5.4490602 | L25: ='Discount Details'!E24 -> 5.3452945 | M25: {=LOOKUP(2, 1/((K25 >= $C$8:$C$20) * (K25 <= $D$8:$D$20)), $B$8:$B$20)} -> 0.055 | N25: {=LOOKUP(2, 1/((L25 >= $E$8:$E$20) * (L25 <= $F$8:$F$20)), $B$8:$B$20)} -> 0.035 | O25: ='Discount Details'!I24 -> 0 | P25: =M25+N25+O25 -> 0.09 | Q25: =$P25*'Discount Details'!Q24 -> 499315.48 | R25: =MIN(P25, $S$2) -> 0.08 | S25: =$R25*'Discount Details'!Q24 -> 443835.99 | T25: =Q25-S25 -> 55479.498 | V25: ='Discount Details'!U24 -> 388356.49 | W25: =Q25-V25 -> 110959 | X25: =S25-V25 -> 55479.498 | Z25: =VLOOKUP($I25, 'Discount Details'!$B$6:$N$58, 13, FALSE) -> 0.07 | AA25: =P25-Z25 -> 0.02 | AB25: =R25-Z25 -> 0.01
I26: ='Discount Details'!B25 -> 10197 | J26: ='Discount Details'!C25 -> Harney Electric Coop. | K26: ='Discount Details'!D25 -> 11.633691 | L26: ='Discount Details'!E25 -> 1.380916 | M26: {=LOOKUP(2, 1/((K26 >= $C$8:$C$20) * (K26 <= $D$8:$D$20)), $B$8:$B$20)} -> 0.045 | N26: {=LOOKUP(2, 1/((L26 >= $E$8:$E$20) * (L26 <= $F$8:$F$20)), $B$8:$B$20)} -> 0.055 | O26: ='Discount Details'!I25 -> 0.005 | P26: =M26+N26+O26 -> 0.105 | Q26: =$P26*'Discount Details'!Q25 -> 725657.8 | R26: =MIN(P26, $S$2) -> 0.08 | S26: =$R26*'Discount Details'!Q25 -> 552882.13 | T26: =Q26-S26 -> 172775.67 | V26: ='Discount Details'!U25 -> 600291.77 | W26: =Q26-V26 -> 125366.02 | X26: =S26-V26 -> -47409.643 | Z26: =VLOOKUP($I26, 'Discount Details'!$B$6:$N$58, 13, FALSE) -> 0.08686 | AA26: =P26-Z26 -> 0.01814 | AB26: =R26-Z26 -> -0.00686
B27: C/M Methodology | I27: ='Discount Details'!B26 -> 10203 | J27: ='Discount Details'!C26 -> Idaho County L&P Coop. | K27: ='Discount Details'!D26 -> 5.3504834 | L27: ='Discount Details'!E26 -> 3.965673 | M27: {=LOOKUP(2, 1/((K27 >= $C$8:$C$20) * (K27 <= $D$8:$D$20)), $B$8:$B$20)} -> 0.055 | N27: {=LOOKUP(2, 1/((L27 >= $E$8:$E$20) * (L27 <= $F$8:$F$20)), $B$8:$B$20)} -> 0.045 | O27: ='Discount Details'!I26 -> 0 | P27: =M27+N27+O27 -> 0.1 | Q27: =$P27*'Discount Details'!Q26 -> 201489.72 | R27: =MIN(P27, $S$2) -> 0.08 | S27: =$R27*'Discount Details'!Q26 -> 161191.78 | T27: =Q27-S27 -> 40297.944 | V27: ='Discount Details'!U26 -> 152749.36 | W27: =Q27-V27 -> 48740.364 | X27: =S27-V27 -> 8442.4193 | Z27: =VLOOKUP($I27, 'Discount Details'!$B$6:$N$58, 13, FALSE) -> 0.07581 | AA27: =P27-Z27 -> 0.02419 | AB27: =R27-Z27 -> 0.00419
B28: LINEAR | I28: ='Discount Details'!B27 -> 10209 | J28: ='Discount Details'!C27 -> Inland Power & Light | K28: ='Discount Details'!D27 -> 6.8150435 | L28: ='Discount Details'!E27 -> 5.9793734 | M28: {=LOOKUP(2, 1/((K28 >= $C$8:$C$20) * (K28 <= $D$8:$D$20)), $B$8:$B$20)} -> 0.05 | N28: {=LOOKUP(2, 1/((L28 >= $E$8:$E$20) * (L28 <= $F$8:$F$20)), $B$8:$B$20)} -> 0.035 | O28: ='Discount Details'!I27 -> 0 | P28: =M28+N28+O28 -> 0.085 | Q28: =$P28*'Discount Details'!Q27 -> 2928863.4 | R28: =MIN(P28, $S$2) -> 0.08 | S28: =$R28*'Discount Details'!Q27 -> 2756577.3 | T28: =Q28-S28 -> 172286.08 | V28: ='Discount Details'!U27 -> 2940923.4 | W28: =Q28-V28 -> -12060.026 | X28: =S28-V28 -> -184346.11 | Z28: =VLOOKUP($I28, 'Discount Details'!$B$6:$N$58, 13, FALSE) -> 0.08535 | AA28: =P28-Z28 -> -0.00035 | AB28: =R28-Z28 -> -0.00535
B29: f(x) = -2x+12 | I29: ='Discount Details'!B28 -> 10230 | J29: ='Discount Details'!C28 -> Kittitas County PUD | K29: ='Discount Details'!D28 -> 2.9392366 | L29: ='Discount Details'!E28 -> 6.5855263 | M29: {=LOOKUP(2, 1/((K29 >= $C$8:$C$20) * (K29 <= $D$8:$D$20)), $B$8:$B$20)} -> 0.06 | N29: {=LOOKUP(2, 1/((L29 >= $E$8:$E$20) * (L29 <= $F$8:$F$20)), $B$8:$B$20)} -> 0.03 | O29: ='Discount Details'!I28 -> 0 | P29: =M29+N29+O29 -> 0.09 | Q29: =$P29*'Discount Details'!Q28 -> 299435.61 | R29: =MIN(P29, $S$2) -> 0.08 | S29: =$R29*'Discount Details'!Q28 -> 266164.99 | T29: =Q29-S29 -> 33270.623 | V29: ='Discount Details'!U28 -> 296175.09 | W29: =Q29-V29 -> 3260.5211 | X29: =S29-V29 -> -30010.102 | Z29: =VLOOKUP($I29, 'Discount Details'!$B$6:$N$58, 13, FALSE) -> 0.08902 | AA29: =P29-Z29 -> 0.00098 | AB29: =R29-Z29 -> -0.00902
I30: ='Discount Details'!B29 -> 10231 | J30: ='Discount Details'!C29 -> Klickitat | K30: ='Discount Details'!D29 -> 4.3258259 | L30: ='Discount Details'!E29 -> 6.958292 | M30: {=LOOKUP(2, 1/((K30 >= $C$8:$C$20) * (K30 <= $D$8:$D$20)), $B$8:$B$20)} -> 0.055 | N30: {=LOOKUP(2, 1/((L30 >= $E$8:$E$20) * (L30 <= $F$8:$F$20)), $B$8:$B$20)} -> 0.03 | O30: ='Discount Details'!I29 -> 0 | P30: =M30+N30+O30 -> 0.085 | Q30: =$P30*'Discount Details'!Q29 -> 998949.53 | R30: =MIN(P30, $S$2) -> 0.08 | S30: =$R30*'Discount Details'!Q29 -> 940187.8 | T30: =Q30-S30 -> 58761.737 | V30: ='Discount Details'!U29 -> 1276422.5 | W30: =Q30-V30 -> -277472.92 | X30: =S30-V30 -> -336234.66 | Z30: =VLOOKUP($I30, 'Discount Details'!$B$6:$N$58, 13, FALSE) -> 0.10861 | AA30: =P30-Z30 -> -0.02361 | AB30: =R30-Z30 -> -0.02861
B31: where x = percentage discount | I31: ='Discount Details'!B30 -> 10236 | J31: ='Discount Details'!C30 -> Lane Electric Coop | K31: ='Discount Details'!D30 -> 4.0913992 | L31: ='Discount Details'!E30 -> 8.3797203 | M31: {=LOOKUP(2, 1/((K31 >= $C$8:$C$20) * (K31 <= $D$8:$D$20)), $B$8:$B$20)} -> 0.055 | N31: {=LOOKUP(2, 1/((L31 >= $E$8:$E$20) * (L31 <= $F$8:$F$20)), $B$8:$B$20)} -> 0.02 | O31: ='Discount Details'!I30 -> 0 | P31: =M31+N31+O31 -> 0.075 | Q31: =$P31*'Discount Details'!Q30 -> 677882.03 | R31: =MIN(P31, $S$2) -> 0.075 | S31: =$R31*'Discount Details'!Q30 -> 677882.03 | T31: =Q31-S31 -> 0 | V31: ='Discount Details'!U30 -> 587497.76 | W31: =Q31-V31 -> 90384.271 | X31: =S31-V31 -> 90384.271 | Z31: =VLOOKUP($I31, 'Discount Details'!$B$6:$N$58, 13, FALSE) -> 0.065 | AA31: =P31-Z31 -> 0.01 | AB31: =R31-Z31 -> 0.01
I32: ='Discount Details'!B31 -> 10237 | J32: ='Discount Details'!C31 -> Lewis County PUD | K32: ='Discount Details'!D31 -> 7.4627253 | L32: ='Discount Details'!E31 -> 10.866867 | M32: {=LOOKUP(2, 1/((K32 >= $C$8:$C$20) * (K32 <= $D$8:$D$20)), $B$8:$B$20)} -> 0.05 | N32: {=LOOKUP(2, 1/((L32 >= $E$8:$E$20) * (L32 <= $F$8:$F$20)), $B$8:$B$20)} -> 0.01 | O32: ='Discount Details'!I31 -> 0 | P32: =M32+N32+O32 -> 0.06 | Q32: =$P32*'Discount Details'!Q31 -> 1999505.2 | R32: =MIN(P32, $S$2) -> 0.06 | S32: =$R32*'Discount Details'!Q31 -> 1999505.2 | T32: =Q32-S32 -> 0 | V32: ='Discount Details'!U31 -> 1535620 | W32: =Q32-V32 -> 463885.21 | X32: =S32-V32 -> 463885.21 | Z32: =VLOOKUP($I32, 'Discount Details'!$B$6:$N$58, 13, FALSE) -> 0.04608 | AA32: =P32-Z32 -> 0.01392 | AB32: =R32-Z32 -> 0.01392
I33: ='Discount Details'!B32 -> 10239 | J33: ='Discount Details'!C32 -> Lincoln Electric | K33: ='Discount Details'!D32 -> 5.9728031 | L33: ='Discount Details'!E32 -> 6.6241135 | M33: {=LOOKUP(2, 1/((K33 >= $C$8:$C$20) * (K33 <= $D$8:$D$20)), $B$8:$B$20)} -> 0.055 | N33: {=LOOKUP(2, 1/((L33 >= $E$8:$E$20) * (L33 <= $F$8:$F$20)), $B$8:$B$20)} -> 0.03 | O33: ='Discount Details'!I32 -> 0 | P33: =M33+N33+O33 -> 0.085 | Q33: =$P33*'Discount Details'!Q32 -> 383138.52 | R33: =MIN(P33, $S$2) -> 0.08 | S33: =$R33*'Discount Details'!Q32 -> 360600.96 | T33: =Q33-S33 -> 22537.56 | V33: ='Discount Details'!U32 -> 340091.78 | W33: =Q33-V33 -> 43046.74 | X33: =S33-V33 -> 20509.18 | Z33: =VLOOKUP($I33, 'Discount Details'!$B$6:$N$58, 13, FALSE) -> 0.07545 | AA33: =P33-Z33 -> 0.00955 | AB33: =R33-Z33 -> 0.00455
I34: ='Discount Details'!B33 -> 10242 | J34: ='Discount Details'!C33 -> Lost River Electric | K34: ='Discount Details'!D33 -> 10.794413 | L34: ='Discount Details'!E33 -> 2.5 | M34: {=LOOKUP(2, 1/((K34 >= $C$8:$C$20) * (K34 <= $D$8:$D$20)), $B$8:$B$20)} -> 0.045 | N34: {=LOOKUP(2, 1/((L34 >= $E$8:$E$20) * (L34 <= $F$8:$F$20)), $B$8:$B$20)} -> 0.05 | O34: ='Discount Details'!I33 -> 0.005 | P34: =M34+N34+O34 -> 0.1 | Q34: =$P34*'Discount Details'!Q33 -> 304112.79 | R34: =MIN(P34, $S$2) -> 0.08 | S34: =$R34*'Discount Details'!Q33 -> 243290.23 | T34: =Q34-S34 -> 60822.559 | V34: ='Discount Details'!U33 -> 252596.09 | W34: =Q34-V34 -> 51516.707 | X34: =S34-V34 -> -9305.8515 | Z34: =VLOOKUP($I34, 'Discount Details'!$B$6:$N$58, 13, FALSE) -> 0.08306 | AA34: =P34-Z34 -> 0.01694 | AB34: =R34-Z34 -> -0.00306
I35: ='Discount Details'!B34 -> 10244 | J35: ='Discount Details'!C34 -> Lower Valley Energy | K35: ='Discount Details'!D34 -> 11.055876 | L35: ='Discount Details'!E34 -> 8.2903226 | M35: {=LOOKUP(2, 1/((K35 >= $C$8:$C$20) * (K35 <= $D$8:$D$20)), $B$8:$B$20)} -> 0.045 | N35: {=LOOKUP(2, 1/((L35 >= $E$8:$E$20) * (L35 <= $F$8:$F$20)), $B$8:$B$20)} -> 0.02 | O35: ='Discount Details'!I34 -> 0 | P35: =M35+N35+O35 -> 0.065 | Q35: =$P35*'Discount Details'!Q34 -> 1839703.1 | R35: =MIN(P35, $S$2) -> 0.065 | S35: =$R35*'Discount Details'!Q34 -> 1839703.1 | T35: =Q35-S35 -> 0 | V35: ='Discount Details'!U34 -> 1808569.6 | W35: =Q35-V35 -> 31133.437 | X35: =S35-V35 -> 31133.437 | Z35: =VLOOKUP($I35, 'Discount Details'!$B$6:$N$58, 13, FALSE) -> 0.0639 | AA35: =P35-Z35 -> 0.0011 | AB35: =R35-Z35 -> 0.0011
B36: BP-24 LDD Table (GRSP Table B) | I36: ='Discount Details'!B35 -> 10256 | J36: ='Discount Details'!C35 -> Midstate Electric Coop. | K36: ='Discount Details'!D35 -> 6.6438138 | L36: ='Discount Details'!E35 -> 7.6278986 | M36: {=LOOKUP(2, 1/((K36 >= $C$8:$C$20) * (K36 <= $D$8:$D$20)), $B$8:$B$20)} -> 0.05 | N36: {=LOOKUP(2, 1/((L36 >= $E$8:$E$20) * (L36 <= $F$8:$F$20)), $B$8:$B$20)} -> 0.025 | O36: ='Discount Details'!I35 -> 0 | P36: =M36+N36+O36 -> 0.075 | Q36: =$P36*'Discount Details'!Q35 -> 1121029.2 | R36: =MIN(P36, $S$2) -> 0.075 | S36: =$R36*'Discount Details'!Q35 -> 1121029.2 | T36: =Q36-S36 -> 0 | V36: ='Discount Details'!U35 -> 1197109.8 | W36: =Q36-V36 -> -76080.518 | X36: =S36-V36 -> -76080.518 | Z36: =VLOOKUP($I36, 'Discount Details'!$B$6:$N$58, 13, FALSE) -> 0.08009 | AA36: =P36-Z36 -> -0.00509 | AB36: =R36-Z36 -> -0.00509
B37: Percentage Discount | C37: K/I Min | D37: K/I Max | E37: C/M Min | F37: C/M Max | I37: ='Discount Details'!B36 -> 10258 | J37: ='Discount Details'!C36 -> Mission Valley Power | K37: ='Discount Details'!D36 -> 10.012789 | L37: ='Discount Details'!E36 -> 10.017283 | M37: {=LOOKUP(2, 1/((K37 >= $C$8:$C$20) * (K37 <= $D$8:$D$20)), $B$8:$B$20)} -> 0.045 | N37: {=LOOKUP(2, 1/((L37 >= $E$8:$E$20) * (L37 <= $F$8:$F$20)), $B$8:$B$20)} -> 0.01 | O37: ='Discount Details'!I36 -> 0 | P37: =M37+N37+O37 -> 0.055 | Q37: =$P37*'Discount Details'!Q36 -> 697453.59 | R37: =MIN(P37, $S$2) -> 0.055 | S37: =$R37*'Discount Details'!Q36 -> 697453.59 | T37: =Q37-S37 -> 0 | V37: ='Discount Details'!U36 -> 688450.1 | W37: =Q37-V37 -> 9003.4918 | X37: =S37-V37 -> 9003.4918 | Z37: =VLOOKUP($I37, 'Discount Details'!$B$6:$N$58, 13, FALSE) -> 0.05429 | AA37: =P37-Z37 -> 0.00071 | AB37: =R37-Z37 -> 0.00071
B38: 0 | C38: =D39 -> 35 | E38: =F39 -> 12 | I38: ='Discount Details'!B37 -> 10259 | J38: ='Discount Details'!C37 -> Missoula Electric Coop. | K38: ='Discount Details'!D37 -> 4.7421049 | L38: ='Discount Details'!E37 -> 7.9613861 | M38: {=LOOKUP(2, 1/((K38 >= $C$8:$C$20) * (K38 <= $D$8:$D$20)), $B$8:$B$20)} -> 0.055 | N38: {=LOOKUP(2, 1/((L38 >= $E$8:$E$20) * (L38 <= $F$8:$F$20)), $B$8:$B$20)} -> 0.025 | O38: ='Discount Details'!I37 -> 0 | P38: =M38+N38+O38 -> 0.08 | Q38: =$P38*'Discount Details'!Q37 -> 702708.49 | R38: =MIN(P38, $S$2) -> 0.08 | S38: =$R38*'Discount Details'!Q37 -> 702708.49 | T38: =Q38-S38 -> 0 | V38: ='Discount Details'!U37 -> 708154.48 | W38: =Q38-V38 -> -5445.9908 | X38: =S38-V38 -> -5445.9908 | Z38: =VLOOKUP($I38, 'Discount Details'!$B$6:$N$58, 13, FALSE) -> 0.08062 | AA38: =P38-Z38 -> -0.00062 | AB38: =R38-Z38 -> -0.00062
B39: 0.005 | C39: =D40 -> 31.5 | D39: 35 | E39: =F40 -> 10.8 | F39: 12 | I39: ='Discount Details'!B38 -> 10273 | J39: ='Discount Details'!C38 -> Nespelem Valley Electric | K39: ='Discount Details'!D38 -> 11.554644 | L39: ='Discount Details'!E38 -> 3.631829 | M39: {=LOOKUP(2, 1/((K39 >= $C$8:$C$20) * (K39 <= $D$8:$D$20)), $B$8:$B$20)} -> 0.045 | N39: {=LOOKUP(2, 1/((L39 >= $E$8:$E$20) * (L39 <= $F$8:$F$20)), $B$8:$B$20)} -> 0.045 | O39: ='Discount Details'!I38 -> 0 | P39: =M39+N39+O39 -> 0.09 | Q39: =$P39*'Discount Details'!Q38 -> 182893.51 | R39: =MIN(P39, $S$2) -> 0.08 | S39: =$R39*'Discount Details'!Q38 -> 162572.01 | T39: =Q39-S39 -> 20321.501 | V39: ='Discount Details'!U38 -> 195553.81 | W39: =Q39-V39 -> -12660.295 | X39: =S39-V39 -> -32981.796 | Z39: =VLOOKUP($I39, 'Discount Details'!$B$6:$N$58, 13, FALSE) -> 0.09623 | AA39: =P39-Z39 -> -0.00623 | AB39: =R39-Z39 -> -0.01623
B40: 0.01 | C40: =D41 -> 28 | D40: 31.5 | E40: =F41 -> 9.6 | F40: 10.8 | I40: ='Discount Details'!B39 -> 10278 | J40: ='Discount Details'!C39 -> Northern Lights | K40: ='Discount Details'!D39 -> 5.0461082 | L40: ='Discount Details'!E39 -> 7.8339124 | M40: {=LOOKUP(2, 1/((K40 >= $C$8:$C$20) * (K40 <= $D$8:$D$20)), $B$8:$B$20)} -> 0.055 | N40: {=LOOKUP(2, 1/((L40 >= $E$8:$E$20) * (L40 <= $F$8:$F$20)), $B$8:$B$20)} -> 0.025 | O40: ='Discount Details'!I39 -> 0 | P40: =M40+N40+O40 -> 0.08 | Q40: =$P40*'Discount Details'!Q39 -> 925380.56 | R40: =MIN(P40, $S$2) -> 0.08 | S40: =$R40*'Discount Details'!Q39 -> 925380.56 | T40: =Q40-S40 -> 0 | V40: ='Discount Details'!U39 -> 827290.22 | W40: =Q40-V40 -> 98090.339 | X40: =S40-V40 -> 98090.339 | Z40: =VLOOKUP($I40, 'Discount Details'!$B$6:$N$58, 13, FALSE) -> 0.07152 | AA40: =P40-Z40 -> 0.00848 | AB40: =R40-Z40 -> 0.00848
B41: 0.015 | C41: =D42 -> 24.5 | D41: 28 | E41: =F42 -> 8.4 | F41: 9.6 | I41: ='Discount Details'!B40 -> 10284 | J41: ='Discount Details'!C40 -> Ohop Mutual Light | K41: ='Discount Details'!D40 -> 8.7650848 | L41: ='Discount Details'!E40 -> 10.168122 | M41: {=LOOKUP(2, 1/((K41 >= $C$8:$C$20) * (K41 <= $D$8:$D$20)), $B$8:$B$20)} -> 0.05 | N41: {=LOOKUP(2, 1/((L41 >= $E$8:$E$20) * (L41 <= $F$8:$F$20)), $B$8:$B$20)} -> 0.01 | O41: ='Discount Details'!I40 -> 0 | P41: =M41+N41+O41 -> 0.06 | Q41: =$P41*'Discount Details'!Q40 -> 198271.8 | R41: =MIN(P41, $S$2) -> 0.06 | S41: =$R41*'Discount Details'!Q40 -> 198271.8 | T41: =Q41-S41 -> 0 | V41: ='Discount Details'!U40 -> 176461.9 | W41: =Q41-V41 -> 21809.898 | X41: =S41-V41 -> 21809.898 | Z41: =VLOOKUP($I41, 'Discount Details'!$B$6:$N$58, 13, FALSE) -> 0.0534 | AA41: =P41-Z41 -> 0.0066 | AB41: =R41-Z41 -> 0.0066
B42: 0.02 | C42: =D43 -> 21 | D42: 24.5 | E42: =F43 -> 7.2 | F42: 8.4 | I42: ='Discount Details'!B41 -> 10285 | J42: ='Discount Details'!C41 -> Okanogan County | K42: ='Discount Details'!D41 -> 6.8162112 | L42: ='Discount Details'!E41 -> 8.0066079 | M42: {=LOOKUP(2, 1/((K42 >= $C$8:$C$20) * (K42 <= $D$8:$D$20)), $B$8:$B$20)} -> 0.05 | N42: {=LOOKUP(2, 1/((L42 >= $E$8:$E$20) * (L42 <= $F$8:$F$20)), $B$8:$B$20)} -> 0.02 | O42: ='Discount Details'!I41 -> 0 | P42: =M42+N42+O42 -> 0.07 | Q42: =$P42*'Discount Details'!Q41 -> 147137.15 | R42: =MIN(P42, $S$2) -> 0.07 | S42: =$R42*'Discount Details'!Q41 -> 147137.15 | T42: =Q42-S42 -> 0 | V42: ='Discount Details'!U41 -> 162859.8 | W42: =Q42-V42 -> -15722.655 | X42: =S42-V42 -> -15722.655 | Z42: =VLOOKUP($I42, 'Discount Details'!$B$6:$N$58, 13, FALSE) -> 0.07748 | AA42: =P42-Z42 -> -0.00748 | AB42: =R42-Z42 -> -0.00748
...

Sheet LDD Alt 2
R2: cap: | S2: 0.07
V3: =SUM(V5:V59) -> 36377446
Q5: =SUM(Q7:Q59) -> 44981929 | S5: =SUM(S7:S59) -> 36317677 | V5: APPLICABLE LDD COMPARISON (Current Application)
B6: Protential LDD Table (GRSP Table B) | I6: BESID | J6: Preference Customer Name | K6: Killowatthour/ Investment Ratio | L6: Consumers/ Mile of Line Ratio | M6: K/I % | N6: C/M % | O6: Very Low Density Adjustment | P6: Eligible LDD Before Cap | Q6: $ | R6: Eligible LDD with After Cap | S6: $ | T6: Δ Uncapped and Capped | V6: STATUS QUO Applicable LDD $ | W6: Before Cap to Status Quo | X6: After Cap to Status Quo | Z6: STATUS QUO Applicable LDD % | AA6: Before Cap Percentage Difference | AB6: After Cap Percentage Difference
B7: Percentage Discount | C7: K/I Min | D7: K/I Max | E7: C/M Min | F7: C/M Max | I7: ='Discount Details'!B6 -> 10005 | J7: ='Discount Details'!C6 -> Alder Mutual Light | K7: ='Discount Details'!D6 -> 46.767851 | L7: ='Discount Details'!E6 -> 7.7894791 | M7: {=LOOKUP(2, 1/((K7 >= $C$8:$C$20) * (K7 <= $D$8:$D$20)), $B$8:$B$20)} -> 0 | N7: {=LOOKUP(2, 1/((L7 >= $E$8:$E$20) * (L7 <= $F$8:$F$20)), $B$8:$B$20)} -> 0.03 | O7: ='Discount Details'!I6 -> 0 | P7: =M7+N7+O7 -> 0.03 | Q7: =P7*'Discount Details'!Q6 -> 5256.5918 | R7: =MIN(P7, $S$2) -> 0.03 | S7: =R7*'Discount Details'!Q6 -> 5256.5918 | T7: =Q7-S7 -> 0 | V7: ='Discount Details'!U6 -> 4348.9536 | W7: =Q7-V7 -> 907.63818 | X7: =S7-V7 -> 907.63818 | Z7: ='Discount Details'!N6 -> 0.02482 | AA7: =P7-Z7 -> 0.00518 | AB7: =R7-Z7 -> 0.00518
B8: 0 | C8: =D9 -> 36 | D8: 100 | E8: =F9 -> 12 | I8: ='Discount Details'!B7 -> 10025 | J8: ='Discount Details'!C7 -> Benton Rural Elect. Assoc. | K8: ='Discount Details'!D7 -> 7.4648575 | L8: ='Discount Details'!E7 -> 8.8016667 | M8: {=LOOKUP(2, 1/((K8 >= $C$8:$C$20) * (K8 <= $D$8:$D$20)), $B$8:$B$20)} -> 0.055 | N8: {=LOOKUP(2, 1/((L8 >= $E$8:$E$20) * (L8 <= $F$8:$F$20)), $B$8:$B$20)} -> 0.025 | O8: ='Discount Details'!I7 -> 0 | P8: =M8+N8+O8 -> 0.08 | Q8: =P8*'Discount Details'!Q7 -> 1479771.7 | R8: =MIN(P8, $S$2) -> 0.07 | S8: =R8*'Discount Details'!Q7 -> 1294800.3 | T8: =Q8-S8 -> 184971.47 | V8: ='Discount Details'!U7 -> 1105389.5 | W8: =Q8-V8 -> 374382.25 | X8: =S8-V8 -> 189410.78 | Z8: ='Discount Details'!N7 -> 0.05976 | AA8: =P8-Z8 -> 0.02024 | AB8: =R8-Z8 -> 0.01024
B9: 0.005 | C9: =D10 -> 34.13 | D9: 36 | E9: =F10 -> 11.38 | F9: 12 | I9: ='Discount Details'!B8 -> 10027 | J9: ='Discount Details'!C8 -> Big Bend Electric Coop. | K9: ='Discount Details'!D8 -> 10.062278 | L9: ='Discount Details'!E8 -> 4.0188912 | M9: {=LOOKUP(2, 1/((K9 >= $C$8:$C$20) * (K9 <= $D$8:$D$20)), $B$8:$B$20)} -> 0.05 | N9: {=LOOKUP(2, 1/((L9 >= $E$8:$E$20) * (L9 <= $F$8:$F$20)), $B$8:$B$20)} -> 0.05 | O9: ='Discount Details'!I8 -> 0 | P9: =M9+N9+O9 -> 0.1 | Q9: =P9*'Discount Details'!Q8 -> 1870087.5 | R9: =MIN(P9, $S$2) -> 0.07 | S9: =R9*'Discount Details'!Q8 -> 1309061.3 | T9: =Q9-S9 -> 561026.26 | V9: ='Discount Details'!U8 -> 1450252.9 | W9: =Q9-V9 -> 419834.65 | X9: =S9-V9 -> -141191.61 | Z9: ='Discount Details'!N8 -> 0.07755 | AA9: =P9-Z9 -> 0.02245 | AB9: =R9-Z9 -> -0.00755
B10: 0.01 | C10: =D11 -> 32.14 | D10: 34.13 | E10: =F11 -> 10.71 | F10: 11.38 | I10: ='Discount Details'!B9 -> 10029 | J10: ='Discount Details'!C9 -> Blachly-Lane Electric | K10: ='Discount Details'!D9 -> 6.7839019 | L10: ='Discount Details'!E9 -> 7.3747495 | M10: {=LOOKUP(2, 1/((K10 >= $C$8:$C$20) * (K10 <= $D$8:$D$20)), $B$8:$B$20)} -> 0.055 | N10: {=LOOKUP(2, 1/((L10 >= $E$8:$E$20) * (L10 <= $F$8:$F$20)), $B$8:$B$20)} -> 0.035 | O10: ='Discount Details'!I9 -> 0 | P10: =M10+N10+O10 -> 0.09 | Q10: =P10*'Discount Details'!Q9 -> 510446.57 | R10: =MIN(P10, $S$2) -> 0.07 | S10: =R10*'Discount Details'!Q9 -> 397014 | T10: =Q10-S10 -> 113432.57 | V10: ='Discount Details'!U9 -> 453673.57 | W10: =Q10-V10 -> 56773.002 | X10: =S10-V10 -> -56659.57 | Z10: ='Discount Details'!N9 -> 0.07999 | AA10: =P10-Z10 -> 0.01001 | AB10: =R10-Z10 -> -0.00999
B11: 0.015 | C11: =D12 -> 30.03 | D11: 32.14 | E11: =F12 -> 10.01 | F11: 10.71 | I11: ='Discount Details'!B10 -> 10065 | J11: ='Discount Details'!C10 -> City of Cascade Locks | K11: ='Discount Details'!D10 -> 15.707839 | L11: ='Discount Details'!E10 -> 11.082192 | M11: {=LOOKUP(2, 1/((K11 >= $C$8:$C$20) * (K11 <= $D$8:$D$20)), $B$8:$B$20)} -> 0.045 | N11: {=LOOKUP(2, 1/((L11 >= $E$8:$E$20) * (L11 <= $F$8:$F$20)), $B$8:$B$20)} -> 0.01 | O11: ='Discount Details'!I10 -> 0 | P11: =M11+N11+O11 -> 0.055 | Q11: =P11*'Discount Details'!Q10 -> 38705.099 | R11: =MIN(P11, $S$2) -> 0.055 | S11: =R11*'Discount Details'!Q10 -> 38705.099 | T11: =Q11-S11 -> 0 | V11: ='Discount Details'!U10 -> 46692.424 | W11: =Q11-V11 -> -7987.3249 | X11: =S11-V11 -> -7987.3249 | Z11: ='Discount Details'!N10 -> 0.06635 | AA11: =P11-Z11 -> -0.01135 | AB11: =R11-Z11 -> -0.01135
B12: 0.02 | C12: =D13 -> 27.77 | D12: 30.03 | E12: =F13 -> 9.25 | F12: 10.01 | I12: ='Discount Details'!B11 -> 10046 | J12: ='Discount Details'!C11 -> Central Electric | K12: ='Discount Details'!D11 -> 5.1512493 | L12: ='Discount Details'!E11 -> 7.6824012 | M12: {=LOOKUP(2, 1/((K12 >= $C$8:$C$20) * (K12 <= $D$8:$D$20)), $B$8:$B$20)} -> 0.055 | N12: {=LOOKUP(2, 1/((L12 >= $E$8:$E$20) * (L12 <= $F$8:$F$20)), $B$8:$B$20)} -> 0.03 | O12: ='Discount Details'!I11 -> 0 | P12: =M12+N12+O12 -> 0.085 | Q12: =P12*'Discount Details'!Q11 -> 2239971.5 | R12: =MIN(P12, $S$2) -> 0.07 | S12: =R12*'Discount Details'!Q11 -> 1844682.4 | T12: =Q12-S12 -> 395289.09 | V12: ='Discount Details'!U11 -> 2069206.6 | W12: =Q12-V12 -> 170764.89 | X12: =S12-V12 -> -224524.2 | Z12: ='Discount Details'!N11 -> 0.07852 | AA12: =P12-Z12 -> 0.00648 | AB12: =R12-Z12 -> -0.00852
B13: 0.025 | C13: =D14 -> 25.34 | D13: 27.77 | E13: =F14 -> 8.45 | F13: 9.25 | I13: ='Discount Details'!B12 -> 10101 | J13: ='Discount Details'!C12 -> Clallam County PUD | K13: ='Discount Details'!D12 -> 4.7041188 | L13: ='Discount Details'!E12 -> 11.395987 | M13: {=LOOKUP(2, 1/((K13 >= $C$8:$C$20) * (K13 <= $D$8:$D$20)), $B$8:$B$20)} -> 0.06 | N13: {=LOOKUP(2, 1/((L13 >= $E$8:$E$20) * (L13 <= $F$8:$F$20)), $B$8:$B$20)} -> 0.005 | O13: ='Discount Details'!I12 -> 0 | P13: =M13+N13+O13 -> 0.065 | Q13: =P13*'Discount Details'!Q12 -> 1583200.9 | R13: =MIN(P13, $S$2) -> 0.065 | S13: =R13*'Discount Details'!Q12 -> 1583200.9 | T13: =Q13-S13 -> 0 | V13: ='Discount Details'!U12 -> 1240986 | W13: =Q13-V13 -> 342214.97 | X13: =S13-V13 -> 342214.97 | Z13: ='Discount Details'!N12 -> 0.05095 | AA13: =P13-Z13 -> 0.01405 | AB13: =R13-Z13 -> 0.01405
B14: 0.03 | C14: =D15 -> 22.71 | D14: 25.34 | E14: =F15 -> 7.57 | F14: 8.45 | I14: ='Discount Details'!B13 -> 10106 | J14: ='Discount Details'!C13 -> Clearwater Power | K14: ='Discount Details'!D13 -> 3.8719234 | L14: ='Discount Details'!E13 -> 3.6789927 | M14: {=LOOKUP(2, 1/((K14 >= $C$8:$C$20) * (K14 <= $D$8:$D$20)), $B$8:$B$20)} -> 0.06 | N14: {=LOOKUP(2, 1/((L14 >= $E$8:$E$20) * (L14 <= $F$8:$F$20)), $B$8:$B$20)} -> 0.05 | O14: ='Discount Details'!I13 -> 0 | P14: =M14+N14+O14 -> 0.11 | Q14: =P14*'Discount Details'!Q13 -> 845688.95 | R14: =MIN(P14, $S$2) -> 0.07 | S14: =R14*'Discount Details'!Q13 -> 538165.69 | T14: =Q14-S14 -> 307523.25 | V14: ='Discount Details'!U13 -> 543854.87 | W14: =Q14-V14 -> 301834.07 | X14: =S14-V14 -> -5689.1802 | Z14: ='Discount Details'!N13 -> 0.07074 | AA14: =P14-Z14 -> 0.03926 | AB14: =R14-Z14 -> -0.00074
B15: 0.035 | C15: =D16 -> 19.86 | D15: 22.71 | E15: =F16 -> 6.62 | F15: 7.57 | I15: ='Discount Details'!B14 -> 10109 | J15: ='Discount Details'!C14 -> Columbia Basin Coop. | K15: ='Discount Details'!D14 -> 6.9927995 | L15: ='Discount Details'!E14 -> 3.20626 | M15: {=LOOKUP(2, 1/((K15 >= $C$8:$C$20) * (K15 <= $D$8:$D$20)), $B$8:$B$20)} -> 0.055 | N15: {=LOOKUP(2, 1/((L15 >= $E$8:$E$20) * (L15 <= $F$8:$F$20)), $B$8:$B$20)} -> 0.05 | O15: ='Discount Details'!I14 -> 0 | P15: =M15+N15+O15 -> 0.105 | Q15: =P15*'Discount Details'!Q14 -> 409648.87 | R15: =MIN(P15, $S$2) -> 0.07 | S15: =R15*'Discount Details'!Q14 -> 273099.25 | T15: =Q15-S15 -> 136549.62 | V15: ='Discount Details'!U14 -> 334312.49 | W15: =Q15-V15 -> 75336.378 | X15: =S15-V15 -> -61213.246 | Z15: ='Discount Details'!N14 -> 0.08569 | AA15: =P15-Z15 -> 0.01931 | AB15: =R15-Z15 -> -0.01569
B16: 0.04 | C16: =D17 -> 16.74 | D16: 19.86 | E16: =F17 -> 5.58 | F16: 6.62 | I16: ='Discount Details'!B15 -> 10111 | J16: ='Discount Details'!C15 -> Columbia Power Coop. | K16: ='Discount Details'!D15 -> 1.4332886 | L16: ='Discount Details'!E15 -> 1.8814532 | M16: {=LOOKUP(2, 1/((K16 >= $C$8:$C$20) * (K16 <= $D$8:$D$20)), $B$8:$B$20)} -> 0.06 | N16: {=LOOKUP(2, 1/((L16 >= $E$8:$E$20) * (L16 <= $F$8:$F$20)), $B$8:$B$20)} -> 0.055 | O16: ='Discount Details'!I15 -> 0.005 | P16: =M16+N16+O16 -> 0.12 | Q16: =P16*'Discount Details'!Q15 -> 121191.37 | R16: =MIN(P16, $S$2) -> 0.07 | S16: =R16*'Discount Details'!Q15 -> 70694.966 | T16: =Q16-S16 -> 50496.404 | V16: ='Discount Details'!U15 -> 70694.966 | W16: =Q16-V16 -> 50496.404 | X16: =S16-V16 -> 0 | Z16: ='Discount Details'!N15 -> 0.07 | AA16: =P16-Z16 -> 0.05 | AB16: =R16-Z16 -> 0
B17: 0.045 | C17: =D18 -> 13.3 | D17: 16.74 | E17: =F18 -> 4.43 | F17: 5.58 | I17: ='Discount Details'!B16 -> 10113 | J17: ='Discount Details'!C16 -> Columbia REA | K17: ='Discount Details'!D16 -> 4.0008804 | L17: ='Discount Details'!E16 -> 4.5633188 | M17: {=LOOKUP(2, 1/((K17 >= $C$8:$C$20) * (K17 <= $D$8:$D$20)), $B$8:$B$20)} -> 0.06 | N17: {=LOOKUP(2, 1/((L17 >= $E$8:$E$20) * (L17 <= $F$8:$F$20)), $B$8:$B$20)} -> 0.045 | O17: ='Discount Details'!I16 -> 0 | P17: =M17+N17+O17 -> 0.105 | Q17: =P17*'Discount Details'!Q16 -> 1173931.6 | R17: =MIN(P17, $S$2) -> 0.07 | S17: =R17*'Discount Details'!Q16 -> 782621.07 | T17: =Q17-S17 -> 391310.54 | V17: ='Discount Details'!U16 -> 903703.73 | W17: =Q17-V17 -> 270227.88 | X17: =S17-V17 -> -121082.66 | Z17: ='Discount Details'!N16 -> 0.08083 | AA17: =P17-Z17 -> 0.02417 | AB17: =R17-Z17 -> -0.01083
B18: 0.05 | C18: =D19 -> 9.43 | D18: 13.3 | E18: =F19 -> 3.14 | F18: 4.43 | I18: ='Discount Details'!B17 -> 10118 | J18: ='Discount Details'!C17 -> Consumers Power | K18: ='Discount Details'!D17 -> 3.8670977 | L18: ='Discount Details'!E17 -> 7.6554209 | M18: {=LOOKUP(2, 1/((K18 >= $C$8:$C$20) * (K18 <= $D$8:$D$20)), $B$8:$B$20)} -> 0.06 | N18: {=LOOKUP(2, 1/((L18 >= $E$8:$E$20) * (L18 <= $F$8:$F$20)), $B$8:$B$20)} -> 0.03 | O18: ='Discount Details'!I17 -> 0 | P18: =M18+N18+O18 -> 0.09 | Q18: =P18*'Discount Details'!Q17 -> 1323456.6 | R18: =MIN(P18, $S$2) -> 0.07 | S18: =R18*'Discount Details'!Q17 -> 1029355.1 | T18: =Q18-S18 -> 294101.46 | V18: ='Discount Details'!U17 -> 1029943.3 | W18: =Q18-V18 -> 293513.26 | X18: =S18-V18 -> -588.20292 | Z18: ='Discount Details'!N17 -> 0.07004 | AA18: =P18-Z18 -> 0.01996 | AB18: =R18-Z18 -> -4e-05
B19: 0.055 | C19: =D20 -> 5.05 | D19: 9.43 | E19: =F20 -> 1.68 | F19: 3.14 | I19: ='Discount Details'!B18 -> 10121 | J19: ='Discount Details'!C18 -> Coos-Curry Electric | K19: ='Discount Details'!D18 -> 3.8803511 | L19: ='Discount Details'!E18 -> 9.1088861 | M19: {=LOOKUP(2, 1/((K19 >= $C$8:$C$20) * (K19 <= $D$8:$D$20)), $B$8:$B$20)} -> 0.06 | N19: {=LOOKUP(2, 1/((L19 >= $E$8:$E$20) * (L19 <= $F$8:$F$20)), $B$8:$B$20)} -> 0.025 | O19: ='Discount Details'!I18 -> 0 | P19: =M19+N19+O19 -> 0.085 | Q19: =P19*'Discount Details'!Q18 -> 1080813.2 | R19: =MIN(P19, $S$2) -> 0.07 | S19: =R19*'Discount Details'!Q18 -> 890081.42 | T19: =Q19-S19 -> 190731.73 | V19: ='Discount Details'!U18 -> 762926.93 | W19: =Q19-V19 -> 317886.22 | X19: =S19-V19 -> 127154.49 | Z19: ='Discount Details'!N18 -> 0.06 | AA19: =P19-Z19 -> 0.025 | AB19: =R19-Z19 -> 0.01
B20: 0.06 | C20: 0 | D20: 5.05 | E20: 0 | F20: 1.68 | I20: ='Discount Details'!B19 -> 10136 | J20: ='Discount Details'!C19 -> Douglas Electric Coop. | K20: ='Discount Details'!D19 -> 3.5610412 | L20: ='Discount Details'!E19 -> 6.5276569 | M20: {=LOOKUP(2, 1/((K20 >= $C$8:$C$20) * (K20 <= $D$8:$D$20)), $B$8:$B$20)} -> 0.06 | N20: {=LOOKUP(2, 1/((L20 >= $E$8:$E$20) * (L20 <= $F$8:$F$20)), $B$8:$B$20)} -> 0.04 | O20: ='Discount Details'!I19 -> 0 | P20: =M20+N20+O20 -> 0.1 | Q20: =P20*'Discount Details'!Q19 -> 592270.04 | R20: =MIN(P20, $S$2) -> 0.07 | S20: =R20*'Discount Details'!Q19 -> 414589.03 | T20: =Q20-S20 -> 177681.01 | V20: ='Discount Details'!U19 -> 414589.03 | W20: =Q20-V20 -> 177681.01 | X20: =S20-V20 -> 0 | Z20: ='Discount Details'!N19 -> 0.07 | AA20: =P20-Z20 -> 0.03 | AB20: =R20-Z20 -> 0
I21: ='Discount Details'!B20 -> 10142 | J21: ='Discount Details'!C20 -> East End Mutual Elect. | K21: ='Discount Details'!D20 -> 43.30611 | L21: ='Discount Details'!E20 -> 5.65625 | M21: {=LOOKUP(2, 1/((K21 >= $C$8:$C$20) * (K21 <= $D$8:$D$20)), $B$8:$B$20)} -> 0 | N21: {=LOOKUP(2, 1/((L21 >= $E$8:$E$20) * (L21 <= $F$8:$F$20)), $B$8:$B$20)} -> 0.04 | O21: ='Discount Details'!I20 -> 0 | P21: =M21+N21+O21 -> 0.04 | Q21: =P21*'Discount Details'!Q20 -> 34670.101 | R21: =MIN(P21, $S$2) -> 0.04 | S21: =R21*'Discount Details'!Q20 -> 34670.101 | T21: =Q21-S21 -> 0 | V21: ='Discount Details'!U20 -> 32069.843 | W21: =Q21-V21 -> 2600.2576 | X21: =S21-V21 -> 2600.2576 | Z21: ='Discount Details'!N20 -> 0.037 | AA21: =P21-Z21 -> 0.003 | AB21: =R21-Z21 -> 0.003
B22: Potential Methodology | I22: ='Discount Details'!B21 -> 10157 | J22: ='Discount Details'!C21 -> Emerald PUD | K22: ='Discount Details'!D21 -> 6.3865724 | L22: ='Discount Details'!E21 -> 10.6455 | M22: {=LOOKUP(2, 1/((K22 >= $C$8:$C$20) * (K22 <= $D$8:$D$20)), $B$8:$B$20)} -> 0.055 | N22: {=LOOKUP(2, 1/((L22 >= $E$8:$E$20) * (L22 <= $F$8:$F$20)), $B$8:$B$20)} -> 0.015 | O22: ='Discount Details'!I21 -> 0 | P22: =M22+N22+O22 -> 0.07 | Q22: =P22*'Discount Details'!Q21 -> 1038646 | R22: =MIN(P22, $S$2) -> 0.07 | S22: =R22*'Discount Details'!Q21 -> 1038646 | T22: =Q22-S22 -> 0 | V22: ='Discount Details'!U21 -> 894570.99 | W22: =Q22-V22 -> 144075.04 | X22: =S22-V22 -> 144075.04 | Z22: ='Discount Details'!N21 -> 0.06029 | AA22: =P22-Z22 -> 0.00971 | AB22: =R22-Z22 -> 0.00971
B23: K/I Methodology | I23: ='Discount Details'!B22 -> 10173 | J23: ='Discount Details'!C22 -> Fall River Electric Coop. | K23: ='Discount Details'!D22 -> 6.1317435 | L23: ='Discount Details'!E22 -> 6.1473341 | M23: {=LOOKUP(2, 1/((K23 >= $C$8:$C$20) * (K23 <= $D$8:$D$20)), $B$8:$B$20)} -> 0.055 | N23: {=LOOKUP(2, 1/((L23 >= $E$8:$E$20) * (L23 <= $F$8:$F$20)), $B$8:$B$20)} -> 0.04 | O23: ='Discount Details'!I22 -> 0 | P23: =M23+N23+O23 -> 0.095 | Q23: =P23*'Discount Details'!Q22 -> 1013315.8 | R23: =MIN(P23, $S$2) -> 0.07 | S23: =R23*'Discount Details'!Q22 -> 746653.76 | T23: =Q23-S23 -> 266662.06 | V23: ='Discount Details'!U22 -> 904304.37 | W23: =Q23-V23 -> 109011.45 | X23: =S23-V23 -> -157650.61 | Z23: ='Discount Details'!N22 -> 0.08478 | AA23: =P23-Z23 -> 0.01022 | AB23: =R23-Z23 -> -0.01478
B24: LOGARITHMIC | I24: ='Discount Details'!B23 -> 10177 | J24: ='Discount Details'!C23 -> Ferry County PUD | K24: ='Discount Details'!D23 -> 7.4405758 | L24: ='Discount Details'!E23 -> 5.6565809 | M24: {=LOOKUP(2, 1/((K24 >= $C$8:$C$20) * (K24 <= $D$8:$D$20)), $B$8:$B$20)} -> 0.055 | N24: {=LOOKUP(2, 1/((L24 >= $E$8:$E$20) * (L24 <= $F$8:$F$20)), $B$8:$B$20)} -> 0.04 | O24: ='Discount Details'!I23 -> 0 | P24: =M24+N24+O24 -> 0.095 | Q24: =P24*'Discount Details'!Q23 -> 255817.18 | R24: =MIN(P24, $S$2) -> 0.07 | S24: =R24*'Discount Details'!Q23 -> 188496.87 | T24: =Q24-S24 -> 67320.31 | V24: ='Discount Details'!U23 -> 188496.87 | W24: =Q24-V24 -> 67320.31 | X24: =S24-V24 -> 0 | Z24: ='Discount Details'!N23 -> 0.07 | AA24: =P24-Z24 -> 0.025 | AB24: =R24-Z24 -> 0
I25: ='Discount Details'!B24 -> 10186 | J25: ='Discount Details'!C24 -> Glacier Electric Coop. | K25: ='Discount Details'!D24 -> 5.4490602 | L25: ='Discount Details'!E24 -> 5.3452945 | M25: {=LOOKUP(2, 1/((K25 >= $C$8:$C$20) * (K25 <= $D$8:$D$20)), $B$8:$B$20)} -> 0.055 | N25: {=LOOKUP(2, 1/((L25 >= $E$8:$E$20) * (L25 <= $F$8:$F$20)), $B$8:$B$20)} -> 0.045 | O25: ='Discount Details'!I24 -> 0 | P25: =M25+N25+O25 -> 0.1 | Q25: =P25*'Discount Details'!Q24 -> 554794.98 | R25: =MIN(P25, $S$2) -> 0.07 | S25: =R25*'Discount Details'!Q24 -> 388356.49 | T25: =Q25-S25 -> 166438.49 | V25: ='Discount Details'!U24 -> 388356.49 | W25: =Q25-V25 -> 166438.49 | X25: =S25-V25 -> 0 | Z25: ='Discount Details'!N24 -> 0.07 | AA25: =P25-Z25 -> 0.03 | AB25: =R25-Z25 -> 0
I26: ='Discount Details'!B25 -> 10197 | J26: ='Discount Details'!C25 -> Harney Electric Coop. | K26: ='Discount Details'!D25 -> 11.633691 | L26: ='Discount Details'!E25 -> 1.380916 | M26: {=LOOKUP(2, 1/((K26 >= $C$8:$C$20) * (K26 <= $D$8:$D$20)), $B$8:$B$20)} -> 0.05 | N26: {=LOOKUP(2, 1/((L26 >= $E$8:$E$20) * (L26 <= $F$8:$F$20)), $B$8:$B$20)} -> 0.06 | O26: ='Discount Details'!I25 -> 0.005 | P26: =M26+N26+O26 -> 0.115 | Q26: =P26*'Discount Details'!Q25 -> 794768.06 | R26: =MIN(P26, $S$2) -> 0.07 | S26: =R26*'Discount Details'!Q25 -> 483771.87 | T26: =Q26-S26 -> 310996.2 | V26: ='Discount Details'!U25 -> 600291.77 | W26: =Q26-V26 -> 194476.29 | X26: =S26-V26 -> -116519.91 | Z26: ='Discount Details'!N25 -> 0.08686 | AA26: =P26-Z26 -> 0.02814 | AB26: =R26-Z26 -> -0.01686
B27: C/M Methodology | I27: ='Discount Details'!B26 -> 10203 | J27: ='Discount Details'!C26 -> Idaho County L&P Coop. | K27: ='Discount Details'!D26 -> 5.3504834 | L27: ='Discount Details'!E26 -> 3.965673 | M27: {=LOOKUP(2, 1/((K27 >= $C$8:$C$20) * (K27 <= $D$8:$D$20)), $B$8:$B$20)} -> 0.055 | N27: {=LOOKUP(2, 1/((L27 >= $E$8:$E$20) * (L27 <= $F$8:$F$20)), $B$8:$B$20)} -> 0.05 | O27: ='Discount Details'!I26 -> 0 | P27: =M27+N27+O27 -> 0.105 | Q27: =P27*'Discount Details'!Q26 -> 211564.21 | R27: =MIN(P27, $S$2) -> 0.07 | S27: =R27*'Discount Details'!Q26 -> 141042.81 | T27: =Q27-S27 -> 70521.403 | V27: ='Discount Details'!U26 -> 152749.36 | W27: =Q27-V27 -> 58814.85 | X27: =S27-V27 -> -11706.553 | Z27: ='Discount Details'!N26 -> 0.07581 | AA27: =P27-Z27 -> 0.02919 | AB27: =R27-Z27 -> -0.00581
B28: LOGARITHMIC | I28: ='Discount Details'!B27 -> 10209 | J28: ='Discount Details'!C27 -> Inland Power & Light | K28: ='Discount Details'!D27 -> 6.8150435 | L28: ='Discount Details'!E27 -> 5.9793734 | M28: {=LOOKUP(2, 1/((K28 >= $C$8:$C$20) * (K28 <= $D$8:$D$20)), $B$8:$B$20)} -> 0.055 | N28: {=LOOKUP(2, 1/((L28 >= $E$8:$E$20) * (L28 <= $F$8:$F$20)), $B$8:$B$20)} -> 0.04 | O28: ='Discount Details'!I27 -> 0 | P28: =M28+N28+O28 -> 0.095 | Q28: =P28*'Discount Details'!Q27 -> 3273435.6 | R28: =MIN(P28, $S$2) -> 0.07 | S28: =R28*'Discount Details'!Q27 -> 2412005.2 | T28: =Q28-S28 -> 861430.41 | V28: ='Discount Details'!U27 -> 2940923.4 | W28: =Q28-V28 -> 332512.14 | X28: =S28-V28 -> -528918.27 | Z28: ='Discount Details'!N27 -> 0.08535 | AA28: =P28-Z28 -> 0.00965 | AB28: =R28-Z28 -> -0.01535
I29: ='Discount Details'!B28 -> 10230 | J29: ='Discount Details'!C28 -> Kittitas County PUD | K29: ='Discount Details'!D28 -> 2.9392366 | L29: ='Discount Details'!E28 -> 6.5855263 | M29: {=LOOKUP(2, 1/((K29 >= $C$8:$C$20) * (K29 <= $D$8:$D$20)), $B$8:$B$20)} -> 0.06 | N29: {=LOOKUP(2, 1/((L29 >= $E$8:$E$20) * (L29 <= $F$8:$F$20)), $B$8:$B$20)} -> 0.04 | O29: ='Discount Details'!I28 -> 0 | P29: =M29+N29+O29 -> 0.1 | Q29: =P29*'Discount Details'!Q28 -> 332706.23 | R29: =MIN(P29, $S$2) -> 0.07 | S29: =R29*'Discount Details'!Q28 -> 232894.36 | T29: =Q29-S29 -> 99811.87 | V29: ='Discount Details'!U28 -> 296175.09 | W29: =Q29-V29 -> 36531.145 | X29: =S29-V29 -> -63280.726 | Z29: ='Discount Details'!N28 -> 0.08902 | AA29: =P29-Z29 -> 0.01098 | AB29: =R29-Z29 -> -0.01902
