Workbook

Sheet Inputs
B2: Product Choice Model v 0.5 (beta)
B4: BPA provides this model as an indicative-only estimate of comparative effective rates across various product choices under Provider of Choice. No warrantees are made and BPA is not responsible for any choices any customer may make utilizing this tool.
B6: Instructions
B7: Input the gold values only. Everything else is a calculation and should not be altered.
B8: For customers with NLSLs, the values input here should exclude those loads.
B9: Net Requirements: Exhibit A dedicated resources and resources serving NLSLs should be subtracted from TRL before being entered into these cells. It is ok to leave in Above CHWM load.
B10: CSP can include Above CHWM load but should exclude the same Exhibit A and non-federal resources serving NLSL load as in the Net Requirement.
B11: To shape the block between HLH and LLH period, select "60percentHLH" in cell G15.
B12: NEW: 0.2 version implements 60/40 shaping for the 10% block and PNR Block products in addition to Block with Shaping, because the capacity can be used to achieve this shaping. User input g16 applies to all of these products.
B13: NEW: 0.3 version implements within-month flat-only Block shape for Slice Block Product
B14: NEW: 0.4 version updates the input rates to one singular Composite Rate and a shaped set of Non-Slice rates, with the Composite Rate embedded, consistent with the PRDM design change
B15: NEW: 0.5 version includes RICc costs in Non-Slice rates rather than separate adder.
B19: CHWM (MW) | C19: 115 | E19: =0.5*MIN(SUM($C$37:$N$37)/SUM($C$54:$N$55),$C$19)/$O$103 -> 0.0079310345 | F19: <--- Assumed Slice | G19: 60percentHLH | H19: <--- Diurnal Shaping
B21: Total Retail Load (aMW)
C22: 47027 | D22: =+EOMONTH(C22,0)+1 -> 47058 | E22: =+EOMONTH(D22,0)+1 -> 47088 | F22: =+EOMONTH(E22,0)+1 -> 47119 | G22: =+EOMONTH(F22,0)+1 -> 47150 | H22: =+EOMONTH(G22,0)+1 -> 47178 | I22: =+EOMONTH(H22,0)+1 -> 47209 | J22: =+EOMONTH(I22,0)+1 -> 47239 | K22: =+EOMONTH(J22,0)+1 -> 47270 | ... N22: =+EOMONTH(M22,0)+1 -> 47362
B23: HLH (aMW) | C23: 135.81845 | D23: 130.7921 | E23: 158.24691 | F23: 153.18439 | G23: 140.14975 | H23: 127.40347 | I23: 135.63895 | J23: 142.76219 | K23: 175.32144 | L23: 210.39585 | M23: 189.46962 | N23: 160.2966
B24: LLH (aMW) | C24: 109.83695 | D24: 122.07053 | E24: 139.34001 | F24: 138.38254 | G24: 133.55671 | H24: 122.41191 | I24: 113.89084 | J24: 131.35088 | K24: 142.56433 | L24: 159.26608 | M24: 163.50214 | N24: 132.93029
B25: All Hours | C25: =+(C23*C54+C24*C55)/SUM(C54:C55) -> 124.36424 | D25: =+(D23*D54+D24*D55)/SUM(D54:D55) -> 126.90913 | E25: =+(E23*E54+E24*E55)/SUM(E54:E55) -> 149.50501 | F25: =+(F23*F54+F24*F55)/SUM(F54:F55) -> 146.65885 | G25: =+(G23*G54+G24*G55)/SUM(G54:G55) -> 137.32416 | H25: =+(H23*H54+H24*H55)/SUM(H54:H55) -> 125.31414 | I25: =+(I23*I54+I24*I55)/SUM(I54:I55) -> 125.97312 | J25: =+(J23*J54+J24*J55)/SUM(J54:J55) -> 137.73139 | ... N25: =+(N23*N54+N24*N55)/SUM(N54:N55) -> 147.52565
B26: HLH MWh | C26: =+C23*C54 -> 56500.475 | D26: =+D23*D54 -> 52316.84 | E26: =+E23*E54 -> 63298.763 | F26: =+F23*F54 -> 63724.707 | G26: =+G23*G54 -> 53817.502 | H26: =+H23*H54 -> 55038.3 | I26: =+I23*I54 -> 54255.581 | J26: =+J23*J54 -> 59389.07 | ... N26: =+N23*N54 -> 61553.893
B27: LLH MWh | C27: =+C24*C55 -> 36026.519 | D27: =+D24*D55 -> 39184.641 | E27: =+E24*E55 -> 47932.963 | F27: =+F24*F55 -> 45389.474 | G27: =+G24*G55 -> 38464.331 | H27: =+H24*H55 -> 38070.104 | I27: =+I24*I55 -> 36445.068 | J27: =+J24*J55 -> 43083.087 | ... N27: =+N24*N55 -> 44664.576
B28: Total Energy | C28: =+SUM(C26:C27) -> 92526.994 | D28: =+SUM(D26:D27) -> 91501.481 | E28: =+SUM(E26:E27) -> 111231.73 | F28: =+SUM(F26:F27) -> 109114.18 | G28: =+SUM(G26:G27) -> 92281.834 | H28: =+SUM(H26:H27) -> 93108.404 | I28: =+SUM(I26:I27) -> 90700.649 | J28: =+SUM(J26:J27) -> 102472.16 | ... N28: =+SUM(N26:N27) -> 106218.47
B30: Gross Net Requirement (aMW) - including any Above CHWM load
C31: 47027 | D31: =+EOMONTH(C31,0)+1 -> 47058 | E31: =+EOMONTH(D31,0)+1 -> 47088 | F31: =+EOMONTH(E31,0)+1 -> 47119 | G31: =+EOMONTH(F31,0)+1 -> 47150 | H31: =+EOMONTH(G31,0)+1 -> 47178 | I31: =+EOMONTH(H31,0)+1 -> 47209 | J31: =+EOMONTH(I31,0)+1 -> 47239 | K31: =+EOMONTH(J31,0)+1 -> 47270 | ... N31: =+EOMONTH(M31,0)+1 -> 47362
B32: HLH Tier 1 (aMW) | C32: 118.028 | D32: 118.028 | E32: 118.028 | F32: 118.028 | G32: 118.028 | H32: 118.028 | I32: 118.028 | J32: 118.028 | K32: 118.028 | L32: 118.028 | M32: 118.028 | N32: 118.028
B33: LLH Tier 1 (aMW) | C33: 118.028 | D33: 118.028 | E33: 118.028 | F33: 118.028 | G33: 118.028 | H33: 118.028 | I33: 118.028 | J33: 118.028 | K33: 118.028 | L33: 118.028 | M33: 118.028 | N33: 118.028 | O33: =+SUMPRODUCT(C32:N33,C54:N55)/SUM(C54:N55) -> 118.028 | P33: =+MAX(0,O33-C19) -> 3.028 | Q33: <---aMW Above CHWM Load
A34: The MWhs are reduced to Tier 1 only --> | B34: All Hours | C34: =+IF($O$33<=$C$19,(C32*C54+C33*C55)/C56,(C32*C54+C33*C55)/C56+$C$19-$O$33) -> 115 | D34: =+IF($O$33<$C$19,(D32*D54+D33*D55)/D56,(D32*D54+D33*D55)/D56+$C$19-$O$33) -> 115 | E34: =+IF($O$33<$C$19,(E32*E54+E33*E55)/E56,(E32*E54+E33*E55)/E56+$C$19-$O$33) -> 115 | F34: =+IF($O$33<$C$19,(F32*F54+F33*F55)/F56,(F32*F54+F33*F55)/F56+$C$19-$O$33) -> 115 | G34: =+IF($O$33<$C$19,(G32*G54+G33*G55)/G56,(G32*G54+G33*G55)/G56+$C$19-$O$33) -> 115 | H34: =+IF($O$33<$C$19,(H32*H54+H33*H55)/H56,(H32*H54+H33*H55)/H56+$C$19-$O$33) -> 115 | I34: =+IF($O$33<$C$19,(I32*I54+I33*I55)/I56,(I32*I54+I33*I55)/I56+$C$19-$O$33) -> 115 | J34: =+IF($O$33<$C$19,(J32*J54+J33*J55)/J56,(J32*J54+J33*J55)/J56+$C$19-$O$33) -> 115 | K34: =+IF($O$33<$C$19,(K32*K54+K33*K55)/K56,(K32*K54+K33*K55)/K56+$C$19-$O$33) -> 115 | ... N34: =+IF($O$33<$C$19,(N32*N54+N33*N55)/N56,(N32*N54+N33*N55)/N56+$C$19-$O$33) -> 115 | O34: =IF(SUMPRODUCT(C34:N34,C56:N56)/SUM(C56:N56)<=C19,0,"error") -> 0
B35: HLH MWh | C35: =+IF($O$33<=$C$19,C32*C54,(C32+($C$19-$O$33))*C54) -> 47840 | D35: =+IF($O$33<=$C$19,D32*D54,(D32+($C$19-$O$33))*D54) -> 46000 | E35: =+IF($O$33<=$C$19,E32*E54,(E32+($C$19-$O$33))*E54) -> 46000 | F35: =+IF($O$33<=$C$19,F32*F54,(F32+($C$19-$O$33))*F54) -> 47840 | G35: =+IF($O$33<=$C$19,G32*G54,(G32+($C$19-$O$33))*G54) -> 44160 | H35: =+IF($O$33<=$C$19,H32*H54,(H32+($C$19-$O$33))*H54) -> 49680 | I35: =+IF($O$33<=$C$19,I32*I54,(I32+($C$19-$O$33))*I54) -> 46000 | J35: =+IF($O$33<=$C$19,J32*J54,(J32+($C$19-$O$33))*J54) -> 47840 | ... N35: =+IF($O$33<=$C$19,N32*N54,(N32+($C$19-$O$33))*N54) -> 44160 | O35: =IF(SUM(C35:N36)/SUM(C54:N55)<=C19,0,"Error") -> 0
B36: LLH MWh | C36: =+IF($O$33<=$C$19,C33*C55,(C33+($C$19-$O$33))*C55) -> 37720 | D36: =+IF($O$33<=$C$19,D33*D55,(D33+($C$19-$O$33))*D55) -> 36915 | E36: =+IF($O$33<=$C$19,E33*E55,(E33+($C$19-$O$33))*E55) -> 39560 | F36: =+IF($O$33<=$C$19,F33*F55,(F33+($C$19-$O$33))*F55) -> 37720 | G36: =+IF($O$33<=$C$19,G33*G55,(G33+($C$19-$O$33))*G55) -> 33120 | H36: =+IF($O$33<=$C$19,H33*H55,(H33+($C$19-$O$33))*H55) -> 35765 | I36: =+IF($O$33<=$C$19,I33*I55,(I33+($C$19-$O$33))*I55) -> 36800 | J36: =+IF($O$33<=$C$19,J33*J55,(J33+($C$19-$O$33))*J55) -> 37720 | ... N36: =+IF($O$33<=$C$19,N33*N55,(N33+($C$19-$O$33))*N55) -> 38640
B37: Total Energy | C37: =+SUM(C35:C36) -> 85560 | D37: =+SUM(D35:D36) -> 82915 | E37: =+SUM(E35:E36) -> 85560 | F37: =+SUM(F35:F36) -> 85560 | G37: =+SUM(G35:G36) -> 77280 | H37: =+SUM(H35:H36) -> 85445 | I37: =+SUM(I35:I36) -> 82800 | J37: =+SUM(J35:J36) -> 85560 | ... N37: =+SUM(N35:N36) -> 82800 | O37: =IF(SUM(C37:N37)/SUM(C56:N56)<=C19,0,"Error") -> 0
C38: =+C37/C56-C34 -> 0 | D38: =+D37/D56-D34 -> 0 | E38: =+E37/E56-E34 -> 0 | F38: =+F37/F56-F34 -> 0 | G38: =+G37/G56-G34 -> 0 | H38: =+H37/H56-H34 -> 0 | I38: =+I37/I56-I34 -> 0 | J38: =+J37/J56-J34 -> 0 | ... N38: =+N37/N56-N34 -> 0
B40: CSP (MW) | C40: 47027 | D40: =+EOMONTH(C40,0)+1 -> 47058 | E40: =+EOMONTH(D40,0)+1 -> 47088 | F40: =+EOMONTH(E40,0)+1 -> 47119 | G40: =+EOMONTH(F40,0)+1 -> 47150 | H40: =+EOMONTH(G40,0)+1 -> 47178 | I40: =+EOMONTH(H40,0)+1 -> 47209 | J40: =+EOMONTH(I40,0)+1 -> 47239 | K40: =+EOMONTH(J40,0)+1 -> 47270 | ... N40: =+EOMONTH(M40,0)+1 -> 47362
B41: All Hours | C41: 136.98212 | D41: 137.74514 | E41: 139.65241 | F41: 171.15312 | G41: 134.44584 | H41: 117.64429 | I41: 132.90836 | J41: 142.70992 | K41: 179.63998 | L41: 219.02089 | M41: 203.86935 | N41: 170.13911
C42: =+C41-$P$33 -> 133.95412 | D42: =+D41-$P$33 -> 134.71714 | E42: =+E41-$P$33 -> 136.62441 | F42: =+F41-$P$33 -> 168.12512 | G42: =+G41-$P$33 -> 131.41784 | H42: =+H41-$P$33 -> 114.61629 | I42: =+I41-$P$33 -> 129.88036 | J42: =+J41-$P$33 -> 139.68192 | ... N42: =+N41-$P$33 -> 167.11111
B44: Peak Net Requirement (MW) | C44: 47027 | D44: =+EOMONTH(C44,0)+1 -> 47058 | E44: =+EOMONTH(D44,0)+1 -> 47088 | F44: =+EOMONTH(E44,0)+1 -> 47119 | G44: =+EOMONTH(F44,0)+1 -> 47150 | H44: =+EOMONTH(G44,0)+1 -> 47178 | I44: =+EOMONTH(H44,0)+1 -> 47209 | J44: =+EOMONTH(I44,0)+1 -> 47239 | K44: =+EOMONTH(J44,0)+1 -> 47270 | ... N44: =+EOMONTH(M44,0)+1 -> 47362
B45: All Hours | C45: 136.79328 | D45: 137.5563 | E45: 139.46357 | F45: 170.96428 | G45: 134.257 | H45: 117.45545 | I45: 132.71952 | J45: 142.52109 | K45: 179.45114 | L45: 218.83205 | M45: 203.68051 | N45: 169.95027
C46: =+C42 -> 133.95412 | D46: =+D42 -> 134.71714 | E46: =+E42 -> 136.62441 | F46: =+F42 -> 168.12512 | G46: =+G42 -> 131.41784 | H46: =+H42 -> 114.61629 | I46: =+I42 -> 129.88036 | J46: =+J42 -> 139.68192 | ... N46: =+N42 -> 167.11111
B48: CDQ (for TRM only)
C49: 47027 | D49: =+EOMONTH(C49,0)+1 -> 47058 | E49: =+EOMONTH(D49,0)+1 -> 47088 | F49: =+EOMONTH(E49,0)+1 -> 47119 | G49: =+EOMONTH(F49,0)+1 -> 47150 | H49: =+EOMONTH(G49,0)+1 -> 47178 | I49: =+EOMONTH(H49,0)+1 -> 47209 | J49: =+EOMONTH(I49,0)+1 -> 47239 | K49: =+EOMONTH(J49,0)+1 -> 47270 | ... N49: =+EOMONTH(M49,0)+1 -> 47362
B50: All Hours | C50: 10.916 | D50: 25.6 | E50: 18.955 | F50: 21.773 | G50: 34.06 | H50: 18.055 | I50: 15.617 | J50: 37.119 | K50: 35.313 | L50: 30.721 | M50: 22.631 | N50: 28.231
B52: Hours
C53: 47027 | D53: =+EOMONTH(C53,0)+1 -> 47058 | E53: =+EOMONTH(D53,0)+1 -> 47088 | F53: =+EOMONTH(E53,0)+1 -> 47119 | G53: =+EOMONTH(F53,0)+1 -> 47150 | H53: =+EOMONTH(G53,0)+1 -> 47178 | I53: =+EOMONTH(H53,0)+1 -> 47209 | J53: =+EOMONTH(I53,0)+1 -> 47239 | K53: =+EOMONTH(J53,0)+1 -> 47270 | ... N53: =+EOMONTH(M53,0)+1 -> 47362 | O53: Total
B54: HLH | C54: 416 | D54: 400 | E54: 400 | F54: 416 | G54: 384 | H54: 432 | I54: 400 | J54: 416 | K54: 416 | L54: 400 | M54: 432 | N54: 384 | O54: =+SUM(C54:N54) -> 4896
B55: LLH | C55: 328 | D55: 321 | E55: 344 | F55: 328 | G55: 288 | H55: 311 | I55: 320 | J55: 328 | K55: 304 | L55: 344 | M55: 312 | N55: 336 | O55: =+SUM(C55:N55) -> 3864
B56: Total | C56: =+SUM(C54:C55) -> 744 | D56: =+SUM(D54:D55) -> 721 | E56: =+SUM(E54:E55) -> 744 | F56: =+SUM(F54:F55) -> 744 | G56: =+SUM(G54:G55) -> 672 | H56: =+SUM(H54:H55) -> 743 | I56: =+SUM(I54:I55) -> 720 | J56: =+SUM(J54:J55) -> 744 | ... N56: =+SUM(N54:N55) -> 720 | O56: =+SUM(C56:N56) -> 8760
B58: Slice Resource (Calculated)
C59: 47027 | D59: =+EOMONTH(C59,0)+1 -> 47058 | E59: =+EOMONTH(D59,0)+1 -> 47088 | F59: =+EOMONTH(E59,0)+1 -> 47119 | G59: =+EOMONTH(F59,0)+1 -> 47150 | H59: =+EOMONTH(G59,0)+1 -> 47178 | I59: =+EOMONTH(H59,0)+1 -> 47209 | J59: =+EOMONTH(I59,0)+1 -> 47239 | K59: =+EOMONTH(J59,0)+1 -> 47270 | ... N59: =+EOMONTH(M59,0)+1 -> 47362
B60: HLH (aMW) | C60: =+C63/C54 -> 59.383091 | D60: =+D63/D54 -> 74.119242 | E60: =+E63/E54 -> 73.034537 | F60: =+F63/F54 -> 59.835847 | G60: =+G63/G54 -> 62.641907 | H60: =+H63/H54 -> 58.374149 | I60: =+I63/I54 -> 46.39018 | J60: =+J63/J54 -> 63.962554 | ... N60: =+N63/N54 -> 63.914131
B61: LLH (aMW) | C61: =+C64/C55 -> 41.55805 | D61: =+D64/D55 -> 57.180228 | E61: =+E64/E55 -> 53.484705 | F61: =+F64/F55 -> 45.964418 | G61: =+G64/G55 -> 48.566261 | H61: =+H64/H55 -> 47.59839 | I61: =+I64/I55 -> 36.588545 | J61: =+J64/J55 -> 49.598007 | ... N61: =+N64/N55 -> 42.677721
B62: All Hours | C62: =+(C60*C54+C61*C55)/SUM(C54:C55) -> 51.524739 | D62: =+(D60*D54+D61*D55)/SUM(D54:D55) -> 66.577739 | E62: =+(E60*E54+E61*E55)/SUM(E54:E55) -> 63.995368 | F62: =+(F60*F54+F61*F55)/SUM(F54:F55) -> 53.720486 | G62: =+(G60*G54+G61*G55)/SUM(G54:G55) -> 56.609487 | H62: =+(H60*H54+H61*H55)/SUM(H54:H55) -> 53.863704 | I62: =+(I60*I54+I61*I55)/SUM(I54:I55) -> 42.033897 | J62: =+(J60*J54+J61*J55)/SUM(J54:J55) -> 57.629797 | ... N62: =+(N60*N54+N61*N55)/SUM(N54:N55) -> 54.003806
B63: HLH MWh | C63: =+$E$19*C105 -> 24703.366 | D63: =+$E$19*D105 -> 29647.697 | E63: =+$E$19*E105 -> 29213.815 | F63: =+$E$19*F105 -> 24891.712 | G63: =+$E$19*G105 -> 24054.492 | H63: =+$E$19*H105 -> 25217.633 | I63: =+$E$19*I105 -> 18556.072 | J63: =+$E$19*J105 -> 26608.423 | ... N63: =+$E$19*N105 -> 24543.026
B64: LLH MWh | C64: =+$E$19*C106 -> 13631.04 | D64: =+$E$19*D106 -> 18354.853 | E64: =+$E$19*E106 -> 18398.739 | F64: =+$E$19*F106 -> 15076.329 | G64: =+$E$19*G106 -> 13987.083 | H64: =+$E$19*H106 -> 14803.099 | I64: =+$E$19*I106 -> 11708.334 | J64: =+$E$19*J106 -> 16268.146 | ... N64: =+$E$19*N106 -> 14339.714
B65: Total Energy | C65: =+SUM(C63:C64) -> 38334.406 | D65: =+SUM(D63:D64) -> 48002.55 | E65: =+SUM(E63:E64) -> 47612.554 | F65: =+SUM(F63:F64) -> 39968.041 | G65: =+SUM(G63:G64) -> 38041.575 | H65: =+SUM(H63:H64) -> 40020.732 | I65: =+SUM(I63:I64) -> 30264.406 | J65: =+SUM(J63:J64) -> 42876.569 | ... N65: =+SUM(N63:N64) -> 38882.741
B66: Block Monthly Shaping
B67: HLH Allocation Factor | C67: =+MAX(0,C35-C63) -> 23136.634 | D67: =+MAX(0,D35-D63) -> 16352.303 | E67: =+MAX(0,E35-E63) -> 16786.185 | F67: =+MAX(0,F35-F63) -> 22948.288 | G67: =+MAX(0,G35-G63) -> 20105.508 | H67: =+MAX(0,H35-H63) -> 24462.367 | I67: =+MAX(0,I35-I63) -> 27443.928 | J67: =+MAX(0,J35-J63) -> 21231.577 | ... N67: =+MAX(0,N35-N63) -> 19616.974
B68: LLH Allocation Factor | C68: =+MAX(0,C36-C64) -> 24088.96 | D68: =+MAX(0,D36-D64) -> 18560.147 | E68: =+MAX(0,E36-E64) -> 21161.261 | F68: =+MAX(0,F36-F64) -> 22643.671 | G68: =+MAX(0,G36-G64) -> 19132.917 | H68: =+MAX(0,H36-H64) -> 20961.901 | I68: =+MAX(0,I36-I64) -> 25091.666 | J68: =+MAX(0,J36-J64) -> 21451.854 | ... N68: =+MAX(0,N36-N64) -> 24300.286
B69: Total Energy | C69: =+SUM(C67:C68) -> 47225.594 | D69: =+SUM(D67:D68) -> 34912.45 | E69: =+SUM(E67:E68) -> 37947.446 | F69: =+SUM(F67:F68) -> 45591.959 | G69: =+SUM(G67:G68) -> 39238.425 | H69: =+SUM(H67:H68) -> 45424.268 | I69: =+SUM(I67:I68) -> 52535.594 | J69: =+SUM(J67:J68) -> 42683.431 | ... N69: =+SUM(N67:N68) -> 43917.259
B70: Block Monthly Shape % | C70: =+C69/SUM($C$69:$N$69) -> 0.093757383 | D70: =+D69/SUM($C$69:$N$69) -> 0.069311991 | E70: =+E69/SUM($C$69:$N$69) -> 0.075337396 | F70: =+F69/SUM($C$69:$N$69) -> 0.090514113 | G70: =+G69/SUM($C$69:$N$69) -> 0.077900387 | H70: =+H69/SUM($C$69:$N$69) -> 0.090181195 | I70: =+I69/SUM($C$69:$N$69) -> 0.10429937 | J70: =+J69/SUM($C$69:$N$69) -> 0.084739788 | ... N70: =+N69/SUM($C$69:$N$69) -> 0.087189318
B72: Shaping Assumption into HLH Periods for Block
B73: HLH | C73: =+IF($G$19="Flat",C54/C56,0.6) -> 0.6 | D73: =+IF($G$19="Flat",D54/D56,0.6) -> 0.6 | E73: =+IF($G$19="Flat",E54/E56,0.6) -> 0.6 | F73: =+IF($G$19="Flat",F54/F56,0.6) -> 0.6 | G73: =+IF($G$19="Flat",G54/G56,0.6) -> 0.6 | H73: =+IF($G$19="Flat",H54/H56,0.6) -> 0.6 | I73: =+IF($G$19="Flat",I54/I56,0.6) -> 0.6 | J73: =+IF($G$19="Flat",J54/J56,0.6) -> 0.6 | ... N73: =+IF($G$19="Flat",N54/N56,0.6) -> 0.6
B75: Block under Slice Block Net Requirement
B76: HLH (aMW) | C76: =C$81/C$56 -> 63.475261 | D76: =D$81/D$56 -> 48.422261 | E76: =E$81/E$56 -> 51.004632 | F76: =F$81/F$56 -> 61.279514 | G76: =G$81/G$56 -> 58.390513 | H76: =H$81/H$56 -> 61.136296 | I76: =I$81/I$56 -> 72.966103 | J76: =J$81/J$56 -> 57.370203 | ... N76: =N$81/N$56 -> 60.996194
B77: LLH (aMW) | C77: =+(C$81-C$76*C$54)/C$55 -> 63.475261 | D77: =+(D$81-D$76*D$54)/D$55 -> 48.422261 | E77: =+(E$81-E$76*E$54)/E$55 -> 51.004632 | F77: =+(F$81-F$76*F$54)/F$55 -> 61.279514 | G77: =+(G$81-G$76*G$54)/G$55 -> 58.390513 | H77: =+(H$81-H$76*H$54)/H$55 -> 61.136296 | I77: =+(I$81-I$76*I$54)/I$55 -> 72.966103 | J77: =+(J$81-J$76*J$54)/J$55 -> 57.370203 | ... N77: =+(N$81-N$76*N$54)/N$55 -> 60.996194
B78: All Hours | C78: =+(C76*C54+C77*C55)/C56 -> 63.475261 | D78: =+(D76*D54+D77*D55)/D56 -> 48.422261 | E78: =+(E76*E54+E77*E55)/E56 -> 51.004632 | F78: =+(F76*F54+F77*F55)/F56 -> 61.279514 | G78: =+(G76*G54+G77*G55)/G56 -> 58.390513 | H78: =+(H76*H54+H77*H55)/H56 -> 61.136296 | I78: =+(I76*I54+I77*I55)/I56 -> 72.966103 | J78: =+(J76*J54+J77*J55)/J56 -> 57.370203 | ... N78: =+(N76*N54+N77*N55)/N56 -> 60.996194
B79: HLH MWh | C79: =+C76*C54 -> 26405.708 | D79: =+D76*D54 -> 19368.904 | E79: =+E76*E54 -> 20401.853 | F79: =+F76*F54 -> 25492.278 | G79: =+G76*G54 -> 22421.957 | H79: =+H76*H54 -> 26410.88 | I79: =+I76*I54 -> 29186.441 | J79: =+J76*J54 -> 23866.004 | ... N79: =+N76*N54 -> 23422.538
B80: LLH MWh | C80: =+C77*C55 -> 20819.885 | D80: =+D77*D55 -> 15543.546 | E80: =+E77*E55 -> 17545.593 | F80: =+F77*F55 -> 20099.681 | G80: =+G77*G55 -> 16816.468 | H80: =+H77*H55 -> 19013.388 | I80: =+I77*I55 -> 23349.153 | J80: =+J77*J55 -> 18817.427 | ... N80: =+N77*N55 -> 20494.721
B81: Total Energy | C81: =+(SUM($C$37:$N$37)-SUM($C$65:$N$65))*C$70 -> 47225.594 | D81: =+(SUM($C$37:$N$37)-SUM($C$65:$N$65))*D$70 -> 34912.45 | E81: =+(SUM($C$37:$N$37)-SUM($C$65:$N$65))*E$70 -> 37947.446 | F81: =+(SUM($C$37:$N$37)-SUM($C$65:$N$65))*F$70 -> 45591.959 | G81: =+(SUM($C$37:$N$37)-SUM($C$65:$N$65))*G$70 -> 39238.425 | H81: =+(SUM($C$37:$N$37)-SUM($C$65:$N$65))*H$70 -> 45424.268 | I81: =+(SUM($C$37:$N$37)-SUM($C$65:$N$65))*I$70 -> 52535.594 | J81: =+(SUM($C$37:$N$37)-SUM($C$65:$N$65))*J$70 -> 42683.431 | ... N81: =+(SUM($C$37:$N$37)-SUM($C$65:$N$65))*N$70 -> 43917.259 | O81: =+SUM(C81:N81)-0.5*C84*SUM(C56:N56) -> -36808.846
B83: Flat Block
B84: HLH (aMW) | C84: =+C87/C54 -> 123.40385 | D84: =+D87/D54 -> 124.3725 | E84: =+E87/E54 -> 128.34 | F84: =+F87/F54 -> 123.40385 | G84: =+G87/G54 -> 120.75 | H84: =+H87/H54 -> 118.67361 | I84: =+I87/I54 -> 124.2 | J84: =+J87/J54 -> 123.40385 | ... N84: =+N87/N54 -> 129.375
B85: LLH (aMW) | C85: =+C88/C55 -> 104.34146 | D85: =+D88/D55 -> 103.32087 | E85: =+E88/E55 -> 99.488372 | F85: =+F88/F55 -> 104.34146 | G85: =+G88/G55 -> 107.33333 | H85: =+H88/H55 -> 109.89711 | I85: =+I88/I55 -> 103.5 | J85: =+J88/J55 -> 104.34146 | ... N85: =+N88/N55 -> 98.571429
B86: All Hours | C86: =+SUMPRODUCT(C34:N34,C56:N56)/SUM(C56:N56) -> 115 | D86: =+C86 -> 115 | E86: =+D86 -> 115 | F86: =+E86 -> 115 | G86: =+F86 -> 115 | H86: =+G86 -> 115 | I86: =+H86 -> 115 | J86: =+I86 -> 115 | K86: =+J86 -> 115 | ... N86: =+M86 -> 115
B87: HLH MWh | C87: =+C89*C73 -> 51336 | D87: =+D89*D73 -> 49749 | E87: =+E89*E73 -> 51336 | F87: =+F89*F73 -> 51336 | G87: =+G89*G73 -> 46368 | H87: =+H89*H73 -> 51267 | I87: =+I89*I73 -> 49680 | J87: =+J89*J73 -> 51336 | ... N87: =+N89*N73 -> 49680
B88: LLH MWh | C88: =+C89-C87 -> 34224 | D88: =+D89-D87 -> 33166 | E88: =+E89-E87 -> 34224 | F88: =+F89-F87 -> 34224 | G88: =+G89-G87 -> 30912 | H88: =+H89-H87 -> 34178 | I88: =+I89-I87 -> 33120 | J88: =+J89-J87 -> 34224 | ... N88: =+N89-N87 -> 33120
B89: Total Energy | C89: =+C86*C56 -> 85560 | D89: =+D86*D56 -> 82915 | E89: =+E86*E56 -> 85560 | F89: =+F86*F56 -> 85560 | G89: =+G86*G56 -> 77280 | H89: =+H86*H56 -> 85445 | I89: =+I86*I56 -> 82800 | J89: =+J86*J56 -> 85560 | ... N89: =+N86*N56 -> 82800
B91: Shaped Block
B92: Block Monthly Shaping
B93: HLH (aMW) | C93: =+C96/C54 -> 121.08173 | D93: =+D96/D54 -> 125.925 | E93: =+E96/E54 -> 125.925 | F93: =+F96/F54 -> 121.08173 | G93: =+G96/G54 -> 131.17188 | H93: =+H96/H54 -> 116.59722 | I93: =+I96/I54 -> 125.925 | J93: =+J96/J54 -> 121.08173 | ... N93: =+N96/N54 -> 131.17188
B94: LLH (aMW) | C94: =+C97/C55 -> 102.37805 | D94: =+D97/D55 -> 104.61059 | E94: =+E97/E55 -> 97.616279 | F94: =+F97/F55 -> 102.37805 | G94: =+G97/G55 -> 116.59722 | H94: =+H97/H55 -> 107.97428 | I94: =+I97/I55 -> 104.9375 | J94: =+J97/J55 -> 102.37805 | ... N94: =+N97/N55 -> 99.940476
B95: All Hours | C95: =+C98/C56 -> 112.83602 | D95: =+D98/D56 -> 116.43551 | E95: =+E98/E56 -> 112.83602 | F95: =+F98/F56 -> 112.83602 | G95: =+G98/G56 -> 124.9256 | H95: =+H98/H56 -> 112.98789 | I95: =+I98/I56 -> 116.59722 | J95: =+J98/J56 -> 112.83602 | ... N95: =+N98/N56 -> 116.59722
B96: HLH MWh | C96: =+IF($G$19="Flat",C98*C54/C56,0.6*C98) -> 50370 | D96: =+IF($G$19="Flat",D98*D54/D56,0.6*D98) -> 50370 | E96: =+IF($G$19="Flat",E98*E54/E56,0.6*E98) -> 50370 | F96: =+IF($G$19="Flat",F98*F54/F56,0.6*F98) -> 50370 | G96: =+IF($G$19="Flat",G98*G54/G56,0.6*G98) -> 50370 | H96: =+IF($G$19="Flat",H98*H54/H56,0.6*H98) -> 50370 | I96: =+IF($G$19="Flat",I98*I54/I56,0.6*I98) -> 50370 | J96: =+IF($G$19="Flat",J98*J54/J56,0.6*J98) -> 50370 | ... N96: =+IF($G$19="Flat",N98*N54/N56,0.6*N98) -> 50370
B97: LLH MWh | C97: =+C98-C96 -> 33580 | D97: =+D98-D96 -> 33580 | E97: =+E98-E96 -> 33580 | F97: =+F98-F96 -> 33580 | G97: =+G98-G96 -> 33580 | H97: =+H98-H96 -> 33580 | I97: =+I98-I96 -> 33580 | J97: =+J98-J96 -> 33580 | ... N97: =+N98-N96 -> 33580
B98: Total Energy | C98: =+SUM($C$37:$N$37)*C99 -> 83950 | D98: =+SUM($C$37:$N$37)*D99 -> 83950 | E98: =+SUM($C$37:$N$37)*E99 -> 83950 | F98: =+SUM($C$37:$N$37)*F99 -> 83950 | G98: =+SUM($C$37:$N$37)*G99 -> 83950 | H98: =+SUM($C$37:$N$37)*H99 -> 83950 | I98: =+SUM($C$37:$N$37)*I99 -> 83950 | J98: =+SUM($C$37:$N$37)*J99 -> 83950 | ... N98: =+SUM($C$37:$N$37)*N99 -> 83950 | O98: =+SUM(C98:N98)-SUM(C89:N89) -> 0
B99: Monthly %s | C99: =+C$34/SUM($C$34:$N$34) -> 0.083333333 | D99: =+D$34/SUM($C$34:$N$34) -> 0.083333333 | E99: =+E$34/SUM($C$34:$N$34) -> 0.083333333 | F99: =+F$34/SUM($C$34:$N$34) -> 0.083333333 | G99: =+G$34/SUM($C$34:$N$34) -> 0.083333333 | H99: =+H$34/SUM($C$34:$N$34) -> 0.083333333 | I99: =+I$34/SUM($C$34:$N$34) -> 0.083333333 | J99: =+J$34/SUM($C$34:$N$34) -> 0.083333333 | ... N99: =+N$34/SUM($C$34:$N$34) -> 0.083333333
B101: BP-26 T1SFCO
C102: 47027 | D102: =+EOMONTH(C102,0)+1 -> 47058 | E102: =+EOMONTH(D102,0)+1 -> 47088 | F102: =+EOMONTH(E102,0)+1 -> 47119 | G102: =+EOMONTH(F102,0)+1 -> 47150 | H102: =+EOMONTH(G102,0)+1 -> 47178 | I102: =+EOMONTH(H102,0)+1 -> 47209 | J102: =+EOMONTH(I102,0)+1 -> 47239 | K102: =+EOMONTH(J102,0)+1 -> 47270 | ... N102: =+EOMONTH(M102,0)+1 -> 47362
B103: HLH | C103: 2960275.5 | D103: 3589633.3 | E103: 3534926.5 | F103: 2984023.5 | G103: 2890345.4 | H103: 3019175.6 | I103: 2191124.1 | J103: 3200478.3 | K103: 4483543.3 | L103: 3627756.2 | M103: 3340351.7 | N103: 2951943.1 | O103: 7250
B104: LLH | C104: 1596881.7 | D104: 2195092.5 | E104: 2192084.1 | F104: 1779113.7 | G104: 1656629.5 | H104: 1750976.6 | I104: 1357424.6 | J104: 1929386.3 | K104: 2033830 | L104: 1725634.6 | M104: 1582760.4 | N104: 1683265.1 | O104: =+SUM(C103:N104)/$O$56 -> 6878.6136
A105: CHWM Augmented --> | B105: HLH | C105: =+C103+($O$103-$O$104)*C54 -> 3114772.2 | D105: =+D103+($O$103-$O$104)*D54 -> 3738187.9 | E105: =+E103+($O$103-$O$104)*E54 -> 3683481 | F105: =+F103+($O$103-$O$104)*F54 -> 3138520.2 | G105: =+G103+($O$103-$O$104)*G54 -> 3032957.7 | H105: =+H103+($O$103-$O$104)*H54 -> 3179614.5 | I105: =+I103+($O$103-$O$104)*I54 -> 2339678.6 | J105: =+J103+($O$103-$O$104)*J54 -> 3354975 | ... N105: =+N103+($O$103-$O$104)*N54 -> 3094555.5
B106: LLH | C106: =+C104+($O$103-$O$104)*C55 -> 1718696.4 | D106: =+D104+($O$103-$O$104)*D55 -> 2314307.6 | E106: =+E104+($O$103-$O$104)*E55 -> 2319841 | F106: =+F104+($O$103-$O$104)*F55 -> 1900928.4 | G106: =+G104+($O$103-$O$104)*G55 -> 1763588.7 | H106: =+H104+($O$103-$O$104)*H55 -> 1866477.8 | I106: =+I104+($O$103-$O$104)*I55 -> 1476268.2 | J106: =+J104+($O$103-$O$104)*J55 -> 2051201.1 | ... N106: =+N104+($O$103-$O$104)*N55 -> 1808050.9
B108: BP-26 Load Shaping Rates (TRM)
C109: 47027 | D109: =+EOMONTH(C109,0)+1 -> 47058 | E109: =+EOMONTH(D109,0)+1 -> 47088 | F109: =+EOMONTH(E109,0)+1 -> 47119 | G109: =+EOMONTH(F109,0)+1 -> 47150 | H109: =+EOMONTH(G109,0)+1 -> 47178 | I109: =+EOMONTH(H109,0)+1 -> 47209 | J109: =+EOMONTH(I109,0)+1 -> 47239 | K109: =+EOMONTH(J109,0)+1 -> 47270 | ... N109: =+EOMONTH(M109,0)+1 -> 47362
B110: HLH | C110: 50.63 | D110: 39.53 | E110: 47.63 | F110: 43.56 | G110: 45.43 | H110: 29.19 | I110: 22.33 | J110: 8.6 | K110: 15.1 | L110: 50.98 | M110: 53.8 | N110: 60.51
B111: LLH | C111: 48.85 | D111: 41.64 | E111: 48.79 | F111: 43.8 | G111: 49.18 | H111: 34.54 | I111: 27.09 | J111: 12.73 | K111: 16.08 | L111: 48.06 | M111: 50.32 | N111: 59.06
B113: BP-26 Demand Rates
C114: 47027 | D114: =+EOMONTH(C114,0)+1 -> 47058 | E114: =+EOMONTH(D114,0)+1 -> 47088 | F114: =+EOMONTH(E114,0)+1 -> 47119 | G114: =+EOMONTH(F114,0)+1 -> 47150 | H114: =+EOMONTH(G114,0)+1 -> 47178 | I114: =+EOMONTH(H114,0)+1 -> 47209 | J114: =+EOMONTH(I114,0)+1 -> 47239 | K114: =+EOMONTH(J114,0)+1 -> 47270 | ... N114: =+EOMONTH(M114,0)+1 -> 47362 | O114: Average
B115: All Hours | C115: 15.21 | D115: 11.88 | E115: 14.31 | F115: 13.09 | G115: 13.65 | H115: 8.78 | I115: 6.71 | J115: 2.58 | K115: 4.53 | L115: 15.32 | M115: 16.16 | N115: 18.18 | O115: 11.7
B117: BP-26 Embedded Cost
C118: 47027 | D118: =+EOMONTH(C118,0)+1 -> 47058 | E118: =+EOMONTH(D118,0)+1 -> 47088 | F118: =+EOMONTH(E118,0)+1 -> 47119 | G118: =+EOMONTH(F118,0)+1 -> 47150 | H118: =+EOMONTH(G118,0)+1 -> 47178 | I118: =+EOMONTH(H118,0)+1 -> 47209 | J118: =+EOMONTH(I118,0)+1 -> 47239 | K118: =+EOMONTH(J118,0)+1 -> 47270 | ... N118: =+EOMONTH(M118,0)+1 -> 47362 | O118: Average
B119: All Hours | C119: 6.49 | D119: 5.07 | E119: 6.1 | F119: 5.58 | G119: 5.82 | H119: 3.74 | I119: 2.86 | J119: 1.1 | K119: 1.93 | L119: 6.53 | M119: 6.89 | N119: 7.75 | O119: 4.99
B121: PLVS Rate
C122: 47027 | D122: =+EOMONTH(C122,0)+1 -> 47058 | E122: =+EOMONTH(D122,0)+1 -> 47088 | F122: =+EOMONTH(E122,0)+1 -> 47119 | G122: =+EOMONTH(F122,0)+1 -> 47150 | H122: =+EOMONTH(G122,0)+1 -> 47178 | I122: =+EOMONTH(H122,0)+1 -> 47209 | J122: =+EOMONTH(I122,0)+1 -> 47239 | K122: =+EOMONTH(J122,0)+1 -> 47270 | ... N122: =+EOMONTH(M122,0)+1 -> 47362 | O122: Average
...

Sheet Product Summary
B3: Summary Rate Calculations
B4: * This tool approximates effective rates across product choices in a very simplistic way, and focuses on core rate-design elements discussed in PRDM processes summer 2024
B5: * Things to note: the slice-block and other block products have a different underlying shape, and energy content - so be mindful of that when comparing end results. See notes tab for more.
C7: 47027 | D7: =+EOMONTH(C7,0)+1 -> 47058 | E7: =+EOMONTH(D7,0)+1 -> 47088 | F7: =+EOMONTH(E7,0)+1 -> 47119 | G7: =+EOMONTH(F7,0)+1 -> 47150 | H7: =+EOMONTH(G7,0)+1 -> 47178 | I7: =+EOMONTH(H7,0)+1 -> 47209 | J7: =+EOMONTH(I7,0)+1 -> 47239 | K7: =+EOMONTH(J7,0)+1 -> 47270 | ... N7: =+EOMONTH(M7,0)+1 -> 47362 | O7: Annual | P7: Effective Rate Before Discounts
B8: Load Following Charges
B9: Energy Charge, Composite | C9: 0 | D9: 0 | E9: 0 | F9: 0 | G9: 0 | H9: 0 | I9: 0 | J9: 0 | K9: 0 | L9: 0 | M9: 0 | N9: 0
B10: Composite TRM | C10: 0 | D10: 0 | E10: 0 | F10: 0 | G10: 0 | H10: 0 | I10: 0 | J10: 0 | K10: 0 | L10: 0 | M10: 0 | N10: 0
B11: Energy Charge, Non Slice | C11: =+Inputs!C$35*Inputs!C$136+Inputs!C$36*Inputs!C$137 -> 3519561.4 | D11: =+Inputs!D$35*Inputs!D$136+Inputs!D$36*Inputs!D$137 -> 2633357.9 | E11: =+Inputs!E$35*Inputs!E$136+Inputs!E$36*Inputs!E$137 -> 3375912.6 | F11: =+Inputs!F$35*Inputs!F$136+Inputs!F$36*Inputs!F$137 -> 2990846.6 | G11: =+Inputs!G$35*Inputs!G$136+Inputs!G$36*Inputs!G$137 -> 2961946.7 | H11: =+Inputs!H$35*Inputs!H$136+Inputs!H$36*Inputs!H$137 -> 1941284.1 | I11: =+Inputs!I$35*Inputs!I$136+Inputs!I$36*Inputs!I$137 -> 1302930.9 | J11: =+Inputs!J$35*Inputs!J$136+Inputs!J$36*Inputs!J$137 -> 146399.76 | ... N11: =+Inputs!N$35*Inputs!N$136+Inputs!N$36*Inputs!N$137 -> 4233038.9
B12: Non-Slice TRM | C12: =+Inputs!C$35*Inputs!C$131+Inputs!C$36*Inputs!C$132 -> 3568145.7 | D12: =+Inputs!D$35*Inputs!D$131+Inputs!D$36*Inputs!D$132 -> 2680440.2 | E12: =+Inputs!E$35*Inputs!E$131+Inputs!E$36*Inputs!E$132 -> 3424496.9 | F12: =+Inputs!F$35*Inputs!F$131+Inputs!F$36*Inputs!F$132 -> 3039430.9 | G12: =+Inputs!G$35*Inputs!G$131+Inputs!G$36*Inputs!G$132 -> 3005829.3 | H12: =+Inputs!H$35*Inputs!H$131+Inputs!H$36*Inputs!H$132 -> 1989803.1 | I12: =+Inputs!I$35*Inputs!I$131+Inputs!I$36*Inputs!I$132 -> 1349947.9 | J12: =+Inputs!J$35*Inputs!J$131+Inputs!J$36*Inputs!J$132 -> 194984.06 | ... N12: =+Inputs!N$35*Inputs!N$131+Inputs!N$36*Inputs!N$132 -> 4280055.9
B13: Demand Charge @ Marginal | C13: =MAX(0,Inputs!C$42-Inputs!C$34)*1000*Inputs!C$115 -> 288292.12 | D13: =MAX(0,Inputs!D$42-Inputs!D$34)*1000*Inputs!D$115 -> 234239.62 | E13: =MAX(0,Inputs!E$42-Inputs!E$34)*1000*Inputs!E$115 -> 309445.35 | F13: =MAX(0,Inputs!F$42-Inputs!F$34)*1000*Inputs!F$115 -> 695407.8 | G13: =MAX(0,Inputs!G$42-Inputs!G$34)*1000*Inputs!G$115 -> 224103.49 | H13: =MAX(0,Inputs!H$42-Inputs!H$34)*1000*Inputs!H$115 -> 0 | I13: =MAX(0,Inputs!I$42-Inputs!I$34)*1000*Inputs!I$115 -> 99847.208 | J13: =MAX(0,Inputs!J$42-Inputs!J$34)*1000*Inputs!J$115 -> 63679.363 | ... N13: =MAX(0,Inputs!N$42-Inputs!N$34)*1000*Inputs!N$115 -> 947379.96
B14: Demand Charge TRM | C14: =MAX(0,Inputs!C$42-Inputs!C$50-Inputs!C$32)*1000*Inputs!C$115 -> 76203.885 | D14: =MAX(0,Inputs!D$42-Inputs!D$50-Inputs!D$32)*1000*Inputs!D$115 -> 0 | E14: =MAX(0,Inputs!E$42-Inputs!E$50-Inputs!E$32)*1000*Inputs!E$115 -> 0 | F14: =MAX(0,Inputs!F$42-Inputs!F$50-Inputs!F$32)*1000*Inputs!F$115 -> 370762.71 | G14: =MAX(0,Inputs!G$42-Inputs!G$50-Inputs!G$32)*1000*Inputs!G$115 -> 0 | H14: =MAX(0,Inputs!H$42-Inputs!H$50-Inputs!H$32)*1000*Inputs!H$115 -> 0 | I14: =MAX(0,Inputs!I$42-Inputs!I$50-Inputs!I$32)*1000*Inputs!I$115 -> 0 | J14: =MAX(0,Inputs!J$42-Inputs!J$50-Inputs!J$32)*1000*Inputs!J$115 -> 0 | ... N14: =MAX(0,Inputs!N$42-Inputs!N$50-Inputs!N$32)*1000*Inputs!N$115 -> 379091.34
B15: Demand Charge @ Embedded | C15: =MAX(0,Inputs!C$42-Inputs!C$34)*1000*Inputs!C$119 -> 123012.22 | D15: =MAX(0,Inputs!D$42-Inputs!D$34)*1000*Inputs!D$119 -> 99965.899 | E15: =MAX(0,Inputs!E$42-Inputs!E$34)*1000*Inputs!E$119 -> 131908.92 | F15: =MAX(0,Inputs!F$42-Inputs!F$34)*1000*Inputs!F$119 -> 296438.16 | G15: =MAX(0,Inputs!G$42-Inputs!G$34)*1000*Inputs!G$119 -> 95551.818 | H15: =MAX(0,Inputs!H$42-Inputs!H$34)*1000*Inputs!H$119 -> 0 | I15: =MAX(0,Inputs!I$42-Inputs!I$34)*1000*Inputs!I$119 -> 42557.826 | J15: =MAX(0,Inputs!J$42-Inputs!J$34)*1000*Inputs!J$119 -> 27150.116 | ... N15: =MAX(0,Inputs!N$42-Inputs!N$34)*1000*Inputs!N$119 -> 403861.09
B16: PLVS Charge | C16: =Inputs!C$28*Inputs!C$123 -> 86922.394 | D16: =Inputs!D$28*Inputs!D$123 -> 85958.998 | E16: =Inputs!E$28*Inputs!E$123 -> 104494.13 | F16: =Inputs!F$28*Inputs!F$123 -> 102504.85 | G16: =Inputs!G$28*Inputs!G$123 -> 86692.083 | H16: =Inputs!H$28*Inputs!H$123 -> 87468.586 | I16: =Inputs!I$28*Inputs!I$123 -> 85206.675 | J16: =Inputs!J$28*Inputs!J$123 -> 96265.153 | ... N16: =Inputs!N$28*Inputs!N$123 -> 99784.54
B17: Total Charges PRDM | C17: =+C9+C11+C13+C16 -> 3894775.9 | D17: =+D9+D11+D13+D16 -> 2953556.5 | E17: =+E9+E11+E13+E16 -> 3789852 | F17: =+F9+F11+F13+F16 -> 3788759.2 | G17: =+G9+G11+G13+G16 -> 3272742.2 | H17: =+H9+H11+H13+H16 -> 2028752.7 | I17: =+I9+I11+I13+I16 -> 1487984.7 | J17: =+J9+J11+J13+J16 -> 306344.28 | ... N17: =+N9+N11+N13+N16 -> 5280203.4 | P17: =+SUM(C17:N17)/SUM(Inputs!$C$37:$N$37) -> 37.898188
B18: Total Charges TRM | C18: =+C12+C10+C14 -> 3644349.5 | D18: =+D12+D10+D14 -> 2680440.2 | E18: =+E12+E10+E14 -> 3424496.9 | F18: =+F12+F10+F14 -> 3410193.6 | G18: =+G12+G10+G14 -> 3005829.3 | H18: =+H12+H10+H14 -> 1989803.1 | I18: =+I12+I10+I14 -> 1349947.9 | J18: =+J12+J10+J14 -> 194984.06 | ... N18: =+N12+N10+N14 -> 4659147.3 | P18: =+SUM(C18:N18)/SUM(Inputs!$C$37:$N$37) -> 34.15634
B19: RICc | O19: =+SUM(C20:N20)/SUM(Inputs!$C$37:$N$37) -> 3.4600127
B20: RICc (dollars) | C20: =+C13-C15 -> 165279.9 | D20: =+D13-D15 -> 134273.72 | E20: =+E13-E15 -> 177536.43 | F20: =+F13-F15 -> 398969.64 | G20: =+G13-G15 -> 128551.67 | H20: =+H13-H15 -> 0 | I20: =+I13-I15 -> 57289.381 | J20: =+J13-J15 -> 36529.247 | ... N20: =+N13-N15 -> 543518.86
B21: Unmitigated Effective Rate PRDM after RICc | O21: =+SUM(C17:N17)/SUM(Inputs!$C$37:$N$37)-O19 -> 34.438176
B22: Effective Rate TRM | O22: =+SUM(C18:N18)/SUM(Inputs!$C$37:$N$37) -> 34.15634
B23: RICm | O23: =IF(O21>=O22,MAX(0,O21-1.02*O22),MAX(O21-O22,IF(O21<(1-0.017)*O22,RICmCharge!$J$21+((O21-O22)/O22+0.017)*100*RICmCharge!$J$22,0))) -> 0
B24: Effective Rate PRDM after RICm | O24: =+O21-O23 -> 34.438176
B26: ="Shaped Block (Diurnal Shape set to: "&Inputs!G19&")" -> Shaped Block (Diurnal Shape set to: 60percentHLH) | C26: 47027 | D26: =+EOMONTH(C26,0)+1 -> 47058 | E26: =+EOMONTH(D26,0)+1 -> 47088 | F26: =+EOMONTH(E26,0)+1 -> 47119 | G26: =+EOMONTH(F26,0)+1 -> 47150 | H26: =+EOMONTH(G26,0)+1 -> 47178 | I26: =+EOMONTH(H26,0)+1 -> 47209 | J26: =+EOMONTH(I26,0)+1 -> 47239 | K26: =+EOMONTH(J26,0)+1 -> 47270 | ... N26: =+EOMONTH(M26,0)+1 -> 47362 | O26: Annual
B27: * this product allows some shape to the flat block between HLH and LLH hours, which will induce a demand charge
B28: Energy Charge, Composite | C28: 0 | D28: 0 | E28: 0 | F28: 0 | G28: 0 | H28: 0 | I28: 0 | J28: 0 | K28: 0 | L28: 0 | M28: 0 | N28: 0
B29: Composite TRM | C29: 0 | D29: 0 | E29: 0 | F29: 0 | G29: 0 | H29: 0 | I29: 0 | J29: 0 | K29: 0 | L29: 0 | M29: 0 | N29: 0
B30: Energy Charge, Non Slice | C30: =Inputs!C$96*Inputs!C$136+Inputs!C$97*Inputs!C$137 -> 3459438.8 | D30: =Inputs!D$96*Inputs!D$136+Inputs!D$97*Inputs!D$137 -> 2658220 | E30: =Inputs!E$96*Inputs!E$136+Inputs!E$97*Inputs!E$137 -> 3306314 | F30: =Inputs!F$96*Inputs!F$136+Inputs!F$97*Inputs!F$137 -> 2933743.9 | G30: =Inputs!G$96*Inputs!G$136+Inputs!G$97*Inputs!G$137 -> 3208596.2 | H30: =Inputs!H$96*Inputs!H$136+Inputs!H$97*Inputs!H$137 -> 1898976.2 | I30: =Inputs!I$96*Inputs!I$136+Inputs!I$97*Inputs!I$137 -> 1303267 | J30: =Inputs!J$96*Inputs!J$136+Inputs!J$97*Inputs!J$137 -> 129478.14 | ... N30: =Inputs!N$96*Inputs!N$136+Inputs!N$97*Inputs!N$137 -> 4299946.2
B31: Non-Slice TRM | C31: =Inputs!C$96*Inputs!C$131+Inputs!C$97*Inputs!C$132 -> 3507108.9 | D31: =Inputs!D$96*Inputs!D$131+Inputs!D$97*Inputs!D$132 -> 2705890.1 | E31: =Inputs!E$96*Inputs!E$131+Inputs!E$97*Inputs!E$132 -> 3353984.1 | F31: =Inputs!F$96*Inputs!F$131+Inputs!F$97*Inputs!F$132 -> 2981414 | G31: =Inputs!G$96*Inputs!G$131+Inputs!G$97*Inputs!G$132 -> 3256266.3 | H31: =Inputs!H$96*Inputs!H$131+Inputs!H$97*Inputs!H$132 -> 1946646.3 | I31: =Inputs!I$96*Inputs!I$131+Inputs!I$97*Inputs!I$132 -> 1350937.1 | J31: =Inputs!J$96*Inputs!J$131+Inputs!J$97*Inputs!J$132 -> 177148.22 | ... N31: =Inputs!N$96*Inputs!N$131+Inputs!N$97*Inputs!N$132 -> 4347616.3
B32: Demand Charge @ Marginal | C32: =MAX(0,Inputs!C$93-Inputs!C$95)*1000*Inputs!C$115 -> 125417.24 | D32: =MAX(0,Inputs!D$93-Inputs!D$95)*1000*Inputs!D$115 -> 112735.19 | E32: =MAX(0,Inputs!E$93-Inputs!E$95)*1000*Inputs!E$115 -> 187303.28 | F32: =MAX(0,Inputs!F$93-Inputs!F$95)*1000*Inputs!F$115 -> 107936.33 | G32: =MAX(0,Inputs!G$93-Inputs!G$95)*1000*Inputs!G$115 -> 85261.719 | H32: =MAX(0,Inputs!H$93-Inputs!H$95)*1000*Inputs!H$115 -> 31689.964 | I32: =MAX(0,Inputs!I$93-Inputs!I$95)*1000*Inputs!I$115 -> 62589.389 | J32: =MAX(0,Inputs!J$93-Inputs!J$95)*1000*Inputs!J$115 -> 21273.93 | ... N32: =MAX(0,Inputs!N$93-Inputs!N$95)*1000*Inputs!N$115 -> 264967.19
B33: Demand Charge TRM | C33: =MAX(0,Inputs!C$93-Inputs!C$93-Inputs!C$50)*1000*Inputs!C$115 -> 0 | D33: =MAX(0,Inputs!D$93-Inputs!D$93-Inputs!D$50)*1000*Inputs!D$115 -> 0 | E33: =MAX(0,Inputs!E$93-Inputs!E$93-Inputs!E$50)*1000*Inputs!E$115 -> 0 | F33: =MAX(0,Inputs!F$93-Inputs!F$93-Inputs!F$50)*1000*Inputs!F$115 -> 0 | G33: =MAX(0,Inputs!G$93-Inputs!G$93-Inputs!G$50)*1000*Inputs!G$115 -> 0 | H33: =MAX(0,Inputs!H$93-Inputs!H$93-Inputs!H$50)*1000*Inputs!H$115 -> 0 | I33: =MAX(0,Inputs!I$93-Inputs!I$93-Inputs!I$50)*1000*Inputs!I$115 -> 0 | J33: =MAX(0,Inputs!J$93-Inputs!J$93-Inputs!J$50)*1000*Inputs!J$115 -> 0 | ... N33: =MAX(0,Inputs!N$93-Inputs!N$93-Inputs!N$50)*1000*Inputs!N$115 -> 0
B34: Demand Charge @ Embedded | C34: =MAX(0,(Inputs!C$93-Inputs!C$95)*1000*Inputs!C$119) -> 53514.653 | D34: =MAX(0,(Inputs!D$93-Inputs!D$95)*1000*Inputs!D$119) -> 48111.733 | E34: =MAX(0,(Inputs!E$93-Inputs!E$95)*1000*Inputs!E$119) -> 79842.769 | F34: =MAX(0,(Inputs!F$93-Inputs!F$95)*1000*Inputs!F$119) -> 46011.058 | G34: =MAX(0,(Inputs!G$93-Inputs!G$95)*1000*Inputs!G$119) -> 36353.348 | H34: =MAX(0,(Inputs!H$93-Inputs!H$95)*1000*Inputs!H$119) -> 13498.914 | I34: =MAX(0,(Inputs!I$93-Inputs!I$95)*1000*Inputs!I$119) -> 26677.444 | J34: =MAX(0,(Inputs!J$93-Inputs!J$95)*1000*Inputs!J$119) -> 9070.2802 | ... N34: =MAX(0,(Inputs!N$93-Inputs!N$95)*1000*Inputs!N$119) -> 112953.56
B35: PLVS Charge
B36: Total Charges PRDM | C36: =+C28+C30+C32+C35 -> 3584856.1 | D36: =+D28+D30+D32+D35 -> 2770955.2 | E36: =+E28+E30+E32+E35 -> 3493617.3 | F36: =+F28+F30+F32+F35 -> 3041680.3 | G36: =+G28+G30+G32+G35 -> 3293858 | H36: =+H28+H30+H32+H35 -> 1930666.2 | I36: =+I28+I30+I32+I35 -> 1365856.4 | J36: =+J28+J30+J32+J35 -> 150752.07 | ... N36: =+N28+N30+N32+N35 -> 4564913.4 | P36: =+SUM(C36:N36)/SUM(Inputs!$C$37:$N$37) -> 31.930876
B37: Total Charges TRM | C37: =+C29+C31+C33 -> 3507108.9 | D37: =+D29+D31+D33 -> 2705890.1 | E37: =+E29+E31+E33 -> 3353984.1 | F37: =+F29+F31+F33 -> 2981414 | G37: =+G29+G31+G33 -> 3256266.3 | H37: =+H29+H31+H33 -> 1946646.3 | I37: =+I29+I31+I33 -> 1350937.1 | J37: =+J29+J31+J33 -> 177148.22 | ... N37: =+N29+N31+N33 -> 4347616.3 | P37: =+SUM(C37:N37)/SUM(Inputs!$C$37:$N$37) -> 31.22733
B38: RICc | O38: =+SUM(C39:N39)/SUM(Inputs!$C$37:$N$37) -> 0.91940639
B39: RICc (dollars) | C39: =+C58 -> 100280 | D39: =+D58 -> 78315 | E39: =+E58 -> 94415 | F39: =+F58 -> 86365 | G39: =+G58 -> 90045 | H39: =+H58 -> 57960 | I39: =+I58 -> 44275 | J39: =+J58 -> 17020 | ... N39: =+N58 -> 119945
B40: Unmitigated Effective Rate PRDM after RICc | O40: =+SUM(C36:N36)/SUM(Inputs!$C$37:$N$37)-O38 -> 31.01147
B41: Effective Rate TRM | O41: =+SUM(C37:N37)/SUM(Inputs!$C$37:$N$37) -> 31.22733
B42: RICm | O42: =IF(O40>O41,MAX(0,O40-1.02*O41),MAX(O40-O41,IF(O40<(1-0.017)*O41,RICmCharge!$J$21+((O40-O41)/O41+0.017)*100*RICmCharge!$J$22,0))) -> 0
B43: Effective Rate PRDM after RICm | O43: =+O40-O42 -> 31.01147
B45: ="Block 10 ("&Inputs!G19&" block plus 10% Capacity)" -> Block 10 (60percentHLH block plus 10% Capacity) | C45: 47027 | D45: =+EOMONTH(C45,0)+1 -> 47058 | E45: =+EOMONTH(D45,0)+1 -> 47088 | F45: =+EOMONTH(E45,0)+1 -> 47119 | G45: =+EOMONTH(F45,0)+1 -> 47150 | H45: =+EOMONTH(G45,0)+1 -> 47178 | I45: =+EOMONTH(H45,0)+1 -> 47209 | J45: =+EOMONTH(I45,0)+1 -> 47239 | K45: =+EOMONTH(J45,0)+1 -> 47270 | ... N45: =+EOMONTH(M45,0)+1 -> 47362 | O45: Annual
B47: Energy Charge, Composite | C47: 0 | D47: 0 | E47: 0 | F47: 0 | G47: 0 | H47: 0 | I47: 0 | J47: 0 | K47: 0 | L47: 0 | M47: 0 | N47: 0
B48: Composite TRM | C48: 0 | D48: 0 | E48: 0 | F48: 0 | G48: 0 | H48: 0 | I48: 0 | J48: 0 | K48: 0 | L48: 0 | M48: 0 | N48: 0
B49: Energy Charge, Non Slice | C49: =Inputs!C$87*Inputs!C$136+Inputs!C$88*Inputs!C$137 -> 3525784.2 | D49: =Inputs!D$87*Inputs!D$136+Inputs!D$88*Inputs!D$137 -> 2625447.5 | E49: =Inputs!E$87*Inputs!E$136+Inputs!E$88*Inputs!E$137 -> 3369722.8 | F49: =Inputs!F$87*Inputs!F$136+Inputs!F$88*Inputs!F$137 -> 2990007.5 | G49: =Inputs!G$87*Inputs!G$136+Inputs!G$88*Inputs!G$137 -> 2953666.7 | H49: =Inputs!H$87*Inputs!H$136+Inputs!H$88*Inputs!H$137 -> 1932793.6 | I49: =Inputs!I$87*Inputs!I$136+Inputs!I$88*Inputs!I$137 -> 1285414.1 | J49: =Inputs!J$87*Inputs!J$136+Inputs!J$88*Inputs!J$137 -> 131961.28 | ... N49: =Inputs!N$87*Inputs!N$136+Inputs!N$88*Inputs!N$137 -> 4241042.9
B50: Non-Slice TRM | C50: =Inputs!C$87*Inputs!C$131+Inputs!C$88*Inputs!C$132 -> 3574368.5 | D50: =Inputs!D$87*Inputs!D$131+Inputs!D$88*Inputs!D$132 -> 2672529.8 | E50: =Inputs!E$87*Inputs!E$131+Inputs!E$88*Inputs!E$132 -> 3418307.1 | F50: =Inputs!F$87*Inputs!F$131+Inputs!F$88*Inputs!F$132 -> 3038591.8 | G50: =Inputs!G$87*Inputs!G$131+Inputs!G$88*Inputs!G$132 -> 2997549.3 | H50: =Inputs!H$87*Inputs!H$131+Inputs!H$88*Inputs!H$132 -> 1981312.6 | I50: =Inputs!I$87*Inputs!I$131+Inputs!I$88*Inputs!I$132 -> 1332431.1 | J50: =Inputs!J$87*Inputs!J$131+Inputs!J$88*Inputs!J$132 -> 180545.58 | ... N50: =Inputs!N$87*Inputs!N$131+Inputs!N$88*Inputs!N$132 -> 4288059.9
B51: Demand Charge @ Marginal | C51: =MAX(0,0.1*Inputs!C$86)*1000*Inputs!C$115 -> 174915 | D51: =MAX(0,0.1*Inputs!D$86)*1000*Inputs!D$115 -> 136620 | E51: =MAX(0,0.1*Inputs!E$86)*1000*Inputs!E$115 -> 164565 | F51: =MAX(0,0.1*Inputs!F$86)*1000*Inputs!F$115 -> 150535 | G51: =MAX(0,0.1*Inputs!G$86)*1000*Inputs!G$115 -> 156975 | H51: =MAX(0,0.1*Inputs!H$86)*1000*Inputs!H$115 -> 100970 | I51: =MAX(0,0.1*Inputs!I$86)*1000*Inputs!I$115 -> 77165 | J51: =MAX(0,0.1*Inputs!J$86)*1000*Inputs!J$115 -> 29670 | ... N51: =MAX(0,0.1*Inputs!N$86)*1000*Inputs!N$115 -> 209070
B52: Demand Charge TRM | C52: =MAX(0,0.1*Inputs!C$86-Inputs!C$50)*1000*Inputs!C$115 -> 8882.64 | D52: =MAX(0,0.1*Inputs!D$86-Inputs!D$50)*1000*Inputs!D$115 -> 0 | E52: =MAX(0,0.1*Inputs!E$86-Inputs!E$50)*1000*Inputs!E$115 -> 0 | F52: =MAX(0,0.1*Inputs!F$86-Inputs!F$50)*1000*Inputs!F$115 -> 0 | G52: =MAX(0,0.1*Inputs!G$86-Inputs!G$50)*1000*Inputs!G$115 -> 0 | H52: =MAX(0,0.1*Inputs!H$86-Inputs!H$50)*1000*Inputs!H$115 -> 0 | I52: =MAX(0,0.1*Inputs!I$86-Inputs!I$50)*1000*Inputs!I$115 -> 0 | J52: =MAX(0,0.1*Inputs!J$86-Inputs!J$50)*1000*Inputs!J$115 -> 0 | ... N52: =MAX(0,0.1*Inputs!N$86-Inputs!N$50)*1000*Inputs!N$115 -> 0
B53: Demand Charge @ Embedded | C53: =MAX(0,(0.1*Inputs!C$86)*1000*Inputs!C$119) -> 74635 | D53: =MAX(0,(0.1*Inputs!D$86)*1000*Inputs!D$119) -> 58305 | E53: =MAX(0,(0.1*Inputs!E$86)*1000*Inputs!E$119) -> 70150 | F53: =MAX(0,(0.1*Inputs!F$86)*1000*Inputs!F$119) -> 64170 | G53: =MAX(0,(0.1*Inputs!G$86)*1000*Inputs!G$119) -> 66930 | H53: =MAX(0,(0.1*Inputs!H$86)*1000*Inputs!H$119) -> 43010 | I53: =MAX(0,(0.1*Inputs!I$86)*1000*Inputs!I$119) -> 32890 | J53: =MAX(0,(0.1*Inputs!J$86)*1000*Inputs!J$119) -> 12650 | ... N53: =MAX(0,(0.1*Inputs!N$86)*1000*Inputs!N$119) -> 89125
B54: PLVS Charge
B55: Total Charges PRDM | C55: =+C47+C49+C51+C54 -> 3700699.2 | D55: =+D47+D49+D51+D54 -> 2762067.5 | E55: =+E47+E49+E51+E54 -> 3534287.8 | F55: =+F47+F49+F51+F54 -> 3140542.5 | G55: =+G47+G49+G51+G54 -> 3110641.7 | H55: =+H47+H49+H51+H54 -> 2033763.6 | I55: =+I47+I49+I51+I54 -> 1362579.1 | J55: =+J47+J49+J51+J54 -> 161631.28 | ... N55: =+N47+N49+N51+N54 -> 4450112.9 | P55: =+SUM(C55:N55)/SUM(Inputs!$C$37:$N$37) -> 32.248919
B56: Total Charges TRM | C56: =+C48+C50+C52 -> 3583251.2 | D56: =+D48+D50+D52 -> 2672529.8 | E56: =+E48+E50+E52 -> 3418307.1 | F56: =+F48+F50+F52 -> 3038591.8 | G56: =+G48+G50+G52 -> 2997549.3 | H56: =+H48+H50+H52 -> 1981312.6 | I56: =+I48+I50+I52 -> 1332431.1 | J56: =+J48+J50+J52 -> 180545.58 | ... N56: =+N48+N50+N52 -> 4288059.9 | P56: =+SUM(C56:N56)/SUM(Inputs!$C$37:$N$37) -> 31.222835
B57: RICc | O57: =+SUM(C58:N58)/SUM(Inputs!$C$37:$N$37) -> 0.91940639
B58: RICc (dollars) | C58: =+C51-C53 -> 100280 | D58: =+D51-D53 -> 78315 | E58: =+E51-E53 -> 94415 | F58: =+F51-F53 -> 86365 | G58: =+G51-G53 -> 90045 | H58: =+H51-H53 -> 57960 | I58: =+I51-I53 -> 44275 | J58: =+J51-J53 -> 17020 | ... N58: =+N51-N53 -> 119945
B59: Unmitigated Effective Rate PRDM after RICc | O59: =+SUM(C55:N55)/SUM(Inputs!$C$37:$N$37)-O57 -> 31.329512
B60: Effective Rate TRM | O60: =+SUM(C56:N56)/SUM(Inputs!$C$37:$N$37) -> 31.222835
B61: RICm | O61: =IF(O59>O60,MAX(0,O59-1.02*O60),MAX(O59-O60,IF(O59<(1-0.017)*O60,RICmCharge!$J$21+((O59-O60)/O60+0.017)*100*RICmCharge!$J$22,0))) -> 0
B62: Effective Rate PRDM after RICm | O62: =+O59-O61 -> 31.329512
B64: Block with PNR Shaping Capacity + PLVS
C65: 47027 | D65: =+EOMONTH(C65,0)+1 -> 47058 | E65: =+EOMONTH(D65,0)+1 -> 47088 | F65: =+EOMONTH(E65,0)+1 -> 47119 | G65: =+EOMONTH(F65,0)+1 -> 47150 | H65: =+EOMONTH(G65,0)+1 -> 47178 | I65: =+EOMONTH(H65,0)+1 -> 47209 | J65: =+EOMONTH(I65,0)+1 -> 47239 | K65: =+EOMONTH(J65,0)+1 -> 47270 | ... N65: =+EOMONTH(M65,0)+1 -> 47362 | O65: Annual
B66: *The block with shaping capacity could allow the customer to shape more into HLH and less into LLH which is not considered in these energy charges.
B67: Energy Charge, Composite | C67: 0 | D67: 0 | E67: 0 | F67: 0 | G67: 0 | H67: 0 | I67: 0 | J67: 0 | K67: 0 | L67: 0 | M67: 0 | N67: 0
B68: Composite TRM | C68: 0 | D68: 0 | E68: 0 | F68: 0 | G68: 0 | H68: 0 | I68: 0 | J68: 0 | K68: 0 | L68: 0 | M68: 0 | N68: 0
B69: Energy Charge, Non Slice | C69: =Inputs!C$87*Inputs!C$136+Inputs!C$88*Inputs!C$137 -> 3525784.2 | D69: =Inputs!D$87*Inputs!D$136+Inputs!D$88*Inputs!D$137 -> 2625447.5 | E69: =Inputs!E$87*Inputs!E$136+Inputs!E$88*Inputs!E$137 -> 3369722.8 | F69: =Inputs!F$87*Inputs!F$136+Inputs!F$88*Inputs!F$137 -> 2990007.5 | G69: =Inputs!G$87*Inputs!G$136+Inputs!G$88*Inputs!G$137 -> 2953666.7 | H69: =Inputs!H$87*Inputs!H$136+Inputs!H$88*Inputs!H$137 -> 1932793.6 | I69: =Inputs!I$87*Inputs!I$136+Inputs!I$88*Inputs!I$137 -> 1285414.1 | J69: =Inputs!J$87*Inputs!J$136+Inputs!J$88*Inputs!J$137 -> 131961.28 | ... N69: =Inputs!N$87*Inputs!N$136+Inputs!N$88*Inputs!N$137 -> 4241042.9
B70: Non-Slice TRM | C70: =Inputs!C$87*Inputs!C$131+Inputs!C$88*Inputs!C$132 -> 3574368.5 | D70: =Inputs!D$87*Inputs!D$131+Inputs!D$88*Inputs!D$132 -> 2672529.8 | E70: =Inputs!E$87*Inputs!E$131+Inputs!E$88*Inputs!E$132 -> 3418307.1 | F70: =Inputs!F$87*Inputs!F$131+Inputs!F$88*Inputs!F$132 -> 3038591.8 | G70: =Inputs!G$87*Inputs!G$131+Inputs!G$88*Inputs!G$132 -> 2997549.3 | H70: =Inputs!H$87*Inputs!H$131+Inputs!H$88*Inputs!H$132 -> 1981312.6 | I70: =Inputs!I$87*Inputs!I$131+Inputs!I$88*Inputs!I$132 -> 1332431.1 | J70: =Inputs!J$87*Inputs!J$131+Inputs!J$88*Inputs!J$132 -> 180545.58 | ... N70: =Inputs!N$87*Inputs!N$131+Inputs!N$88*Inputs!N$132 -> 4288059.9
B71: Demand Charge @ Marginal | C71: =+MAX(0,Inputs!C$46-Inputs!C$86)*1000*Inputs!C$115 -> 288292.12 | D71: =+MAX(0,Inputs!D$46-Inputs!D$86)*1000*Inputs!D$115 -> 234239.62 | E71: =+MAX(0,Inputs!E$46-Inputs!E$86)*1000*Inputs!E$115 -> 309445.35 | F71: =+MAX(0,Inputs!F$46-Inputs!F$86)*1000*Inputs!F$115 -> 695407.8 | G71: =+MAX(0,Inputs!G$46-Inputs!G$86)*1000*Inputs!G$115 -> 224103.49 | H71: =+MAX(0,Inputs!H$46-Inputs!H$86)*1000*Inputs!H$115 -> 0 | I71: =+MAX(0,Inputs!I$46-Inputs!I$86)*1000*Inputs!I$115 -> 99847.208 | J71: =+MAX(0,Inputs!J$46-Inputs!J$86)*1000*Inputs!J$115 -> 63679.363 | ... N71: =+MAX(0,Inputs!N$46-Inputs!N$86)*1000*Inputs!N$115 -> 947379.96
B72: Demand Charge TRM | C72: =MAX(0,Inputs!C$46-Inputs!C$84-Inputs!C$50)*1000*Inputs!C$115 -> 0 | D72: =MAX(0,Inputs!D$46-Inputs!D$84-Inputs!D$50)*1000*Inputs!D$115 -> 0 | E72: =MAX(0,Inputs!E$46-Inputs!E$84-Inputs!E$50)*1000*Inputs!E$115 -> 0 | F72: =MAX(0,Inputs!F$46-Inputs!F$84-Inputs!F$50)*1000*Inputs!F$115 -> 300392.88 | G72: =MAX(0,Inputs!G$46-Inputs!G$84-Inputs!G$50)*1000*Inputs!G$115 -> 0 | H72: =MAX(0,Inputs!H$46-Inputs!H$84-Inputs!H$50)*1000*Inputs!H$115 -> 0 | I72: =MAX(0,Inputs!I$46-Inputs!I$84-Inputs!I$50)*1000*Inputs!I$115 -> 0 | J72: =MAX(0,Inputs!J$46-Inputs!J$84-Inputs!J$50)*1000*Inputs!J$115 -> 0 | ... N72: =MAX(0,Inputs!N$46-Inputs!N$84-Inputs!N$50)*1000*Inputs!N$115 -> 172802.88
B73: Demand Charge @ Embedded | C73: =MAX(0,(Inputs!C$46-Inputs!C$86)*1000*Inputs!C$119) -> 123012.22 | D73: =MAX(0,(Inputs!D$46-Inputs!D$86)*1000*Inputs!D$119) -> 99965.899 | E73: =MAX(0,(Inputs!E$46-Inputs!E$86)*1000*Inputs!E$119) -> 131908.92 | F73: =MAX(0,(Inputs!F$46-Inputs!F$86)*1000*Inputs!F$119) -> 296438.16 | G73: =MAX(0,(Inputs!G$46-Inputs!G$86)*1000*Inputs!G$119) -> 95551.818 | H73: =MAX(0,(Inputs!H$46-Inputs!H$86)*1000*Inputs!H$119) -> 0 | I73: =MAX(0,(Inputs!I$46-Inputs!I$86)*1000*Inputs!I$119) -> 42557.826 | J73: =MAX(0,(Inputs!J$46-Inputs!J$86)*1000*Inputs!J$119) -> 27150.116 | ... N73: =MAX(0,(Inputs!N$46-Inputs!N$86)*1000*Inputs!N$119) -> 403861.09
B74: PLVS Charge | C74: =Inputs!C$89*Inputs!C$123 -> 80377.408 | D74: =Inputs!D$89*Inputs!D$123 -> 77892.623 | E74: =Inputs!E$89*Inputs!E$123 -> 80377.408 | F74: =Inputs!F$89*Inputs!F$123 -> 80377.408 | G74: =Inputs!G$89*Inputs!G$123 -> 72598.95 | H74: =Inputs!H$89*Inputs!H$123 -> 80269.374 | I74: =Inputs!I$89*Inputs!I$123 -> 77784.589 | J74: =Inputs!J$89*Inputs!J$123 -> 80377.408 | ... N74: =Inputs!N$89*Inputs!N$123 -> 77784.589
B75: Total Charges PRDM | C75: =+C67+C69+C71+C74 -> 3894453.8 | D75: =+D67+D69+D71+D74 -> 2937579.7 | E75: =+E67+E69+E71+E74 -> 3759545.6 | F75: =+F67+F69+F71+F74 -> 3765792.7 | G75: =+G67+G69+G71+G74 -> 3250369.1 | H75: =+H67+H69+H71+H74 -> 2013063 | I75: =+I67+I69+I71+I74 -> 1463045.9 | J75: =+J67+J69+J71+J74 -> 276018.06 | ... N75: =+N67+N69+N71+N74 -> 5266207.4 | P75: =+SUM(C75:N75)/SUM(Inputs!$C$37:$N$37) -> 37.616879
B76: Total Charges TRM | C76: =+C68+C70+C72 -> 3574368.5 | D76: =+D68+D70+D72 -> 2672529.8 | E76: =+E68+E70+E72 -> 3418307.1 | F76: =+F68+F70+F72 -> 3338984.7 | G76: =+G68+G70+G72 -> 2997549.3 | H76: =+H68+H70+H72 -> 1981312.6 | I76: =+I68+I70+I72 -> 1332431.1 | J76: =+J68+J70+J72 -> 180545.58 | ... N76: =+N68+N70+N72 -> 4460862.8 | P76: =+SUM(C76:N76)/SUM(Inputs!$C$37:$N$37) -> 33.600381
B77: RICc | O77: =+SUM(C78:N78)/SUM(Inputs!$C$37:$N$37) -> 3.4600127
B78: RICc (dollars) | C78: =+C71-C73 -> 165279.9 | D78: =+D71-D73 -> 134273.72 | E78: =+E71-E73 -> 177536.43 | F78: =+F71-F73 -> 398969.64 | G78: =+G71-G73 -> 128551.67 | H78: =+H71-H73 -> 0 | I78: =+I71-I73 -> 57289.381 | J78: =+J71-J73 -> 36529.247 | ... N78: =+N71-N73 -> 543518.86
B79: Unmitigated Effective Rate PRDM after RICc | O79: =+SUM(C75:N75)/SUM(Inputs!$C$37:$N$37)-O77 -> 34.156867
B80: Effective Rate TRM | O80: =+SUM(C76:N76)/SUM(Inputs!$C$37:$N$37) -> 33.600381
B81: RICm | O81: =IF(O79>O80,MAX(0,O79-1.02*O80),MAX(O79-O80,IF(O79<(1-0.017)*O80,RICmCharge!$J$21+((O79-O80)/O80+0.017)*100*RICmCharge!$J$22,0))) -> 0
B82: Effective Rate PRDM after RICm | O82: =+O79-O81 -> 34.156867
B84: Slice Block (Block Only) | C84: 47027 | D84: =+EOMONTH(C84,0)+1 -> 47058 | E84: =+EOMONTH(D84,0)+1 -> 47088 | F84: =+EOMONTH(E84,0)+1 -> 47119 | G84: =+EOMONTH(F84,0)+1 -> 47150 | H84: =+EOMONTH(G84,0)+1 -> 47178 | I84: =+EOMONTH(H84,0)+1 -> 47209 | J84: =+EOMONTH(I84,0)+1 -> 47239 | K84: =+EOMONTH(J84,0)+1 -> 47270 | ... N84: =+EOMONTH(M84,0)+1 -> 47362 | O84: Annual
B85: * Note: this product has an annual profile based on slice - not a customer's net requirement
B86: Energy Charge, Composite | C86: 0 | D86: 0 | E86: 0 | F86: 0 | G86: 0 | H86: 0 | I86: 0 | J86: 0 | K86: 0 | L86: 0 | M86: 0 | N86: 0
B87: Composite TRM | C87: 0 | D87: 0 | E87: 0 | F87: 0 | G87: 0 | H87: 0 | I87: 0 | J87: 0 | K87: 0 | L87: 0 | M87: 0 | N87: 0
B88: Energy Charge, Non Slice | C88: =Inputs!C$79*Inputs!C$136+Inputs!C$80*Inputs!C$137 -> 1942652.8 | D88: =Inputs!D$79*Inputs!D$136+Inputs!D$80*Inputs!D$137 -> 1108809.9 | E88: =Inputs!E$79*Inputs!E$136+Inputs!E$80*Inputs!E$137 -> 1497279.8 | F88: =Inputs!F$79*Inputs!F$136+Inputs!F$80*Inputs!F$137 -> 1593718.5 | G88: =Inputs!G$79*Inputs!G$136+Inputs!G$80*Inputs!G$137 -> 1503909.4 | H88: =Inputs!H$79*Inputs!H$136+Inputs!H$80*Inputs!H$137 -> 1032025.4 | I88: =Inputs!I$79*Inputs!I$136+Inputs!I$80*Inputs!I$137 -> 826693.8 | J88: =Inputs!J$79*Inputs!J$136+Inputs!J$80*Inputs!J$137 -> 73034.645 | ... N88: =Inputs!N$79*Inputs!N$136+Inputs!N$80*Inputs!N$137 -> 2245210.9
B89: Non-Slice TRM | C89: =Inputs!C$79*Inputs!C$131+Inputs!C$80*Inputs!C$132 -> 1969469.4 | D89: =Inputs!D$79*Inputs!D$131+Inputs!D$80*Inputs!D$132 -> 1128634.6 | E89: =Inputs!E$79*Inputs!E$131+Inputs!E$80*Inputs!E$132 -> 1518827.9 | F89: =Inputs!F$79*Inputs!F$131+Inputs!F$80*Inputs!F$132 -> 1619607.4 | G89: =Inputs!G$79*Inputs!G$131+Inputs!G$80*Inputs!G$132 -> 1526190.5 | H89: =Inputs!H$79*Inputs!H$131+Inputs!H$80*Inputs!H$132 -> 1057819 | I89: =Inputs!I$79*Inputs!I$131+Inputs!I$80*Inputs!I$132 -> 856525.56 | J89: =Inputs!J$79*Inputs!J$131+Inputs!J$80*Inputs!J$132 -> 97271.957 | ... N89: =Inputs!N$79*Inputs!N$131+Inputs!N$80*Inputs!N$132 -> 2270148.9
B90: Demand Charge @ Marginal | C90: =MAX(0,Inputs!C$76-Inputs!C$78)*1000*Inputs!C$115 -> 0 | D90: =MAX(0,Inputs!D$76-Inputs!D$78)*1000*Inputs!D$115 -> 0 | E90: =MAX(0,Inputs!E$76-Inputs!E$78)*1000*Inputs!E$115 -> 0 | F90: =MAX(0,Inputs!F$76-Inputs!F$78)*1000*Inputs!F$115 -> 0 | G90: =MAX(0,Inputs!G$76-Inputs!G$78)*1000*Inputs!G$115 -> 0 | H90: =MAX(0,Inputs!H$76-Inputs!H$78)*1000*Inputs!H$115 -> 0 | I90: =MAX(0,Inputs!I$76-Inputs!I$78)*1000*Inputs!I$115 -> 0 | J90: =MAX(0,Inputs!J$76-Inputs!J$78)*1000*Inputs!J$115 -> 0 | ... N90: =MAX(0,Inputs!N$76-Inputs!N$78)*1000*Inputs!N$115 -> 0
B91: Demand Charge TRM | C91: =MAX(0,Inputs!C$76-Inputs!C$76-Inputs!C$50)*1000*Inputs!C$115 -> 0 | D91: =MAX(0,Inputs!D$76-Inputs!D$76-Inputs!D$50)*1000*Inputs!D$115 -> 0 | E91: =MAX(0,Inputs!E$76-Inputs!E$76-Inputs!E$50)*1000*Inputs!E$115 -> 0 | F91: =MAX(0,Inputs!F$76-Inputs!F$76-Inputs!F$50)*1000*Inputs!F$115 -> 0 | G91: =MAX(0,Inputs!G$76-Inputs!G$76-Inputs!G$50)*1000*Inputs!G$115 -> 0 | H91: =MAX(0,Inputs!H$76-Inputs!H$76-Inputs!H$50)*1000*Inputs!H$115 -> 0 | I91: =MAX(0,Inputs!I$76-Inputs!I$76-Inputs!I$50)*1000*Inputs!I$115 -> 0 | J91: =MAX(0,Inputs!J$76-Inputs!J$76-Inputs!J$50)*1000*Inputs!J$115 -> 0 | ... N91: =MAX(0,Inputs!N$76-Inputs!N$76-Inputs!N$50)*1000*Inputs!N$115 -> 0
B92: Demand Charge @ Embedded | C92: =+(Inputs!C$76-Inputs!C$78)*1000*Inputs!C$119 -> 0 | D92: =+(Inputs!D$76-Inputs!D$78)*1000*Inputs!D$119 -> 0 | E92: =+(Inputs!E$76-Inputs!E$78)*1000*Inputs!E$119 -> 0 | F92: =+(Inputs!F$76-Inputs!F$78)*1000*Inputs!F$119 -> 0 | G92: =+(Inputs!G$76-Inputs!G$78)*1000*Inputs!G$119 -> 0 | H92: =+(Inputs!H$76-Inputs!H$78)*1000*Inputs!H$119 -> 0 | I92: =+(Inputs!I$76-Inputs!I$78)*1000*Inputs!I$119 -> 0 | J92: =+(Inputs!J$76-Inputs!J$78)*1000*Inputs!J$119 -> 0 | ... N92: =+(Inputs!N$76-Inputs!N$78)*1000*Inputs!N$119 -> 0
B93: PLVS Charge
B94: Total Charges PRDM | C94: =+C86+C88+C90+C93 -> 1942652.8 | D94: =+D86+D88+D90+D93 -> 1108809.9 | E94: =+E86+E88+E90+E93 -> 1497279.8 | F94: =+F86+F88+F90+F93 -> 1593718.5 | G94: =+G86+G88+G90+G93 -> 1503909.4 | H94: =+H86+H88+H90+H93 -> 1032025.4 | I94: =+I86+I88+I90+I93 -> 826693.8 | J94: =+J86+J88+J90+J93 -> 73034.645 | ... N94: =+N86+N88+N90+N93 -> 2245210.9 | P94: =+SUM(C94:N94)/SUM(Inputs!$C$81:$N$81) -> 31.027438
B95: Total Charges TRM | C95: =+C87+C89+C91 -> 1969469.4 | D95: =+D87+D89+D91 -> 1128634.6 | E95: =+E87+E89+E91 -> 1518827.9 | F95: =+F87+F89+F91 -> 1619607.4 | G95: =+G87+G89+G91 -> 1526190.5 | H95: =+H87+H89+H91 -> 1057819 | I95: =+I87+I89+I91 -> 856525.56 | J95: =+J87+J89+J91 -> 97271.957 | ... N95: =+N87+N89+N91 -> 2270148.9 | P95: =+SUM(C95:N95)/SUM(Inputs!$C$81:$N$81) -> 31.595277
B96: RICc | O96: =+SUM(C97:N97)/SUM(Inputs!$C$37:$N$37) -> 0
B97: RICc (dollars) | C97: 0 | D97: 0 | E97: 0 | F97: 0 | G97: 0 | H97: 0 | I97: 0 | J97: 0 | K97: 0 | L97: 0 | M97: 0 | N97: 0
B98: Unmitigated Effective Rate PRDM after RICc | O98: =+SUM(C94:N94)/SUM(Inputs!$C$81:$N$81)-O96 -> 31.027438
B99: Effective Rate TRM | O99: =+SUM(C95:N95)/SUM(Inputs!$C$81:$N$81) -> 31.595277
B100: RICm | O100: =IF(O98>O99,MAX(0,O98-1.02*O99),MAX(O98-O99,IF(O98<(1-0.017)*O99,RICmCharge!$J$21+((O98-O99)/O99+0.017)*100*RICmCharge!$J$22,0))) -> -0.081894676
B101: Effective Rate PRDM after RICm | O101: =+O98-O100 -> 31.109333

Sheet Charge Comparison
A4: Product | C4: 47027 | D4: =+EOMONTH(C4,0)+1 -> 47058 | E4: =+EOMONTH(D4,0)+1 -> 47088 | F4: =+EOMONTH(E4,0)+1 -> 47119 | G4: =+EOMONTH(F4,0)+1 -> 47150 | H4: =+EOMONTH(G4,0)+1 -> 47178 | I4: =+EOMONTH(H4,0)+1 -> 47209 | J4: =+EOMONTH(I4,0)+1 -> 47239 | K4: =+EOMONTH(J4,0)+1 -> 47270 | ... N4: =+EOMONTH(M4,0)+1 -> 47362
B6: Energy Charges (Composite + Non-Slice)
A7: LF | C7: ='Product Summary'!C9+'Product Summary'!C11 -> 3519561.4 | D7: ='Product Summary'!D9+'Product Summary'!D11 -> 2633357.9 | E7: ='Product Summary'!E9+'Product Summary'!E11 -> 3375912.6 | F7: ='Product Summary'!F9+'Product Summary'!F11 -> 2990846.6 | G7: ='Product Summary'!G9+'Product Summary'!G11 -> 2961946.7 | H7: ='Product Summary'!H9+'Product Summary'!H11 -> 1941284.1 | I7: ='Product Summary'!I9+'Product Summary'!I11 -> 1302930.9 | J7: ='Product Summary'!J9+'Product Summary'!J11 -> 146399.76 | ... N7: ='Product Summary'!N9+'Product Summary'!N11 -> 4233038.9
A8: Block Shaped | C8: ='Product Summary'!C28+'Product Summary'!C30 -> 3459438.8 | D8: ='Product Summary'!D28+'Product Summary'!D30 -> 2658220 | E8: ='Product Summary'!E28+'Product Summary'!E30 -> 3306314 | F8: ='Product Summary'!F28+'Product Summary'!F30 -> 2933743.9 | G8: ='Product Summary'!G28+'Product Summary'!G30 -> 3208596.2 | H8: ='Product Summary'!H28+'Product Summary'!H30 -> 1898976.2 | I8: ='Product Summary'!I28+'Product Summary'!I30 -> 1303267 | J8: ='Product Summary'!J28+'Product Summary'!J30 -> 129478.14 | ... N8: ='Product Summary'!N28+'Product Summary'!N30 -> 4299946.2
A9: Block 10 | C9: ='Product Summary'!C47+'Product Summary'!C49 -> 3525784.2 | D9: ='Product Summary'!D47+'Product Summary'!D49 -> 2625447.5 | E9: ='Product Summary'!E47+'Product Summary'!E49 -> 3369722.8 | F9: ='Product Summary'!F47+'Product Summary'!F49 -> 2990007.5 | G9: ='Product Summary'!G47+'Product Summary'!G49 -> 2953666.7 | H9: ='Product Summary'!H47+'Product Summary'!H49 -> 1932793.6 | I9: ='Product Summary'!I47+'Product Summary'!I49 -> 1285414.1 | J9: ='Product Summary'!J47+'Product Summary'!J49 -> 131961.28 | ... N9: ='Product Summary'!N47+'Product Summary'!N49 -> 4241042.9
A10: Block PNR + PLVS | C10: ='Product Summary'!C67+'Product Summary'!C69 -> 3525784.2 | D10: ='Product Summary'!D67+'Product Summary'!D69 -> 2625447.5 | E10: ='Product Summary'!E67+'Product Summary'!E69 -> 3369722.8 | F10: ='Product Summary'!F67+'Product Summary'!F69 -> 2990007.5 | G10: ='Product Summary'!G67+'Product Summary'!G69 -> 2953666.7 | H10: ='Product Summary'!H67+'Product Summary'!H69 -> 1932793.6 | I10: ='Product Summary'!I67+'Product Summary'!I69 -> 1285414.1 | J10: ='Product Summary'!J67+'Product Summary'!J69 -> 131961.28 | ... N10: ='Product Summary'!N67+'Product Summary'!N69 -> 4241042.9
A11: Block, Slice | C11: ='Product Summary'!C86+'Product Summary'!C88 -> 1942652.8 | D11: ='Product Summary'!D86+'Product Summary'!D88 -> 1108809.9 | E11: ='Product Summary'!E86+'Product Summary'!E88 -> 1497279.8 | F11: ='Product Summary'!F86+'Product Summary'!F88 -> 1593718.5 | G11: ='Product Summary'!G86+'Product Summary'!G88 -> 1503909.4 | H11: ='Product Summary'!H86+'Product Summary'!H88 -> 1032025.4 | I11: ='Product Summary'!I86+'Product Summary'!I88 -> 826693.8 | J11: ='Product Summary'!J86+'Product Summary'!J88 -> 73034.645 | ... N11: ='Product Summary'!N86+'Product Summary'!N88 -> 2245210.9
B13: Demand Charges
A14: LF | C14: ='Product Summary'!C13 -> 288292.12 | D14: ='Product Summary'!D13 -> 234239.62 | E14: ='Product Summary'!E13 -> 309445.35 | F14: ='Product Summary'!F13 -> 695407.8 | G14: ='Product Summary'!G13 -> 224103.49 | H14: ='Product Summary'!H13 -> 0 | I14: ='Product Summary'!I13 -> 99847.208 | J14: ='Product Summary'!J13 -> 63679.363 | ... N14: ='Product Summary'!N13 -> 947379.96
A15: Block Shaped | C15: ='Product Summary'!C32 -> 125417.24 | D15: ='Product Summary'!D32 -> 112735.19 | E15: ='Product Summary'!E32 -> 187303.28 | F15: ='Product Summary'!F32 -> 107936.33 | G15: ='Product Summary'!G32 -> 85261.719 | H15: ='Product Summary'!H32 -> 31689.964 | I15: ='Product Summary'!I32 -> 62589.389 | J15: ='Product Summary'!J32 -> 21273.93 | ... N15: ='Product Summary'!N32 -> 264967.19
A16: Block 10 | C16: ='Product Summary'!C51 -> 174915 | D16: ='Product Summary'!D51 -> 136620 | E16: ='Product Summary'!E51 -> 164565 | F16: ='Product Summary'!F51 -> 150535 | G16: ='Product Summary'!G51 -> 156975 | H16: ='Product Summary'!H51 -> 100970 | I16: ='Product Summary'!I51 -> 77165 | J16: ='Product Summary'!J51 -> 29670 | ... N16: ='Product Summary'!N51 -> 209070
A17: Block PNR + PLVS | C17: ='Product Summary'!C71 -> 288292.12 | D17: ='Product Summary'!D71 -> 234239.62 | E17: ='Product Summary'!E71 -> 309445.35 | F17: ='Product Summary'!F71 -> 695407.8 | G17: ='Product Summary'!G71 -> 224103.49 | H17: ='Product Summary'!H71 -> 0 | I17: ='Product Summary'!I71 -> 99847.208 | J17: ='Product Summary'!J71 -> 63679.363 | ... N17: ='Product Summary'!N71 -> 947379.96
A18: Block, Slice | C18: ='Product Summary'!C90 -> 0 | D18: ='Product Summary'!D90 -> 0 | E18: ='Product Summary'!E90 -> 0 | F18: ='Product Summary'!F90 -> 0 | G18: ='Product Summary'!G90 -> 0 | H18: ='Product Summary'!H90 -> 0 | I18: ='Product Summary'!I90 -> 0 | J18: ='Product Summary'!J90 -> 0 | ... N18: ='Product Summary'!N90 -> 0
B20: PLVS Charges
A21: LF | C21: ='Product Summary'!C16 -> 86922.394 | D21: ='Product Summary'!D16 -> 85958.998 | E21: ='Product Summary'!E16 -> 104494.13 | F21: ='Product Summary'!F16 -> 102504.85 | G21: ='Product Summary'!G16 -> 86692.083 | H21: ='Product Summary'!H16 -> 87468.586 | I21: ='Product Summary'!I16 -> 85206.675 | J21: ='Product Summary'!J16 -> 96265.153 | ... N21: ='Product Summary'!N16 -> 99784.54
A22: Block Shaped | C22: 0 | D22: 0 | E22: 0 | F22: 0 | G22: 0 | H22: 0 | I22: 0 | J22: 0 | K22: 0 | L22: 0 | M22: 0 | N22: 0
A23: Block 10 | C23: 0 | D23: 0 | E23: 0 | F23: 0 | G23: 0 | H23: 0 | I23: 0 | J23: 0 | K23: 0 | L23: 0 | M23: 0 | N23: 0
A24: Block PNR + PLVS | C24: ='Product Summary'!C74 -> 80377.408 | D24: ='Product Summary'!D74 -> 77892.623 | E24: ='Product Summary'!E74 -> 80377.408 | F24: ='Product Summary'!F74 -> 80377.408 | G24: ='Product Summary'!G74 -> 72598.95 | H24: ='Product Summary'!H74 -> 80269.374 | I24: ='Product Summary'!I74 -> 77784.589 | J24: ='Product Summary'!J74 -> 80377.408 | ... N24: ='Product Summary'!N74 -> 77784.589
A25: Block, Slice | C25: 0 | D25: 0 | E25: 0 | F25: 0 | G25: 0 | H25: 0 | I25: 0 | J25: 0 | K25: 0 | L25: 0 | M25: 0 | N25: 0
G27: Effective Rates
C28: RICc | E28: RICm | G28: w/RICm | H28: w/o RICm
A29: LF | C29: ='Product Summary'!O19 -> 3.4600127 | E29: =+'Product Summary'!O23 -> 0 | G29: =+'Product Summary'!O24 -> 34.438176 | H29: =+'Product Summary'!O21 -> 34.438176
A30: Block Shaped | C30: ='Product Summary'!O38 -> 0.91940639 | E30: ='Product Summary'!O42 -> 0 | G30: =+'Product Summary'!O43 -> 31.01147 | H30: =+'Product Summary'!O40 -> 31.01147
A31: Block 10 | C31: ='Product Summary'!O57 -> 0.91940639 | E31: ='Product Summary'!O61 -> 0 | G31: =+'Product Summary'!O62 -> 31.329512 | H31: =+'Product Summary'!O59 -> 31.329512
A32: Block PNR + PLVS | C32: ='Product Summary'!O77 -> 3.4600127 | E32: ='Product Summary'!O81 -> 0 | G32: =+'Product Summary'!O82 -> 34.156867 | H32: =+'Product Summary'!O79 -> 34.156867
A33: Block, Slice | C33: ='Product Summary'!O96 -> 0 | E33: ='Product Summary'!O100 -> -0.081894676 | G33: =+'Product Summary'!O101 -> 31.109333 | H33: =+'Product Summary'!O98 -> 31.027438

Sheet Notes
B2: 1. Load Following product-design makes simplistic assumptions on customer owned non-federal resources. If you have non-federal resources, additional considerations will apply.
B4: 2. Block Products allow customer to leverage non-federal resources. Shaping variation above a flat block will induce a demand charge on that capacity delta between the peak and average monthly values.
B6: 3. Annual block shapes calculated use a similar methodology to TRM, where the amount of a customer's net requirement energy not served by Slice (in the shape of the firm federal system) is used to shape the block need, with the adjustment that the amount of slice under POC is set to 50% of load (rather than under the TRM, where the Slice percent is fixed for the contract term, and load variation is absorbed by only the Block). The calculation is the same for Block only, but with Slice assumed as zero.
B8: 4. A flat annual block does not trigger a demand charge, but any shaping of the block within a given month will (ie, HLH-LLH shaping in the Shaped Block, or any additional shaping allowed by BWS)
B10: 5. RICm amounts will depend on product selection of all PF customers… so it can only be approximated as a best guess at this point in time
B12: 6. While all products will have RICc calculated for use, the RICc will only be applied to LF and non-slice block products (it will not apply to the Slice-Block Product).
B14: 7. Under current assumptions, the RICm program applies only to customers seeing effective rates greater 2%, and less than roughly 2%, based on load, product elections, and components affecting the RICc (such as marginal and embedded demand rates).
B16: 8. Effective rates are a function of many things (the Revenue Requirement, Energy Rates, Demand Charge, PLVS Charge, RICc, and RICm) and results will change depending on inputs into the Discount model used to calculated RICc and RICm. The discount model was last calculated to BP-26 Initial Proposal.

Sheet RICmCharge
B5: Rate Impact Charge - RIC-M | I5: SUMMARY OUTPUT
A7: filter | B7: Decrease % | C7: RIC-M Charge | D7: Percent decrease | E7: Charge+ | I7: Regression Statistics
A8: =+IF(B8<>0,"","x") | B8: -0.047536231 | C8: -2.11145 | D8: =ABS(B8)*100 -> 4.7536231 | E8: =+ABS(C8) -> 2.11145 | I8: Multiple R | J8: 0.99051911
A9: =+IF(B9<>0,"","x") | B9: -0.042897142 | C9: -1.7462997 | D9: =ABS(B9)*100 -> 4.2897142 | E9: =+ABS(C9) -> 1.7462997 | I9: R Square | J9: 0.98112812
A10: =+IF(B10<>0,"","x") | B10: -0.031843551 | C10: -1.2035063 | D10: =ABS(B10)*100 -> 3.1843551 | E10: =+ABS(C10) -> 1.2035063 | I10: Adjusted R Square | J10: 0.9802703
A11: =+IF(B11<>0,"","x") | B11: -0.026526441 | C11: -1.0087953 | D11: =ABS(B11)*100 -> 2.6526441 | E11: =+ABS(C11) -> 1.0087953 | I11: Standard Error | J11: 0.071215844
A12: =+IF(B12<>0,"","x") | B12: -0.024065618 | C12: -0.79011757 | D12: =ABS(B12)*100 -> 2.4065618 | E12: =+ABS(C12) -> 0.79011757 | I12: Observations | J12: 24
A13: =+IF(B13<>0,"","x") | B13: -0.023323577 | C13: -0.76267147 | D13: =ABS(B13)*100 -> 2.3323577 | E13: =+ABS(C13) -> 0.76267147
A14: =+IF(B14<>0,"","x") | B14: -0.02215464 | C14: -0.83721446 | D14: =ABS(B14)*100 -> 2.215464 | E14: =+ABS(C14) -> 0.83721446 | I14: ANOVA
A15: =+IF(B15<>0,"","x") | B15: -0.019735955 | C15: -0.75756419 | D15: =ABS(B15)*100 -> 1.9735955 | E15: =+ABS(C15) -> 0.75756419 | J15: df | K15: SS | L15: MS | M15: F | N15: Significance F
A16: =+IF(B16<>0,"","x") | B16: -0.01945931 | C16: -0.76208489 | D16: =ABS(B16)*100 -> 1.945931 | E16: =+ABS(C16) -> 0.76208489 | I16: Regression | J16: 1 | K16: 5.8007802 | L16: 5.8007802 | M16: 1143.7554 | N16: 1.8346474e-20
A17: =+IF(B17<>0,"","x") | B17: -0.015604672 | C17: -0.63025604 | D17: =ABS(B17)*100 -> 1.5604672 | E17: =+ABS(C17) -> 0.63025604 | I17: Residual | J17: 22 | K17: 0.11157732 | L17: 0.0050716964
A18: =+IF(B18<>0,"","x") | B18: -0.013219104 | C18: -0.54058175 | D18: =ABS(B18)*100 -> 1.3219104 | E18: =+ABS(C18) -> 0.54058175 | I18: Total | J18: 23 | K18: 5.9123575
A19: =+IF(B19<>0,"","x") | B19: -0.012806352 | C19: -0.41723739 | D19: =ABS(B19)*100 -> 1.2806352 | E19: =+ABS(C19) -> 0.41723739
A20: =+IF(B20<>0,"","x") | B20: -0.012801541 | C20: -0.46480832 | D20: =ABS(B20)*100 -> 1.2801541 | E20: =+ABS(C20) -> 0.46480832 | J20: Coefficients | K20: Standard Error | L20: t Stat | M20: P-value | N20: Lower 95% | O20: Upper 95% | P20: Lower 95.0% | Q20: Upper 95.0%
A21: =+IF(B21<>0,"","x") | B21: -0.012273363 | C21: -0.4823339 | D21: =ABS(B21)*100 -> 1.2273363 | E21: =+ABS(C21) -> 0.4823339 | I21: Intercept | J21: -0.041860368 | K21: 0.024398531 | L21: -1.7156922 | M21: 0.10027 | N21: -0.092459825 | O21: 0.0087390882 | P21: -0.092459825 | Q21: 0.0087390882
B22: -0.012008051 | C22: -0.45839703 | D22: =ABS(B22)*100 -> 1.2008051 | E22: =+ABS(C22) -> 0.45839703 | I22: X Variable 1 | J22: 0.4117604 | K22: 0.012175253 | L22: 33.819453 | M22: 1.8346474e-20 | N22: 0.38651047 | O22: 0.43701033 | P22: 0.38651047 | Q22: 0.43701033
B23: -0.01110618 | C23: -0.44419054 | D23: =ABS(B23)*100 -> 1.110618 | E23: =+ABS(C23) -> 0.44419054
B24: -0.010533904 | C24: -0.41789151 | D24: =ABS(B24)*100 -> 1.0533904 | E24: =+ABS(C24) -> 0.41789151
B25: -0.0082435206 | C25: -0.32319455 | D25: =ABS(B25)*100 -> 0.82435206 | E25: =+ABS(C25) -> 0.32319455
B26: -0.006337312 | C26: -0.21334593 | D26: =ABS(B26)*100 -> 0.6337312 | E26: =+ABS(C26) -> 0.21334593
B27: -0.0057384734 | C27: -0.22750278 | D27: =ABS(B27)*100 -> 0.57384734 | E27: =+ABS(C27) -> 0.22750278
B28: -0.0038162119 | C28: -0.14688438 | D28: =ABS(B28)*100 -> 0.38162119 | E28: =+ABS(C28) -> 0.14688438
B29: -0.0023004942 | C29: -0.085433608 | D29: =ABS(B29)*100 -> 0.23004942 | E29: =+ABS(C29) -> 0.085433608
B30: -0.0012833228 | C30: -0.042889485 | D30: =ABS(B30)*100 -> 0.12833228 | E30: =+ABS(C30) -> 0.042889485
B31: -0.0006457627 | C31: -0.025387256 | D31: =ABS(B31)*100 -> 0.06457627 | E31: =+ABS(C31) -> 0.025387256
