Workbook

Sheet Summary Table
C3: Key Stats | D3: .10 every 2 years | E3: .10 every year | F3: .20 every year | G3: .50 every rate period | K3: Key Stats | L3: .10 every 2 years | M3: .10 every year | N3: .20 every year | O3: .50 every 2 years
C4: Largest Ending of contract rate impact | D4: 0.042642561 | E4: 0.068519774 | F4: 0.10437311 | G4: 0.1137055 | K4: Largest Rate Impact by Contract End | L4: 0.042642561 | M4: 0.068519774 | N4: 0.10437311 | O4: 0.1137055
C5: End of Year Program Costs | D5: ='0.10 Rate Impacts by RP'!R9/2 -> 10926818 | E5: ='0.10 Rate Impacts Annually'!Z10 -> 1898123.8 | F5: ='0.20 Rate Impacts Annually'!Z10 -> 87775.631 | G5: ='0.50 Rate Impacts by RP'!R9/2 -> 41624.454 | K5: End of Year Program Costs | L5: 10926818 | M5: 1898123.8 | N5: 87775.631 | O5: 41624.454
C6: Average Annual Program Costs | D6: ='0.10 Rate Impacts by RP'!R8/2 -> 19322729 | E6: ='0.10 Rate Impacts Annually'!Z9 -> 12033817 | F6: ='0.20 Rate Impacts Annually'!Z9 -> 6675509.2 | G6: ='0.50 Rate Impacts by RP'!R8/2 -> 6533998.4 | K6: Average Annual Program Costs | L6: 19322729 | M6: 12033817 | N6: 6675509.2 | O6: 6533998.4

Sheet Totals
C2: Fixed Reduction | J2: Rate Period: Assuming 0.50$/MWh reduction by Rate Period
F3: Annually ($0.10/MWh) | G3: Rate Period ($0.50/MWh) | J3: RIC-M
C4: 2029 | D4: 28385409 | E4: =+VLOOKUP(C4,$H$4:$J$11,3)/2 -> 28385409 | F4: =+D4/1000000 -> 28.385409 | G4: =+E4/1000000 -> 28.385409 | H4: =+VALUE("20"&RIGHT(I4,2)) -> 2029 | I4: BP-29 | J4: 56770819
C5: 2030 | D5: 25572647 | E5: =+VLOOKUP(C5,$H$4:$J$11,3)/2 -> 28385409 | F5: =+D5/1000000 -> 25.572647 | G5: =+E5/1000000 -> 28.385409 | H5: =+VALUE("20"&RIGHT(I5,2)) -> 2031 | I5: BP-31 | J5: 30905388
C6: 2031 | D6: 22874436 | E6: =+VLOOKUP(C6,$H$4:$J$11,3)/2 -> 15452694 | F6: =+D6/1000000 -> 22.874436 | G6: =+E6/1000000 -> 15.452694 | H6: =+VALUE("20"&RIGHT(I6,2)) -> 2033 | I6: BP-33 | J6: 11638388
C7: 2032 | D7: 20379838 | E7: =+VLOOKUP(C7,$H$4:$J$11,3)/2 -> 15452694 | F7: =+D7/1000000 -> 20.379838 | G7: =+E7/1000000 -> 15.452694 | H7: =+VALUE("20"&RIGHT(I7,2)) -> 2035 | I7: BP-35 | J7: 3796247.6
C8: 2033 | D8: 17904133 | E8: =+VLOOKUP(C8,$H$4:$J$11,3)/2 -> 5819193.8 | F8: =+D8/1000000 -> 17.904133 | G8: =+E8/1000000 -> 5.8191938 | H8: =+VALUE("20"&RIGHT(I8,2)) -> 2037 | I8: BP-37 | J8: 829382.87
C9: 2034 | D9: 15452694 | E9: =+VLOOKUP(C9,$H$4:$J$11,3)/2 -> 5819193.8 | F9: =+D9/1000000 -> 15.452694 | G9: =+E9/1000000 -> 5.8191938 | H9: =+VALUE("20"&RIGHT(I9,2)) -> 2039 | I9: BP-39 | J9: 344949.69
C10: 2035 | D10: 13085854 | E10: =+VLOOKUP(C10,$H$4:$J$11,3)/2 -> 1898123.8 | F10: =+D10/1000000 -> 13.085854 | G10: =+E10/1000000 -> 1.8981238 | H10: =+VALUE("20"&RIGHT(I10,2)) -> 2041 | I10: BP-41 | J10: 175551.26
C11: 2036 | D11: 10926818 | E11: =+VLOOKUP(C11,$H$4:$J$11,3)/2 -> 1898123.8 | F11: =+D11/1000000 -> 10.926818 | G11: =+E11/1000000 -> 1.8981238 | H11: =+VALUE("20"&RIGHT(I11,2)) -> 2043 | I11: BP-43 | J11: 83248.908
C12: 2037 | D12: 9069708.3 | E12: =+VLOOKUP(C12,$H$4:$J$11,3)/2 -> 414691.44 | F12: =+D12/1000000 -> 9.0697083 | G12: =+E12/1000000 -> 0.41469144
C13: 2038 | D13: 7377023.4 | E13: =+VLOOKUP(C13,$H$4:$J$11,3)/2 -> 414691.44 | F13: =+D13/1000000 -> 7.3770234 | G13: =+E13/1000000 -> 0.41469144
C14: 2039 | D14: 5819193.8 | E14: =+VLOOKUP(C14,$H$4:$J$11,3)/2 -> 172474.85 | F14: =+D14/1000000 -> 5.8191938 | G14: =+E14/1000000 -> 0.17247485
C15: 2040 | D15: 4663213.2 | E15: =+VLOOKUP(C15,$H$4:$J$11,3)/2 -> 172474.85 | F15: =+D15/1000000 -> 4.6632132 | G15: =+E15/1000000 -> 0.17247485
C16: 2041 | D16: 3750184 | E16: =+VLOOKUP(C16,$H$4:$J$11,3)/2 -> 87775.631 | F16: =+D16/1000000 -> 3.750184 | G16: =+E16/1000000 -> 0.087775631
C17: 2042 | D17: 2973321.4 | E17: =+VLOOKUP(C17,$H$4:$J$11,3)/2 -> 87775.631 | F17: =+D17/1000000 -> 2.9733214 | G17: =+E17/1000000 -> 0.087775631
C18: 2043 | D18: 2408478.1 | E18: =+VLOOKUP(C18,$H$4:$J$11,3)/2 -> 41624.454 | F18: =+D18/1000000 -> 2.4084781 | G18: =+E18/1000000 -> 0.041624454
C19: 2044 | D19: 1898123.8 | E19: =+VLOOKUP(C19,$H$4:$J$11,3)/2 -> 41624.454 | F19: =+D19/1000000 -> 1.8981238 | G19: =+E19/1000000 -> 0.041624454
C21: Proportionate Reduction: 2% Starting cap and 5% ending cap
F22: Annually | G22: Rate Period | J22: RIC-M
C23: 2029 | D23: 28385409 | E23: =+VLOOKUP(C23,$H$23:$J$30,3)/2 -> 28385409 | F23: =+D23/1000000 -> 28.385409 | G23: =+E23/1000000 -> 28.385409 | H23: =+VALUE("20"&RIGHT(I23,2)) -> 2029 | I23: BP-29 | J23: 56770819
C24: 2030 | D24: 26858287 | E24: =+VLOOKUP(C24,$H$23:$J$30,3)/2 -> 28385409 | F24: =+D24/1000000 -> 26.858287 | G24: =+E24/1000000 -> 28.385409 | H24: =+VALUE("20"&RIGHT(I24,2)) -> 2031 | I24: BP-31 | J24: 50226008
C25: 2031 | D25: 25331164 | E25: =+VLOOKUP(C25,$H$23:$J$30,3)/2 -> 25113004 | F25: =+D25/1000000 -> 25.331164 | G25: =+E25/1000000 -> 25.113004 | H25: =+VALUE("20"&RIGHT(I25,2)) -> 2033 | I25: BP-33 | J25: 43681197
C26: 2032 | D26: 23804042 | E26: =+VLOOKUP(C26,$H$23:$J$30,3)/2 -> 25113004 | F26: =+D26/1000000 -> 23.804042 | G26: =+E26/1000000 -> 25.113004 | H26: =+VALUE("20"&RIGHT(I26,2)) -> 2035 | I26: BP-35 | J26: 37136386
C27: 2033 | D27: 22276919 | E27: =+VLOOKUP(C27,$H$23:$J$30,3)/2 -> 21840598 | F27: =+D27/1000000 -> 22.276919 | G27: =+E27/1000000 -> 21.840598 | H27: =+VALUE("20"&RIGHT(I27,2)) -> 2037 | I27: BP-37 | J27: 30591575
C28: 2034 | D28: 20749797 | E28: =+VLOOKUP(C28,$H$23:$J$30,3)/2 -> 21840598 | F28: =+D28/1000000 -> 20.749797 | G28: =+E28/1000000 -> 21.840598 | H28: =+VALUE("20"&RIGHT(I28,2)) -> 2039 | I28: BP-39 | J28: 24046764
C29: 2035 | D29: 19222674 | E29: =+VLOOKUP(C29,$H$23:$J$30,3)/2 -> 18568193 | F29: =+D29/1000000 -> 19.222674 | G29: =+E29/1000000 -> 18.568193 | H29: =+VALUE("20"&RIGHT(I29,2)) -> 2041 | I29: BP-41 | J29: 17501953
C30: 2036 | D30: 17695551 | E30: =+VLOOKUP(C30,$H$23:$J$30,3)/2 -> 18568193 | F30: =+D30/1000000 -> 17.695551 | G30: =+E30/1000000 -> 18.568193 | H30: =+VALUE("20"&RIGHT(I30,2)) -> 2043 | I30: BP-43 | J30: 10957142
C31: 2037 | D31: 16168429 | E31: =+VLOOKUP(C31,$H$23:$J$30,3)/2 -> 15295787 | F31: =+D31/1000000 -> 16.168429 | G31: =+E31/1000000 -> 15.295787
C32: 2038 | D32: 14641306 | E32: =+VLOOKUP(C32,$H$23:$J$30,3)/2 -> 15295787 | F32: =+D32/1000000 -> 14.641306 | G32: =+E32/1000000 -> 15.295787
C33: 2039 | D33: 13114184 | E33: =+VLOOKUP(C33,$H$23:$J$30,3)/2 -> 12023382 | F33: =+D33/1000000 -> 13.114184 | G33: =+E33/1000000 -> 12.023382
C34: 2040 | D34: 11587061 | E34: =+VLOOKUP(C34,$H$23:$J$30,3)/2 -> 12023382 | F34: =+D34/1000000 -> 11.587061 | G34: =+E34/1000000 -> 12.023382
C35: 2041 | D35: 10059939 | E35: =+VLOOKUP(C35,$H$23:$J$30,3)/2 -> 8750976.5 | F35: =+D35/1000000 -> 10.059939 | G35: =+E35/1000000 -> 8.7509765
C36: 2042 | D36: 8532816.1 | E36: =+VLOOKUP(C36,$H$23:$J$30,3)/2 -> 8750976.5 | F36: =+D36/1000000 -> 8.5328161 | G36: =+E36/1000000 -> 8.7509765
C37: 2043 | D37: 7005693.5 | E37: =+VLOOKUP(C37,$H$23:$J$30,3)/2 -> 5478571 | F37: =+D37/1000000 -> 7.0056935 | G37: =+E37/1000000 -> 5.478571
C38: 2044 | D38: 5478571 | E38: =+VLOOKUP(C38,$H$23:$J$30,3)/2 -> 5478571 | F38: =+D38/1000000 -> 5.478571 | G38: =+E38/1000000 -> 5.478571

Sheet 0.10 Rate Impacts by RP
B2: Discount Programs Over The Term of Provider of Choice
C3: Beginning Period Cap for Credit | D3: 0.02 | E3: This sets the Credit Cap on Effective Rates and Temporal Calcs
C5: Decrease by $/MWh or %? --> | D5: $/MWh
C6: For $/MWh decrease by what amount per period --> | D6: 0.1
C7: For % what method of decline | D7: straight-line/average | E7: Not Used, only applies to % mode
C8: End Period Cap for Credit | D8: 0.05 | E8: Not Used, only applies to % model | K8: =K9/2 -> 28385409 | R8: =AVERAGE(K9:R9) -> 38645458
K9: 56770819 | L9: 51145295 | M9: 45748873 | N9: 40759676 | O9: 35808267 | P9: 30905388 | Q9: 26171709 | R9: 21853635 | S9: 1 | T9: 0.90090818 | U9: 0.80585191 | V9: 0.71796879 | W9: 0.63075128 | X9: 0.54438863 | Y9: 0.46100637 | Z9: 0.38494486
K10: Credits | S10: Charges | AA10: Rate Increases | AH10: =+MAX(AH12:AH146) -> 0.042642561
B11: BESID | C11: Customer | D11: Post RIC-C Effective Rate | E11: Status Quo | F11: Change % | G11: Effective Cap % | H11: End Period Cap | I11: Decrease % | J11: Gainer? | K11: BP-29 | L11: BP-31 | M11: BP-33 | N11: BP-35 | O11: BP-37 | P11: BP-39 | Q11: BP-41 | R11: BP-43 | S11: BP-29 | T11: BP-31 | U11: BP-33 | V11: BP-35 | W11: BP-37 | X11: BP-39 | Y11: BP-41 | Z11: BP-43 | AA11: BP-29 | AB11: BP-31 | AC11: BP-33 | AD11: BP-35 | AE11: BP-37 | AF11: BP-39 | AG11: BP-41 | AH11: BP-43
B12: 10005 | C12: Alder Mutual | D12: 35.38689 | E12: 33.772977 | F12: 0.0477871 | G12: 0.02 | H12: 0.05 | I12: 0 | J12: 0 | K12: 0.9384531 | L12: 0.8384531 | M12: 0.7384531 | N12: 0.6384531 | O12: 0.5384531 | P12: 0.4384531 | Q12: 0.3384531 | R12: 0.2384531 | S12: 0 | T12: 0 | U12: 0 | V12: 0 | W12: 0 | X12: 0 | Y12: 0 | Z12: 0 | AA12: =+IF($K12=0,0,($D12-K12)/$E12-1) -> 0.02 | AB12: =+IF($K12=0,0,($D12-L12)/$E12-1) -> 0.022960947 | AC12: =+IF($K12=0,0,($D12-M12)/$E12-1) -> 0.025921894 | AD12: =+IF($K12=0,0,($D12-N12)/$E12-1) -> 0.028882841 | AE12: =+IF($K12=0,0,($D12-O12)/$E12-1) -> 0.031843788 | AF12: =+IF($K12=0,0,($D12-P12)/$E12-1) -> 0.034804736 | AG12: =+IF($K12=0,0,($D12-Q12)/$E12-1) -> 0.037765683 | AH12: =+IF($K12=0,0,($D12-R12)/$E12-1) -> 0.04072663
B13: 10015 | C13: Asotin County PUD #1 | D13: 47.859034 | E13: 37.351061 | F13: 0.28132996 | G13: 0.02 | H13: 0.05 | I13: 0 | J13: 0 | K13: 9.7609513 | L13: 9.6609513 | M13: 9.5609513 | N13: 9.4609513 | O13: 9.3609513 | P13: 9.2609513 | Q13: 9.1609513 | R13: 9.0609513 | S13: 0 | T13: 0 | U13: 0 | V13: 0 | W13: 0 | X13: 0 | Y13: 0 | Z13: 0 | AA13: =+IF($K13=0,0,($D13-K13)/$E13-1) -> 0.02 | AB13: =+IF($K13=0,0,($D13-L13)/$E13-1) -> 0.0226773 | AC13: =+IF($K13=0,0,($D13-M13)/$E13-1) -> 0.0253546 | AD13: =+IF($K13=0,0,($D13-N13)/$E13-1) -> 0.0280319 | AE13: =+IF($K13=0,0,($D13-O13)/$E13-1) -> 0.0307092 | AF13: =+IF($K13=0,0,($D13-P13)/$E13-1) -> 0.0333865 | AG13: =+IF($K13=0,0,($D13-Q13)/$E13-1) -> 0.036063801 | AH13: =+IF($K13=0,0,($D13-R13)/$E13-1) -> 0.038741101
B14: 10024 | C14: Benton County PUD #1 | D14: 35.464803 | E14: 33.66703 | F14: 0.053398644 | G14: 0.02 | H14: 0.05 | I14: 0 | J14: 0 | K14: 1.1244331 | L14: 1.0244331 | M14: 0.92443315 | N14: 0.82443315 | O14: 0.72443315 | P14: 0.62443315 | Q14: 0.52443315 | R14: 0.42443315 | S14: 0 | T14: 0 | U14: 0 | V14: 0 | W14: 0 | X14: 0 | Y14: 0 | Z14: 0 | AA14: =+IF($K14=0,0,($D14-K14)/$E14-1) -> 0.02 | AB14: =+IF($K14=0,0,($D14-L14)/$E14-1) -> 0.022970265 | AC14: =+IF($K14=0,0,($D14-M14)/$E14-1) -> 0.02594053 | AD14: =+IF($K14=0,0,($D14-N14)/$E14-1) -> 0.028910795 | AE14: =+IF($K14=0,0,($D14-O14)/$E14-1) -> 0.03188106 | AF14: =+IF($K14=0,0,($D14-P14)/$E14-1) -> 0.034851325 | AG14: =+IF($K14=0,0,($D14-Q14)/$E14-1) -> 0.03782159 | AH14: =+IF($K14=0,0,($D14-R14)/$E14-1) -> 0.040791855
B15: 10025 | C15: Benton REA | D15: 34.983791 | E15: 33.591362 | F15: 0.04145201 | G15: 0.02 | H15: 0.05 | I15: 0 | J15: 0 | K15: 0.72060222 | L15: 0.62060222 | M15: 0.52060222 | N15: 0.42060222 | O15: 0.32060222 | P15: 0.22060222 | Q15: 0.12060222 | R15: 0.020602219 | S15: 0 | T15: 0 | U15: 0 | V15: 0 | W15: 0 | X15: 0 | Y15: 0 | Z15: 0 | AA15: =+IF($K15=0,0,($D15-K15)/$E15-1) -> 0.02 | AB15: =+IF($K15=0,0,($D15-L15)/$E15-1) -> 0.022976956 | AC15: =+IF($K15=0,0,($D15-M15)/$E15-1) -> 0.025953912 | AD15: =+IF($K15=0,0,($D15-N15)/$E15-1) -> 0.028930867 | AE15: =+IF($K15=0,0,($D15-O15)/$E15-1) -> 0.031907823 | AF15: =+IF($K15=0,0,($D15-P15)/$E15-1) -> 0.034884779 | AG15: =+IF($K15=0,0,($D15-Q15)/$E15-1) -> 0.037861735 | AH15: =+IF($K15=0,0,($D15-R15)/$E15-1) -> 0.040838691
B16: 10027 | C16: Big Bend Elec Coop | D16: 33.165955 | E16: 32.792743 | F16: 0.011380936 | G16: 0.011380936 | H16: 0.05 | I16: 0 | J16: 0 | K16: 0 | L16: 0 | M16: 0 | N16: 0 | O16: 0 | P16: 0 | Q16: 0 | R16: 0 | S16: 0 | T16: 0 | U16: 0 | V16: 0 | W16: 0 | X16: 0 | Y16: 0 | Z16: 0 | AA16: =+IF($K16=0,0,($D16-K16)/$E16-1) -> 0 | AB16: =+IF($K16=0,0,($D16-L16)/$E16-1) -> 0 | AC16: =+IF($K16=0,0,($D16-M16)/$E16-1) -> 0 | AD16: =+IF($K16=0,0,($D16-N16)/$E16-1) -> 0 | AE16: =+IF($K16=0,0,($D16-O16)/$E16-1) -> 0 | AF16: =+IF($K16=0,0,($D16-P16)/$E16-1) -> 0 | AG16: =+IF($K16=0,0,($D16-Q16)/$E16-1) -> 0 | AH16: =+IF($K16=0,0,($D16-R16)/$E16-1) -> 0
B17: 10029 | C17: Blachly Lane Elec Coop | D17: 36.485131 | E17: 33.78109 | F17: 0.080045996 | G17: 0.02 | H17: 0.05 | I17: 0 | J17: 0 | K17: 2.0284192 | L17: 1.9284192 | M17: 1.8284192 | N17: 1.7284192 | O17: 1.6284192 | P17: 1.5284192 | Q17: 1.4284192 | R17: 1.3284192 | S17: 0 | T17: 0 | U17: 0 | V17: 0 | W17: 0 | X17: 0 | Y17: 0 | Z17: 0 | AA17: =+IF($K17=0,0,($D17-K17)/$E17-1) -> 0.02 | AB17: =+IF($K17=0,0,($D17-L17)/$E17-1) -> 0.022960236 | AC17: =+IF($K17=0,0,($D17-M17)/$E17-1) -> 0.025920472 | AD17: =+IF($K17=0,0,($D17-N17)/$E17-1) -> 0.028880708 | AE17: =+IF($K17=0,0,($D17-O17)/$E17-1) -> 0.031840944 | AF17: =+IF($K17=0,0,($D17-P17)/$E17-1) -> 0.03480118 | AG17: =+IF($K17=0,0,($D17-Q17)/$E17-1) -> 0.037761416 | AH17: =+IF($K17=0,0,($D17-R17)/$E17-1) -> 0.040721652
B18: 10044 | C18: Canby, City of | D18: 36.401863 | E18: 34.147326 | F18: 0.066023798 | G18: 0.02 | H18: 0.05 | I18: 0 | J18: 0 | K18: 1.5715897 | L18: 1.4715897 | M18: 1.3715897 | N18: 1.2715897 | O18: 1.1715897 | P18: 1.0715897 | Q18: 0.97158965 | R18: 0.87158965 | S18: 0 | T18: 0 | U18: 0 | V18: 0 | W18: 0 | X18: 0 | Y18: 0 | Z18: 0 | AA18: =+IF($K18=0,0,($D18-K18)/$E18-1) -> 0.02 | AB18: =+IF($K18=0,0,($D18-L18)/$E18-1) -> 0.022928487 | AC18: =+IF($K18=0,0,($D18-M18)/$E18-1) -> 0.025856974 | AD18: =+IF($K18=0,0,($D18-N18)/$E18-1) -> 0.028785461 | AE18: =+IF($K18=0,0,($D18-O18)/$E18-1) -> 0.031713948 | AF18: =+IF($K18=0,0,($D18-P18)/$E18-1) -> 0.034642435 | AG18: =+IF($K18=0,0,($D18-Q18)/$E18-1) -> 0.037570922 | AH18: =+IF($K18=0,0,($D18-R18)/$E18-1) -> 0.040499409
B19: 10046 | C19: Central Electric Coop | D19: 39.826138 | E19: 37.041639 | F19: 0.075172117 | G19: 0.02 | H19: 0.05 | I19: 0 | J19: 0 | K19: 2.0436657 | L19: 1.9436657 | M19: 1.8436657 | N19: 1.7436657 | O19: 1.6436657 | P19: 1.5436657 | Q19: 1.4436657 | R19: 1.3436657 | S19: 0 | T19: 0 | U19: 0 | V19: 0 | W19: 0 | X19: 0 | Y19: 0 | Z19: 0 | AA19: =+IF($K19=0,0,($D19-K19)/$E19-1) -> 0.02 | AB19: =+IF($K19=0,0,($D19-L19)/$E19-1) -> 0.022699665 | AC19: =+IF($K19=0,0,($D19-M19)/$E19-1) -> 0.025399329 | AD19: =+IF($K19=0,0,($D19-N19)/$E19-1) -> 0.028098994 | AE19: =+IF($K19=0,0,($D19-O19)/$E19-1) -> 0.030798658 | AF19: =+IF($K19=0,0,($D19-P19)/$E19-1) -> 0.033498323 | AG19: =+IF($K19=0,0,($D19-Q19)/$E19-1) -> 0.036197987 | AH19: =+IF($K19=0,0,($D19-R19)/$E19-1) -> 0.038897652
B20: 10047 | C20: Central Lincoln PUD | D20: 33.186121 | E20: 32.403883 | F20: 0.024140252 | G20: 0.02 | H20: 0.05 | I20: 0 | J20: 0 | K20: 0.13416025 | L20: 0.03416025 | M20: 0 | N20: 0 | O20: 0 | P20: 0 | Q20: 0 | R20: 0 | S20: 0 | T20: 0 | U20: 0 | V20: 0 | W20: 0 | X20: 0 | Y20: 0 | Z20: 0 | AA20: =+IF($K20=0,0,($D20-K20)/$E20-1) -> 0.02 | AB20: =+IF($K20=0,0,($D20-L20)/$E20-1) -> 0.02308605 | AC20: =+IF($K20=0,0,($D20-M20)/$E20-1) -> 0.024140252 | AD20: =+IF($K20=0,0,($D20-N20)/$E20-1) -> 0.024140252 | AE20: =+IF($K20=0,0,($D20-O20)/$E20-1) -> 0.024140252 | AF20: =+IF($K20=0,0,($D20-P20)/$E20-1) -> 0.024140252 | AG20: =+IF($K20=0,0,($D20-Q20)/$E20-1) -> 0.024140252 | AH20: =+IF($K20=0,0,($D20-R20)/$E20-1) -> 0.024140252
B21: 10055 | C21: Albion, City of | D21: 36.776289 | E21: 34.826369 | F21: 0.055989768 | G21: 0.02 | H21: 0.05 | I21: 0 | J21: 0 | K21: 1.2533929 | L21: 1.1533929 | M21: 1.0533929 | N21: 0.95339294 | O21: 0.85339294 | P21: 0.75339294 | Q21: 0.65339294 | R21: 0.55339294 | S21: 0 | T21: 0 | U21: 0 | V21: 0 | W21: 0 | X21: 0 | Y21: 0 | Z21: 0 | AA21: =+IF($K21=0,0,($D21-K21)/$E21-1) -> 0.02 | AB21: =+IF($K21=0,0,($D21-L21)/$E21-1) -> 0.022871387 | AC21: =+IF($K21=0,0,($D21-M21)/$E21-1) -> 0.025742775 | AD21: =+IF($K21=0,0,($D21-N21)/$E21-1) -> 0.028614162 | AE21: =+IF($K21=0,0,($D21-O21)/$E21-1) -> 0.03148555 | AF21: =+IF($K21=0,0,($D21-P21)/$E21-1) -> 0.034356937 | AG21: =+IF($K21=0,0,($D21-Q21)/$E21-1) -> 0.037228325 | AH21: =+IF($K21=0,0,($D21-R21)/$E21-1) -> 0.040099712
B22: 10057 | C22: Ashland, City of | D22: 35.932823 | E22: 33.469606 | F22: 0.073595627 | G22: 0.02 | H22: 0.05 | I22: 0 | J22: 0 | K22: 1.7938245 | L22: 1.6938245 | M22: 1.5938245 | N22: 1.4938245 | O22: 1.3938245 | P22: 1.2938245 | Q22: 1.1938245 | R22: 1.0938245 | S22: 0 | T22: 0 | U22: 0 | V22: 0 | W22: 0 | X22: 0 | Y22: 0 | Z22: 0 | AA22: =+IF($K22=0,0,($D22-K22)/$E22-1) -> 0.02 | AB22: =+IF($K22=0,0,($D22-L22)/$E22-1) -> 0.022987785 | AC22: =+IF($K22=0,0,($D22-M22)/$E22-1) -> 0.025975571 | AD22: =+IF($K22=0,0,($D22-N22)/$E22-1) -> 0.028963356 | AE22: =+IF($K22=0,0,($D22-O22)/$E22-1) -> 0.031951142 | AF22: =+IF($K22=0,0,($D22-P22)/$E22-1) -> 0.034938927 | AG22: =+IF($K22=0,0,($D22-Q22)/$E22-1) -> 0.037926712 | AH22: =+IF($K22=0,0,($D22-R22)/$E22-1) -> 0.040914498
B23: 10059 | C23: Bandon, City of | D23: 35.72029 | E23: 33.332739 | F23: 0.071627808 | G23: 0.02 | H23: 0.05 | I23: 0 | J23: 0 | K23: 1.7208962 | L23: 1.6208962 | M23: 1.5208962 | N23: 1.4208962 | O23: 1.3208962 | P23: 1.2208962 | Q23: 1.1208962 | R23: 1.0208962 | S23: 0 | T23: 0 | U23: 0 | V23: 0 | W23: 0 | X23: 0 | Y23: 0 | Z23: 0 | AA23: =+IF($K23=0,0,($D23-K23)/$E23-1) -> 0.02 | AB23: =+IF($K23=0,0,($D23-L23)/$E23-1) -> 0.023000054 | AC23: =+IF($K23=0,0,($D23-M23)/$E23-1) -> 0.026000107 | AD23: =+IF($K23=0,0,($D23-N23)/$E23-1) -> 0.029000161 | AE23: =+IF($K23=0,0,($D23-O23)/$E23-1) -> 0.032000214 | AF23: =+IF($K23=0,0,($D23-P23)/$E23-1) -> 0.035000268 | AG23: =+IF($K23=0,0,($D23-Q23)/$E23-1) -> 0.038000321 | AH23: =+IF($K23=0,0,($D23-R23)/$E23-1) -> 0.041000375
... B146: 12026 | C146: Jefferson County PUD #1 | D146: 35.253261 | E146: 33.542387 | F146: 0.051006328 | G146: 0.02 | H146: 0.05 | I146: 0 | J146: 0 | K146: 1.0400263 | L146: 0.94002626 | M146: 0.84002626 | N146: 0.74002626 | O146: 0.64002626 | P146: 0.54002626 | Q146: 0.44002626 | R146: 0.34002626 | S146: 0 | T146: 0 | U146: 0 | V146: 0 | W146: 0 | X146: 0 | Y146: 0 | Z146: 0 | AA146: =+IF($K146=0,0,($D146-K146)/$E146-1) -> 0.02 | AB146: =+IF($K146=0,0,($D146-L146)/$E146-1) -> 0.022981302 | AC146: =+IF($K146=0,0,($D146-M146)/$E146-1) -> 0.025962605 | AD146: =+IF($K146=0,0,($D146-N146)/$E146-1) -> 0.028943907 | AE146: =+IF($K146=0,0,($D146-O146)/$E146-1) -> 0.03192521 | AF146: =+IF($K146=0,0,($D146-P146)/$E146-1) -> 0.034906512 | AG146: =+IF($K146=0,0,($D146-Q146)/$E146-1) -> 0.037887815 | AH146: =+IF($K146=0,0,($D146-R146)/$E146-1) -> 0.040869117
B148: 10298 | C148: PNGC Aggregate | D148: 36.526346 | E148: 34.900375 | F148: 0.046503588 | G148: 0.018598197 | H148: 0.05 | I148: 0 | J148: 0 | K148: 0.97390861 | L148: 0.87390861 | M148: 0.77390861 | N148: 0.67390861 | O148: 0.57390861 | P148: 0.47390861 | Q148: 0.37390861 | R148: 0.27390861 | S148: 0 | T148: 0 | U148: 0 | V148: 0 | W148: 0 | X148: 0 | Y148: 0 | Z148: 0

Sheet 0.50 Rate Impacts by RP
B2: Discount Programs Over The Term of Provider of Choice
C3: Beginning Period Cap for Credit | D3: 0.02 | E3: This sets the Credit Cap on Effective Rates and Temporal Calcs
C5: Decrease by $/MWh or %? --> | D5: $/MWh
C6: For $/MWh decrease by what amount per period --> | D6: 0.5
C7: For % what method of decline | D7: straight-line/average | E7: Not Used, only applies to % mode
C8: End Period Cap for Credit | D8: 0.05 | E8: Not Used, only applies to % model | R8: =AVERAGE(K9:R9) -> 13067997
K9: 56770819 | L9: 30905388 | M9: 11638388 | N9: 3796247.6 | O9: 829382.87 | P9: 344949.69 | Q9: 175551.26 | R9: 83248.908 | S9: 1 | T9: 0.54438863 | U9: 0.20500651 | V9: 0.0668697 | W9: 0.014609317 | X9: 0.0060761796 | Y9: 0.0030922799 | Z9: 0.0014664032
K10: Credits | S10: Charges | AA10: Rate Increases | AH10: =+MAX(AH12:AH146) -> 0.1137055
B11: BESID | C11: Customer | D11: Post RIC-C Effective Rate | E11: Status Quo | F11: Change % | G11: Effective Cap % | H11: End Period Cap | I11: Decrease % | J11: Gainer? | K11: BP-29 | L11: BP-31 | M11: BP-33 | N11: BP-35 | O11: BP-37 | P11: BP-39 | Q11: BP-41 | R11: BP-43 | S11: BP-29 | T11: BP-31 | U11: BP-33 | V11: BP-35 | W11: BP-37 | X11: BP-39 | Y11: BP-41 | Z11: BP-43 | AA11: BP-29 | AB11: BP-31 | AC11: BP-33 | AD11: BP-35 | AE11: BP-37 | AF11: BP-39 | AG11: BP-41 | AH11: BP-43
B12: 10005 | C12: Alder Mutual | D12: 35.38689 | E12: 33.772977 | F12: 0.0477871 | G12: 0.02 | H12: 0.05 | I12: 0 | J12: 0 | K12: 0.9384531 | L12: 0.4384531 | M12: 0 | N12: 0 | O12: 0 | P12: 0 | Q12: 0 | R12: 0 | S12: 0 | T12: 0 | U12: 0 | V12: 0 | W12: 0 | X12: 0 | Y12: 0 | Z12: 0 | AA12: =+IF($K12=0,0,($D12-K12)/$E12-1) -> 0.02 | AB12: =+IF($K12=0,0,($D12-L12)/$E12-1) -> 0.034804736 | AC12: =+IF($K12=0,0,($D12-M12)/$E12-1) -> 0.0477871 | AD12: =+IF($K12=0,0,($D12-N12)/$E12-1) -> 0.0477871 | AE12: =+IF($K12=0,0,($D12-O12)/$E12-1) -> 0.0477871 | AF12: =+IF($K12=0,0,($D12-P12)/$E12-1) -> 0.0477871 | AG12: =+IF($K12=0,0,($D12-Q12)/$E12-1) -> 0.0477871 | AH12: =+IF($K12=0,0,($D12-R12)/$E12-1) -> 0.0477871
B13: 10015 | C13: Asotin County PUD #1 | D13: 47.859034 | E13: 37.351061 | F13: 0.28132996 | G13: 0.02 | H13: 0.05 | I13: 0 | J13: 0 | K13: 9.7609513 | L13: 9.2609513 | M13: 8.7609513 | N13: 8.2609513 | O13: 7.7609513 | P13: 7.2609513 | Q13: 6.7609513 | R13: 6.2609513 | S13: 0 | T13: 0 | U13: 0 | V13: 0 | W13: 0 | X13: 0 | Y13: 0 | Z13: 0 | AA13: =+IF($K13=0,0,($D13-K13)/$E13-1) -> 0.02 | AB13: =+IF($K13=0,0,($D13-L13)/$E13-1) -> 0.0333865 | AC13: =+IF($K13=0,0,($D13-M13)/$E13-1) -> 0.046773001 | AD13: =+IF($K13=0,0,($D13-N13)/$E13-1) -> 0.060159501 | AE13: =+IF($K13=0,0,($D13-O13)/$E13-1) -> 0.073546002 | AF13: =+IF($K13=0,0,($D13-P13)/$E13-1) -> 0.086932502 | AG13: =+IF($K13=0,0,($D13-Q13)/$E13-1) -> 0.100319 | AH13: =+IF($K13=0,0,($D13-R13)/$E13-1) -> 0.1137055
B14: 10024 | C14: Benton County PUD #1 | D14: 35.464803 | E14: 33.66703 | F14: 0.053398644 | G14: 0.02 | H14: 0.05 | I14: 0 | J14: 0 | K14: 1.1244331 | L14: 0.62443315 | M14: 0.12443315 | N14: 0 | O14: 0 | P14: 0 | Q14: 0 | R14: 0 | S14: 0 | T14: 0 | U14: 0 | V14: 0 | W14: 0 | X14: 0 | Y14: 0 | Z14: 0 | AA14: =+IF($K14=0,0,($D14-K14)/$E14-1) -> 0.02 | AB14: =+IF($K14=0,0,($D14-L14)/$E14-1) -> 0.034851325 | AC14: =+IF($K14=0,0,($D14-M14)/$E14-1) -> 0.04970265 | AD14: =+IF($K14=0,0,($D14-N14)/$E14-1) -> 0.053398644 | AE14: =+IF($K14=0,0,($D14-O14)/$E14-1) -> 0.053398644 | AF14: =+IF($K14=0,0,($D14-P14)/$E14-1) -> 0.053398644 | AG14: =+IF($K14=0,0,($D14-Q14)/$E14-1) -> 0.053398644 | AH14: =+IF($K14=0,0,($D14-R14)/$E14-1) -> 0.053398644
B15: 10025 | C15: Benton REA | D15: 34.983791 | E15: 33.591362 | F15: 0.04145201 | G15: 0.02 | H15: 0.05 | I15: 0 | J15: 0 | K15: 0.72060222 | L15: 0.22060222 | M15: 0 | N15: 0 | O15: 0 | P15: 0 | Q15: 0 | R15: 0 | S15: 0 | T15: 0 | U15: 0 | V15: 0 | W15: 0 | X15: 0 | Y15: 0 | Z15: 0 | AA15: =+IF($K15=0,0,($D15-K15)/$E15-1) -> 0.02 | AB15: =+IF($K15=0,0,($D15-L15)/$E15-1) -> 0.034884779 | AC15: =+IF($K15=0,0,($D15-M15)/$E15-1) -> 0.04145201 | AD15: =+IF($K15=0,0,($D15-N15)/$E15-1) -> 0.04145201 | AE15: =+IF($K15=0,0,($D15-O15)/$E15-1) -> 0.04145201 | AF15: =+IF($K15=0,0,($D15-P15)/$E15-1) -> 0.04145201 | AG15: =+IF($K15=0,0,($D15-Q15)/$E15-1) -> 0.04145201 | AH15: =+IF($K15=0,0,($D15-R15)/$E15-1) -> 0.04145201
B16: 10027 | C16: Big Bend Elec Coop | D16: 33.165955 | E16: 32.792743 | F16: 0.011380936 | G16: 0.011380936 | H16: 0.05 | I16: 0 | J16: 0 | K16: 0 | L16: 0 | M16: 0 | N16: 0 | O16: 0 | P16: 0 | Q16: 0 | R16: 0 | S16: 0 | T16: 0 | U16: 0 | V16: 0 | W16: 0 | X16: 0 | Y16: 0 | Z16: 0 | AA16: =+IF($K16=0,0,($D16-K16)/$E16-1) -> 0 | AB16: =+IF($K16=0,0,($D16-L16)/$E16-1) -> 0 | AC16: =+IF($K16=0,0,($D16-M16)/$E16-1) -> 0 | AD16: =+IF($K16=0,0,($D16-N16)/$E16-1) -> 0 | AE16: =+IF($K16=0,0,($D16-O16)/$E16-1) -> 0 | AF16: =+IF($K16=0,0,($D16-P16)/$E16-1) -> 0 | AG16: =+IF($K16=0,0,($D16-Q16)/$E16-1) -> 0 | AH16: =+IF($K16=0,0,($D16-R16)/$E16-1) -> 0
B17: 10029 | C17: Blachly Lane Elec Coop | D17: 36.485131 | E17: 33.78109 | F17: 0.080045996 | G17: 0.02 | H17: 0.05 | I17: 0 | J17: 0 | K17: 2.0284192 | L17: 1.5284192 | M17: 1.0284192 | N17: 0.52841917 | O17: 0.02841917 | P17: 0 | Q17: 0 | R17: 0 | S17: 0 | T17: 0 | U17: 0 | V17: 0 | W17: 0 | X17: 0 | Y17: 0 | Z17: 0 | AA17: =+IF($K17=0,0,($D17-K17)/$E17-1) -> 0.02 | AB17: =+IF($K17=0,0,($D17-L17)/$E17-1) -> 0.03480118 | AC17: =+IF($K17=0,0,($D17-M17)/$E17-1) -> 0.049602361 | AD17: =+IF($K17=0,0,($D17-N17)/$E17-1) -> 0.064403541 | AE17: =+IF($K17=0,0,($D17-O17)/$E17-1) -> 0.079204721 | AF17: =+IF($K17=0,0,($D17-P17)/$E17-1) -> 0.080045996 | AG17: =+IF($K17=0,0,($D17-Q17)/$E17-1) -> 0.080045996 | AH17: =+IF($K17=0,0,($D17-R17)/$E17-1) -> 0.080045996
B18: 10044 | C18: Canby, City of | D18: 36.401863 | E18: 34.147326 | F18: 0.066023798 | G18: 0.02 | H18: 0.05 | I18: 0 | J18: 0 | K18: 1.5715897 | L18: 1.0715897 | M18: 0.57158965 | N18: 0.071589655 | O18: 0 | P18: 0 | Q18: 0 | R18: 0 | S18: 0 | T18: 0 | U18: 0 | V18: 0 | W18: 0 | X18: 0 | Y18: 0 | Z18: 0 | AA18: =+IF($K18=0,0,($D18-K18)/$E18-1) -> 0.02 | AB18: =+IF($K18=0,0,($D18-L18)/$E18-1) -> 0.034642435 | AC18: =+IF($K18=0,0,($D18-M18)/$E18-1) -> 0.04928487 | AD18: =+IF($K18=0,0,($D18-N18)/$E18-1) -> 0.063927304 | AE18: =+IF($K18=0,0,($D18-O18)/$E18-1) -> 0.066023798 | AF18: =+IF($K18=0,0,($D18-P18)/$E18-1) -> 0.066023798 | AG18: =+IF($K18=0,0,($D18-Q18)/$E18-1) -> 0.066023798 | AH18: =+IF($K18=0,0,($D18-R18)/$E18-1) -> 0.066023798
B19: 10046 | C19: Central Electric Coop | D19: 39.826138 | E19: 37.041639 | F19: 0.075172117 | G19: 0.02 | H19: 0.05 | I19: 0 | J19: 0 | K19: 2.0436657 | L19: 1.5436657 | M19: 1.0436657 | N19: 0.54366567 | O19: 0.043665669 | P19: 0 | Q19: 0 | R19: 0 | S19: 0 | T19: 0 | U19: 0 | V19: 0 | W19: 0 | X19: 0 | Y19: 0 | Z19: 0 | AA19: =+IF($K19=0,0,($D19-K19)/$E19-1) -> 0.02 | AB19: =+IF($K19=0,0,($D19-L19)/$E19-1) -> 0.033498323 | AC19: =+IF($K19=0,0,($D19-M19)/$E19-1) -> 0.046996645 | AD19: =+IF($K19=0,0,($D19-N19)/$E19-1) -> 0.060494968 | AE19: =+IF($K19=0,0,($D19-O19)/$E19-1) -> 0.073993291 | AF19: =+IF($K19=0,0,($D19-P19)/$E19-1) -> 0.075172117 | AG19: =+IF($K19=0,0,($D19-Q19)/$E19-1) -> 0.075172117 | AH19: =+IF($K19=0,0,($D19-R19)/$E19-1) -> 0.075172117
B20: 10047 | C20: Central Lincoln PUD | D20: 33.186121 | E20: 32.403883 | F20: 0.024140252 | G20: 0.02 | H20: 0.05 | I20: 0 | J20: 0 | K20: 0.13416025 | L20: 0 | M20: 0 | N20: 0 | O20: 0 | P20: 0 | Q20: 0 | R20: 0 | S20: 0 | T20: 0 | U20: 0 | V20: 0 | W20: 0 | X20: 0 | Y20: 0 | Z20: 0 | AA20: =+IF($K20=0,0,($D20-K20)/$E20-1) -> 0.02 | AB20: =+IF($K20=0,0,($D20-L20)/$E20-1) -> 0.024140252 | AC20: =+IF($K20=0,0,($D20-M20)/$E20-1) -> 0.024140252 | AD20: =+IF($K20=0,0,($D20-N20)/$E20-1) -> 0.024140252 | AE20: =+IF($K20=0,0,($D20-O20)/$E20-1) -> 0.024140252 | AF20: =+IF($K20=0,0,($D20-P20)/$E20-1) -> 0.024140252 | AG20: =+IF($K20=0,0,($D20-Q20)/$E20-1) -> 0.024140252 | AH20: =+IF($K20=0,0,($D20-R20)/$E20-1) -> 0.024140252
B21: 10055 | C21: Albion, City of | D21: 36.776289 | E21: 34.826369 | F21: 0.055989768 | G21: 0.02 | H21: 0.05 | I21: 0 | J21: 0 | K21: 1.2533929 | L21: 0.75339294 | M21: 0.25339294 | N21: 0 | O21: 0 | P21: 0 | Q21: 0 | R21: 0 | S21: 0 | T21: 0 | U21: 0 | V21: 0 | W21: 0 | X21: 0 | Y21: 0 | Z21: 0 | AA21: =+IF($K21=0,0,($D21-K21)/$E21-1) -> 0.02 | AB21: =+IF($K21=0,0,($D21-L21)/$E21-1) -> 0.034356937 | AC21: =+IF($K21=0,0,($D21-M21)/$E21-1) -> 0.048713875 | AD21: =+IF($K21=0,0,($D21-N21)/$E21-1) -> 0.055989768 | AE21: =+IF($K21=0,0,($D21-O21)/$E21-1) -> 0.055989768 | AF21: =+IF($K21=0,0,($D21-P21)/$E21-1) -> 0.055989768 | AG21: =+IF($K21=0,0,($D21-Q21)/$E21-1) -> 0.055989768 | AH21: =+IF($K21=0,0,($D21-R21)/$E21-1) -> 0.055989768
B22: 10057 | C22: Ashland, City of | D22: 35.932823 | E22: 33.469606 | F22: 0.073595627 | G22: 0.02 | H22: 0.05 | I22: 0 | J22: 0 | K22: 1.7938245 | L22: 1.2938245 | M22: 0.79382454 | N22: 0.29382454 | O22: 0 | P22: 0 | Q22: 0 | R22: 0 | S22: 0 | T22: 0 | U22: 0 | V22: 0 | W22: 0 | X22: 0 | Y22: 0 | Z22: 0 | AA22: =+IF($K22=0,0,($D22-K22)/$E22-1) -> 0.02 | AB22: =+IF($K22=0,0,($D22-L22)/$E22-1) -> 0.034938927 | AC22: =+IF($K22=0,0,($D22-M22)/$E22-1) -> 0.049877854 | AD22: =+IF($K22=0,0,($D22-N22)/$E22-1) -> 0.064816781 | AE22: =+IF($K22=0,0,($D22-O22)/$E22-1) -> 0.073595627 | AF22: =+IF($K22=0,0,($D22-P22)/$E22-1) -> 0.073595627 | AG22: =+IF($K22=0,0,($D22-Q22)/$E22-1) -> 0.073595627 | AH22: =+IF($K22=0,0,($D22-R22)/$E22-1) -> 0.073595627
B23: 10059 | C23: Bandon, City of | D23: 35.72029 | E23: 33.332739 | F23: 0.071627808 | G23: 0.02 | H23: 0.05 | I23: 0 | J23: 0 | K23: 1.7208962 | L23: 1.2208962 | M23: 0.72089622 | N23: 0.22089622 | O23: 0 | P23: 0 | Q23: 0 | R23: 0 | S23: 0 | T23: 0 | U23: 0 | V23: 0 | W23: 0 | X23: 0 | Y23: 0 | Z23: 0 | AA23: =+IF($K23=0,0,($D23-K23)/$E23-1) -> 0.02 | AB23: =+IF($K23=0,0,($D23-L23)/$E23-1) -> 0.035000268 | AC23: =+IF($K23=0,0,($D23-M23)/$E23-1) -> 0.050000535 | AD23: =+IF($K23=0,0,($D23-N23)/$E23-1) -> 0.065000803 | AE23: =+IF($K23=0,0,($D23-O23)/$E23-1) -> 0.071627808 | AF23: =+IF($K23=0,0,($D23-P23)/$E23-1) -> 0.071627808 | AG23: =+IF($K23=0,0,($D23-Q23)/$E23-1) -> 0.071627808 | AH23: =+IF($K23=0,0,($D23-R23)/$E23-1) -> 0.071627808
... B146: 12026 | C146: Jefferson County PUD #1 | D146: 35.253261 | E146: 33.542387 | F146: 0.051006328 | G146: 0.02 | H146: 0.05 | I146: 0 | J146: 0 | K146: 1.0400263 | L146: 0.54002626 | M146: 0.040026256 | N146: 0 | O146: 0 | P146: 0 | Q146: 0 | R146: 0 | S146: 0 | T146: 0 | U146: 0 | V146: 0 | W146: 0 | X146: 0 | Y146: 0 | Z146: 0 | AA146: =+IF($K146=0,0,($D146-K146)/$E146-1) -> 0.02 | AB146: =+IF($K146=0,0,($D146-L146)/$E146-1) -> 0.034906512 | AC146: =+IF($K146=0,0,($D146-M146)/$E146-1) -> 0.049813024 | AD146: =+IF($K146=0,0,($D146-N146)/$E146-1) -> 0.051006328 | AE146: =+IF($K146=0,0,($D146-O146)/$E146-1) -> 0.051006328 | AF146: =+IF($K146=0,0,($D146-P146)/$E146-1) -> 0.051006328 | AG146: =+IF($K146=0,0,($D146-Q146)/$E146-1) -> 0.051006328 | AH146: =+IF($K146=0,0,($D146-R146)/$E146-1) -> 0.051006328
B148: 10298 | C148: PNGC Aggregate | D148: 36.526346 | E148: 34.900375 | F148: 0.046503588 | G148: 0.018598197 | H148: 0.05 | I148: 0 | J148: 0 | K148: 0.97390861 | L148: 0.47390861 | M148: 0 | N148: 0 | O148: 0 | P148: 0 | Q148: 0 | R148: 0 | S148: 0 | T148: 0 | U148: 0 | V148: 0 | W148: 0 | X148: 0 | Y148: 0 | Z148: 0

Sheet 0.10 Rate Impacts Annually
B2: Discount Programs Over The Term of Provider of Choice
C4: Beginning Period Cap for Credit | D4: 0.02 | E4: Input on "RIC-M Temporal Calcs" Tab
C6: Decrease by $/MWh or %? --> | D6: $/MWh
C7: For $/MWh decrease by what amount per rate period --> | D7: 0.1
C8: For % what method of decline | D8: straight-line/average
C9: End Period Cap for Credit | D9: 0.05 | Z9: =AVERAGE(K10:Z10) -> 12033817
K10: 28385409 | L10: 25572647 | M10: 22874436 | N10: 20379838 | O10: 17904133 | P10: 15452694 | Q10: 13085854 | R10: 10926818 | S10: 9069708.3 | T10: 7377023.4 | U10: 5819193.8 | V10: 4663213.2 | W10: 3750184 | X10: 2973321.4 | Y10: 2408478.1 | Z10: 1898123.8 | AA10: 1 | AB10: 0.90090818 | AC10: 0.80585191 | AD10: 0.71796879 | AE10: 0.63075128 | AF10: 0.54438863 | AG10: 0.46100637 | AH10: 0.38494486 | AI10: 0.31952008 | AJ10: 0.25988786 | AK10: 0.20500651 | AL10: 0.16428205 | AM10: 0.13211661 | AN10: 0.10474823 | AO10: 0.08484916 | AP10: 0.0668697
K11: Credits | AA11: Charges | AQ11: Rate Increases | BF11: =+MAX(BF13:BF147) -> 0.068519774
B12: BESID | C12: Customer | D12: Post RIC-C Effective Rate | E12: Status Quo | F12: Change % | G12: Effective Cap % | H12: End Period Cap | I12: Decrease % | J12: Gainer? | K12: 2029 | L12: 2030 | M12: 2031 | N12: 2032 | O12: 2033 | P12: 2034 | Q12: 2035 | R12: 2036 | S12: 2037 | T12: 2038 | U12: 2039 | V12: 2040 | W12: 2041 | X12: 2042 | Y12: 2043 | Z12: 2044 | AA12: 2029 | AB12: 2030 | AC12: 2031 | AD12: 2032 | AE12: 2033 | AF12: 2034 | AG12: 2035 | AH12: 2036 | AI12: 2037 | AJ12: 2038 | AK12: 2039 | AL12: 2040 | AM12: 2041 | AN12: 2042 | AO12: 2043 | AP12: 2044 | AQ12: 2029 | AR12: 2030 | AS12: 2031 | AT12: 2032 | AU12: 2033 | AV12: 2034 | AW12: 2035 | AX12: 2036 | AY12: 2037 | AZ12: 2038 | BA12: 2039 | BB12: 2040 | BC12: 2041 | BD12: 2042 | BE12: 2043 | BF12: 2044
B13: 10005 | C13: Alder Mutual | D13: 35.38689 | E13: 33.772977 | F13: 0.0477871 | G13: 0.02 | H13: 0.05 | I13: 0 | J13: 0 | K13: 0.9384531 | L13: 0.8384531 | M13: 0.7384531 | N13: 0.6384531 | O13: 0.5384531 | P13: 0.4384531 | Q13: 0.3384531 | R13: 0.2384531 | S13: 0.1384531 | T13: 0.038453102 | U13: 0 | V13: 0 | W13: 0 | X13: 0 | Y13: 0 | Z13: 0 | AA13: 0 | AB13: 0 | AC13: 0 | AD13: 0 | AE13: 0 | AF13: 0 | AG13: 0 | AH13: 0 | AI13: 0 | AJ13: 0 | AK13: 0 | AL13: 0 | AM13: 0 | AN13: 0 | AO13: 0 | AP13: 0 | AQ13: =+IF($K13=0,0,($D13-K13)/$E13-1) -> 0.02 | AR13: =+IF($K13=0,0,($D13-L13)/$E13-1) -> 0.022960947 | AS13: =+IF($K13=0,0,($D13-M13)/$E13-1) -> 0.025921894 | AT13: =+IF($K13=0,0,($D13-N13)/$E13-1) -> 0.028882841 | AU13: =+IF($K13=0,0,($D13-O13)/$E13-1) -> 0.031843788 | AV13: =+IF($K13=0,0,($D13-P13)/$E13-1) -> 0.034804736 | AW13: =+IF($K13=0,0,($D13-Q13)/$E13-1) -> 0.037765683 | AX13: =+IF($K13=0,0,($D13-R13)/$E13-1) -> 0.04072663 | ... BF13: =+IF($K13=0,0,($D13-Z13)/$E13-1) -> 0.0477871
B14: 10015 | C14: Asotin County PUD #1 | D14: 47.859034 | E14: 37.351061 | F14: 0.28132996 | G14: 0.02 | H14: 0.05 | I14: 0 | J14: 0 | K14: 9.7609513 | L14: 9.6609513 | M14: 9.5609513 | N14: 9.4609513 | O14: 9.3609513 | P14: 9.2609513 | Q14: 9.1609513 | R14: 9.0609513 | S14: 8.9609513 | T14: 8.8609513 | U14: 8.7609513 | V14: 8.6609513 | W14: 8.5609513 | X14: 8.4609513 | Y14: 8.3609513 | Z14: 8.2609513 | AA14: 0 | AB14: 0 | AC14: 0 | AD14: 0 | AE14: 0 | AF14: 0 | AG14: 0 | AH14: 0 | AI14: 0 | AJ14: 0 | AK14: 0 | AL14: 0 | AM14: 0 | AN14: 0 | AO14: 0 | AP14: 0 | AQ14: =+IF($K14=0,0,($D14-K14)/$E14-1) -> 0.02 | AR14: =+IF($K14=0,0,($D14-L14)/$E14-1) -> 0.0226773 | AS14: =+IF($K14=0,0,($D14-M14)/$E14-1) -> 0.0253546 | AT14: =+IF($K14=0,0,($D14-N14)/$E14-1) -> 0.0280319 | AU14: =+IF($K14=0,0,($D14-O14)/$E14-1) -> 0.0307092 | AV14: =+IF($K14=0,0,($D14-P14)/$E14-1) -> 0.0333865 | AW14: =+IF($K14=0,0,($D14-Q14)/$E14-1) -> 0.036063801 | AX14: =+IF($K14=0,0,($D14-R14)/$E14-1) -> 0.038741101 | ... BF14: =+IF($K14=0,0,($D14-Z14)/$E14-1) -> 0.060159501
B15: 10024 | C15: Benton County PUD #1 | D15: 35.464803 | E15: 33.66703 | F15: 0.053398644 | G15: 0.02 | H15: 0.05 | I15: 0 | J15: 0 | K15: 1.1244331 | L15: 1.0244331 | M15: 0.92443315 | N15: 0.82443315 | O15: 0.72443315 | P15: 0.62443315 | Q15: 0.52443315 | R15: 0.42443315 | S15: 0.32443315 | T15: 0.22443315 | U15: 0.12443315 | V15: 0.024433146 | W15: 0 | X15: 0 | Y15: 0 | Z15: 0 | AA15: 0 | AB15: 0 | AC15: 0 | AD15: 0 | AE15: 0 | AF15: 0 | AG15: 0 | AH15: 0 | AI15: 0 | AJ15: 0 | AK15: 0 | AL15: 0 | AM15: 0 | AN15: 0 | AO15: 0 | AP15: 0 | AQ15: =+IF($K15=0,0,($D15-K15)/$E15-1) -> 0.02 | AR15: =+IF($K15=0,0,($D15-L15)/$E15-1) -> 0.022970265 | AS15: =+IF($K15=0,0,($D15-M15)/$E15-1) -> 0.02594053 | AT15: =+IF($K15=0,0,($D15-N15)/$E15-1) -> 0.028910795 | AU15: =+IF($K15=0,0,($D15-O15)/$E15-1) -> 0.03188106 | AV15: =+IF($K15=0,0,($D15-P15)/$E15-1) -> 0.034851325 | AW15: =+IF($K15=0,0,($D15-Q15)/$E15-1) -> 0.03782159 | AX15: =+IF($K15=0,0,($D15-R15)/$E15-1) -> 0.040791855 | ... BF15: =+IF($K15=0,0,($D15-Z15)/$E15-1) -> 0.053398644
B16: 10025 | C16: Benton REA | D16: 34.983791 | E16: 33.591362 | F16: 0.04145201 | G16: 0.02 | H16: 0.05 | I16: 0 | J16: 0 | K16: 0.72060222 | L16: 0.62060222 | M16: 0.52060222 | N16: 0.42060222 | O16: 0.32060222 | P16: 0.22060222 | Q16: 0.12060222 | R16: 0.020602219 | S16: 0 | T16: 0 | U16: 0 | V16: 0 | W16: 0 | X16: 0 | Y16: 0 | Z16: 0 | AA16: 0 | AB16: 0 | AC16: 0 | AD16: 0 | AE16: 0 | AF16: 0 | AG16: 0 | AH16: 0 | AI16: 0 | AJ16: 0 | AK16: 0 | AL16: 0 | AM16: 0 | AN16: 0 | AO16: 0 | AP16: 0 | AQ16: =+IF($K16=0,0,($D16-K16)/$E16-1) -> 0.02 | AR16: =+IF($K16=0,0,($D16-L16)/$E16-1) -> 0.022976956 | AS16: =+IF($K16=0,0,($D16-M16)/$E16-1) -> 0.025953912 | AT16: =+IF($K16=0,0,($D16-N16)/$E16-1) -> 0.028930867 | AU16: =+IF($K16=0,0,($D16-O16)/$E16-1) -> 0.031907823 | AV16: =+IF($K16=0,0,($D16-P16)/$E16-1) -> 0.034884779 | AW16: =+IF($K16=0,0,($D16-Q16)/$E16-1) -> 0.037861735 | AX16: =+IF($K16=0,0,($D16-R16)/$E16-1) -> 0.040838691 | ... BF16: =+IF($K16=0,0,($D16-Z16)/$E16-1) -> 0.04145201
B17: 10027 | C17: Big Bend Elec Coop | D17: 33.165955 | E17: 32.792743 | F17: 0.011380936 | G17: 0.011380936 | H17: 0.05 | I17: 0 | J17: 0 | K17: 0 | L17: 0 | M17: 0 | N17: 0 | O17: 0 | P17: 0 | Q17: 0 | R17: 0 | S17: 0 | T17: 0 | U17: 0 | V17: 0 | W17: 0 | X17: 0 | Y17: 0 | Z17: 0 | AA17: 0 | AB17: 0 | AC17: 0 | AD17: 0 | AE17: 0 | AF17: 0 | AG17: 0 | AH17: 0 | AI17: 0 | AJ17: 0 | AK17: 0 | AL17: 0 | AM17: 0 | AN17: 0 | AO17: 0 | AP17: 0 | AQ17: =+IF($K17=0,0,($D17-K17)/$E17-1) -> 0 | AR17: =+IF($K17=0,0,($D17-L17)/$E17-1) -> 0 | AS17: =+IF($K17=0,0,($D17-M17)/$E17-1) -> 0 | AT17: =+IF($K17=0,0,($D17-N17)/$E17-1) -> 0 | AU17: =+IF($K17=0,0,($D17-O17)/$E17-1) -> 0 | AV17: =+IF($K17=0,0,($D17-P17)/$E17-1) -> 0 | AW17: =+IF($K17=0,0,($D17-Q17)/$E17-1) -> 0 | AX17: =+IF($K17=0,0,($D17-R17)/$E17-1) -> 0 | ... BF17: =+IF($K17=0,0,($D17-Z17)/$E17-1) -> 0
B18: 10029 | C18: Blachly Lane Elec Coop | D18: 36.485131 | E18: 33.78109 | F18: 0.080045996 | G18: 0.02 | H18: 0.05 | I18: 0 | J18: 0 | K18: 2.0284192 | L18: 1.9284192 | M18: 1.8284192 | N18: 1.7284192 | O18: 1.6284192 | P18: 1.5284192 | Q18: 1.4284192 | R18: 1.3284192 | S18: 1.2284192 | T18: 1.1284192 | U18: 1.0284192 | V18: 0.92841917 | W18: 0.82841917 | X18: 0.72841917 | Y18: 0.62841917 | Z18: 0.52841917 | AA18: 0 | AB18: 0 | AC18: 0 | AD18: 0 | AE18: 0 | AF18: 0 | AG18: 0 | AH18: 0 | AI18: 0 | AJ18: 0 | AK18: 0 | AL18: 0 | AM18: 0 | AN18: 0 | AO18: 0 | AP18: 0 | AQ18: =+IF($K18=0,0,($D18-K18)/$E18-1) -> 0.02 | AR18: =+IF($K18=0,0,($D18-L18)/$E18-1) -> 0.022960236 | AS18: =+IF($K18=0,0,($D18-M18)/$E18-1) -> 0.025920472 | AT18: =+IF($K18=0,0,($D18-N18)/$E18-1) -> 0.028880708 | AU18: =+IF($K18=0,0,($D18-O18)/$E18-1) -> 0.031840944 | AV18: =+IF($K18=0,0,($D18-P18)/$E18-1) -> 0.03480118 | AW18: =+IF($K18=0,0,($D18-Q18)/$E18-1) -> 0.037761416 | AX18: =+IF($K18=0,0,($D18-R18)/$E18-1) -> 0.040721652 | ... BF18: =+IF($K18=0,0,($D18-Z18)/$E18-1) -> 0.064403541
B19: 10044 | C19: Canby, City of | D19: 36.401863 | E19: 34.147326 | F19: 0.066023798 | G19: 0.02 | H19: 0.05 | I19: 0 | J19: 0 | K19: 1.5715897 | L19: 1.4715897 | M19: 1.3715897 | N19: 1.2715897 | O19: 1.1715897 | P19: 1.0715897 | Q19: 0.97158965 | R19: 0.87158965 | S19: 0.77158965 | T19: 0.67158965 | U19: 0.57158965 | V19: 0.47158965 | W19: 0.37158965 | X19: 0.27158965 | Y19: 0.17158965 | Z19: 0.071589655 | AA19: 0 | AB19: 0 | AC19: 0 | AD19: 0 | AE19: 0 | AF19: 0 | AG19: 0 | AH19: 0 | AI19: 0 | AJ19: 0 | AK19: 0 | AL19: 0 | AM19: 0 | AN19: 0 | AO19: 0 | AP19: 0 | AQ19: =+IF($K19=0,0,($D19-K19)/$E19-1) -> 0.02 | AR19: =+IF($K19=0,0,($D19-L19)/$E19-1) -> 0.022928487 | AS19: =+IF($K19=0,0,($D19-M19)/$E19-1) -> 0.025856974 | AT19: =+IF($K19=0,0,($D19-N19)/$E19-1) -> 0.028785461 | AU19: =+IF($K19=0,0,($D19-O19)/$E19-1) -> 0.031713948 | AV19: =+IF($K19=0,0,($D19-P19)/$E19-1) -> 0.034642435 | AW19: =+IF($K19=0,0,($D19-Q19)/$E19-1) -> 0.037570922 | AX19: =+IF($K19=0,0,($D19-R19)/$E19-1) -> 0.040499409 | ... BF19: =+IF($K19=0,0,($D19-Z19)/$E19-1) -> 0.063927304
B20: 10046 | C20: Central Electric Coop | D20: 39.826138 | E20: 37.041639 | F20: 0.075172117 | G20: 0.02 | H20: 0.05 | I20: 0 | J20: 0 | K20: 2.0436657 | L20: 1.9436657 | M20: 1.8436657 | N20: 1.7436657 | O20: 1.6436657 | P20: 1.5436657 | Q20: 1.4436657 | R20: 1.3436657 | S20: 1.2436657 | T20: 1.1436657 | U20: 1.0436657 | V20: 0.94366567 | W20: 0.84366567 | X20: 0.74366567 | Y20: 0.64366567 | Z20: 0.54366567 | AA20: 0 | AB20: 0 | AC20: 0 | AD20: 0 | AE20: 0 | AF20: 0 | AG20: 0 | AH20: 0 | AI20: 0 | AJ20: 0 | AK20: 0 | AL20: 0 | AM20: 0 | AN20: 0 | AO20: 0 | AP20: 0 | AQ20: =+IF($K20=0,0,($D20-K20)/$E20-1) -> 0.02 | AR20: =+IF($K20=0,0,($D20-L20)/$E20-1) -> 0.022699665 | AS20: =+IF($K20=0,0,($D20-M20)/$E20-1) -> 0.025399329 | AT20: =+IF($K20=0,0,($D20-N20)/$E20-1) -> 0.028098994 | AU20: =+IF($K20=0,0,($D20-O20)/$E20-1) -> 0.030798658 | AV20: =+IF($K20=0,0,($D20-P20)/$E20-1) -> 0.033498323 | AW20: =+IF($K20=0,0,($D20-Q20)/$E20-1) -> 0.036197987 | AX20: =+IF($K20=0,0,($D20-R20)/$E20-1) -> 0.038897652 | ... BF20: =+IF($K20=0,0,($D20-Z20)/$E20-1) -> 0.060494968
B21: 10047 | C21: Central Lincoln PUD | D21: 33.186121 | E21: 32.403883 | F21: 0.024140252 | G21: 0.02 | H21: 0.05 | I21: 0 | J21: 0 | K21: 0.13416025 | L21: 0.03416025 | M21: 0 | N21: 0 | O21: 0 | P21: 0 | Q21: 0 | R21: 0 | S21: 0 | T21: 0 | U21: 0 | V21: 0 | W21: 0 | X21: 0 | Y21: 0 | Z21: 0 | AA21: 0 | AB21: 0 | AC21: 0 | AD21: 0 | AE21: 0 | AF21: 0 | AG21: 0 | AH21: 0 | AI21: 0 | AJ21: 0 | AK21: 0 | AL21: 0 | AM21: 0 | AN21: 0 | AO21: 0 | AP21: 0 | AQ21: =+IF($K21=0,0,($D21-K21)/$E21-1) -> 0.02 | AR21: =+IF($K21=0,0,($D21-L21)/$E21-1) -> 0.02308605 | AS21: =+IF($K21=0,0,($D21-M21)/$E21-1) -> 0.024140252 | AT21: =+IF($K21=0,0,($D21-N21)/$E21-1) -> 0.024140252 | AU21: =+IF($K21=0,0,($D21-O21)/$E21-1) -> 0.024140252 | AV21: =+IF($K21=0,0,($D21-P21)/$E21-1) -> 0.024140252 | AW21: =+IF($K21=0,0,($D21-Q21)/$E21-1) -> 0.024140252 | AX21: =+IF($K21=0,0,($D21-R21)/$E21-1) -> 0.024140252 | ... BF21: =+IF($K21=0,0,($D21-Z21)/$E21-1) -> 0.024140252
B22: 10055 | C22: Albion, City of | D22: 36.776289 | E22: 34.826369 | F22: 0.055989768 | G22: 0.02 | H22: 0.05 | I22: 0 | J22: 0 | K22: 1.2533929 | L22: 1.1533929 | M22: 1.0533929 | N22: 0.95339294 | O22: 0.85339294 | P22: 0.75339294 | Q22: 0.65339294 | R22: 0.55339294 | S22: 0.45339294 | T22: 0.35339294 | U22: 0.25339294 | V22: 0.15339294 | W22: 0.053392944 | X22: 0 | Y22: 0 | Z22: 0 | AA22: 0 | AB22: 0 | AC22: 0 | AD22: 0 | AE22: 0 | AF22: 0 | AG22: 0 | AH22: 0 | AI22: 0 | AJ22: 0 | AK22: 0 | AL22: 0 | AM22: 0 | AN22: 0 | AO22: 0 | AP22: 0 | AQ22: =+IF($K22=0,0,($D22-K22)/$E22-1) -> 0.02 | AR22: =+IF($K22=0,0,($D22-L22)/$E22-1) -> 0.022871387 | AS22: =+IF($K22=0,0,($D22-M22)/$E22-1) -> 0.025742775 | AT22: =+IF($K22=0,0,($D22-N22)/$E22-1) -> 0.028614162 | AU22: =+IF($K22=0,0,($D22-O22)/$E22-1) -> 0.03148555 | AV22: =+IF($K22=0,0,($D22-P22)/$E22-1) -> 0.034356937 | AW22: =+IF($K22=0,0,($D22-Q22)/$E22-1) -> 0.037228325 | AX22: =+IF($K22=0,0,($D22-R22)/$E22-1) -> 0.040099712 | ... BF22: =+IF($K22=0,0,($D22-Z22)/$E22-1) -> 0.055989768
B23: 10057 | C23: Ashland, City of | D23: 35.932823 | E23: 33.469606 | F23: 0.073595627 | G23: 0.02 | H23: 0.05 | I23: 0 | J23: 0 | K23: 1.7938245 | L23: 1.6938245 | M23: 1.5938245 | N23: 1.4938245 | O23: 1.3938245 | P23: 1.2938245 | Q23: 1.1938245 | R23: 1.0938245 | S23: 0.99382454 | T23: 0.89382454 | U23: 0.79382454 | V23: 0.69382454 | W23: 0.59382454 | X23: 0.49382454 | Y23: 0.39382454 | Z23: 0.29382454 | AA23: 0 | AB23: 0 | AC23: 0 | AD23: 0 | AE23: 0 | AF23: 0 | AG23: 0 | AH23: 0 | AI23: 0 | AJ23: 0 | AK23: 0 | AL23: 0 | AM23: 0 | AN23: 0 | AO23: 0 | AP23: 0 | AQ23: =+IF($K23=0,0,($D23-K23)/$E23-1) -> 0.02 | AR23: =+IF($K23=0,0,($D23-L23)/$E23-1) -> 0.022987785 | AS23: =+IF($K23=0,0,($D23-M23)/$E23-1) -> 0.025975571 | AT23: =+IF($K23=0,0,($D23-N23)/$E23-1) -> 0.028963356 | AU23: =+IF($K23=0,0,($D23-O23)/$E23-1) -> 0.031951142 | AV23: =+IF($K23=0,0,($D23-P23)/$E23-1) -> 0.034938927 | AW23: =+IF($K23=0,0,($D23-Q23)/$E23-1) -> 0.037926712 | AX23: =+IF($K23=0,0,($D23-R23)/$E23-1) -> 0.040914498 | ... BF23: =+IF($K23=0,0,($D23-Z23)/$E23-1) -> 0.064816781
B24: 10059 | C24: Bandon, City of | D24: 35.72029 | E24: 33.332739 | F24: 0.071627808 | G24: 0.02 | H24: 0.05 | I24: 0 | J24: 0 | K24: 1.7208962 | L24: 1.6208962 | M24: 1.5208962 | N24: 1.4208962 | O24: 1.3208962 | P24: 1.2208962 | Q24: 1.1208962 | R24: 1.0208962 | S24: 0.92089622 | T24: 0.82089622 | U24: 0.72089622 | V24: 0.62089622 | W24: 0.52089622 | X24: 0.42089622 | Y24: 0.32089622 | Z24: 0.22089622 | AA24: 0 | AB24: 0 | AC24: 0 | AD24: 0 | AE24: 0 | AF24: 0 | AG24: 0 | AH24: 0 | AI24: 0 | AJ24: 0 | AK24: 0 | AL24: 0 | AM24: 0 | AN24: 0 | AO24: 0 | AP24: 0 | AQ24: =+IF($K24=0,0,($D24-K24)/$E24-1) -> 0.02 | AR24: =+IF($K24=0,0,($D24-L24)/$E24-1) -> 0.023000054 | AS24: =+IF($K24=0,0,($D24-M24)/$E24-1) -> 0.026000107 | AT24: =+IF($K24=0,0,($D24-N24)/$E24-1) -> 0.029000161 | AU24: =+IF($K24=0,0,($D24-O24)/$E24-1) -> 0.032000214 | AV24: =+IF($K24=0,0,($D24-P24)/$E24-1) -> 0.035000268 | AW24: =+IF($K24=0,0,($D24-Q24)/$E24-1) -> 0.038000321 | AX24: =+IF($K24=0,0,($D24-R24)/$E24-1) -> 0.041000375 | ... BF24: =+IF($K24=0,0,($D24-Z24)/$E24-1) -> 0.065000803
... B147: 12026 | C147: Jefferson County PUD #1 | D147: 35.253261 | E147: 33.542387 | F147: 0.051006328 | G147: 0.02 | H147: 0.05 | I147: 0 | J147: 0 | K147: 1.0400263 | L147: 0.94002626 | M147: 0.84002626 | N147: 0.74002626 | O147: 0.64002626 | P147: 0.54002626 | Q147: 0.44002626 | R147: 0.34002626 | S147: 0.24002626 | T147: 0.14002626 | U147: 0.040026256 | V147: 0 | W147: 0 | X147: 0 | Y147: 0 | Z147: 0 | AA147: 0 | AB147: 0 | AC147: 0 | AD147: 0 | AE147: 0 | AF147: 0 | AG147: 0 | AH147: 0 | AI147: 0 | AJ147: 0 | AK147: 0 | AL147: 0 | AM147: 0 | AN147: 0 | AO147: 0 | AP147: 0 | AQ147: =+IF($K147=0,0,($D147-K147)/$E147-1) -> 0.02 | AR147: =+IF($K147=0,0,($D147-L147)/$E147-1) -> 0.022981302 | AS147: =+IF($K147=0,0,($D147-M147)/$E147-1) -> 0.025962605 | AT147: =+IF($K147=0,0,($D147-N147)/$E147-1) -> 0.028943907 | AU147: =+IF($K147=0,0,($D147-O147)/$E147-1) -> 0.03192521 | AV147: =+IF($K147=0,0,($D147-P147)/$E147-1) -> 0.034906512 | AW147: =+IF($K147=0,0,($D147-Q147)/$E147-1) -> 0.037887815 | AX147: =+IF($K147=0,0,($D147-R147)/$E147-1) -> 0.040869117 | ... BF147: =+IF($K147=0,0,($D147-Z147)/$E147-1) -> 0.051006328
B149: 10298 | C149: PNGC Aggregate | D149: 36.526346 | E149: 34.900375 | F149: 0.046503588 | G149: 0.018598197 | H149: 0.05 | I149: 0 | J149: 0 | K149: 0.97390861 | L149: 0.87390861 | M149: 0.77390861 | N149: 0.67390861 | O149: 0.57390861 | P149: 0.47390861 | Q149: 0.37390861 | R149: 0.27390861 | S149: 0.17390861 | T149: 0.07390861 | U149: 0 | V149: 0 | W149: 0 | X149: 0 | Y149: 0 | Z149: 0 | AA149: 0 | AB149: 0 | AC149: 0 | AD149: 0 | AE149: 0 | AF149: 0 | AG149: 0 | AH149: 0 | AI149: 0 | AJ149: 0 | AK149: 0 | AL149: 0 | AM149: 0 | AN149: 0 | AO149: 0 | AP149: 0

Sheet 0.20 Rate Impacts Annually
B2: Discount Programs Over The Term of Provider of Choice
C4: Beginning Period Cap for Credit | D4: 0.02 | E4: Input on "RIC-M Temporal Calcs" Tab
C6: Decrease by $/MWh or %? --> | D6: $/MWh
C7: For $/MWh decrease by what amount per rate period --> | D7: 0.2
C8: For % what method of decline | D8: straight-line/average
C9: End Period Cap for Credit | D9: 0.05 | Z9: =AVERAGE(K10:Z10) -> 6675509.2
K10: 28385409 | L10: 22874436 | M10: 17904133 | N10: 13085854 | O10: 9069708.3 | P10: 5819193.8 | Q10: 3750184 | R10: 2408478.1 | S10: 1457963.4 | T10: 809181.47 | U10: 414691.44 | V10: 278683.96 | W10: 207877.88 | X10: 140458.74 | Y10: 114117.18 | Z10: 87775.631 | AA10: 1 | AB10: 0.80585191 | AC10: 0.63075128 | AD10: 0.46100637 | AE10: 0.31952008 | AF10: 0.20500651 | AG10: 0.13211661 | AH10: 0.08484916 | AI10: 0.051363126 | AJ10: 0.028506951 | AK10: 0.014609317 | AL10: 0.0098178594 | AM10: 0.0073234062 | AN10: 0.0049482724 | AO10: 0.0040202762 | AP10: 0.0030922799
K11: Credits | AA11: Charges | AQ11: Rate Increases | BF11: =+MAX(BF13:BF147) -> 0.10437311
B12: BESID | C12: Customer | D12: Post RIC-C Effective Rate | E12: Status Quo | F12: Change % | G12: Effective Cap % | H12: End Period Cap | I12: Decrease % | J12: Gainer? | K12: 2029 | L12: 2030 | M12: 2031 | N12: 2032 | O12: 2033 | P12: 2034 | Q12: 2035 | R12: 2036 | S12: 2037 | T12: 2038 | U12: 2039 | V12: 2040 | W12: 2041 | X12: 2042 | Y12: 2043 | Z12: 2044 | AA12: 2029 | AB12: 2030 | AC12: 2031 | AD12: 2032 | AE12: 2033 | AF12: 2034 | AG12: 2035 | AH12: 2036 | AI12: 2037 | AJ12: 2038 | AK12: 2039 | AL12: 2040 | AM12: 2041 | AN12: 2042 | AO12: 2043 | AP12: 2044 | AQ12: 2029 | AR12: 2030 | AS12: 2031 | AT12: 2032 | AU12: 2033 | AV12: 2034 | AW12: 2035 | AX12: 2036 | AY12: 2037 | AZ12: 2038 | BA12: 2039 | BB12: 2040 | BC12: 2041 | BD12: 2042 | BE12: 2043 | BF12: 2044
B13: 10005 | C13: Alder Mutual | D13: 35.38689 | E13: 33.772977 | F13: 0.0477871 | G13: 0.02 | H13: 0.05 | I13: 0 | J13: 0 | K13: 0.9384531 | L13: 0.7384531 | M13: 0.5384531 | N13: 0.3384531 | O13: 0.1384531 | P13: 0 | Q13: 0 | R13: 0 | S13: 0 | T13: 0 | U13: 0 | V13: 0 | W13: 0 | X13: 0 | Y13: 0 | Z13: 0 | AA13: 0 | AB13: 0 | AC13: 0 | AD13: 0 | AE13: 0 | AF13: 0 | AG13: 0 | AH13: 0 | AI13: 0 | AJ13: 0 | AK13: 0 | AL13: 0 | AM13: 0 | AN13: 0 | AO13: 0 | AP13: 0 | AQ13: =+IF($K13=0,0,($D13-K13)/$E13-1) -> 0.02 | AR13: =+IF($K13=0,0,($D13-L13)/$E13-1) -> 0.025921894 | AS13: =+IF($K13=0,0,($D13-M13)/$E13-1) -> 0.031843788 | AT13: =+IF($K13=0,0,($D13-N13)/$E13-1) -> 0.037765683 | AU13: =+IF($K13=0,0,($D13-O13)/$E13-1) -> 0.043687577 | AV13: =+IF($K13=0,0,($D13-P13)/$E13-1) -> 0.0477871 | AW13: =+IF($K13=0,0,($D13-Q13)/$E13-1) -> 0.0477871 | AX13: =+IF($K13=0,0,($D13-R13)/$E13-1) -> 0.0477871 | ... BF13: =+IF($K13=0,0,($D13-Z13)/$E13-1) -> 0.0477871
B14: 10015 | C14: Asotin County PUD #1 | D14: 47.859034 | E14: 37.351061 | F14: 0.28132996 | G14: 0.02 | H14: 0.05 | I14: 0 | J14: 0 | K14: 9.7609513 | L14: 9.5609513 | M14: 9.3609513 | N14: 9.1609513 | O14: 8.9609513 | P14: 8.7609513 | Q14: 8.5609513 | R14: 8.3609513 | S14: 8.1609513 | T14: 7.9609513 | U14: 7.7609513 | V14: 7.5609513 | W14: 7.3609513 | X14: 7.1609513 | Y14: 6.9609513 | Z14: 6.7609513 | AA14: 0 | AB14: 0 | AC14: 0 | AD14: 0 | AE14: 0 | AF14: 0 | AG14: 0 | AH14: 0 | AI14: 0 | AJ14: 0 | AK14: 0 | AL14: 0 | AM14: 0 | AN14: 0 | AO14: 0 | AP14: 0 | AQ14: =+IF($K14=0,0,($D14-K14)/$E14-1) -> 0.02 | AR14: =+IF($K14=0,0,($D14-L14)/$E14-1) -> 0.0253546 | AS14: =+IF($K14=0,0,($D14-M14)/$E14-1) -> 0.0307092 | AT14: =+IF($K14=0,0,($D14-N14)/$E14-1) -> 0.036063801 | AU14: =+IF($K14=0,0,($D14-O14)/$E14-1) -> 0.041418401 | AV14: =+IF($K14=0,0,($D14-P14)/$E14-1) -> 0.046773001 | AW14: =+IF($K14=0,0,($D14-Q14)/$E14-1) -> 0.052127601 | AX14: =+IF($K14=0,0,($D14-R14)/$E14-1) -> 0.057482201 | ... BF14: =+IF($K14=0,0,($D14-Z14)/$E14-1) -> 0.100319
B15: 10024 | C15: Benton County PUD #1 | D15: 35.464803 | E15: 33.66703 | F15: 0.053398644 | G15: 0.02 | H15: 0.05 | I15: 0 | J15: 0 | K15: 1.1244331 | L15: 0.92443315 | M15: 0.72443315 | N15: 0.52443315 | O15: 0.32443315 | P15: 0.12443315 | Q15: 0 | R15: 0 | S15: 0 | T15: 0 | U15: 0 | V15: 0 | W15: 0 | X15: 0 | Y15: 0 | Z15: 0 | AA15: 0 | AB15: 0 | AC15: 0 | AD15: 0 | AE15: 0 | AF15: 0 | AG15: 0 | AH15: 0 | AI15: 0 | AJ15: 0 | AK15: 0 | AL15: 0 | AM15: 0 | AN15: 0 | AO15: 0 | AP15: 0 | AQ15: =+IF($K15=0,0,($D15-K15)/$E15-1) -> 0.02 | AR15: =+IF($K15=0,0,($D15-L15)/$E15-1) -> 0.02594053 | AS15: =+IF($K15=0,0,($D15-M15)/$E15-1) -> 0.03188106 | AT15: =+IF($K15=0,0,($D15-N15)/$E15-1) -> 0.03782159 | AU15: =+IF($K15=0,0,($D15-O15)/$E15-1) -> 0.04376212 | AV15: =+IF($K15=0,0,($D15-P15)/$E15-1) -> 0.04970265 | AW15: =+IF($K15=0,0,($D15-Q15)/$E15-1) -> 0.053398644 | AX15: =+IF($K15=0,0,($D15-R15)/$E15-1) -> 0.053398644 | ... BF15: =+IF($K15=0,0,($D15-Z15)/$E15-1) -> 0.053398644
B16: 10025 | C16: Benton REA | D16: 34.983791 | E16: 33.591362 | F16: 0.04145201 | G16: 0.02 | H16: 0.05 | I16: 0 | J16: 0 | K16: 0.72060222 | L16: 0.52060222 | M16: 0.32060222 | N16: 0.12060222 | O16: 0 | P16: 0 | Q16: 0 | R16: 0 | S16: 0 | T16: 0 | U16: 0 | V16: 0 | W16: 0 | X16: 0 | Y16: 0 | Z16: 0 | AA16: 0 | AB16: 0 | AC16: 0 | AD16: 0 | AE16: 0 | AF16: 0 | AG16: 0 | AH16: 0 | AI16: 0 | AJ16: 0 | AK16: 0 | AL16: 0 | AM16: 0 | AN16: 0 | AO16: 0 | AP16: 0 | AQ16: =+IF($K16=0,0,($D16-K16)/$E16-1) -> 0.02 | AR16: =+IF($K16=0,0,($D16-L16)/$E16-1) -> 0.025953912 | AS16: =+IF($K16=0,0,($D16-M16)/$E16-1) -> 0.031907823 | AT16: =+IF($K16=0,0,($D16-N16)/$E16-1) -> 0.037861735 | AU16: =+IF($K16=0,0,($D16-O16)/$E16-1) -> 0.04145201 | AV16: =+IF($K16=0,0,($D16-P16)/$E16-1) -> 0.04145201 | AW16: =+IF($K16=0,0,($D16-Q16)/$E16-1) -> 0.04145201 | AX16: =+IF($K16=0,0,($D16-R16)/$E16-1) -> 0.04145201 | ... BF16: =+IF($K16=0,0,($D16-Z16)/$E16-1) -> 0.04145201
B17: 10027 | C17: Big Bend Elec Coop | D17: 33.165955 | E17: 32.792743 | F17: 0.011380936 | G17: 0.011380936 | H17: 0.05 | I17: 0 | J17: 0 | K17: 0 | L17: 0 | M17: 0 | N17: 0 | O17: 0 | P17: 0 | Q17: 0 | R17: 0 | S17: 0 | T17: 0 | U17: 0 | V17: 0 | W17: 0 | X17: 0 | Y17: 0 | Z17: 0 | AA17: 0 | AB17: 0 | AC17: 0 | AD17: 0 | AE17: 0 | AF17: 0 | AG17: 0 | AH17: 0 | AI17: 0 | AJ17: 0 | AK17: 0 | AL17: 0 | AM17: 0 | AN17: 0 | AO17: 0 | AP17: 0 | AQ17: =+IF($K17=0,0,($D17-K17)/$E17-1) -> 0 | AR17: =+IF($K17=0,0,($D17-L17)/$E17-1) -> 0 | AS17: =+IF($K17=0,0,($D17-M17)/$E17-1) -> 0 | AT17: =+IF($K17=0,0,($D17-N17)/$E17-1) -> 0 | AU17: =+IF($K17=0,0,($D17-O17)/$E17-1) -> 0 | AV17: =+IF($K17=0,0,($D17-P17)/$E17-1) -> 0 | AW17: =+IF($K17=0,0,($D17-Q17)/$E17-1) -> 0 | AX17: =+IF($K17=0,0,($D17-R17)/$E17-1) -> 0 | ... BF17: =+IF($K17=0,0,($D17-Z17)/$E17-1) -> 0
B18: 10029 | C18: Blachly Lane Elec Coop | D18: 36.485131 | E18: 33.78109 | F18: 0.080045996 | G18: 0.02 | H18: 0.05 | I18: 0 | J18: 0 | K18: 2.0284192 | L18: 1.8284192 | M18: 1.6284192 | N18: 1.4284192 | O18: 1.2284192 | P18: 1.0284192 | Q18: 0.82841917 | R18: 0.62841917 | S18: 0.42841917 | T18: 0.22841917 | U18: 0.02841917 | V18: 0 | W18: 0 | X18: 0 | Y18: 0 | Z18: 0 | AA18: 0 | AB18: 0 | AC18: 0 | AD18: 0 | AE18: 0 | AF18: 0 | AG18: 0 | AH18: 0 | AI18: 0 | AJ18: 0 | AK18: 0 | AL18: 0 | AM18: 0 | AN18: 0 | AO18: 0 | AP18: 0 | AQ18: =+IF($K18=0,0,($D18-K18)/$E18-1) -> 0.02 | AR18: =+IF($K18=0,0,($D18-L18)/$E18-1) -> 0.025920472 | AS18: =+IF($K18=0,0,($D18-M18)/$E18-1) -> 0.031840944 | AT18: =+IF($K18=0,0,($D18-N18)/$E18-1) -> 0.037761416 | AU18: =+IF($K18=0,0,($D18-O18)/$E18-1) -> 0.043681888 | AV18: =+IF($K18=0,0,($D18-P18)/$E18-1) -> 0.049602361 | AW18: =+IF($K18=0,0,($D18-Q18)/$E18-1) -> 0.055522833 | AX18: =+IF($K18=0,0,($D18-R18)/$E18-1) -> 0.061443305 | ... BF18: =+IF($K18=0,0,($D18-Z18)/$E18-1) -> 0.080045996
B19: 10044 | C19: Canby, City of | D19: 36.401863 | E19: 34.147326 | F19: 0.066023798 | G19: 0.02 | H19: 0.05 | I19: 0 | J19: 0 | K19: 1.5715897 | L19: 1.3715897 | M19: 1.1715897 | N19: 0.97158965 | O19: 0.77158965 | P19: 0.57158965 | Q19: 0.37158965 | R19: 0.17158965 | S19: 0 | T19: 0 | U19: 0 | V19: 0 | W19: 0 | X19: 0 | Y19: 0 | Z19: 0 | AA19: 0 | AB19: 0 | AC19: 0 | AD19: 0 | AE19: 0 | AF19: 0 | AG19: 0 | AH19: 0 | AI19: 0 | AJ19: 0 | AK19: 0 | AL19: 0 | AM19: 0 | AN19: 0 | AO19: 0 | AP19: 0 | AQ19: =+IF($K19=0,0,($D19-K19)/$E19-1) -> 0.02 | AR19: =+IF($K19=0,0,($D19-L19)/$E19-1) -> 0.025856974 | AS19: =+IF($K19=0,0,($D19-M19)/$E19-1) -> 0.031713948 | AT19: =+IF($K19=0,0,($D19-N19)/$E19-1) -> 0.037570922 | AU19: =+IF($K19=0,0,($D19-O19)/$E19-1) -> 0.043427896 | AV19: =+IF($K19=0,0,($D19-P19)/$E19-1) -> 0.04928487 | AW19: =+IF($K19=0,0,($D19-Q19)/$E19-1) -> 0.055141844 | AX19: =+IF($K19=0,0,($D19-R19)/$E19-1) -> 0.060998817 | ... BF19: =+IF($K19=0,0,($D19-Z19)/$E19-1) -> 0.066023798
B20: 10046 | C20: Central Electric Coop | D20: 39.826138 | E20: 37.041639 | F20: 0.075172117 | G20: 0.02 | H20: 0.05 | I20: 0 | J20: 0 | K20: 2.0436657 | L20: 1.8436657 | M20: 1.6436657 | N20: 1.4436657 | O20: 1.2436657 | P20: 1.0436657 | Q20: 0.84366567 | R20: 0.64366567 | S20: 0.44366567 | T20: 0.24366567 | U20: 0.043665669 | V20: 0 | W20: 0 | X20: 0 | Y20: 0 | Z20: 0 | AA20: 0 | AB20: 0 | AC20: 0 | AD20: 0 | AE20: 0 | AF20: 0 | AG20: 0 | AH20: 0 | AI20: 0 | AJ20: 0 | AK20: 0 | AL20: 0 | AM20: 0 | AN20: 0 | AO20: 0 | AP20: 0 | AQ20: =+IF($K20=0,0,($D20-K20)/$E20-1) -> 0.02 | AR20: =+IF($K20=0,0,($D20-L20)/$E20-1) -> 0.025399329 | AS20: =+IF($K20=0,0,($D20-M20)/$E20-1) -> 0.030798658 | AT20: =+IF($K20=0,0,($D20-N20)/$E20-1) -> 0.036197987 | AU20: =+IF($K20=0,0,($D20-O20)/$E20-1) -> 0.041597316 | AV20: =+IF($K20=0,0,($D20-P20)/$E20-1) -> 0.046996645 | AW20: =+IF($K20=0,0,($D20-Q20)/$E20-1) -> 0.052395974 | AX20: =+IF($K20=0,0,($D20-R20)/$E20-1) -> 0.057795304 | ... BF20: =+IF($K20=0,0,($D20-Z20)/$E20-1) -> 0.075172117
B21: 10047 | C21: Central Lincoln PUD | D21: 33.186121 | E21: 32.403883 | F21: 0.024140252 | G21: 0.02 | H21: 0.05 | I21: 0 | J21: 0 | K21: 0.13416025 | L21: 0 | M21: 0 | N21: 0 | O21: 0 | P21: 0 | Q21: 0 | R21: 0 | S21: 0 | T21: 0 | U21: 0 | V21: 0 | W21: 0 | X21: 0 | Y21: 0 | Z21: 0 | AA21: 0 | AB21: 0 | AC21: 0 | AD21: 0 | AE21: 0 | AF21: 0 | AG21: 0 | AH21: 0 | AI21: 0 | AJ21: 0 | AK21: 0 | AL21: 0 | AM21: 0 | AN21: 0 | AO21: 0 | AP21: 0 | AQ21: =+IF($K21=0,0,($D21-K21)/$E21-1) -> 0.02 | AR21: =+IF($K21=0,0,($D21-L21)/$E21-1) -> 0.024140252 | AS21: =+IF($K21=0,0,($D21-M21)/$E21-1) -> 0.024140252 | AT21: =+IF($K21=0,0,($D21-N21)/$E21-1) -> 0.024140252 | AU21: =+IF($K21=0,0,($D21-O21)/$E21-1) -> 0.024140252 | AV21: =+IF($K21=0,0,($D21-P21)/$E21-1) -> 0.024140252 | AW21: =+IF($K21=0,0,($D21-Q21)/$E21-1) -> 0.024140252 | AX21: =+IF($K21=0,0,($D21-R21)/$E21-1) -> 0.024140252 | ... BF21: =+IF($K21=0,0,($D21-Z21)/$E21-1) -> 0.024140252
B22: 10055 | C22: Albion, City of | D22: 36.776289 | E22: 34.826369 | F22: 0.055989768 | G22: 0.02 | H22: 0.05 | I22: 0 | J22: 0 | K22: 1.2533929 | L22: 1.0533929 | M22: 0.85339294 | N22: 0.65339294 | O22: 0.45339294 | P22: 0.25339294 | Q22: 0.053392944 | R22: 0 | S22: 0 | T22: 0 | U22: 0 | V22: 0 | W22: 0 | X22: 0 | Y22: 0 | Z22: 0 | AA22: 0 | AB22: 0 | AC22: 0 | AD22: 0 | AE22: 0 | AF22: 0 | AG22: 0 | AH22: 0 | AI22: 0 | AJ22: 0 | AK22: 0 | AL22: 0 | AM22: 0 | AN22: 0 | AO22: 0 | AP22: 0 | AQ22: =+IF($K22=0,0,($D22-K22)/$E22-1) -> 0.02 | AR22: =+IF($K22=0,0,($D22-L22)/$E22-1) -> 0.025742775 | AS22: =+IF($K22=0,0,($D22-M22)/$E22-1) -> 0.03148555 | AT22: =+IF($K22=0,0,($D22-N22)/$E22-1) -> 0.037228325 | AU22: =+IF($K22=0,0,($D22-O22)/$E22-1) -> 0.0429711 | AV22: =+IF($K22=0,0,($D22-P22)/$E22-1) -> 0.048713875 | AW22: =+IF($K22=0,0,($D22-Q22)/$E22-1) -> 0.05445665 | AX22: =+IF($K22=0,0,($D22-R22)/$E22-1) -> 0.055989768 | ... BF22: =+IF($K22=0,0,($D22-Z22)/$E22-1) -> 0.055989768
B23: 10057 | C23: Ashland, City of | D23: 35.932823 | E23: 33.469606 | F23: 0.073595627 | G23: 0.02 | H23: 0.05 | I23: 0 | J23: 0 | K23: 1.7938245 | L23: 1.5938245 | M23: 1.3938245 | N23: 1.1938245 | O23: 0.99382454 | P23: 0.79382454 | Q23: 0.59382454 | R23: 0.39382454 | S23: 0.19382454 | T23: 0 | U23: 0 | V23: 0 | W23: 0 | X23: 0 | Y23: 0 | Z23: 0 | AA23: 0 | AB23: 0 | AC23: 0 | AD23: 0 | AE23: 0 | AF23: 0 | AG23: 0 | AH23: 0 | AI23: 0 | AJ23: 0 | AK23: 0 | AL23: 0 | AM23: 0 | AN23: 0 | AO23: 0 | AP23: 0 | AQ23: =+IF($K23=0,0,($D23-K23)/$E23-1) -> 0.02 | AR23: =+IF($K23=0,0,($D23-L23)/$E23-1) -> 0.025975571 | AS23: =+IF($K23=0,0,($D23-M23)/$E23-1) -> 0.031951142 | AT23: =+IF($K23=0,0,($D23-N23)/$E23-1) -> 0.037926712 | AU23: =+IF($K23=0,0,($D23-O23)/$E23-1) -> 0.043902283 | AV23: =+IF($K23=0,0,($D23-P23)/$E23-1) -> 0.049877854 | AW23: =+IF($K23=0,0,($D23-Q23)/$E23-1) -> 0.055853425 | AX23: =+IF($K23=0,0,($D23-R23)/$E23-1) -> 0.061828995 | ... BF23: =+IF($K23=0,0,($D23-Z23)/$E23-1) -> 0.073595627
B24: 10059 | C24: Bandon, City of | D24: 35.72029 | E24: 33.332739 | F24: 0.071627808 | G24: 0.02 | H24: 0.05 | I24: 0 | J24: 0 | K24: 1.7208962 | L24: 1.5208962 | M24: 1.3208962 | N24: 1.1208962 | O24: 0.92089622 | P24: 0.72089622 | Q24: 0.52089622 | R24: 0.32089622 | S24: 0.12089622 | T24: 0 | U24: 0 | V24: 0 | W24: 0 | X24: 0 | Y24: 0 | Z24: 0 | AA24: 0 | AB24: 0 | AC24: 0 | AD24: 0 | AE24: 0 | AF24: 0 | AG24: 0 | AH24: 0 | AI24: 0 | AJ24: 0 | AK24: 0 | AL24: 0 | AM24: 0 | AN24: 0 | AO24: 0 | AP24: 0 | AQ24: =+IF($K24=0,0,($D24-K24)/$E24-1) -> 0.02 | AR24: =+IF($K24=0,0,($D24-L24)/$E24-1) -> 0.026000107 | AS24: =+IF($K24=0,0,($D24-M24)/$E24-1) -> 0.032000214 | AT24: =+IF($K24=0,0,($D24-N24)/$E24-1) -> 0.038000321 | AU24: =+IF($K24=0,0,($D24-O24)/$E24-1) -> 0.044000428 | AV24: =+IF($K24=0,0,($D24-P24)/$E24-1) -> 0.050000535 | AW24: =+IF($K24=0,0,($D24-Q24)/$E24-1) -> 0.056000642 | AX24: =+IF($K24=0,0,($D24-R24)/$E24-1) -> 0.062000749 | ... BF24: =+IF($K24=0,0,($D24-Z24)/$E24-1) -> 0.071627808
... B147: 12026 | C147: Jefferson County PUD #1 | D147: 35.253261 | E147: 33.542387 | F147: 0.051006328 | G147: 0.02 | H147: 0.05 | I147: 0 | J147: 0 | K147: 1.0400263 | L147: 0.84002626 | M147: 0.64002626 | N147: 0.44002626 | O147: 0.24002626 | P147: 0.040026256 | Q147: 0 | R147: 0 | S147: 0 | T147: 0 | U147: 0 | V147: 0 | W147: 0 | X147: 0 | Y147: 0 | Z147: 0 | AA147: 0 | AB147: 0 | AC147: 0 | AD147: 0 | AE147: 0 | AF147: 0 | AG147: 0 | AH147: 0 | AI147: 0 | AJ147: 0 | AK147: 0 | AL147: 0 | AM147: 0 | AN147: 0 | AO147: 0 | AP147: 0 | AQ147: =+IF($K147=0,0,($D147-K147)/$E147-1) -> 0.02 | AR147: =+IF($K147=0,0,($D147-L147)/$E147-1) -> 0.025962605 | AS147: =+IF($K147=0,0,($D147-M147)/$E147-1) -> 0.03192521 | AT147: =+IF($K147=0,0,($D147-N147)/$E147-1) -> 0.037887815 | AU147: =+IF($K147=0,0,($D147-O147)/$E147-1) -> 0.04385042 | AV147: =+IF($K147=0,0,($D147-P147)/$E147-1) -> 0.049813024 | AW147: =+IF($K147=0,0,($D147-Q147)/$E147-1) -> 0.051006328 | AX147: =+IF($K147=0,0,($D147-R147)/$E147-1) -> 0.051006328 | ... BF147: =+IF($K147=0,0,($D147-Z147)/$E147-1) -> 0.051006328
B149: 10298 | C149: PNGC Aggregate | D149: 36.526346 | E149: 34.900375 | F149: 0.046503588 | G149: 0.018598197 | H149: 0.05 | I149: 0 | J149: 0 | K149: 0.97390861 | L149: 0.77390861 | M149: 0.57390861 | N149: 0.37390861 | O149: 0.17390861 | P149: 0 | Q149: 0 | R149: 0 | S149: 0 | T149: 0 | U149: 0 | V149: 0 | W149: 0 | X149: 0 | Y149: 0 | Z149: 0 | AA149: 0 | AB149: 0 | AC149: 0 | AD149: 0 | AE149: 0 | AF149: 0 | AG149: 0 | AH149: 0 | AI149: 0 | AJ149: 0 | AK149: 0 | AL149: 0 | AM149: 0 | AN149: 0 | AO149: 0 | AP149: 0

Sheet 5% Rate Impacts Annually
B2: Discount Programs Over The Term of Provider of Choice
C4: Beginning Period Cap for Credit | D4: 0.02 | E4: Input on "RIC-M Temporal Calcs" Tab
C6: Decrease by $/MWh or %? --> | D6: %
C7: For $/MWh decrease by what amount per rate period --> | D7: 0.1
C8: For % what method of decline | D8: straight-line/average
C9: End Period Cap for Credit | D9: 0.05
K10: 28385409 | L10: 26858287 | M10: 25331164 | N10: 23804042 | O10: 22276919 | P10: 20749797 | Q10: 19222674 | R10: 17695551 | S10: 16168429 | T10: 14641306 | U10: 13114184 | V10: 11587061 | W10: 10059939 | X10: 8532816.1 | Y10: 7005693.5 | Z10: 5478571 | AA10: 1 | AB10: 0.94620044 | AC10: 0.89240088 | AD10: 0.83860132 | AE10: 0.78480176 | AF10: 0.7310022 | AG10: 0.67720263 | AH10: 0.62340307 | AI10: 0.56960351 | AJ10: 0.51580395 | AK10: 0.46200439 | AL10: 0.40820483 | AM10: 0.35440527 | AN10: 0.30060571 | AO10: 0.24680615 | AP10: 0.19300659
K11: Credits | AA11: Charges | AQ11: Rate Increases
B12: BESID | C12: Customer | D12: Post RIC-C Effective Rate | E12: Status Quo | F12: Change % | G12: Effective Cap % | H12: End Period Cap | I12: Decrease % | J12: Gainer? | K12: 2029 | L12: 2030 | M12: 2031 | N12: 2032 | O12: 2033 | P12: 2034 | Q12: 2035 | R12: 2036 | S12: 2037 | T12: 2038 | U12: 2039 | V12: 2040 | W12: 2041 | X12: 2042 | Y12: 2043 | Z12: 2044 | AA12: 2029 | AB12: 2030 | AC12: 2031 | AD12: 2032 | AE12: 2033 | AF12: 2034 | AG12: 2035 | AH12: 2036 | AI12: 2037 | AJ12: 2038 | AK12: 2039 | AL12: 2040 | AM12: 2041 | AN12: 2042 | AO12: 2043 | AP12: 2044 | AQ12: 2029 | AR12: 2030 | AS12: 2031 | AT12: 2032 | AU12: 2033 | AV12: 2034 | AW12: 2035 | AX12: 2036 | AY12: 2037 | AZ12: 2038 | BA12: 2039 | BB12: 2040 | BC12: 2041 | BD12: 2042 | BE12: 2043 | BF12: 2044
B13: 10005 | C13: Alder Mutual | D13: 35.38689 | E13: 33.772977 | F13: 0.0477871 | G13: 0.02 | H13: 0.05 | I13: 0 | J13: 0 | K13: 0.9384531 | L13: 0.87588956 | M13: 0.81332602 | N13: 0.75076248 | O13: 0.68819894 | P13: 0.6256354 | Q13: 0.56307186 | R13: 0.50050832 | S13: 0.43794478 | T13: 0.37538124 | U13: 0.3128177 | V13: 0.25025416 | W13: 0.18769062 | X13: 0.12512708 | Y13: 0.06256354 | Z13: 0 | AA13: 0 | AB13: 0 | AC13: 0 | AD13: 0 | AE13: 0 | AF13: 0 | AG13: 0 | AH13: 0 | AI13: 0 | AJ13: 0 | AK13: 0 | AL13: 0 | AM13: 0 | AN13: 0 | AO13: 0 | AP13: 0 | AQ13: =+IF($K13=0,0,($D13-K13)/$E13-1) -> 0.02 | AR13: =+IF($K13=0,0,($D13-L13)/$E13-1) -> 0.021852473 | AS13: =+IF($K13=0,0,($D13-M13)/$E13-1) -> 0.023704947 | AT13: =+IF($K13=0,0,($D13-N13)/$E13-1) -> 0.02555742 | AU13: =+IF($K13=0,0,($D13-O13)/$E13-1) -> 0.027409893 | AV13: =+IF($K13=0,0,($D13-P13)/$E13-1) -> 0.029262367 | AW13: =+IF($K13=0,0,($D13-Q13)/$E13-1) -> 0.03111484 | AX13: =+IF($K13=0,0,($D13-R13)/$E13-1) -> 0.032967313 | ... BF13: =+IF($K13=0,0,($D13-Z13)/$E13-1) -> 0.0477871
B14: 10015 | C14: Asotin County PUD #1 | D14: 47.859034 | E14: 37.351061 | F14: 0.28132996 | G14: 0.02 | H14: 0.05 | I14: 0 | J14: 0 | K14: 9.7609513 | L14: 9.6862492 | M14: 9.6115471 | N14: 9.5368449 | O14: 9.4621428 | P14: 9.3874407 | Q14: 9.3127386 | R14: 9.2380365 | S14: 9.1633343 | T14: 9.0886322 | U14: 9.0139301 | V14: 8.939228 | W14: 8.8645258 | X14: 8.7898237 | Y14: 8.7151216 | Z14: 8.6404195 | AA14: 0 | AB14: 0 | AC14: 0 | AD14: 0 | AE14: 0 | AF14: 0 | AG14: 0 | AH14: 0 | AI14: 0 | AJ14: 0 | AK14: 0 | AL14: 0 | AM14: 0 | AN14: 0 | AO14: 0 | AP14: 0 | AQ14: =+IF($K14=0,0,($D14-K14)/$E14-1) -> 0.02 | AR14: =+IF($K14=0,0,($D14-L14)/$E14-1) -> 0.022 | AS14: =+IF($K14=0,0,($D14-M14)/$E14-1) -> 0.024 | AT14: =+IF($K14=0,0,($D14-N14)/$E14-1) -> 0.026 | AU14: =+IF($K14=0,0,($D14-O14)/$E14-1) -> 0.028 | AV14: =+IF($K14=0,0,($D14-P14)/$E14-1) -> 0.03 | AW14: =+IF($K14=0,0,($D14-Q14)/$E14-1) -> 0.032 | AX14: =+IF($K14=0,0,($D14-R14)/$E14-1) -> 0.034 | ... BF14: =+IF($K14=0,0,($D14-Z14)/$E14-1) -> 0.05
B15: 10024 | C15: Benton County PUD #1 | D15: 35.464803 | E15: 33.66703 | F15: 0.053398644 | G15: 0.02 | H15: 0.05 | I15: 0 | J15: 0 | K15: 1.1244331 | L15: 1.0570991 | M15: 0.98976503 | N15: 0.92243097 | O15: 0.85509691 | P15: 0.78776285 | Q15: 0.72042879 | R15: 0.65309473 | S15: 0.58576067 | T15: 0.51842661 | U15: 0.45109256 | V15: 0.3837585 | W15: 0.31642444 | X15: 0.24909038 | Y15: 0.18175632 | Z15: 0.11442226 | AA15: 0 | AB15: 0 | AC15: 0 | AD15: 0 | AE15: 0 | AF15: 0 | AG15: 0 | AH15: 0 | AI15: 0 | AJ15: 0 | AK15: 0 | AL15: 0 | AM15: 0 | AN15: 0 | AO15: 0 | AP15: 0 | AQ15: =+IF($K15=0,0,($D15-K15)/$E15-1) -> 0.02 | AR15: =+IF($K15=0,0,($D15-L15)/$E15-1) -> 0.022 | AS15: =+IF($K15=0,0,($D15-M15)/$E15-1) -> 0.024 | AT15: =+IF($K15=0,0,($D15-N15)/$E15-1) -> 0.026 | AU15: =+IF($K15=0,0,($D15-O15)/$E15-1) -> 0.028 | AV15: =+IF($K15=0,0,($D15-P15)/$E15-1) -> 0.03 | AW15: =+IF($K15=0,0,($D15-Q15)/$E15-1) -> 0.032 | AX15: =+IF($K15=0,0,($D15-R15)/$E15-1) -> 0.034 | ... BF15: =+IF($K15=0,0,($D15-Z15)/$E15-1) -> 0.05
B16: 10025 | C16: Benton REA | D16: 34.983791 | E16: 33.591362 | F16: 0.04145201 | G16: 0.02 | H16: 0.05 | I16: 0 | J16: 0 | K16: 0.72060222 | L16: 0.67256207 | M16: 0.62452192 | N16: 0.57648177 | O16: 0.52844163 | P16: 0.48040148 | Q16: 0.43236133 | R16: 0.38432118 | S16: 0.33628104 | T16: 0.28824089 | U16: 0.24020074 | V16: 0.19216059 | W16: 0.14412044 | X16: 0.096080296 | Y16: 0.048040148 | Z16: 0 | AA16: 0 | AB16: 0 | AC16: 0 | AD16: 0 | AE16: 0 | AF16: 0 | AG16: 0 | AH16: 0 | AI16: 0 | AJ16: 0 | AK16: 0 | AL16: 0 | AM16: 0 | AN16: 0 | AO16: 0 | AP16: 0 | AQ16: =+IF($K16=0,0,($D16-K16)/$E16-1) -> 0.02 | AR16: =+IF($K16=0,0,($D16-L16)/$E16-1) -> 0.021430134 | AS16: =+IF($K16=0,0,($D16-M16)/$E16-1) -> 0.022860268 | AT16: =+IF($K16=0,0,($D16-N16)/$E16-1) -> 0.024290402 | AU16: =+IF($K16=0,0,($D16-O16)/$E16-1) -> 0.025720536 | AV16: =+IF($K16=0,0,($D16-P16)/$E16-1) -> 0.02715067 | AW16: =+IF($K16=0,0,($D16-Q16)/$E16-1) -> 0.028580804 | AX16: =+IF($K16=0,0,($D16-R16)/$E16-1) -> 0.030010938 | ... BF16: =+IF($K16=0,0,($D16-Z16)/$E16-1) -> 0.04145201
B17: 10027 | C17: Big Bend Elec Coop | D17: 33.165955 | E17: 32.792743 | F17: 0.011380936 | G17: 0.011380936 | H17: 0.05 | I17: 0 | J17: 0 | K17: 0 | L17: 0 | M17: 0 | N17: 0 | O17: 0 | P17: 0 | Q17: 0 | R17: 0 | S17: 0 | T17: 0 | U17: 0 | V17: 0 | W17: 0 | X17: 0 | Y17: 0 | Z17: 0 | AA17: 0 | AB17: 0 | AC17: 0 | AD17: 0 | AE17: 0 | AF17: 0 | AG17: 0 | AH17: 0 | AI17: 0 | AJ17: 0 | AK17: 0 | AL17: 0 | AM17: 0 | AN17: 0 | AO17: 0 | AP17: 0 | AQ17: =+IF($K17=0,0,($D17-K17)/$E17-1) -> 0 | AR17: =+IF($K17=0,0,($D17-L17)/$E17-1) -> 0 | AS17: =+IF($K17=0,0,($D17-M17)/$E17-1) -> 0 | AT17: =+IF($K17=0,0,($D17-N17)/$E17-1) -> 0 | AU17: =+IF($K17=0,0,($D17-O17)/$E17-1) -> 0 | AV17: =+IF($K17=0,0,($D17-P17)/$E17-1) -> 0 | AW17: =+IF($K17=0,0,($D17-Q17)/$E17-1) -> 0 | AX17: =+IF($K17=0,0,($D17-R17)/$E17-1) -> 0 | ... BF17: =+IF($K17=0,0,($D17-Z17)/$E17-1) -> 0
B18: 10029 | C18: Blachly Lane Elec Coop | D18: 36.485131 | E18: 33.78109 | F18: 0.080045996 | G18: 0.02 | H18: 0.05 | I18: 0 | J18: 0 | K18: 2.0284192 | L18: 1.960857 | M18: 1.8932948 | N18: 1.8257326 | O18: 1.7581705 | P18: 1.6906083 | Q18: 1.6230461 | R18: 1.5554839 | S18: 1.4879217 | T18: 1.4203596 | U18: 1.3527974 | V18: 1.2852352 | W18: 1.217673 | X18: 1.1501108 | Y18: 1.0825487 | Z18: 1.0149865 | AA18: 0 | AB18: 0 | AC18: 0 | AD18: 0 | AE18: 0 | AF18: 0 | AG18: 0 | AH18: 0 | AI18: 0 | AJ18: 0 | AK18: 0 | AL18: 0 | AM18: 0 | AN18: 0 | AO18: 0 | AP18: 0 | AQ18: =+IF($K18=0,0,($D18-K18)/$E18-1) -> 0.02 | AR18: =+IF($K18=0,0,($D18-L18)/$E18-1) -> 0.022 | AS18: =+IF($K18=0,0,($D18-M18)/$E18-1) -> 0.024 | AT18: =+IF($K18=0,0,($D18-N18)/$E18-1) -> 0.026 | AU18: =+IF($K18=0,0,($D18-O18)/$E18-1) -> 0.028 | AV18: =+IF($K18=0,0,($D18-P18)/$E18-1) -> 0.03 | AW18: =+IF($K18=0,0,($D18-Q18)/$E18-1) -> 0.032 | AX18: =+IF($K18=0,0,($D18-R18)/$E18-1) -> 0.034 | ... BF18: =+IF($K18=0,0,($D18-Z18)/$E18-1) -> 0.05
B19: 10044 | C19: Canby, City of | D19: 36.401863 | E19: 34.147326 | F19: 0.066023798 | G19: 0.02 | H19: 0.05 | I19: 0 | J19: 0 | K19: 1.5715897 | L19: 1.503295 | M19: 1.4350003 | N19: 1.3667057 | O19: 1.298411 | P19: 1.2301164 | Q19: 1.1618217 | R19: 1.0935271 | S19: 1.0252324 | T19: 0.95693778 | U19: 0.88864313 | V19: 0.82034847 | W19: 0.75205382 | X19: 0.68375917 | Y19: 0.61546452 | Z19: 0.54716986 | AA19: 0 | AB19: 0 | AC19: 0 | AD19: 0 | AE19: 0 | AF19: 0 | AG19: 0 | AH19: 0 | AI19: 0 | AJ19: 0 | AK19: 0 | AL19: 0 | AM19: 0 | AN19: 0 | AO19: 0 | AP19: 0 | AQ19: =+IF($K19=0,0,($D19-K19)/$E19-1) -> 0.02 | AR19: =+IF($K19=0,0,($D19-L19)/$E19-1) -> 0.022 | AS19: =+IF($K19=0,0,($D19-M19)/$E19-1) -> 0.024 | AT19: =+IF($K19=0,0,($D19-N19)/$E19-1) -> 0.026 | AU19: =+IF($K19=0,0,($D19-O19)/$E19-1) -> 0.028 | AV19: =+IF($K19=0,0,($D19-P19)/$E19-1) -> 0.03 | AW19: =+IF($K19=0,0,($D19-Q19)/$E19-1) -> 0.032 | AX19: =+IF($K19=0,0,($D19-R19)/$E19-1) -> 0.034 | ... BF19: =+IF($K19=0,0,($D19-Z19)/$E19-1) -> 0.05
B20: 10046 | C20: Central Electric Coop | D20: 39.826138 | E20: 37.041639 | F20: 0.075172117 | G20: 0.02 | H20: 0.05 | I20: 0 | J20: 0 | K20: 2.0436657 | L20: 1.9695824 | M20: 1.8954991 | N20: 1.8214158 | O20: 1.7473326 | P20: 1.6732493 | Q20: 1.599166 | R20: 1.5250827 | S20: 1.4509994 | T20: 1.3769162 | U20: 1.3028329 | V20: 1.2287496 | W20: 1.1546663 | X20: 1.080583 | Y20: 1.0064998 | Z20: 0.93241649 | AA20: 0 | AB20: 0 | AC20: 0 | AD20: 0 | AE20: 0 | AF20: 0 | AG20: 0 | AH20: 0 | AI20: 0 | AJ20: 0 | AK20: 0 | AL20: 0 | AM20: 0 | AN20: 0 | AO20: 0 | AP20: 0 | AQ20: =+IF($K20=0,0,($D20-K20)/$E20-1) -> 0.02 | AR20: =+IF($K20=0,0,($D20-L20)/$E20-1) -> 0.022 | AS20: =+IF($K20=0,0,($D20-M20)/$E20-1) -> 0.024 | AT20: =+IF($K20=0,0,($D20-N20)/$E20-1) -> 0.026 | AU20: =+IF($K20=0,0,($D20-O20)/$E20-1) -> 0.028 | AV20: =+IF($K20=0,0,($D20-P20)/$E20-1) -> 0.03 | AW20: =+IF($K20=0,0,($D20-Q20)/$E20-1) -> 0.032 | AX20: =+IF($K20=0,0,($D20-R20)/$E20-1) -> 0.034 | ... BF20: =+IF($K20=0,0,($D20-Z20)/$E20-1) -> 0.05
B21: 10047 | C21: Central Lincoln PUD | D21: 33.186121 | E21: 32.403883 | F21: 0.024140252 | G21: 0.02 | H21: 0.05 | I21: 0 | J21: 0 | K21: 0.13416025 | L21: 0.12521623 | M21: 0.11627222 | N21: 0.1073282 | O21: 0.098384183 | P21: 0.089440167 | Q21: 0.08049615 | R21: 0.071552133 | S21: 0.062608117 | T21: 0.0536641 | U21: 0.044720083 | V21: 0.035776067 | W21: 0.02683205 | X21: 0.017888033 | Y21: 0.0089440167 | Z21: 0 | AA21: 0 | AB21: 0 | AC21: 0 | AD21: 0 | AE21: 0 | AF21: 0 | AG21: 0 | AH21: 0 | AI21: 0 | AJ21: 0 | AK21: 0 | AL21: 0 | AM21: 0 | AN21: 0 | AO21: 0 | AP21: 0 | AQ21: =+IF($K21=0,0,($D21-K21)/$E21-1) -> 0.02 | AR21: =+IF($K21=0,0,($D21-L21)/$E21-1) -> 0.020276017 | AS21: =+IF($K21=0,0,($D21-M21)/$E21-1) -> 0.020552034 | AT21: =+IF($K21=0,0,($D21-N21)/$E21-1) -> 0.02082805 | AU21: =+IF($K21=0,0,($D21-O21)/$E21-1) -> 0.021104067 | AV21: =+IF($K21=0,0,($D21-P21)/$E21-1) -> 0.021380084 | AW21: =+IF($K21=0,0,($D21-Q21)/$E21-1) -> 0.021656101 | AX21: =+IF($K21=0,0,($D21-R21)/$E21-1) -> 0.021932118 | ... BF21: =+IF($K21=0,0,($D21-Z21)/$E21-1) -> 0.024140252
B22: 10055 | C22: Albion, City of | D22: 36.776289 | E22: 34.826369 | F22: 0.055989768 | G22: 0.02 | H22: 0.05 | I22: 0 | J22: 0 | K22: 1.2533929 | L22: 1.1837402 | M22: 1.1140875 | N22: 1.0444347 | O22: 0.97478199 | P22: 0.90512925 | Q22: 0.83547651 | R22: 0.76582378 | S22: 0.69617104 | T22: 0.6265183 | U22: 0.55686556 | V22: 0.48721282 | W22: 0.41756009 | X22: 0.34790735 | Y22: 0.27825461 | Z22: 0.20860187 | AA22: 0 | AB22: 0 | AC22: 0 | AD22: 0 | AE22: 0 | AF22: 0 | AG22: 0 | AH22: 0 | AI22: 0 | AJ22: 0 | AK22: 0 | AL22: 0 | AM22: 0 | AN22: 0 | AO22: 0 | AP22: 0 | AQ22: =+IF($K22=0,0,($D22-K22)/$E22-1) -> 0.02 | AR22: =+IF($K22=0,0,($D22-L22)/$E22-1) -> 0.022 | AS22: =+IF($K22=0,0,($D22-M22)/$E22-1) -> 0.024 | AT22: =+IF($K22=0,0,($D22-N22)/$E22-1) -> 0.026 | AU22: =+IF($K22=0,0,($D22-O22)/$E22-1) -> 0.028 | AV22: =+IF($K22=0,0,($D22-P22)/$E22-1) -> 0.03 | AW22: =+IF($K22=0,0,($D22-Q22)/$E22-1) -> 0.032 | AX22: =+IF($K22=0,0,($D22-R22)/$E22-1) -> 0.034 | ... BF22: =+IF($K22=0,0,($D22-Z22)/$E22-1) -> 0.05
B23: 10057 | C23: Ashland, City of | D23: 35.932823 | E23: 33.469606 | F23: 0.073595627 | G23: 0.02 | H23: 0.05 | I23: 0 | J23: 0 | K23: 1.7938245 | L23: 1.7268853 | M23: 1.6599461 | N23: 1.5930069 | O23: 1.5260677 | P23: 1.4591285 | Q23: 1.3921893 | R23: 1.3252501 | S23: 1.2583108 | T23: 1.1913716 | U23: 1.1244324 | V23: 1.0574932 | W23: 0.990554 | X23: 0.92361478 | Y23: 0.85667557 | Z23: 0.78973636 | AA23: 0 | AB23: 0 | AC23: 0 | AD23: 0 | AE23: 0 | AF23: 0 | AG23: 0 | AH23: 0 | AI23: 0 | AJ23: 0 | AK23: 0 | AL23: 0 | AM23: 0 | AN23: 0 | AO23: 0 | AP23: 0 | AQ23: =+IF($K23=0,0,($D23-K23)/$E23-1) -> 0.02 | AR23: =+IF($K23=0,0,($D23-L23)/$E23-1) -> 0.022 | AS23: =+IF($K23=0,0,($D23-M23)/$E23-1) -> 0.024 | AT23: =+IF($K23=0,0,($D23-N23)/$E23-1) -> 0.026 | AU23: =+IF($K23=0,0,($D23-O23)/$E23-1) -> 0.028 | AV23: =+IF($K23=0,0,($D23-P23)/$E23-1) -> 0.03 | AW23: =+IF($K23=0,0,($D23-Q23)/$E23-1) -> 0.032 | AX23: =+IF($K23=0,0,($D23-R23)/$E23-1) -> 0.034 | ... BF23: =+IF($K23=0,0,($D23-Z23)/$E23-1) -> 0.05
B24: 10059 | C24: Bandon, City of | D24: 35.72029 | E24: 33.332739 | F24: 0.071627808 | G24: 0.02 | H24: 0.05 | I24: 0 | J24: 0 | K24: 1.7208962 | L24: 1.6542307 | M24: 1.5875653 | N24: 1.5208998 | O24: 1.4542343 | P24: 1.3875688 | Q24: 1.3209034 | R24: 1.2542379 | S24: 1.1875724 | T24: 1.1209069 | U24: 1.0542414 | V24: 0.98757597 | W24: 0.92091049 | X24: 0.85424502 | Y24: 0.78757954 | Z24: 0.72091406 | AA24: 0 | AB24: 0 | AC24: 0 | AD24: 0 | AE24: 0 | AF24: 0 | AG24: 0 | AH24: 0 | AI24: 0 | AJ24: 0 | AK24: 0 | AL24: 0 | AM24: 0 | AN24: 0 | AO24: 0 | AP24: 0 | AQ24: =+IF($K24=0,0,($D24-K24)/$E24-1) -> 0.02 | AR24: =+IF($K24=0,0,($D24-L24)/$E24-1) -> 0.022 | AS24: =+IF($K24=0,0,($D24-M24)/$E24-1) -> 0.024 | AT24: =+IF($K24=0,0,($D24-N24)/$E24-1) -> 0.026 | AU24: =+IF($K24=0,0,($D24-O24)/$E24-1) -> 0.028 | AV24: =+IF($K24=0,0,($D24-P24)/$E24-1) -> 0.03 | AW24: =+IF($K24=0,0,($D24-Q24)/$E24-1) -> 0.032 | AX24: =+IF($K24=0,0,($D24-R24)/$E24-1) -> 0.034 | ... BF24: =+IF($K24=0,0,($D24-Z24)/$E24-1) -> 0.05
... B147: 12026 | C147: Jefferson County PUD #1 | D147: 35.253261 | E147: 33.542387 | F147: 0.051006328 | G147: 0.02 | H147: 0.05 | I147: 0 | J147: 0 | K147: 1.0400263 | L147: 0.97294148 | M147: 0.90585671 | N147: 0.83877194 | O147: 0.77168716 | P147: 0.70460239 | Q147: 0.63751761 | R147: 0.57043284 | S147: 0.50334807 | T147: 0.43626329 | U147: 0.36917852 | V147: 0.30209374 | W147: 0.23500897 | X147: 0.1679242 | Y147: 0.10083942 | Z147: 0.03375465 | AA147: 0 | AB147: 0 | AC147: 0 | AD147: 0 | AE147: 0 | AF147: 0 | AG147: 0 | AH147: 0 | AI147: 0 | AJ147: 0 | AK147: 0 | AL147: 0 | AM147: 0 | AN147: 0 | AO147: 0 | AP147: 0 | AQ147: =+IF($K147=0,0,($D147-K147)/$E147-1) -> 0.02 | AR147: =+IF($K147=0,0,($D147-L147)/$E147-1) -> 0.022 | AS147: =+IF($K147=0,0,($D147-M147)/$E147-1) -> 0.024 | AT147: =+IF($K147=0,0,($D147-N147)/$E147-1) -> 0.026 | AU147: =+IF($K147=0,0,($D147-O147)/$E147-1) -> 0.028 | AV147: =+IF($K147=0,0,($D147-P147)/$E147-1) -> 0.03 | AW147: =+IF($K147=0,0,($D147-Q147)/$E147-1) -> 0.032 | AX147: =+IF($K147=0,0,($D147-R147)/$E147-1) -> 0.034 | ... BF147: =+IF($K147=0,0,($D147-Z147)/$E147-1) -> 0.05
B149: 10298 | C149: PNGC Aggregate | D149: 36.526346 | E149: 34.900375 | F149: 0.046503588 | G149: 0.018598197 | H149: 0.05 | I149: 0 | J149: 0 | K149: 0.97390861 | L149: 0.90898137 | M149: 0.84405413 | N149: 0.77912689 | O149: 0.71419965 | P149: 0.64927241 | Q149: 0.58434517 | R149: 0.51941793 | S149: 0.45449068 | T149: 0.38956344 | U149: 0.3246362 | V149: 0.25970896 | W149: 0.19478172 | X149: 0.12985448 | Y149: 0.064927241 | Z149: 0 | AA149: 0 | AB149: 0 | AC149: 0 | AD149: 0 | AE149: 0 | AF149: 0 | AG149: 0 | AH149: 0 | AI149: 0 | AJ149: 0 | AK149: 0 | AL149: 0 | AM149: 0 | AN149: 0 | AO149: 0 | AP149: 0
