Workbook
Name asd: #REF!
Name BPFAS_BU_Cubeset: #REF!
Name BU_Cubeset: #REF!
Name BUN: #REF!
Name Calibration_Multiplier: #REF!
Name CategoryColumn: '[4]Risk Summary'!$B:$B
Name column: #REF!
Name Credit: [5]Data!#REF!
Name d: _xll.RiskCellHasTokens(1024)
Name Debit: [6]Data!#REF!
Name DetermDuration: [7]GamedDuration1!$D$2
Name dsa: #REF!
Name entry: [5]Data!$A$3:$M$41,[5]Data!#REF!,[5]Data!#REF!,[5]Data!#REF!,[5]Data!#REF!,[5]Data!#REF!
Name EntryFields: [5]Data!$A$3:$M$41,[5]Data!#REF!,[5]Data!#REF!,[5]Data!#REF!,[5]Data!#REF!,[5]Data!#REF!
Name EXP: '[8]May-98'!#REF!
Name form: [5]Data!#REF!
Name FY: #REF!
Name FYLapsed: #REF!
Name game: #REF!
Name Header: [5]Data!#REF!
Name IRCorr: #REF!
Name IRCorr: [9]Interest!$B$98:$J$106
Name IRCorrMatrix: #REF!
Name IRCorrMatrix: [9]Interest!$B$56:$M$67
Name iterations: #REF!
Name LYN: #REF!
Name NeilDelayDays: #REF!
Name NeilPerDay: #REF!
Name NeilProb: #REF!
Name NewMatrix2: #REF!
Name NewMatrix2: #REF!
Name NrtcRiskOn: NR_to_Cash!#REF!
Name NrtcRiskOn: #REF!
Name NvsASD: "V2008-10-31"
Name NvsAutoDrillOk: "VN"
Name NvsElapsedTime: 0.000162037038535345
Name NvsEndTime: 36880.4227447917
Name NvsInstLang: "VENG"
Name NvsInstSpec: "%"
Name NvsInstSpec1: ","
Name NvsInstSpec2: ","
Name NvsInstSpec3: ","
Name NvsInstSpec4: ","
Name NvsInstSpec5: ","
Name NvsInstSpec6: ","
Name NvsInstSpec7: ","
Name NvsInstSpec8: ","
Name NvsInstSpec9: ","
Name NvsLayoutType: "M3"
Name NvsNplSpec: "%,X,RZF..,CZF.."
Name NvsPanelBusUnit: "V"
Name NvsPanelEffdt: "V2007-10-01"
Name NvsPanelSetid: "VFCRPS"
Name NvsReqBU: "VTRANS"
Name NvsReqBUOnly: "VN"
Name NvsTransLed: "VN"
Name NvsTreeASD: "V2007-10-01"
Name NvsValTbl.ACCOUNT: "GL_ACCOUNT_TBL"
Name NvsValTbl.BUSINESS_UNIT: "BUS_UNIT_TBL_GL"
Name NvsValTbl.CURRENCY_CD: "CURRENCY_CD_TBL"

Sheet RiskSerializationData
A1: 3 | B1: 0
A2: 0
A3: ='Risk Summary'!$H$35 -> #NAME? | B3: TRUE | C3: 0 | D3: 1 | E3: GF1_rK0qDwEAEADLAAwjACYATQBfAG0AbgB8AIoApgDHAMEAKgD//wACAAAAAQQAAAAAGSMsIyMwLjAwMCxfKTsoIywjIzAuMDAwLCkAAAABDERlbHRhIC8gR2FtZQEAAQEKAAIAAQROb25lAwEBAP8BAQEBAQABAQEABAAAAAEBAQEBAAEBAQAEAAAAAY4AAhQADERlbHRhIC8gR2FtZQAALwEAAgACAK4AuAABAQIBmpmZmZmZqT8AAAAAAAAA29pAAQUAAAEBAAEBAQA= | F3: 1 | G3: 0 | H3: 0 | J3: >75% | K3: <25% | L3: >90% | AG3: ='Risk Summary'!$H$35 -> #NAME? | AH3: 1 | AI3: 1 | AJ3: FALSE | AK3: TRUE | AL3: 0 | AM3: FALSE | AN3: =_ -> #NAME?
A4: ='Risk Summary'!$K$35 -> #NAME? | B4: TRUE | C4: 0 | D4: 1 | E4: GF1_rK0qDwEAEADSAAwjACYATQBfAHMAdACCAJAArADOAMgAKgD//wAAAAAAAQQAAAAAGSMsIyMwLjAwMCxfKTsoIywjIzAuMDAwLCkAAAABDERlbHRhIC8gR2FtZQEAAQEQAAIAAQpTdGF0aXN0aWNzAwEBAP8BAQEBAQABAQEABAAAAAEBAQEBAAEBAQAEAAAAAZQAAhQADERlbHRhIC8gR2FtZQAALwEAAgACALQAvgABAQIBmpmZmZmZqT8AAGZmZmZmZu4/AAAFAAEBAQABAQEA | F4: 1 | G4: 0 | H4: 0 | J4: >75% | K4: <25% | L4: >90% | AG4: ='Risk Summary'!$K$35 -> #NAME? | AH4: 2 | AI4: 1 | AJ4: FALSE | AK4: TRUE | AL4: 0 | AM4: FALSE | AN4: =_ -> #NAME?
A5: ='Risk Summary'!$H$30 -> #NAME? | B5: FALSE | C5: 1 | D5: 1 | E5: GF1_rK0qDwEAEABGAQwjACYAYACkALgAuQDHANUAIAFCATwBKgD//wABAAAAAQQAAAAALF8oJCogIywjIzBfKTtfKCQqICgjLCMjMCk7XygkKiAiLSI/P18pO18oQF8pAAAAARhJbnRlcmVzdCBFYXJuaW5ncyAvIEdhbWUBJkNvbXBhcmlzb24gd2l0aCBVbmlmb3JtKDAsLTQ1MDkuOTk5OTYpAQEQAAIAAQpTdGF0aXN0aWNzAwEBAP8BAQEBAQABAQEABAAAAAEBAQEBAAEBAQAEAAAAAtwAAgABACAAGEludGVyZXN0IEVhcm5pbmdzIC8gR2FtZQAALwEAAgACAB4AFlVuaWZvcm0oMCwtNDUwOS45OTk5NikBASUBAAIAKAEyAQEBAgGamZmZmZmpPwAAZmZmZmZm7j8AAAUAAQEBAAEBAQA= | F5: 2 | G5: 0 | H5: 0 | AG5: ='Risk Summary'!$H$30 -> #NAME? | AH5: 16 | AI5: 1 | AJ5: FALSE | AK5: FALSE | AL5: 1 | AM5: FALSE | AN5: =_ -> #NAME? | AO5: ='Risk Summary'!$H$30 -> #NAME? | AP5: 16 | AQ5: 1 | AR5: TRUE | AS5: FALSE | AT5: 1 | AU5: TRUE | AV5: =_RiskUniform(0,F30) -> #NAME?
A6: 0
A7: FALSE | B7: 15680 | C7: 7345 | D7: 13120 | E7: 0
A8: FALSE | B8: 15680 | C8: 7345 | D8: 13120 | E8: 0
A9: FALSE | B9: 15680 | C9: 7345 | D9: 13120 | E9: 0
A10: FALSE | B10: 15680 | C10: 7345 | D10: 13120 | E10: 0
A11: FALSE | B11: 15680 | C11: 7345 | D11: 13120 | E11: 0
A12: 0
A13: 0 | B13: FALSE | C13: FALSE | D13: 10 | E13: 0.95 | F13: 1

Sheet Revenue Requirement
E1: E | F1: F | G1: G | H1: H
B2: SUMMARY DATA
B3: INCOME STATEMENT | E3: 2022 | F3: 2023 | G3: 2024 | H3: 2025
B5: Revenues From Proposed Rates | E5: 1074674 | F5: 1103177.5 | G5: 1253300 | H5: 1275141.9
A8: 18 | B8: OPERATING EXPENSES | I8: 18
A9: =A8+1 -> 19 | C9: TRANSMISSION OPERATIONS | E9: 168710.53 | F9: 171594.53 | G9: 191615.25 | H9: 198324.32 | I9: =I8+1 -> 19
A10: =A9+1 -> 20 | C10: TRANSMISSION ENGINEERING | E10: 56569.63 | F10: 57094.456 | G10: 60231.282 | H10: 61194.173 | I10: =I9+1 -> 20
A11: =A10+1 -> 21 | C11: TRANSMISSION MAINTENANCE INCLUDING ENVIRONMENT | E11: 177560.31 | F11: 179860.31 | G11: 193212.04 | H11: 199229.85 | I11: =I10+1 -> 21
A12: =A11+1 -> 22 | C12: TRANSMISSION ACQ & ANCILLARY SERVICES | E12: 109596.64 | F12: 110278.05 | G12: 117998.35 | H12: 117998.35 | I12: =I11+1 -> 22
A13: =A12+1 -> 23 | C13: BPA INTERNAL SUPPORT | E13: 103195.5 | F13: 104681.44 | G13: 136033.86 | H13: 139964.85 | I13: =I12+1 -> 23
A14: =A13+1 -> 24 | C14: OTHER INCOME, EXPENSES & ADJUSTMENTS | E14: 0 | F14: 0 | G14: -9200 | H14: -7200 | I14: =I13+1 -> 24
A15: =A14+1 -> 25 | C15: DEPRECIATION & AMORTIZATION | E15: 345302.92 | F15: 349991.26 | G15: 357998.39 | H15: 343958.05 | I15: =I14+1 -> 25
A16: =A15+1 -> 26 | B16: TOTAL OPERATING EXPENSES | E16: =SUM(E9:E15) -> 960935.52 | F16: =SUM(F9:F15) -> 973500.04 | G16: =SUM(G9:G15) -> 1047889.2 | H16: =SUM(H9:H15) -> 1053469.6 | I16: =I15+1 -> 26
A17: =A16+1 -> 27 | I17: =I16+1 -> 27
A18: =A17+1 -> 28 | B18: INTEREST EXPENSE | I18: =I17+1 -> 28
A19: =A18+1 -> 29 | C19: INTEREST EXPENSE | I19: =I18+1 -> 29
A20: =A19+1 -> 30 | C20: FEDERAL APPROPRIATIONS | E20: 0 | F20: 0 | G20: 0 | H20: 0 | I20: =I19+1 -> 30
A21: =A20+1 -> 31 | C21: CAPITALIZATION ADJUSTMENT | E21: -18968 | F21: -18968 | G21: -18968 | H21: -18968 | I21: =I20+1 -> 31
A22: =A21+1 -> 32 | C22: ON LONG-TERM DEBT | E22: 108188.94 | F22: 115052.02 | G22: 123337.51 | H22: 139964.43 | I22: =I21+1 -> 32
A23: =A22+1 -> 33 | C23: AMORTIZATION OF CAPITALIZED BOND PREMIUMS | E23: 558.55198 | F23: 558.55198 | G23: 558.55198 | H23: 558.55198 | I23: =I22+1 -> 33
A24: =A23+1 -> 34 | C24: DEBT SERVICE REASSIGNMENT INTEREST | E24: 2959.694 | F24: 1927.342 | G24: 843.248 | H24: 0 | I24: =I23+1 -> 34
A25: =A24+1 -> 35 | C25: NON-FEDERAL INTEREST (INCL COI & LGIA) | E25: 67410.733 | F25: 65176.244 | G25: 61885.213 | H25: 62050.189 | I25: =I24+1 -> 35
A26: =A25+1 -> 36 | C26: PREMIUMS/DISCOUNTS | E26: 0 | F26: 0 | G26: 0 | H26: 0 | I26: =I25+1 -> 36
A27: =A26+1 -> 37 | C27: AFUDC | E27: -15937.167 | F27: -16016.208 | G27: -15100.44 | H27: -13934.146 | I27: =I26+1 -> 37
A28: =A27+1 -> 38 | C28: INTEREST INCOME | E28: -2002.439 | F28: =[10]Sheet1!$C$79 -> -1809.9139 | G28: -1914.9959 | H28: -2727.4108 | I28: =I27+1 -> 38
A29: =A28+1 -> 39 | B29: NET INTEREST EXPENSE | E29: =SUM(E20:E28) -> 142210.31 | F29: =SUM(F20:F28) -> 145920.04 | G29: =SUM(G21:G28) -> 150641.09 | H29: =SUM(H21:H28) -> 166943.61 | I29: =I28+1 -> 39
A30: =A29+1 -> 40 | I30: =I29+1 -> 40
A31: =A30+1 -> 41 | B31: TOTAL EXPENSES | E31: =E16+E29 -> 1103145.8 | F31: =F16+F29 -> 1119420.1 | G31: =G16+G29 -> 1198530.3 | H31: =H16+H29 -> 1220413.2 | I31: =I30+1 -> 41
A32: =A31+1 -> 42 | I32: =I31+1 -> 42
A33: =A32+1 -> 43 | B33: MINIMUM REQUIRED NET REVENUE 1/ | E33: 40022.921 | F33: 40012.201 | G33: 54751.347 | H33: 54723.469 | I33: =I32+1 -> 43
A34: =A33+1 -> 44 | B34: PLANNED NET REVENUES FOR RISK | E34: 0 | F34: 0 | G34: 0 | H34: 0 | I34: =I33+1 -> 44
A35: =A34+1 -> 45 | B35: TOTAL PLANNED NET REVENUE | E35: 40022.921 | F35: 40012.201 | G35: 54751.347 | H35: 54723.469 | I35: =I34+1 -> 45
A36: =A35+1 -> 46 | I36: =I35+1 -> 46
A37: =A36+1 -> 47 | B37: TOTAL REVENUE REQUIREMENT | E37: =E31+E35 -> 1143168.8 | F37: =F31+F35 -> 1159432.3 | G37: =G31+G35 -> 1253281.6 | H37: =H31+H35 -> 1275136.7 | I37: =I36+1 -> 47
A38: =A37+1 -> 48 | I38: =I37+1 -> 48
A39: =A38+1 -> 49 | I39: =I38+1 -> 49
A40: =A39+1 -> 50 | B40: CASH FLOW STATEMENT | E40: 2022 | F40: 2023 | G40: 2024 | H40: 2025 | I40: =I39+1 -> 50
A41: =A40+1 -> 51 | I41: =I40+1 -> 51
A42: =A41+1 -> 52 | B42: CASH FROM CURRENT OPERATIONS: | I42: =I41+1 -> 52
A43: =A42+1 -> 53 | C43: MINIMUM REQUIRED NET REVENUE | E43: 40022.921 | F43: 40012.201 | G43: 54751.347 | H43: 54723.469 | I43: =I42+1 -> 53
...

Sheet FY23 NR
B1: FY 2015 BUDGETS
B3: Category/Program | C3: 2023 SOY
B4: Total Revenue* | C4: 1220205.2
B5: Expense
A6: 1072 | B6: INFORMATION TECHNOLOGY
A7: 1055 | B7: POWER SYSTEM DISPATCHING
A8: 1200 | B8: CONTROL CENTER SUPPORT
A9: 1205 | B9: TECHNICAL OPERATIONS
A10: 6023 | B10: ENERGY IMBALANCE MARKET - EIM
A11: 1206 | B11: SUBSTATION OPERATIONS
B12: SYSTEM OPERATIONS | C12: 267.33
A13: 1082 | B13: RESERVATIONS
A14: 1084 | B14: PRE-SCHEDULING
A15: 1086 | B15: REAL-TIME SCHEDULING
A16: 1087 | B16: SCHEDULING TECHNICAL SUPPORT
A17: 1088 | B17: SCHEDULING AFTER-THE-FACT
B18: SCHEDULING | C18: 10195.601
A19: 4443 | B19: TRANSMISSION SALES
A20: 4682 | B20: MKTG CONTRACT MANAGEMENT
A21: 4683 | B21: MKTG TRANSMISSION BILLING
A22: 4684 | B22: MKTG BUSINESS STRAT & ASSESS
B23: MARKETING | C23: 17157.986
A24: 1089 | B24: EXECUTIVE AND ADMIN SERVICES
A25: 1093 | B25: LEGAL SUPPORT
A26: 1090 | B26: TBL INTERNAL GENERAL & ADMINISTRATIVE
A27: 1074 | B27: AIRCRAFT SERVICES
A28: 1076 | B28: LOGISTICS SERVICES
A29: 4146 | B29: SECURITY ENHANCEMENTS
B30: BUSINESS SUPPORT | C30: 39192.548
B31: TRANSMISSION OPERATIONS SUB-TOTAL | C31: 179018.51
A32: 1059 | B32: NON-ELECTRIC MAINTENANCE
A33: 1062 | B33: SUBSTATION MAINTENANCE
A34: 1060 | B34: TRANSMISSION LINE MAINTENANCE
A35: 5862 | B35: VEGETATION MANAGEMENT
A36: 1064 | B36: SYSTEM PROTECTION CONTROL MAINTENANCE
A37: 1066 | B37: POWER SYSTEM CONTROL MAINTENANCE
A38: 1058 | B38: JOINT COST MAINTENANCE
A39: 1057 | B39: SYSTEM MAINTENANCE MANAGEMENT
A40: 1061 | B40: ROW MAINTENANCE
A41: 1078 | B41: HEAVY MOBILE EQUIP MAINT
...

Sheet T Revenue
A2: Average Rev | B2: =AVERAGE(B5:B3204) -> 1220205.2 | C2: =AVERAGE(C5:C3204) -> 1253300 | D2: =AVERAGE(D5:D3204) -> 1275141.9
A3: Name | B3: =AVERAGE(B5:B3204)-'Risk Summary'!F8 -> 0 | C3: =AVERAGE(C5:C3204)-'Risk Summary'!I8 -> 0 | D3: =AVERAGE(D5:D3204)-'Risk Summary'!L8 -> 0
A4: Description | B4: Total Revenue With Reimb / 2023 | C4: Total Revenue With Reimb / 2024 | D4: Total Revenue With Reimb / 2025 | E4: Index
A5: 1 | B5: 1215947.3 | C5: 1270103.7 | D5: 1256836 | E5: =_xll.RiskCurrentIter() -> #NAME? | F5: =IF(E5=0,1,E5) -> #NAME?
A6: 2 | B6: 1227589.9 | C6: 1249584.9 | D6: 1283713.4
A7: 3 | B7: 1254420.9 | C7: 1168053.7 | D7: 1480591.3
A8: 4 | B8: 1201713 | C8: 1242748 | D8: 1265889.1
A9: 5 | B9: 1225027 | C9: 1257891.1 | D9: 1260042
A10: 6 | B10: 1223212.3 | C10: 1245546.1 | D10: 1284644.7
A11: 7 | B11: 1207394.4 | C11: 1239493.4 | D11: 1264702.7
A12: 8 | B12: 1215017.9 | C12: 1240186.5 | D12: 1269476.3
A13: 9 | B13: 1213304.1 | C13: 1264307.3 | D13: 1265001.8
A14: 10 | B14: 1223822.8 | C14: 1251308.6 | D14: 1277994.2
A15: 11 | B15: 1210679.9 | C15: 1249238.5 | D15: 1260170.6
A16: 12 | B16: 1213647.2 | C16: 1248909.3 | D16: 1269663.6
A17: 13 | B17: 1243259 | C17: 1236706.2 | D17: 1254880.5
... A3204: 3200 | B3204: 1204664.6 | C3204: 1258917.8 | D3204: 1274004.9
A3205: Total Reserves les Reinbursables | B3205: 1119984.2 | C3205: 1126817.4 | D3205: 1166079.8
A3206: average | B3206: 1130046 | C3206: 1141696.9 | D3206: 1188436.9
A3207: std dev | B3207: 1121542.9 | C3207: 1119418.5 | D3207: 1157261.9
B3208: 1122910.7 | C3208: 1176982.4 | D3208: 1201475.3
A3209: "reimbersable" delta | B3209: 1109575.7 | C3209: 1159424.1 | D3209: 1145961.7
A3210: Adjustment added to match forecast | B3210: 1132842.4 | C3210: 1154104.4 | D3210: 1189767.6
B3211: 1129886.5 | C3211: 1153028.7 | D3211: 1193150.1
B3212: 1113466.6 | C3212: 1146519 | D3212: 1157980.3
B3213: 1133691.3 | C3213: 1156996.6 | D3213: 1155556.8
B3214: 1121877.6 | C3214: 1132280.4 | D3214: 1152609
B3215: 1187475.4 | C3215: 1204334 | D3215: 1290201.9
B3216: 1130862.3 | C3216: 1153014.2 | D3216: 1168965.7
B3217: 1108372.1 | C3217: 1140141.6 | D3217: 1148910.4
B3218: 1121358.2 | C3218: 1139280.4 | D3218: 1164746.7
B3219: 1088193.4 | C3219: 1138693.2 | D3219: 1195517.7
B3220: 1124706.2 | C3220: 1138413.8 | D3220: 1186207.2
B3221: 1120747 | C3221: 1162834.4 | D3221: 1150470.7
B3222: 1127301 | C3222: 1141657.1 | D3222: 1190919.7
... B3504: 1155091.2 | C3504: 1118082.8 | D3504: 1155902.4

Sheet Risk Summary
C1: Transmission Pro Forma Income Statement ($millions)
F3: Forecast ID | G3: Forecast Date | H3: Forecast Contact | I3: Forecast ID | J3: Forecast Date | K3: Forecast Contact | L3: Forecast ID | M3: Forecast Date | N3: Forecast Contact
B4: B | C4: C | D4: D | F4: F | G4: G | H4: H | I4: I | J4: J | K4: K | L4: L | M4: M | N4: N
A5: 5 | D5: ($ millions) | F5: FY23 | G5: FY23 E.V.* | H5: FY23 @Risk* | I5: FY24 | J5: FY24 E.V.* | K5: FY24 @Risk* | L5: FY25 | M5: FY25 E.V.* | N5: FY25 @Risk* | O5: FY24&25 | P5: FY23 | Q5: FY24 | R5: FY25
A6: =A5+1 -> 6 | F6: Forecast | G6: Modeled | H6: Game | I6: Forecast | J6: Modeled | K6: Game | L6: Forecast | M6: Modeled | N6: Game | P6: Delta | Q6: Delta | R6: Delta
A7: =A6+1 -> 7 | C7: Revenue
A8: =A7+1 -> 8 | C8: Total Operating Revenues (Incl. Reimbursables) | F8: ='T Revenue'!B2 -> 1220205.2 | G8: =_xll.RiskMean(H8) -> #NAME? | H8: =_xll.RiskOutput("FY21 gamed Revenue")+OFFSET('T Revenue'!$B$4,'T Revenue'!$F$5,0) -> #NAME? | I8: ='T Revenue'!C2 -> 1253300 | J8: =_xll.RiskMean(K8) -> #NAME? | K8: =OFFSET('T Revenue'!$C$4,'T Revenue'!$F$5,0) -> #NAME? | L8: ='T Revenue'!D2 -> 1275141.9 | M8: =_xll.RiskMean(N8) -> #NAME? | N8: =OFFSET('T Revenue'!$D$4,'T Revenue'!$F$5,0) -> #NAME? | P8: =G8-F8 -> #NAME? | Q8: =J8-I8 -> #NAME? | R8: =M8-L8 -> #NAME?
A9: =A8+1 -> 9
A10: =#REF!+1 -> #REF! | C10: Operating Expenses
A11: =A10+1 -> #REF! | D11: Transmission Operations | F11: ='FY23 NR'!C31 -> 179018.51 | G11: =_xll.RiskMean(H11) -> #NAME? | H11: =_xll.RiskPert(F11*'Historical Data'!$AK8,F11,F11*'Historical Data'!$AM8) -> #NAME? | I11: ='Revenue Requirement'!G9 -> 191615.25 | J11: =_xll.RiskMean(K11) -> #NAME? | K11: =_xll.RiskPert(I11*'Historical Data'!$AK8,I11,I11*'Historical Data'!$AM8) -> #NAME? | L11: ='Revenue Requirement'!H9 -> 198324.32 | M11: =_xll.RiskMean(N11) -> #NAME? | N11: =_xll.RiskPert(L11*'Historical Data'!$AK8,L11,L11*'Historical Data'!$AM8) -> #NAME? | P11: =G11-F11 -> #NAME? | Q11: =J11-I11 -> #NAME? | R11: =M11-L11 -> #NAME?
A12: =A11+1 -> #REF! | D12: Transmission Maintenance | F12: ='FY23 NR'!C47 -> 179712.88 | G12: =_xll.RiskMean(H12) -> #NAME? | H12: =_xll.RiskPert(F12*'Historical Data'!$AK9,F12,F12*'Historical Data'!$AM9) -> #NAME? | I12: ='Revenue Requirement'!G11 -> 193212.04 | J12: =_xll.RiskMean(K12) -> #NAME? | K12: =_xll.RiskPert(I12*'Historical Data'!$AK9,I12,I12*'Historical Data'!$AM9) -> #NAME? | L12: ='Revenue Requirement'!H11 -> 199229.85 | M12: =_xll.RiskMean(N12) -> #NAME? | N12: =_xll.RiskPert(L12*'Historical Data'!$AK9,L12,L12*'Historical Data'!$AM9) -> #NAME? | P12: =G12-F12 -> #NAME? | Q12: =J12-I12 -> #NAME? | R12: =M12-L12 -> #NAME?
A13: =A12+1 -> #REF! | D13: Transmission Engineering | F13: ='FY23 NR'!C54 -> 58909.916 | G13: =_xll.RiskMean(H13) -> #NAME? | H13: =_xll.RiskPert(F13*'Historical Data'!$AK10,F13,F13*'Historical Data'!$AM10) -> #NAME? | I13: ='Revenue Requirement'!G10 -> 60231.282 | J13: =_xll.RiskMean(K13) -> #NAME? | K13: =_xll.RiskPert(I13*'Historical Data'!$AK10,I13,I13*'Historical Data'!$AM10) -> #NAME? | L13: ='Revenue Requirement'!H10 -> 61194.173 | M13: =_xll.RiskMean(N13) -> #NAME? | N13: =_xll.RiskPert(L13*'Historical Data'!$AK10,L13,L13*'Historical Data'!$AM10) -> #NAME? | P13: =G13-F13 -> #NAME? | Q13: =J13-I13 -> #NAME? | R13: =M13-L13 -> #NAME?
A14: =A13+1 -> #REF! | D14: Trans Services Transmission Acquisition and Ancillary Services | F14: =('FY23 NR'!C64+'FY23 NR'!C59) -> 104718.78 | G14: =_xll.RiskMean(H14) -> #NAME? | H14: =F14 -> 104718.78 | I14: ='Revenue Requirement'!G12 -> 117998.35 | J14: =_xll.RiskMean(K14) -> #NAME? | K14: =I14 -> 117998.35 | L14: ='Revenue Requirement'!H12 -> 117998.35 | M14: =_xll.RiskMean(N14) -> #NAME? | N14: =L14 -> 117998.35 | P14: =G14-F14 -> #NAME? | Q14: =J14-I14 -> #NAME? | R14: =M14-L14 -> #NAME?
A15: =A14+1 -> #REF! | D15: Transmission Reimbursables | F15: ='FY23 NR'!C67 -> 4356.6987 | G15: =_xll.RiskMean(H15) -> #NAME? | H15: =F15 -> 4356.6987 | J15: =_xll.RiskMean(K15) -> #NAME? | K15: =I15 -> 0 | M15: =_xll.RiskMean(N15) -> #NAME? | N15: =L15 -> 0 | P15: =G15-F15 -> #NAME? | Q15: =J15-I15 -> #NAME? | R15: =M15-L15 -> #NAME?
A16: =A15+1 -> #REF! | D16: Agency Services G&A | F16: ='FY23 NR'!C70 -> 104681.44 | G16: =_xll.RiskMean(H16) -> #NAME? | H16: =_xll.RiskPert(F16*'Historical Data'!$AK13,F16,F16*'Historical Data'!$AM13) -> #NAME? | I16: ='Revenue Requirement'!G13 -> 136033.86 | J16: =_xll.RiskMean(K16) -> #NAME? | K16: =_xll.RiskPert(I16*'Historical Data'!$AK13,I16,I16*'Historical Data'!$AM13) -> #NAME? | L16: ='Revenue Requirement'!H13 -> 139964.85 | M16: =_xll.RiskMean(N16) -> #NAME? | N16: =_xll.RiskPert(L16*'Historical Data'!$AK13,L16,L16*'Historical Data'!$AM13) -> #NAME? | P16: =G16-F16 -> #NAME? | Q16: =J16-I16 -> #NAME? | R16: =M16-L16 -> #NAME?
A17: =A16+1 -> #REF! | D17: Other Income, Expenses & Adjustments | F17: 0 | G17: =_xll.RiskMean(H17) -> #NAME? | H17: =F17 -> 0 | I17: ='Revenue Requirement'!G14 -> -9200 | J17: =_xll.RiskMean(K17) -> #NAME? | K17: =I17 -> -9200 | L17: ='Revenue Requirement'!H14 -> -7200 | M17: =_xll.RiskMean(N17) -> #NAME? | N17: =L17 -> -7200 | P17: =G17-F17 -> #NAME? | Q17: =J17-I17 -> #NAME? | R17: =M17-L17 -> #NAME?
A18: =A17+1 -> #REF! | D18: Other | F18: 25052.454 | G18: =_xll.RiskMean(H18) -> #NAME? | H18: =F18 -> 25052.454 | I18: 0 | J18: =_xll.RiskMean(K18) -> #NAME? | K18: =I18 -> 0 | L18: 0 | M18: =_xll.RiskMean(N18) -> #NAME? | N18: =L18 -> 0 | P18: =G18-F18 -> #NAME? | Q18: =J18-I18 -> #NAME? | R18: =M18-L18 -> #NAME?
A19: =A18+1 -> #REF! | C19: Total Transmission Operating Expense | F19: =SUM(F11:F18) -> 656450.68 | G19: =_xll.RiskMean(H19) -> #NAME? | H19: =_xll.RiskOutput()+SUM(H11:H18) -> #NAME? | I19: =SUM(I11:I18) -> 689890.79 | J19: =_xll.RiskMean(K19) -> #NAME? | K19: =_xll.RiskOutput()+SUM(K11:K18) -> #NAME? | L19: =SUM(L11:L18) -> 709511.55 | M19: =_xll.RiskMean(N19) -> #NAME? | N19: =_xll.RiskOutput()+SUM(N11:N18) -> #NAME? | P19: =G19-F19 -> #NAME? | Q19: =J19-I19 -> #NAME? | R19: =M19-L19 -> #NAME?
A20: =A19+1 -> #REF!
A21: =A20+1 -> #REF! | C21: Net Operating Margin | F21: =-F19+F8 -> 563754.51 | G21: =_xll.RiskMean(H21) -> #NAME? | H21: =-H19+H8 -> #NAME? | I21: =-I19+I8 -> 563409.25 | J21: =_xll.RiskMean(K21) -> #NAME? | K21: =-K19+K8 -> #NAME? | L21: =-L19+L8 -> 565630.36 | M21: =_xll.RiskMean(N21) -> #NAME? | N21: =-N19+N8 -> #NAME? | P21: =G21-F21 -> #NAME? | Q21: =J21-I21 -> #NAME? | R21: =M21-L21 -> #NAME?
A22: =A21+1 -> #REF!
A23: =A22+1 -> #REF! | D23: Federal Projects Depreciation | F23: ='FY23 NR'!C75 -> 341600 | G23: =_xll.RiskMean(H23) -> #NAME? | H23: =F23 -> 341600 | I23: ='Revenue Requirement'!G15 -> 357998.39 | J23: =_xll.RiskMean(K23) -> #NAME? | K23: =I23 -> 357998.39 | L23: ='Revenue Requirement'!H15 -> 343958.05 | M23: =_xll.RiskMean(N23) -> #NAME? | N23: =L23 -> 343958.05 | P23: =G23-F23 -> #NAME? | Q23: =J23-I23 -> #NAME? | R23: =M23-L23 -> #NAME?
A24: =A23+1 -> #REF!
A25: =A24+1 -> #REF! | C25: Total Operating Expense & Depreciation | F25: =F19+F23 -> 998050.68 | G25: =_xll.RiskMean(H25) -> #NAME? | H25: =H19+H23 -> #NAME? | I25: =I19+I23 -> 1047889.2 | J25: =_xll.RiskMean(K25) -> #NAME? | K25: =K19+K23 -> #NAME? | L25: =L19+L23 -> 1053469.6 | M25: =_xll.RiskMean(N25) -> #NAME? | N25: =N19+N23 -> #NAME? | P25: =G25-F25 -> #NAME? | Q25: =J25-I25 -> #NAME? | R25: =M25-L25 -> #NAME?
A26: =A25+1 -> #REF!
A27: =A26+1 -> #REF! | C27: Net Operating Revenue | F27: =-F25+F8 -> 222154.51 | G27: =_xll.RiskMean(H27) -> #NAME? | H27: =-H25+H8 -> #NAME? | I27: =-I25+I8 -> 205410.86 | J27: =_xll.RiskMean(K27) -> #NAME? | K27: =-K25+K8 -> #NAME? | L27: =-L25+L8 -> 221672.32 | M27: =_xll.RiskMean(N27) -> #NAME? | N27: =-N25+N8 -> #NAME? | P27: =G27-F27 -> #NAME? | Q27: =J27-I27 -> #NAME? | R27: =M27-L27 -> #NAME?
A28: =#REF!+1 -> #REF! | C28: Other Interest (AFUDC) | F28: ='FY23 NR'!C81-'FY23 NR'!C78-'FY23 NR'!C79 -> -14710 | G28: =_xll.RiskMean(H28) -> #NAME? | H28: =F28 -> -14710 | I28: ='Revenue Requirement'!G29-I29-I30 -> -15100.44 | J28: =_xll.RiskMean(K28) -> #NAME? | K28: =I28 -> -15100.44 | L28: ='Revenue Requirement'!H29-L29-L30 -> -13934.146 | M28: =_xll.RiskMean(N28) -> #NAME? | N28: =L28 -> -13934.146 | P28: =G28-F28 -> #NAME? | Q28: =J28-I28 -> #NAME? | R28: =M28-L28 -> #NAME?
A29: =#REF!+1 -> #REF! | C29: Interest Expense | F29: ='FY23 NR'!C78 -> 175306.49 | G29: =_xll.RiskMean(H29) -> #NAME? | H29: =_xll.RiskNormal(F29,1500) -> #NAME? | I29: =SUM('Revenue Requirement'!G20:G26) -> 167656.52 | J29: =_xll.RiskMean(K29) -> #NAME? | K29: =_xll.RiskNormal(I29,1700) -> #NAME? | L29: =SUM('Revenue Requirement'!H20:H26) -> 183605.17 | M29: =_xll.RiskMean(N29) -> #NAME? | N29: =_xll.RiskNormal(L29,5000) -> #NAME? | P29: =G29-F29 -> #NAME? | Q29: =J29-I29 -> #NAME? | R29: =M29-L29 -> #NAME?
A30: =#REF!+1 -> #REF! | C30: Interest Earnings | F30: ='FY23 NR'!C79 -> -4510 | G30: =_xll.RiskMean(H30) -> #NAME? | H30: =_xll.RiskUniform(F30,0) -> #NAME? | I30: ='Revenue Requirement'!G28 -> -1914.9959 | J30: =_xll.RiskMean(K30) -> #NAME? | K30: =_xll.RiskUniform(I30,0) -> #NAME? | L30: ='Revenue Requirement'!H28 -> -2727.4108 | M30: =_xll.RiskMean(N30) -> #NAME? | N30: =_xll.RiskUniform(L30,0) -> #NAME? | P30: =G30-F30 -> #NAME? | Q30: =J30-I30 -> #NAME? | R30: =M30-L30 -> #NAME?
A31: =#REF!+1 -> #REF! | D31: Total Operating & Net Interest Expenses | F31: =F25+F28+F29+F30 -> 1154137.2 | G31: =G25+G28+G29+G30 -> #NAME? | H31: =H25+H28+H29+H30 -> #NAME? | I31: =I25+I28+I29+I30 -> 1198530.3 | J31: =J25+J28+J29+J30 -> #NAME? | K31: =K25+K28+K29+K30 -> #NAME? | L31: =L25+L28+L29+L30 -> 1220413.2 | M31: =M25+M28+M29+M30 -> #NAME? | N31: =N25+N28+N29+N30 -> #NAME? | P31: =G31-F31 -> #NAME? | Q31: =J31-I31 -> #NAME? | R31: =M31-L31 -> #NAME?
A32: =A31+1 -> #REF!
A33: =#REF!+1 -> #REF! | P33: =F34 -> 66068.022 | Q33: =I34 -> 54769.769 | R33: =L34 -> 54728.705
A34: =A33+1 -> #REF! | C34: Net Revenues | F34: =F8-F31 -> 66068.022 | G34: =_xll.RiskMean(H34) -> #NAME? | H34: =(H8-H31) -> #NAME? | I34: =I8-I31 -> 54769.769 | J34: =_xll.RiskMean(K34) -> #NAME? | K34: =_xll.RiskOutput(C34&" / "&K5)+(K8-K31) -> #NAME? | L34: =L8-L31 -> 54728.705 | M34: =_xll.RiskMean(N34) -> #NAME? | N34: =_xll.RiskOutput(C34&" / "&N5)+(N8-N31) -> #NAME? | O34: =_xll.RiskOutput(C34&" / "&O5)+K34+N34 -> #NAME? | P34: =P8-P31 -> #NAME? | Q34: =Q8-Q31 -> #NAME? | R34: =R8-R31 -> #NAME?
D35: Delta | H35: =_xll.RiskOutput(,"Net Revenue Delta",1)+H34-F34 -> #NAME? | K35: =_xll.RiskOutput(,"Net Revenue Delta",2)+K34-I34 -> #NAME? | N35: =_xll.RiskOutput(,"Net Revenue Delta",3)+N34-L34 -> #NAME? | P35: =P33+P34 -> #NAME? | Q35: =Q33+Q34 -> #NAME? | R35: =R33+R34 -> #NAME?
F36: 1721
D37: RM-Type Distribution | H37: =H8-F8+F34 -> #NAME? | K37: =K8-I8+I34 -> #NAME? | N37: =N8-L8+L34 -> #NAME?
D38: NORM Adjustment | H38: =H34-H37 -> #NAME? | K38: =K34-K37 -> #NAME? | N38: =N34-N37 -> #NAME?
E39: Checks | F39: =F31-'FY23 NR'!C82 -> 0 | I39: =I31-'Revenue Requirement'!G31 -> 0 | L39: =L31-'Revenue Requirement'!H31 -> 0

Sheet NR_to_Cash
A2: TOOLKIT NET REVENUE TO CASH ADJUSTMENTS
A3: (in $Thousands)
C4: NR to Cash
C7: FY 2023 | D7: FY 2024 | E7: FY 2025
A9: 1 | B9: Input NRTC Adjustment | C9: -34329.225 | D9: -54751.347 | E9: -54723.469
A11: 5 | B11: Gamed Adjustments | C11: 0 | D11: 0 | E11: 0
A13: 7 | B13: Net Revenue to Cash Adjustment | C13: =IFERROR(_xll.RiskOutput("Adj CF 19")+SUM(C9:C11),C9) -> -34329.225 | D13: =IFERROR(_xll.RiskOutput("Adj CF 19")+SUM(D9:D11),D9) -> -54751.347 | E13: =IFERROR(_xll.RiskOutput("Adj CF 19")+SUM(E9:E11),E9) -> -54723.469
B15: Interest Credit
B16: Repayment of Treasury Principal
B17: Repayment of Treasury Interest
B18: Total Treasury Payment
B20: (in $Thousands) | C20: =C7 -> FY 2023 | D20: =D7 -> FY 2024 | E20: =E7 -> FY 2025
B21: TS NR | C21: 66068.022 | D21: ='Revenue Requirement'!G5-'Revenue Requirement'!G31 -> 54769.769 | E21: ='Revenue Requirement'!H5-'Revenue Requirement'!H31 -> 54728.705
B24: BOY Reserves for risk | C24: 267134.55 | D24: =C25 -> 298873.35 | E24: =D25 -> 298891.77
B25: EOY Reserves for risk | C25: =C13+C21+C24 -> 298873.35 | D25: =D13+D21+D24 -> 298891.77 | E25: =E13+E21+E24 -> 298897.01

Sheet Historical Data
B2: Income Statement Tables - Actuals, Revenue Requirement, Delta, Summary | Q2: PRELIM - not closed
AN3: Historical Data
B4: Actuals* | D4: 2009 | E4: 2010 | F4: 2011 | G4: 2012 | H4: 2013 | I4: 2014 | J4: 2015 | K4: 2016 | L4: 2017 | M4: 2018 | N4: 2019 | O4: 2020 | P4: 2021 | Q4: 2022 | R4: Total | AO4: Normalized Min and Max
B5: Revenue | AR5: min % | AS5: max %
C6: Total Operating Revenue | D6: 8.3183971e+08 | E6: 8.8408011e+08 | F6: 9.0800784e+08 | G6: 9.6514099e+08 | H6: 9.7987319e+08 | I6: 1052296000 | J6: 1036969000 | K6: 1061700000 | L6: 1091725000 | M6: 1.090198e+09 | N6: 1.0380796e+09 | O6: 1.0942152e+09 | P6: 1.1078887e+09 | Q6: 1.2499576e+09 | R6: =SUM(D6:Q6) -> 1.4391971e+10 | AR6: below | AS6: below
B7: Expense | V7: 2010 | W7: 2011 | X7: 2012 | Y7: 2013 | Z7: 2014 | AA7: 2015 | AB7: 2016 | AC7: 2017 | AD7: 2018 | AE7: 2019 | AF7: 2020 | AG7: 2021 | AH7: 2022 | AI7: Total | AK7: min | AL7: avg | AM7: max | AO7: Min | AP7: Max | AQ7: ROW | AR7: mean | AS7: mean | AT7: stdev | AU7: avg*stdev
C8: Transmission Operations Sub-Total | D8: 98521173 | E8: 1.0362497e+08 | F8: 1.1401037e+08 | G8: 1.2179166e+08 | H8: 1.14942e+08 | I8: 131396000 | J8: 133793000 | K8: 145216000 | L8: 144518000 | M8: 1.5471392e+08 | N8: 1.5855749e+08 | O8: 1.7533699e+08 | P8: 1.7116863e+08 | Q8: 1.9948986e+08 | R8: =SUM(D8:Q8) -> 1.9670801e+09 | V8: 0.84314093 | W8: 0.92901488 | X8: 0.93649875 | Y8: 0.86040872 | Z8: 0.9336828 | AA8: 0.92689159 | AB8: 0.9352275 | AC8: 0.89874455 | AD8: =M8/M25 -> 0.92587623 | AE8: =N8/N25 -> 0.9437946 | AF8: =O8/O25 -> 1.0405756 | AG8: =P8/P25 -> 1.0446388 | AH8: =Q8/Q25 -> 1.1824387 | AI8: =R8/R25 -> 0.96968591 | AK8: =MIN(V8:AH8,1) -> 0.84314093 | AL8: =AVERAGE(V8:AH8) -> 0.95391797 | AM8: =MAX(V8:AH8,1) -> 1.1824387 | AN8: =C8 -> Transmission Operations Sub-Total | AO8: =1-(AL8-AK8)/AL8 -> 0.88387152 | AP8: =1+(AM8-AL8)/AL8 -> 1.2395602 | AQ8: 8 | AR8: =AO8-1 -> -0.11612848 | AS8: =AP8-1 -> 0.23956019 | AT8: =STDEV(V8:AB8) -> 0.039732523 | AU8: =AVERAGE(D8:K8)*AT8 -> 4784268.4 | AW8: =1-AK8 -> 0.15685907 | AX8: =AM8-1 -> 0.18243874
C9: Transmission Maintenance Sub-Total | D9: 1.2828431e+08 | E9: 1.2543072e+08 | F9: 1.2893743e+08 | G9: 1.3537688e+08 | H9: 1.4693256e+08 | I9: 153989000 | J9: 166157000 | K9: 157455000 | L9: 166929000 | M9: 1.633606e+08 | N9: 1.7223668e+08 | O9: 1.5957242e+08 | P9: 1.6442438e+08 | Q9: 1.7150141e+08 | R9: =SUM(D9:Q9) -> 2.1405874e+09 | V9: 0.99859736 | W9: 0.98747064 | X9: 0.9227346 | Y9: 0.97415359 | Z9: 0.99841616 | AA9: 1.0523379 | AB9: 0.96864594 | AC9: 1.0161727 | AD9: =M9/M26 -> 0.94555443 | AE9: =N9/N26 -> 0.97540311 | AF9: =O9/O26 -> 0.92362787 | AG9: =P9/P26 -> 0.94887786 | AH9: =Q9/Q26 -> 0.96587692 | AI9: =R9/R26 -> 0.98183018 | AK9: =MIN(V9:AH9,1) -> 0.9227346 | AL9: =AVERAGE(V9:AH9) -> 0.9752207 | AM9: =MAX(V9:AH9,1) -> 1.0523379 | AN9: =C9 -> Transmission Maintenance Sub-Total | AO9: =1-(AL9-AK9)/AL9 -> 0.94618029 | AP9: =1+(AM9-AL9)/AL9 -> 1.0790766 | AQ9: 9 | AR9: =AO9-1 -> -0.053819708 | AS9: =AP9-1 -> 0.079076617 | AT9: =STDEV(V9:AB9) -> 0.039071987 | AU9: =AVERAGE(D9:K9)*AT9 -> 5580275.3 | AW9: =1-AK9 -> 0.077265395 | AX9: =AM9-1 -> 0.052337852
C10: Transmission Engineering Sub-Total | D10: 27604963 | E10: 24221206 | F10: 30894663 | G10: 46111313 | H10: 45876044 | I10: 52705000 | J10: 57251000 | K10: 51168000 | L10: 47901494 | M10: 47902385 | N10: 49720840 | O10: 49436779 | P10: 53598202 | Q10: 58262803 | R10: =SUM(D10:Q10) -> 6.4265469e+08 | V10: 0.95965299 | W10: 1.2140397 | X10: 1.4500209 | Y10: 1.3985211 | Z10: 1.2657864 | AA10: 1.3706408 | AB10: 0.94022824 | AC10: 0.96949369 | AD10: =M10/M27 -> 0.92167827 | AE10: =N10/N27 -> 0.88234175 | AF10: =O10/O27 -> 1.1203408 | AG10: =P10/P27 -> 1.0831528 | AH10: =Q10/Q27 -> 1.0299308 | AI10: =R10/R27 -> 1.1065937 | AK10: =MIN(V10:AH10,1) -> 0.88234175 | AL10: =AVERAGE(V10:AH10) -> 1.1235252 | AM10: =MAX(V10:AH10,1) -> 1.4500209 | AN10: =C10 -> Transmission Engineering Sub-Total | AO10: =1-(AL10-AK10)/AL10 -> 0.78533326 | AP10: =1+(AM10-AL10)/AL10 -> 1.2905993 | AQ10: 10 | AR10: =AO10-1 -> -0.21466674 | AS10: =AP10-1 -> 0.2905993 | AT10: =STDEV(V10:AB10) -> 0.20622049 | AU10: =AVERAGE(D10:K10)*AT10 -> 8656934.8 | AW10: =1-AK10 -> 0.11765825 | AX10: =AM10-1 -> 0.4500209
C11: Trans. Srvcs. Acq. and Ancillary Svcs. | D11: 85240983 | E11: 1.0978198e+08 | F11: 1.1678497e+08 | G11: 1.528091e+08 | H11: 1.5680725e+08 | I11: 155368000 | J11: 142514000 | K11: 129210000 | L11: 140914000 | M11: 1.2809211e+08 | N11: 1.0813017e+08 | O11: 1.2026223e+08 | P11: 1.2492211e+08 | Q11: 1.0126478e+08 | R11: =SUM(D11:Q11) -> 1.7721017e+09 | V11: 1.0828886 | W11: 1.0031177 | X11: 1.1043274 | Y11: 1.1036624 | Z11: 1.1834169 | AA11: 1.0615999 | AB11: 0.91348426 | AC11: 1.0009333 | AD11: =M11/M28 -> 0.97228782 | AE11: =N11/N28 -> 0.90515795 | AF11: =O11/O28 -> 0.93685058 | AG11: =P11/P28 -> 0.94486905 | AH11: =Q11/Q28 -> 0.92397405 | AI11: =R11/R28 -> 1.0358229 | AK11: =MIN(V11:AH11,1) -> 0.90515795 | AL11: =AVERAGE(V11:AH11) -> 1.0105054 | AM11: =MAX(V11:AH11,1) -> 1.1834169 | AN11: =C11 -> Trans. Srvcs. Acq. and Ancillary Svcs. | AO11: =1-(AL11-AK11)/AL11 -> 0.89574777 | AP11: =1+(AM11-AL11)/AL11 -> 1.1711139 | AQ11: 11 | AR11: =AO11-1 -> -0.10425223 | AS11: =AP11-1 -> 0.17111389 | AT11: =STDEV(V11:AB11) -> 0.085810936 | AU11: =AVERAGE(D11:K11)*AT11 -> 11246770 | AW11: =1-AK11 -> 0.094842051 | AX11: =AM11-1 -> 0.18341689
C12: Transmission Reimbursables Sub-Total | D12: 8732539.8 | E12: 9100389.2 | F12: 13806887 | G12: 26722038 | H12: 27225474 | I12: 12866000 | J12: 10641000 | K12: 15376000 | L12: 15646000 | M12: 11748859 | N12: 11926807 | O12: 8951682.4 | P12: 8331299.9 | Q12: 11183526 | R12: =SUM(D12:Q12) -> 1.922585e+08 | AN12: =C12 -> Transmission Reimbursables Sub-Total | AQ12: 12 | AW12: =1-AK12 -> 1 | AX12: =AM12-1 -> -1
C13: BPA Internal Support Subtotal | D13: 63105634 | E13: 65808925 | F13: 75645409 | G13: 74308431 | H13: 77688692 | I13: 86784000 | J13: =18819000+64371000 -> 83190000 | K13: =16440000+71144000 -> 87584000 | L13: 80644000 | M13: 91752043 | N13: 1.0162225e+08 | O13: 99671479 | P13: 1.0916479e+08 | Q13: 1.2177802e+08 | R13: =SUM(D13:Q13) -> 1.2187477e+09 | V13: 1.02213 | W13: 1.1693804 | X13: 0.96379287 | Y13: 0.98613487 | Z13: 1.1065448 | AA13: 1.0282844 | AB13: 1.0676069 | AC13: 0.95411249 | AD13: =M13/M30 -> 1.0145746 | AE13: =N13/N30 -> 1.0817782 | AF13: =O13/O30 -> 1.0772003 | AG13: =P13/P30 -> 1.1627588 | AH13: =Q13/Q30 -> 1.180071 | AI13: =R13/R30 -> 1.0347353 | AK13: =MIN(V13:AH13,1) -> 0.95411249 | AL13: =AVERAGE(V13:AH13) -> 1.0626438 | AM13: =MAX(V13:AH13,1) -> 1.180071 | AN13: =C13 -> BPA Internal Support Subtotal | AO13: =1-(AL13-AK13)/AL13 -> 0.89786669 | AP13: =1+(AM13-AL13)/AL13 -> 1.1105048 | AQ13: 13 | AR13: =AO13-1 -> -0.10213331 | AS13: =AP13-1 -> 0.11050478 | AT13: =STDEV(V13:AB13) -> 0.071311947 | AU13: =AVERAGE(D13:K13)*AT13 -> 5474217.8 | AW13: =1-AK13 -> 0.045887507 | AX13: =AM13-1 -> 0.18007105
C14: Other Income, Expenses, and Adj. | D14: 67189 | E14: 7721756.7 | F14: 19886802 | G14: -280314.85 | H14: -1629228 | I14: -2525000 | J14: 161000 | K14: -6727000 | L14: -972245.57 | M14: -972245.57 | N14: -8539337 | O14: 0 | P14: 0 | Q14: 0 | R14: =SUM(D14:Q14) -> 6191377 | AN14: =C14 -> Other Income, Expenses, and Adj. | AQ14: 14 | AW14: =1-AK14 -> 1 | AX14: =AM14-1 -> -1
C15: Depreciation and Amortization | D15: 1.7478608e+08 | E15: 1.8338176e+08 | F15: 1.92396e+08 | G15: 1.8981138e+08 | H15: 2.0654476e+08 | I15: 213257000 | J15: 223795000 | K15: 244158000 | L15: 260927000 | M15: 2.8628431e+08 | N15: 3.0572003e+08 | O15: 3.3983267e+08 | P15: 3.3837143e+08 | Q15: 3.3876769e+08 | R15: =SUM(D15:Q15) -> 3.4980331e+09 | V15: =E15/E32 -> 0.96668333 | W15: =F15/F32 -> 0.95464832 | X15: =G15/G32 -> 0.95572788 | Y15: =H15/H32 -> 0.94691443 | Z15: =I15/I32 -> 1.1098985 | AA15: =J15/J32 -> 1.1053515 | AB15: =K15/K32 -> 1.0419542 | AC15: =L15/L32 -> 0.95520274 | ... AI15: =R15/R32 -> 1.0002438 | AK15: =MIN(V15:AH15,1) -> 0.94691443 | AL15: =AVERAGE(V15:AH15) -> 1.0090265 | AM15: =MAX(V15:AH15,1) -> 1.1191812 | AN15: =C15 -> Depreciation and Amortization | AO15: =1-(AL15-AK15)/AL15 -> 0.93844358 | AP15: =1+(AM15-AL15)/AL15 -> 1.1091693 | AQ15: 15 | AR15: =AO15-1 -> -0.06155642 | AS15: =AP15-1 -> 0.10916934 | AT15: =STDEV(V15:AB15) -> 0.072961443 | AU15: =AVERAGE(D15:K15)*AT15 -> 14848839 | AW15: =1-AK15 -> 0.05308557 | AX15: =AM15-1 -> 0.11918124
C16: Interest Expense | D16: 1.2289219e+08 | E16: 1.231945e+08 | F16: 1.438577e+08 | G16: 1.2978061e+08 | H16: 1.3408183e+08 | I16: 108125000 | J16: 120399000 | K16: 136358000 | L16: 164121000 | M16: 1.4078755e+08 | N16: 1.4760041e+08 | O16: 1.4889349e+08 | P16: 1.3565673e+08 | Q16: 1.406252e+08 | R16: =SUM(D16:Q16) -> 1.8963732e+09 | V16: =E16/E33 -> 0.80066624 | W16: =F16/F33 -> 0.83723719 | X16: =G16/G33 -> 0.81885219 | Y16: =H16/H33 -> 0.75734638 | Z16: =I16/I33 -> 0.75126978 | AA16: =J16/J33 -> 0.75337897 | AB16: =K16/K33 -> 0.96675576 | AC16: =L16/L33 -> 1.1073694 | ... AI16: =R16/R33 -> 0.86005841 | AK16: =MIN(V16:AH16,1) -> 0.75126978 | AL16: =AVERAGE(V16:AH16) -> 0.88014599 | AM16: =MAX(V16:AH16,1) -> 1.1073694 | AN16: =C16 -> Interest Expense | AO16: =1-(AL16-AK16)/AL16 -> 0.85357405 | AP16: =1+(AM16-AL16)/AL16 -> 1.2581656 | AQ16: 16 | AR16: =AO16-1 -> -0.14642595 | AS16: =AP16-1 -> 0.25816556 | AT16: =STDEV(V16:AB16) -> 0.07623751 | AU16: =AVERAGE(D16:K16)*AT16 -> 9707787.5 | AW16: =1-AK16 -> 0.24873022 | AX16: =AM16-1 -> 0.10736937
C17: Undistributed Reduction | D17: 0 | E17: 0 | F17: 0 | G17: 0 | H17: 0 | I17: 0 | J17: 0 | K17: 0 | L17: 0 | M17: 0 | N17: 0 | O17: 0 | P17: 0 | Q17: 0 | R17: =SUM(D17:Q17) -> 0 | AO17: AD | AP17: AE
B18: Total Expenses | D18: 7.0923507e+08 | E18: 7.5226621e+08 | F18: 8.3622024e+08 | G18: 8.7643109e+08 | H18: 9.0846939e+08 | I18: =SUM(I8:I17) -> 911965000 | J18: =SUM(J8:J17) -> 937901000 | K18: =SUM(K8:K17) -> 959798000 | L18: =SUM(L8:L17) -> 1.0206282e+09 | M18: =SUM(M8:M17) -> 1.0236695e+09 | N18: =SUM(N8:N17) -> 1.0469753e+09 | O18: =SUM(O8:O17) -> 1.1019577e+09 | P18: =SUM(P8:P17) -> 1.1056376e+09 | ... R18: =SUM(R8:R17) -> 1.3334028e+10
B19: Net Revenue | D19: =D6-D18 -> 1.2260464e+08 | E19: =E6-E18 -> 1.318139e+08 | F19: =F6-F18 -> 71787607 | G19: =G6-G18 -> 88709896 | H19: =H6-H18 -> 71403799 | I19: =I6-I18 -> 140331000 | J19: =J6-J18 -> 99068000 | K19: =K6-K18 -> 101902000 | ... R19: =R6-R18 -> 1.0579433e+09
B21: Revenue Requirement** | D21: 2009 | E21: 2010 | F21: 2011 | G21: 2012 | H21: 2013 | I21: 2014 | J21: 2015 | K21: 2016 | L21: 2017 | M21: 2018 | N21: 2019 | O21: 2020 | P21: 2021 | Q21: 2022 | R21: Total
B22: Revenue
C23: Total Operating Revenue | D23: 777039000 | E23: 843365000 | F23: 863825000 | G23: 936384000 | H23: 958405000 | I23: 1003447000 | J23: 1024896000 | K23: 1081816000 | L23: 1045388000 | M23: 1.0402915e+09 | N23: 1.0477232e+09 | O23: 1.0746739e+09 | P23: 1.1072136e+09 | Q23: 1.1512689e+09 | R23: =SUM(D23:P23) -> 1.2804467e+10
B24: Expense
C25: Transmission Operations Sub-Total | D25: 90453000 | E25: 1.1747206e+08 | F25: 1.1969549e+08 | G25: 130050000 | H25: 133590000 | I25: 140729000 | J25: 144346000 | K25: 155274000 | L25: 160800000 | M25: 167100000 | N25: 168000000 | O25: 168500000 | P25: 1.6385438e+08 | Q25: 1.6871053e+08 | R25: =SUM(D25:Q25) -> 2.0285745e+09
C26: Transmission Maintenance Sub-Total | D26: 98789000 | E26: 1.2730649e+08 | F26: 1.3234646e+08 | G26: 146712000 | H26: 150831000 | I26: 154234000 | J26: 157893000 | K26: 162552000 | L26: 176580000 | M26: 172767000 | N26: 176580000 | O26: 172767000 | P26: 1.7328297e+08 | Q26: 1.7756031e+08 | R26: =SUM(D26:Q26) -> 2180201243
C27: Transmission Engineering Sub-Total | D27: 16250000 | E27: 23539950 | F27: 23674715 | G27: 31800000 | H27: 32803000 | I27: 41638000 | J27: 41769000 | K27: 54421000 | L27: 56351000 | M27: 51973000 | N27: 56351000 | O27: 44126553 | P27: 49483511 | Q27: 56569630 | R27: =SUM(D27:Q27) -> 5.8075036e+08
C28: Trans. Srvcs. Acq. and Ancillary Svcs. | D28: 76605000 | E28: 103328015 | F28: 1.1642158e+08 | G28: 138373000 | H28: 142079000 | I28: 125174000 | J28: 127228000 | K28: 140767000 | L28: 119460000 | M28: 131743000 | N28: 119460000 | O28: 1.2836863e+08 | P28: 1.3221103e+08 | Q28: 109597000 | R28: =SUM(D28:Q28) -> 1.7108153e+09
C29: Transmission Reimbursables Sub-Total | D29: 0 | E29: 0 | F29: 0 | G29: 0 | H29: 0 | I29: 0 | J29: 0 | K29: 0 | L29: 0 | M29: 11623000 | N29: 0 | O29: 0 | P29: 0 | Q29: 0 | R29: =SUM(D29:Q29) -> 11623000
C30: BPA Internal Support Subtotal | D30: 81636000 | E30: 65312005 | F30: 65716108 | G30: 77100000 | H30: 78781000 | I30: 78428000 | J30: 80902000 | K30: 82038000 | L30: 93940000 | M30: 90434000 | N30: 93940000 | O30: 92528268 | P30: 93884294 | Q30: 1.031955e+08 | R30: =SUM(D30:Q30) -> 1.1778352e+09
C31: Other Income, Expenses, and Adj. | D31: 0 | E31: 0 | F31: 0 | G31: 0 | H31: 0 | I31: 0 | J31: -40000000 | K31: -2100000 | L31: -7548000 | M31: 0 | N31: -7548000 | O31: -58349641 | P31: -52477000 | Q31: 0 | R31: =SUM(D31:Q31) -> -1.6802264e+08
C32: Depreciation and Amortization | D32: 198535000 | E32: 189702000 | F32: 201536000 | G32: 198604000 | H32: 218124000 | I32: 192141000 | J32: 202465000 | K32: 234327000 | L32: 273164000 | M32: 292442000 | N32: 273164000 | O32: 3.3580675e+08 | P32: 3.4186673e+08 | Q32: 345303000 | R32: =SUM(D32:Q32) -> 3.4971805e+09
C33: Net Interest Expense | D33: 1.7642748e+08 | E33: 1.5386499e+08 | F33: 1.7182431e+08 | G33: 158490887 | H33: 177041618 | I33: 143923000 | J33: 159812000 | K33: 141047000 | L33: 148208000 | M33: 141743000 | N33: 148208000 | O33: 1.6416851e+08 | P33: 1.7862557e+08 | Q33: 141551000 | R33: =SUM(D33:Q33) -> 2.2049354e+09
C34: Undistributed Reduction | D34: -2000000 | E34: 0 | F34: 0 | G34: 0 | H34: 0 | I34: 0 | J34: 0 | K34: 0 | L34: 0 | M34: 0 | N34: 0 | O34: 0 | P34: 0 | Q34: 0 | R34: =SUM(D34:Q34) -> -2000000
B35: Total Expenses | D35: 736695480 | E35: 7.8052551e+08 | F35: 8.3121467e+08 | G35: 881129887 | H35: 933249618 | I35: 876267000 | J35: 874415000 | K35: 968326000 | L35: =SUM(L25:L34) -> 1020955000 | M35: =SUM(M25:M34) -> 1059825000 | N35: =SUM(N25:N34) -> 1028155000 | O35: =SUM(O25:O34) -> 1.0479161e+09 | P35: =SUM(P25:P34) -> 1.0807315e+09 | Q35: =SUM(Q25:Q34) -> 1.102487e+09 | R35: =SUM(D35:Q35) -> 1.3221893e+10
B36: Net Revenue | D36: =D23-D35 -> 40343520 | E36: =E23-E35 -> 62839486 | F36: =F23-F35 -> 32610326 | G36: =G23-G35 -> 55254113 | H36: =H23-H35 -> 25155382 | I36: =I23-I35 -> 127180000 | J36: =J23-J35 -> 150481000 | K36: =K23-K35 -> 113490000 | ... Q36: =Q23-Q35 -> 48781911 | R36: =SUM(D36:Q36) -> 7.3384335e+08
C39: *Values can be obtained from "Transmission Services Statement of Revenues and Expenses" on bpa.gov "Finance & Rates" webpage
C40: **Values from Previous Rate Case Transmission Revenue Requirement Study, Table 8, "Transmission Revised Revenue Test income Statement"
C41: ***Initial Values from FY 2017 Financial Results slide 17 (DRAFT values, update once final values are published on external website)
C42: ***Values confirmed 10/31/2016 from https://www.bpa.gov/Finance/FinancialInformation/FinancialOverview/fy2016/September_30_2016_Financial_Results.pdf page 4 (more details pages 9-11)

Sheet output
F4: RM-Type | G4: RM-Type | H4: RM-Type
B5: Net | C5: Net | D5: Net | F5: Net | G5: Net | H5: Net | J5: NORM | K5: NORM | L5: NORM
B6: Revenue | C6: Revenue | D6: Revenue | F6: Revenue | G6: Revenue | H6: Revenue | J6: Adjustments | K6: Adjustments | L6: Adjustments | N6: NRTC | O6: NRTC | P6: NRTC
A7: Game | B7: FY21 | C7: FY22 | D7: FY23 | F7: =B7 -> FY21 | G7: =C7 -> FY22 | H7: =D7 -> FY23 | J7: =F7 -> FY21 | K7: FY20 | L7: FY21 | N7: =J7 -> FY21 | O7: FY20 | P7: FY21
A8: 1 | B8: {=_xll.RiskData('Risk Summary'!$H$34,1)} -> #NAME? | C8: {=_xll.RiskData('Risk Summary'!$K$34,1)} -> #NAME? | D8: {=_xll.RiskData('Risk Summary'!$N$34,1)} -> #NAME? | F8: {=_xll.RiskData('Risk Summary'!$H$37,1)} -> #NAME? | G8: {=_xll.RiskData('Risk Summary'!$K$37,1)} -> #NAME? | H8: {=_xll.RiskData('Risk Summary'!$N$37,1)} -> #NAME? | J8: {=_xll.RiskData('Risk Summary'!$H$38,1)} -> #NAME? | K8: {=_xll.RiskData('Risk Summary'!$K$38,1)} -> #NAME? | L8: {=_xll.RiskData('Risk Summary'!$N$38,1)} -> #NAME? | N8: {=_xll.RiskData(NR_to_Cash!$C$13,1)} -> #NAME? | O8: {=_xll.RiskData(NR_to_Cash!$D$13,1)} -> #NAME? | P8: {=_xll.RiskData(NR_to_Cash!$E$13,1)} -> #NAME?
A9: 2 | B9: #NAME? | C9: #NAME? | D9: #NAME? | F9: #NAME? | G9: #NAME? | H9: #NAME? | J9: #NAME? | K9: #NAME? | L9: #NAME? | N9: #NAME? | O9: #NAME? | P9: #NAME?
A10: 3 | B10: #NAME? | C10: #NAME? | D10: #NAME? | F10: #NAME? | G10: #NAME? | H10: #NAME? | J10: #NAME? | K10: #NAME? | L10: #NAME? | N10: #NAME? | O10: #NAME? | P10: #NAME?
A11: 4 | B11: #NAME? | C11: #NAME? | D11: #NAME? | F11: #NAME? | G11: #NAME? | H11: #NAME? | J11: #NAME? | K11: #NAME? | L11: #NAME? | N11: #NAME? | O11: #NAME? | P11: #NAME?
A12: 5 | B12: #NAME? | C12: #NAME? | D12: #NAME? | F12: #NAME? | G12: #NAME? | H12: #NAME? | J12: #NAME? | K12: #NAME? | L12: #NAME? | N12: #NAME? | O12: #NAME? | P12: #NAME?
A13: 6 | B13: #NAME? | C13: #NAME? | D13: #NAME? | F13: #NAME? | G13: #NAME? | H13: #NAME? | J13: #NAME? | K13: #NAME? | L13: #NAME? | N13: #NAME? | O13: #NAME? | P13: #NAME?
A14: 7 | B14: #NAME? | C14: #NAME? | D14: #NAME? | F14: #NAME? | G14: #NAME? | H14: #NAME? | J14: #NAME? | K14: #NAME? | L14: #NAME? | N14: #NAME? | O14: #NAME? | P14: #NAME?
A15: 8 | B15: #NAME? | C15: #NAME? | D15: #NAME? | F15: #NAME? | G15: #NAME? | H15: #NAME? | J15: #NAME? | K15: #NAME? | L15: #NAME? | N15: #NAME? | O15: #NAME? | P15: #NAME?
A16: 9 | B16: #NAME? | C16: #NAME? | D16: #NAME? | F16: #NAME? | G16: #NAME? | H16: #NAME? | J16: #NAME? | K16: #NAME? | L16: #NAME? | N16: #NAME? | O16: #NAME? | P16: #NAME?
A17: 10 | B17: #NAME? | C17: #NAME? | D17: #NAME? | F17: #NAME? | G17: #NAME? | H17: #NAME? | J17: #NAME? | K17: #NAME? | L17: #NAME? | N17: #NAME? | O17: #NAME? | P17: #NAME?
A18: 11 | B18: #NAME? | C18: #NAME? | D18: #NAME? | F18: #NAME? | G18: #NAME? | H18: #NAME? | J18: #NAME? | K18: #NAME? | L18: #NAME? | N18: #NAME? | O18: #NAME? | P18: #NAME?
A19: 12 | B19: #NAME? | C19: #NAME? | D19: #NAME? | F19: #NAME? | G19: #NAME? | H19: #NAME? | J19: #NAME? | K19: #NAME? | L19: #NAME? | N19: #NAME? | O19: #NAME? | P19: #NAME?
A20: 13 | B20: #NAME? | C20: #NAME? | D20: #NAME? | F20: #NAME? | G20: #NAME? | H20: #NAME? | J20: #NAME? | K20: #NAME? | L20: #NAME? | N20: #NAME? | O20: #NAME? | P20: #NAME?
... A3207: 3200 | B3207: #NAME? | C3207: #NAME? | D3207: #NAME? | F3207: #NAME? | G3207: #NAME? | H3207: #NAME? | J3207: #NAME? | K3207: #NAME? | L3207: #NAME? | N3207: #NAME? | O3207: #NAME? | P3207: #NAME?
A3209: avg | B3209: =AVERAGE(B8:B3207) -> #NAME? | C3209: =AVERAGE(C8:C3207) -> #NAME? | D3209: =AVERAGE(D8:D3207) -> #NAME? | F3209: =AVERAGE(F8:F3207) -> #NAME? | G3209: =AVERAGE(G8:G3207) -> #NAME? | H3209: =AVERAGE(H8:H3207) -> #NAME? | J3209: =AVERAGE(J8:J3207) -> #NAME? | K3209: =AVERAGE(K8:K3207) -> #NAME? | L3209: =AVERAGE(L8:L3207) -> #NAME? | N3209: =AVERAGE(N8:N3207) -> #NAME? | O3209: =AVERAGE(O8:O3207) -> #NAME? | P3209: =AVERAGE(P8:P3207) -> #NAME?
A3210: stdev | B3210: =STDEV(B8:B3207) -> #NAME? | C3210: =STDEV(C8:C3207) -> #NAME? | D3210: =STDEV(D8:D3207) -> #NAME? | F3210: =STDEV(F8:F3207) -> #NAME? | G3210: =STDEV(G8:G3207) -> #NAME? | H3210: =STDEV(H8:H3207) -> #NAME? | J3210: =STDEV(J8:J3207) -> #NAME? | K3210: =STDEV(K8:K3207) -> #NAME? | L3210: =STDEV(L8:L3207) -> #NAME? | N3210: =STDEV(N8:N3207) -> #NAME? | O3210: =STDEV(O8:O3207) -> #NAME? | P3210: =STDEV(P8:P3207) -> #NAME?
B3212: =B3209+N3209 -> #NAME? | C3212: =C3209+O3209 -> #NAME? | D3212: =D3209+P3209 -> #NAME? | F3212: =F3209+#REF! -> #NAME? | G3212: =G3209+#REF! -> #NAME? | H3212: =H3209+#REF! -> #NAME? | J3212: =J3209+#REF! -> #NAME? | K3212: =K3209+#REF! -> #NAME? | L3212: =L3209+#REF! -> #NAME?

Sheet Study Table
B1: A | C1: B | D1: C | E1: D | F1: E | G1: F | H1: G
B2: T-NORM Risk Summary ($000,000) | J2: Source Data
B3: Study Section | C3: Risk Title | D3: Fiscal Year | E3: Forecast | F3: 5th Percentile | G3: Mean | H3: 95th Percentile | J3: ProForma | K3: Risk
A4: 1 | B4: 5.1.3.1.1 | C4: Transmission Operations | D4: 2021 | E4: =J4/1000 -> 179.01851 | F4: =_xll.RiskPercentile($K4,5%)/1000 -> #NAME? | G4: =_xll.RiskMean($K4)/1000 -> #NAME? | H4: =_xll.RiskPercentile($K4,95%)/1000 -> #NAME? | J4: ='Risk Summary'!F11 -> 179018.51 | K4: ='Risk Summary'!H11 -> #NAME?
A5: =A4+1 -> 2 | D5: 2022 | E5: =J5/1000 -> 191.61525 | F5: =_xll.RiskPercentile($K5,5%)/1000 -> #NAME? | G5: =_xll.RiskMean($K5)/1000 -> #NAME? | H5: =_xll.RiskPercentile($K5,95%)/1000 -> #NAME? | J5: ='Risk Summary'!I11 -> 191615.25 | K5: ='Risk Summary'!K11 -> #NAME?
A6: =A5+1 -> 3 | D6: 2023 | E6: =J6/1000 -> 198.32432 | F6: =_xll.RiskPercentile($K6,5%)/1000 -> #NAME? | G6: =_xll.RiskMean($K6)/1000 -> #NAME? | H6: =_xll.RiskPercentile($K6,95%)/1000 -> #NAME? | J6: ='Risk Summary'!L11 -> 198324.32 | K6: ='Risk Summary'!N11 -> #NAME?
A7: =A6+1 -> 4 | B7: 5.1.3.1.2 | C7: Transmission Maintenance | D7: =D4 -> 2021 | E7: =J7/1000 -> 179.71288 | F7: =_xll.RiskPercentile($K7,5%)/1000 -> #NAME? | G7: =_xll.RiskMean($K7)/1000 -> #NAME? | H7: =_xll.RiskPercentile($K7,95%)/1000 -> #NAME? | J7: ='Risk Summary'!F12 -> 179712.88 | K7: ='Risk Summary'!H12 -> #NAME?
A8: =A7+1 -> 5 | D8: =D5 -> 2022 | E8: =J8/1000 -> 193.21204 | F8: =_xll.RiskPercentile($K8,5%)/1000 -> #NAME? | G8: =_xll.RiskMean($K8)/1000 -> #NAME? | H8: =_xll.RiskPercentile($K8,95%)/1000 -> #NAME? | J8: ='Risk Summary'!I12 -> 193212.04 | K8: ='Risk Summary'!K12 -> #NAME?
A9: =A8+1 -> 6 | D9: =D6 -> 2023 | E9: =J9/1000 -> 199.22985 | F9: =_xll.RiskPercentile($K9,5%)/1000 -> #NAME? | G9: =_xll.RiskMean($K9)/1000 -> #NAME? | H9: =_xll.RiskPercentile($K9,95%)/1000 -> #NAME? | J9: ='Risk Summary'!L12 -> 199229.85 | K9: ='Risk Summary'!N12 -> #NAME?
A10: =A9+1 -> 7 | B10: 5.1.3.1.3 | C10: Agency Service G&A | D10: =D7 -> 2021 | E10: =J10/1000 -> 104.68144 | F10: =_xll.RiskPercentile($K10,5%)/1000 -> #NAME? | G10: =_xll.RiskMean($K10)/1000 -> #NAME? | H10: =_xll.RiskPercentile($K10,95%)/1000 -> #NAME? | J10: ='Risk Summary'!F16 -> 104681.44 | K10: ='Risk Summary'!H16 -> #NAME?
A11: =A10+1 -> 8 | D11: =D8 -> 2022 | E11: =J11/1000 -> 136.03386 | F11: =_xll.RiskPercentile($K11,5%)/1000 -> #NAME? | G11: =_xll.RiskMean($K11)/1000 -> #NAME? | H11: =_xll.RiskPercentile($K11,95%)/1000 -> #NAME? | J11: ='Risk Summary'!I16 -> 136033.86 | K11: ='Risk Summary'!K16 -> #NAME?
A12: =A11+1 -> 9 | D12: =D9 -> 2023 | E12: =J12/1000 -> 139.96485 | F12: =_xll.RiskPercentile($K12,5%)/1000 -> #NAME? | G12: =_xll.RiskMean($K12)/1000 -> #NAME? | H12: =_xll.RiskPercentile($K12,95%)/1000 -> #NAME? | J12: ='Risk Summary'!L16 -> 139964.85 | K12: ='Risk Summary'!N16 -> #NAME?
A13: =A12+1 -> 10 | B13: 5.1.3.1.4 | C13: Interest Expense and Earnings | D13: =D10 -> 2021 | E13: =J13/1000 -> 170.79649 | F13: =_xll.RiskPercentile($K13,5%)/1000 -> #NAME? | G13: =_xll.RiskMean($K13)/1000 -> #NAME? | H13: =_xll.RiskPercentile($K13,95%)/1000 -> #NAME? | J13: ='Risk Summary'!F29+'Risk Summary'!F30 -> 170796.49 | K13: ='Risk Summary'!H29+'Risk Summary'!H30 -> #NAME?
A14: =A13+1 -> 11 | D14: =D11 -> 2022 | E14: =J14/1000 -> 165.74153 | F14: =_xll.RiskPercentile($K14,5%)/1000 -> #NAME? | G14: =_xll.RiskMean($K14)/1000 -> #NAME? | H14: =_xll.RiskPercentile($K14,95%)/1000 -> #NAME? | J14: ='Risk Summary'!I29+'Risk Summary'!I30 -> 165741.53 | K14: ='Risk Summary'!K29+'Risk Summary'!K30 -> #NAME?
A15: =A14+1 -> 12 | D15: =D12 -> 2023 | E15: =J15/1000 -> 180.87776 | F15: =_xll.RiskPercentile($K15,5%)/1000 -> #NAME? | G15: =_xll.RiskMean($K15)/1000 -> #NAME? | H15: =_xll.RiskPercentile($K15,95%)/1000 -> #NAME? | J15: ='Risk Summary'!L29+'Risk Summary'!L30 -> 180877.76 | K15: ='Risk Summary'!N29+'Risk Summary'!N30 -> #NAME?
A16: =A15+1 -> 13 | B16: 5.1.3.1.5 | C16: Transmission Engineering | D16: =D13 -> 2021 | E16: =J16/1000 -> 58.909916 | F16: =_xll.RiskPercentile($K16,5%)/1000 -> #NAME? | G16: =_xll.RiskMean($K16)/1000 -> #NAME? | H16: =_xll.RiskPercentile($K16,95%)/1000 -> #NAME? | J16: ='Risk Summary'!F13 -> 58909.916 | K16: ='Risk Summary'!H13 -> #NAME?
A17: =A16+1 -> 14 | D17: =D14 -> 2022 | E17: =J17/1000 -> 60.231282 | F17: =_xll.RiskPercentile($K17,5%)/1000 -> #NAME? | G17: =_xll.RiskMean($K17)/1000 -> #NAME? | H17: =_xll.RiskPercentile($K17,95%)/1000 -> #NAME? | J17: ='Risk Summary'!I13 -> 60231.282 | K17: ='Risk Summary'!K13 -> #NAME?
A18: =A17+1 -> 15 | D18: =D15 -> 2023 | E18: =J18/1000 -> 61.194173 | F18: =_xll.RiskPercentile($K18,5%)/1000 -> #NAME? | G18: =_xll.RiskMean($K18)/1000 -> #NAME? | H18: =_xll.RiskPercentile($K18,95%)/1000 -> #NAME? | J18: ='Risk Summary'!L13 -> 61194.173 | K18: ='Risk Summary'!N13 -> #NAME?
B21: A | C21: B | D21: C | E21: D | F21: E | G21: F | H21: G
B22: T-NORM Risk Summary ($000,000)
B23: Study Section | C23: Risk Title | D23: Fiscal Year | E23: Forecast | F23: 5th Percentile | G23: Mean | H23: 95th Percentile
A24: 1 | B24: 5.1.3.1.1 | C24: Transmission Operations | D24: 2021 | E24: 179.01851 | F24: 161.22369 | G24: 179.78158 | H24: 198.92618
A25: 2 | D25: 2022 | E25: 191.61525 | F25: 172.58251 | G25: 192.43226 | H25: 212.93001
A26: 3 | D26: 2023 | E26: 198.32432 | F26: 178.60992 | G26: 199.16962 | H26: 220.37309
A27: 4 | B27: 5.1.3.1.2 | C27: Transmission Maintenance | D27: 2021 | E27: 179.71288 | F27: 171.48665 | G27: 178.96605 | H27: 185.82401
A28: 5 | D28: 2022 | E28: 193.21204 | F28: 184.36811 | G28: 192.40927 | H28: 199.78473
A29: 6 | D29: 2023 | E29: 199.22985 | F29: 190.11125 | G29: 198.40231 | H29: 206.01087
A30: 7 | B30: 5.1.3.1.3 | C30: Agency Service G&A | D30: 2021 | E30: 104.68144 | F30: 101.29647 | G30: 107.02245 | H30: 114.62122
A31: 8 | D31: 2022 | E31: 136.03386 | F31: 131.6304 | G31: 139.07621 | H31: 148.95724
A32: 9 | D32: 2023 | E32: 139.96485 | F32: 135.43668 | G32: 143.095 | H32: 153.25118
A33: 10 | B33: 5.1.3.1.4 | C33: Interest Expense and Earnings | D33: 2021 | E33: 170.79649 | F33: 169.79813 | G33: 173.05133 | H33: 176.35749
A34: 11 | D34: 2022 | E34: 165.74153 | F34: 163.82883 | G34: 166.69889 | H34: 169.60984
A35: 12 | D35: 2023 | E35: 180.87776 | F35: 173.8078 | G35: 182.2414 | H35: 190.55272
A36: 13 | B36: 5.1.3.1.5 | C36: Transmission Engineering | D36: 2021 | E36: 58.909916 | F36: 54.03105 | G36: 62.173411 | H36: 72.932296
A37: 14 | D37: 2022 | E37: 60.231282 | F37: 55.237014 | G37: 63.56765 | H37: 74.569826
A38: 15 | D38: 2023 | E38: 61.194173 | F38: 56.119822 | G38: 64.584001 | H38: 75.760977
