Workbook

Sheet Long-Term Debt Mng RR
A1: TRANSMISSION LONG-TERM RATE FORECAST - Revenue Requirement
B2: Received: | C2: n/a | K2: Return to Index
B3: Updated: | C3: n/a | E3: INSTRUCTIONS:
B4: Origination Date: | E4: Input data in thousands
A5: Source: | E5: FS fill in | G5: cells
A6: Scenario: | E6: Link to Separate Model | G6: cells
A7: Analysis By: | C7: Stephanie Adams | E7: Auto-Calculate | G7: cells
A8: QC By:
A9: Reserves for Rate Relief | C9: $40 Million in FY 2014-15/Even Distribution
A10: Capitalization Adj. | C10: -18968 | E10: Scenario Notes:
B11: AC Intertie Rev: | C11: -6853
A12: Capitalized Bond Premium | C12: 561
A13: Timeperiod - Start: | C13: 2014
A14: End: | C14: 2023
A16: SUMMARY DATA | D16: NEAR-TERM SUMMARY DATA
D17: =C13 -> 2014 | E17: =D17+1 -> 2015 | F17: =E17+1 -> 2016 | G17: =F17+1 -> 2017 | H17: =G17+1 -> 2018 | I17: =H17+1 -> 2019 | J17: =I17+1 -> 2020 | K17: =J17+1 -> 2021 | L17: =K17+1 -> 2022 | ... AH17: =AG17+1 -> 2044
A18: REPAYMENT STUDY OUTPUT
B19: NON-FEDERAL INTEREST | D19: ='Repayment Inputs'!C24-'Repayment Inputs'!C20-'Repayment Inputs'!C21 -> 0 | E19: ='Repayment Inputs'!#REF!-'Repayment Inputs'!#REF!-'Repayment Inputs'!#REF! -> #REF! | F19: ='Repayment Inputs'!#REF!-'Repayment Inputs'!#REF!-'Repayment Inputs'!#REF! -> #REF! | G19: ='Repayment Inputs'!#REF!-'Repayment Inputs'!#REF!-'Repayment Inputs'!#REF! -> #REF! | H19: ='Repayment Inputs'!D24-'Repayment Inputs'!D20-'Repayment Inputs'!D21 -> 66066.429 | I19: ='Repayment Inputs'!E24-'Repayment Inputs'!E20-'Repayment Inputs'!E21 -> 63367.246 | J19: ='Repayment Inputs'!F24-'Repayment Inputs'!F20-'Repayment Inputs'!F21 -> 57523.93 | K19: ='Repayment Inputs'!G24-'Repayment Inputs'!G20-'Repayment Inputs'!G21 -> 60208.293 | L19: ='Repayment Inputs'!H24-'Repayment Inputs'!H20-'Repayment Inputs'!H21 -> 56860.135 | M19: ='Repayment Inputs'!I24-'Repayment Inputs'!I20-'Repayment Inputs'!I21 -> 53858.711 | N19: ='Repayment Inputs'!J24-'Repayment Inputs'!J20-'Repayment Inputs'!J21 -> 50727.553 | O19: ='Repayment Inputs'!#REF!-'Repayment Inputs'!#REF!-'Repayment Inputs'!#REF! -> #REF! | P19: ='Repayment Inputs'!#REF!-'Repayment Inputs'!#REF!-'Repayment Inputs'!#REF! -> #REF! | Q19: ='Repayment Inputs'!#REF!-'Repayment Inputs'!#REF!-'Repayment Inputs'!#REF! -> #REF! | R19: ='Repayment Inputs'!#REF!-'Repayment Inputs'!#REF!-'Repayment Inputs'!#REF! -> #REF! | S19: ='Repayment Inputs'!#REF!-'Repayment Inputs'!#REF!-'Repayment Inputs'!#REF! -> #REF! | T19: ='Repayment Inputs'!#REF!-'Repayment Inputs'!#REF!-'Repayment Inputs'!#REF! -> #REF! | U19: ='Repayment Inputs'!#REF!-'Repayment Inputs'!#REF!-'Repayment Inputs'!#REF! -> #REF! | V19: ='Repayment Inputs'!#REF!-'Repayment Inputs'!#REF!-'Repayment Inputs'!#REF! -> #REF! | ... AH19: ='Repayment Inputs'!#REF!-'Repayment Inputs'!#REF!-'Repayment Inputs'!#REF! -> #REF!
B20: NON-FEDERAL PRINCIPLE | D20: ='Repayment Inputs'!C43 -> 0 | E20: ='Repayment Inputs'!#REF! -> #REF! | F20: ='Repayment Inputs'!#REF! -> #REF! | G20: ='Repayment Inputs'!#REF! -> #REF! | H20: ='Repayment Inputs'!D43 -> 96074.672 | I20: ='Repayment Inputs'!E43 -> 96373.269 | J20: ='Repayment Inputs'!F43 -> 109957.68 | K20: ='Repayment Inputs'!G43 -> 110851.4 | L20: ='Repayment Inputs'!H43 -> 111497.23 | M20: ='Repayment Inputs'!I43 -> 88994.811 | N20: ='Repayment Inputs'!J43 -> 78175.566 | O20: ='Repayment Inputs'!#REF! -> #REF! | P20: ='Repayment Inputs'!#REF! -> #REF! | Q20: ='Repayment Inputs'!#REF! -> #REF! | R20: ='Repayment Inputs'!#REF! -> #REF! | S20: ='Repayment Inputs'!#REF! -> #REF! | T20: ='Repayment Inputs'!#REF! -> #REF! | U20: ='Repayment Inputs'!#REF! -> #REF! | V20: ='Repayment Inputs'!#REF! -> #REF! | ... AH20: ='Repayment Inputs'!#REF! -> #REF!
B21: FEDERAL INTEREST (EXCLUDING INTEREST INCOME) | D21: ='Repayment Inputs'!C12-'Repayment Inputs'!C9 -> 0 | E21: ='Repayment Inputs'!#REF!-'Repayment Inputs'!#REF! -> #REF! | F21: ='Repayment Inputs'!#REF!-'Repayment Inputs'!#REF! -> #REF! | G21: ='Repayment Inputs'!#REF!-'Repayment Inputs'!#REF! -> #REF! | H21: ='Repayment Inputs'!D12-'Repayment Inputs'!D9 -> 108123.83 | I21: ='Repayment Inputs'!E12-'Repayment Inputs'!E9 -> 114971.42 | J21: ='Repayment Inputs'!F12-'Repayment Inputs'!F9 -> 130463 | K21: ='Repayment Inputs'!G12-'Repayment Inputs'!G9 -> 176329 | L21: ='Repayment Inputs'!H12-'Repayment Inputs'!H9 -> 211540 | M21: ='Repayment Inputs'!I12-'Repayment Inputs'!I9 -> 256953 | N21: ='Repayment Inputs'!J12-'Repayment Inputs'!J9 -> 303917 | O21: ='Repayment Inputs'!#REF!-'Repayment Inputs'!#REF! -> #REF! | P21: ='Repayment Inputs'!#REF!-'Repayment Inputs'!#REF! -> #REF! | Q21: ='Repayment Inputs'!#REF!-'Repayment Inputs'!#REF! -> #REF! | R21: ='Repayment Inputs'!#REF!-'Repayment Inputs'!#REF! -> #REF! | S21: ='Repayment Inputs'!#REF!-'Repayment Inputs'!#REF! -> #REF! | T21: ='Repayment Inputs'!#REF!-'Repayment Inputs'!#REF! -> #REF! | U21: ='Repayment Inputs'!#REF!-'Repayment Inputs'!#REF! -> #REF! | V21: ='Repayment Inputs'!#REF!-'Repayment Inputs'!#REF! -> #REF! | ... AH21: ='Repayment Inputs'!#REF!-'Repayment Inputs'!#REF! -> #REF!
B22: FEDERAL PRINCIPLE (NO DISCOUNTS/PREMIUMS) | D22: ='Repayment Inputs'!C31 -> 0 | E22: ='Repayment Inputs'!#REF! -> #REF! | F22: ='Repayment Inputs'!#REF! -> #REF! | G22: ='Repayment Inputs'!#REF! -> #REF! | H22: ='Repayment Inputs'!D31 -> 204197 | I22: ='Repayment Inputs'!E31 -> 209379 | J22: ='Repayment Inputs'!F31 -> 0 | K22: ='Repayment Inputs'!G31 -> 187438 | L22: ='Repayment Inputs'!H31 -> 256615.08 | M22: ='Repayment Inputs'!I31 -> 256044.15 | N22: ='Repayment Inputs'!J31 -> 316899.06 | O22: ='Repayment Inputs'!#REF! -> #REF! | P22: ='Repayment Inputs'!#REF! -> #REF! | Q22: ='Repayment Inputs'!#REF! -> #REF! | R22: ='Repayment Inputs'!#REF! -> #REF! | S22: ='Repayment Inputs'!#REF! -> #REF! | T22: ='Repayment Inputs'!#REF! -> #REF! | U22: ='Repayment Inputs'!#REF! -> #REF! | V22: ='Repayment Inputs'!#REF! -> #REF! | ... AH22: ='Repayment Inputs'!#REF! -> #REF!
A24: REVENUE REQUIREMENT
B25: DEPRECIATION & AMORTIZATION
B26: NON-FEDERAL INTEREST | D26: =D20+D21+D22+#REF!+D23+#REF!+D25 -> #REF! | E26: =E20+E21+E22+E23+E24+#REF!+E25 -> #REF! | F26: =F20+F21+F22+F23+F24+#REF!+F25 -> #REF! | G26: =G20+G21+G22+G23+G24+#REF!+G25 -> #REF! | H26: =H20+H21+H22+H23+H24+#REF!+H25 -> #REF! | I26: =I20+I21+I22+I23+I24+#REF!+I25 -> #REF! | J26: =J20+J21+J22+J23+J24+#REF!+J25 -> #REF! | K26: =K20+K21+K22+K23+K24+#REF!+K25 -> #REF! | L26: =L20+L21+L22+L23+L24+#REF!+L25 -> #REF! | M26: =M20+M21+M22+M23+M24+#REF!+M25 -> #REF!
B27: FEDERAL NET INTEREST 1/
B28: MRNR
A30: 2 YEAR AVERAGE REVENUE REQUIREMENT | D30: 14/15 | E30: 16/17 | F30: 18/19 | G30: 20/21 | H30: 22/23 | I30: 24/25 | J30: 26/27 | K30: 28/29 | L30: 30/31 | M30: 32/33 | N30: 34/35 | O30: 36/37 | P30: 38/39 | Q30: 40/41 | R30: 42/43
B32: CASH FLOW GENERATED
B33: CASH FLOW
B35: CASH FROM CURRENT OPERATIONS
B36: DRAWDOWN OF CASH RESERVES FOR CAPITAL FUNDING
B37: CAPITAL INVESTMENTS
B38: CASH FROM BORROWING
B39: INCREASE IN LONG TERM DEBT
B41: NON-CASH REVENUES
B42: LGIA CREDITS
B43: COI CREDITS
B44: TRANSMISSION CREDIT PROJECTS NET INTEREST
B46: 1/ INTEREST COMPONENTS
... B51: LGIA INTEREST

Sheet Crosswalk
B1: Superseded by Rates Crosswalk Tab? | C1: A | D1: B | F1: C | G1: D | I1: E | J1: F | L1: G | M1: H | O1: I | P1: J | R1: K | S1: L | U1: M | V1: N
C2: Change from BP-14 to FY 16/17 | F2: Change from FY 16/17 to FY 18/19 | I2: Change from FY 18/19 to FY 20/21 | L2: Change from FY 20/21 to FY 22/23 | O2: Change from FY 22/23 to FY 24/25 | R2: Change from FY 24/25 to FY 26/27 | U2: Change from FY 26/27 to FY 28/29
B5: Expenses | C5: $ (Million) | D5: % Change in Rates | F5: $ (Million) | G5: % Change in Rates | I5: $ (Million) | J5: % Change in Rates | L5: $ (Million) | M5: % Change in Rates | O5: $ (Million) | P5: % Change in Rates | R5: $ (Million) | S5: % Change in Rates | U5: $ (Million) | V5: % Change in Rates
A8: 1 | B8: Operations | C8: =(M35-I35)/1000 -> 15.499958 | D8: =(C8/C20)*D20 -> 0.010735193 | F8: =(O35-M35)/1000 -> 40.029382 | G8: =(F8/F20)*G20 -> #REF! | I8: =(P35-O35)/1000 -> 31.016639 | J8: =(I8/I20)*J20 -> #REF! | L8: =(R35-P35)/1000 -> 24.693077 | M8: =(L8/L20)*M20 -> #REF! | O8: =(S35-R35)/1000 -> #REF! | P8: =(O8/O20)*P20 -> #REF! | R8: =(U35-S35)/1000 -> #REF! | S8: =(R8/R20)*S20 -> #REF! | U8: =(V35-U35)/1000 -> #REF! | V8: =(U8/U20)*V20 -> #REF!
A9: 2 | B9: Maintenance | C9: =(M37-I37)/1000 -> 7.3484065 | D9: =(C9/C20)*D20 -> 0.0050894693 | F9: =(O37-M37)/1000 -> 33.42505 | G9: =(F9/F20)*G20 -> #REF! | I9: =(P37-O37)/1000 -> 35.255823 | J9: =(I9/I20)*J20 -> #REF! | L9: =(R37-P37)/1000 -> 20.905208 | M9: =(L9/L20)*M20 -> #REF! | O9: =(S37-R37)/1000 -> #REF! | P9: =(O9/O20)*P20 -> #REF! | R9: =(U37-S37)/1000 -> #REF! | S9: =(R9/R20)*S20 -> #REF! | U9: =(V37-U37)/1000 -> #REF! | V9: =(U9/U20)*V20 -> #REF!
A10: 3 | B10: Engineering | C10: =(M36-I36)/1000 -> 7.2429975 | D10: =(C10/C20)*D20 -> 0.0050164636 | F10: =(O36-M36)/1000 -> 9.6335943 | G10: =(F10/F20)*G20 -> #REF! | I10: =(P36-O36)/1000 -> 17.014632 | J10: =(I10/I20)*J20 -> #REF! | L10: =(R36-P36)/1000 -> 5.1977935 | M10: =(L10/L20)*M20 -> #REF! | O10: =(S36-R36)/1000 -> #REF! | P10: =(O10/O20)*P20 -> #REF! | R10: =(U36-S36)/1000 -> #REF! | S10: =(R10/R20)*S20 -> #REF! | U10: =(V36-U36)/1000 -> #REF! | V10: =(U10/U20)*V20 -> #REF!
A11: 4 | B11: Internal Support & Undistributed Reduction | C11: =((M39-I39)+M40)/1000 -> 4.245398 | D11: =(C11/C20)*D20 -> 0.0029403413 | F11: =((O39-M39)+(O40-M40))/1000 -> 54.070937 | G11: =(F11/F20)*G20 -> #REF! | I11: =((P39-O39)+P40)/1000 -> 73.353495 | J11: =(I11/I20)*J20 -> #REF! | L11: =((R39-P39)+R40)/1000 -> 19.241635 | M11: =(L11/L20)*M20 -> #REF! | O11: =((S39-R39))/1000 -> #REF! | P11: =(O11/O20)*P20 -> #REF! | R11: =((U39-S39))/1000 -> #REF! | S11: =(R11/R20)*S20 -> #REF! | U11: =((V39-U39))/1000 -> #REF! | V11: =(U11/U20)*V20 -> #REF!
A12: 5 | B12: IPR Sub-total | C12: =SUM(C8:C11) -> 34.33676 | D12: =SUM(D8:D11) -> 0.023781467 | F12: =SUM(F8:F11) -> 137.15896 | G12: =SUM(G8:G11) -> #REF! | I12: =SUM(I8:I11) -> 156.64059 | J12: =SUM(J8:J11) -> #REF! | L12: =SUM(L8:L11) -> 70.037713 | M12: =SUM(M8:M11) -> #REF! | O12: =SUM(O8:O11) -> #REF! | P12: =SUM(P8:P11) -> #REF! | R12: =SUM(R8:R11) -> #REF! | S12: =SUM(S8:S11) -> #REF! | U12: =SUM(U8:U11) -> #REF! | V12: =SUM(V8:V11) -> #REF!
A14: 6 | B14: Ancillary Services 1/ | C14: =(M38-I38)/1000 -> 8.0091995 | D14: =(C14/C20)*D20 -> 0.0055471312 | F14: =(O38-M38)/1000 -> -20.030377 | G14: =(F14/F20)*G20 -> #REF! | I14: =(P38-O38)/1000 -> 25.615964 | J14: =(I14/I20)*J20 -> #REF! | L14: =(R38-P38)/1000 -> -0.18083154 | M14: =(L14/L20)*M20 -> #REF! | O14: =(S38-R38)/1000 -> #REF! | P14: =(O14/O20)*P20 -> #REF! | R14: =(U38-S38)/1000 -> #REF! | S14: =(R14/R20)*S20 -> #REF! | U14: =(V38-U38)/1000 -> #REF! | V14: =(U14/U20)*V20 -> #REF!
A15: 7 | B15: Use of Reserves for Rate Relief 2/ | C15: =(M41-I41)/1000 -> 20 | D15: =(C15/C20)*D20 -> 0.013851899 | F15: =(O41-M41)/1000 -> #REF! | G15: =(F15/F20)*G20 -> #REF! | I15: =(P41-O41)/1000 -> #REF! | J15: =(I15/I20)*J20 -> #REF! | L15: =(R41-P41)/1000 -> #REF! | M15: =(L15/L20)*M20 -> #REF! | O15: =(S41-R41)/1000 -> #REF! | P15: =(O15/O20)*P20 -> #REF! | R15: =(U41-S41)/1000 -> #REF! | S15: =(R15/R20)*S20 -> #REF! | U15: =(V41-U41)/1000 -> #REF! | V15: =(U15/U20)*V20 -> #REF!
A16: 8 | B16: Non-IPR Sub-total | C16: =SUM(C14:C15) -> 28.0092 | D16: =SUM(D14:D15) -> 0.01939903 | F16: =SUM(F14:F15) -> #REF! | G16: =SUM(G14:G15) -> #REF! | I16: =SUM(I14:I15) -> #REF! | J16: =SUM(J14:J15) -> #REF! | L16: =SUM(L14:L15) -> #REF! | M16: =SUM(M14:M15) -> #REF! | O16: =SUM(O14:O15) -> #REF! | P16: =SUM(P14:P15) -> #REF! | R16: =SUM(R14:R15) -> #REF! | S16: =SUM(S14:S15) -> #REF! | U16: =SUM(U14:U15) -> #REF! | V16: =SUM(V14:V15) -> #REF!
A18: 9 | B18: Capital Related Costs 3/ | C18: =((M51-I51)/1000)-1 -> 12.733998 | D18: =(C18/C20)*D20 -> 0.0088195026 | F18: =((O51-M51)/1000) -> 30.733169 | G18: =(F18/F20)*G20 -> #REF! | I18: =((P51-O51)/1000) -> 76.476543 | J18: =(I18/I20)*J20 -> #REF! | L18: =((R51-P51)/1000) -> 48.835605 | M18: =(L18/L20)*M20 -> #REF! | O18: =((S51-R51)/1000) -> 46.477944 | P18: =(O18/O20)*P20 -> #REF! | R18: =((U51-S51)/1000) -> 39.07481 | S18: =(R18/R20)*S20 -> #REF! | U18: =((V51-U51)/1000) -> 46.898566 | V18: =(U18/U20)*V20 -> #REF!
A20: 10 | B20: Total Change in Rates (Lines 5+8+13) 4/ | C20: =C12+C16+C18 -> 75.079957 | D20: 0.052 | F20: =F12+F16+F18 -> #REF! | G20: 0.087 | I20: =I12+I16+I18 -> #REF! | J20: 0.03 | L20: =L12+L16+L18 -> #REF! | M20: 0.012 | O20: =O12+O16+O18 -> #REF! | P20: 0.027 | R20: =R12+R16+R18 -> #REF! | S20: 0.03 | U20: =U12+U16+U18 -> #REF! | V20: 0.034
A22: 11 | B22: Revenues | D22: =-0.002 -> -0.002 | G22: -0.01488 | J22: =G22-D22 -> -0.01288
A24: 12 | B24: Total Change in Rates (Row 10+11) 4/ | D24: =D22+D20 -> 0.05 | G24: =G20+G22 -> 0.07212 | J24: =G24-D24 -> 0.02212
A26: 1/ The Ancillary Services forecast has been modified to reflect levels filed in the Errata to BP-14 Final Proposal
A27: 2/ Use of reserves in BP-14 included $20 million/yr for rate mitigation.
A28: 3/ Includes Net Interest Expense, Depreciation/Amortization and Minimum Required Net Revenues
A29: 4/ Change in rates reflects average across all segments.
A32: INCOME STATEMENT | I32: AVG | M32: AVG | O32: AVG | P32: AVG | R32: AVG | S32: AVG | U32: AVG | V32: AVG | AC32: AVG | AD32: AVG | AE32: AVG | AF32: AVG | AG32: AVG | AH32: AVG | AI32: AVG | AJ32: AVG
F33: BP-14 FP | I33: BP-14 | K33: BP-16 IP | M33: BP-16 | O33: BP-18 | P33: BP-20 | R33: BP-22 | S33: BP-24 | U33: BP-26 | V33: BP-28 | X33: CAPITAL RELATED COST | AC33: BP-14 | AD33: BP-16 | AE33: BP-18 | AF33: BP-20 | AG33: BP-22 | AH33: BP-24 | AI33: BP-26 | AJ33: BP-28
A34: OPERATING EXPENSES | F34: 2014 | G34: 2015 | J34: 2016 | L34: 2017 | X34: DEPRECIATION & AMORTIZATION | AC34: =I42 -> 197303 | AD34: =M42 -> 249531.19 | AE34: =O42 -> 356029.38 | AF34: =P42 -> 390477.19 | AG34: =R42 -> 431924.68 | AH34: =S42 -> #REF! | AI34: =U42 -> #REF! | AJ34: =V42 -> #REF!
B35: TRANSMISSION OPERATIONS | F35: 140729 | G35: 144346 | I35: =AVERAGE(F35:G35) -> 142537.5 | J35: 155274.47 | L35: 160800.45 | M35: =AVERAGE(J35:L35) -> 158037.46 | O35: =AVERAGE('Revenue Requirement'!E5:F5) -> 198066.84 | P35: =AVERAGE('Revenue Requirement'!G5:H5) -> 229083.48 | R35: =AVERAGE('Revenue Requirement'!I5:I5) -> 253776.56 | S35: =AVERAGE('Revenue Requirement'!#REF!) -> #REF! | U35: =AVERAGE('Revenue Requirement'!#REF!) -> #REF! | V35: =AVERAGE('Revenue Requirement'!#REF!) -> #REF! | X35: NET INTEREST EXPENSE | AC35: =I45 -> 151868.5 | AD35: =M45 -> 154042.02 | AE35: =O45 -> #N/A | AF35: =P45 -> 222443.72 | AG35: =R45 -> 281056.3 | AH35: =S45 -> #REF! | AI35: =U45 -> #REF! | AJ35: =V45 -> #REF!
B36: TRANSMISSION ENGINEERING | F36: 41638 | G36: 41769 | I36: =AVERAGE(F36:G36) -> 41703.5 | J36: 48746.031 | L36: 49146.964 | M36: =AVERAGE(J36:L36) -> 48946.497 | O36: =AVERAGE('Revenue Requirement'!E6:F6) -> 58580.092 | P36: =AVERAGE('Revenue Requirement'!G6:H6) -> 75594.724 | R36: =AVERAGE('Revenue Requirement'!I6:I6) -> 80792.517 | S36: =AVERAGE('Revenue Requirement'!#REF!) -> #REF! | U36: =AVERAGE('Revenue Requirement'!#REF!) -> #REF! | V36: =AVERAGE('Revenue Requirement'!#REF!) -> #REF! | X36: MINIMUM REQUIRED NET REVENUE | AC36: =I49 -> 138796 | AD36: =M49 -> 98128.281 | AE36: =O49 -> -32750.799 | AF36: =P49 -> 163813.87 | AG36: =R49 -> 172910.79 | AH36: =S49 -> #REF! | AI36: =U49 -> #REF! | AJ36: =V49 -> #REF!
B37: TRANSMISSION MAINTENANCE | F37: 154234 | G37: 157893 | I37: =AVERAGE(F37:G37) -> 156063.5 | J37: 162551.64 | L37: 164272.17 | M37: =AVERAGE(J37:L37) -> 163411.91 | O37: =AVERAGE('Revenue Requirement'!E7:F7) -> 196836.96 | P37: =AVERAGE('Revenue Requirement'!G7:H7) -> 232092.78 | R37: =AVERAGE('Revenue Requirement'!I7:I7) -> 252997.99 | S37: =AVERAGE('Revenue Requirement'!#REF!) -> #REF! | U37: =AVERAGE('Revenue Requirement'!#REF!) -> #REF! | V37: =AVERAGE('Revenue Requirement'!#REF!) -> #REF! | AC37: =SUM(AC34:AC36) -> 487967.5 | AD37: =SUM(AD34:AD36) -> 501701.5 | AE37: =SUM(AE34:AE36) -> #N/A | AF37: =SUM(AF34:AF36) -> 776734.78 | AG37: =SUM(AG34:AG36) -> 885891.78 | AH37: =SUM(AH34:AH36) -> #REF! | AI37: =SUM(AI34:AI36) -> #REF! | AJ37: =SUM(AJ34:AJ36) -> #REF!
B38: TRANSMISSION ACQ & ANCILLARY SERVICES | F38: 131287 | G38: 134244 | I38: =AVERAGE(F38:G38) -> 132765.5 | J38: 140766.92 | L38: 140782.48 | M38: =AVERAGE(J38:L38) -> 140774.7 | O38: =AVERAGE('Revenue Requirement'!E8:F8) -> 120744.32 | P38: =AVERAGE('Revenue Requirement'!G8:H8) -> 146360.29 | R38: =AVERAGE('Revenue Requirement'!I8:I8) -> 146179.46 | S38: =AVERAGE('Revenue Requirement'!#REF!) -> #REF! | U38: =AVERAGE('Revenue Requirement'!#REF!) -> #REF! | V38: =AVERAGE('Revenue Requirement'!#REF!) -> #REF!
B39: BPA INTERNAL SUPPORT | F39: 78428 | G39: 80902 | I39: =AVERAGE(F39:G39) -> 79665 | J39: 85106.018 | L39: 86914.778 | M39: =AVERAGE(J39:L39) -> 86010.398 | O39: =AVERAGE('Revenue Requirement'!E9:F9) -> 137981.33 | P39: =AVERAGE('Revenue Requirement'!G9:H9) -> 211334.83 | R39: =AVERAGE('Revenue Requirement'!I9:I9) -> 230576.47 | S39: =AVERAGE('Revenue Requirement'!#REF!) -> #REF! | U39: =AVERAGE('Revenue Requirement'!#REF!) -> #REF! | V39: =AVERAGE('Revenue Requirement'!#REF!) -> #REF! | X39: CAPITAL FORECAST | AC39: =AVERAGE('Capital Input File'!C58:D58) -> 477984.25 | AD39: =AVERAGE('Capital Input File'!E58:F58) -> 511000.8 | AE39: =AVERAGE('Capital Input File'!G58:H58) -> 448476.5 | AF39: =AVERAGE('Capital Input File'!I58:J58) -> 423163.16 | AG39: =AVERAGE('Capital Input File'!K58:L58) -> 401480.43 | AH39: ='Capital Input File'!M58 -> 397945.01 | AI39: =AH39 -> 397945.01 | AJ39: =AI39 -> 397945.01
B40: OTHER INCOME, EXPENSES & ADJUSTMENTS | F40: -20000 | G40: -20000 | I40: =AVERAGE(F40:G40) -> -20000 | J40: -2100 | L40: -2100 | M40: =AVERAGE(J40:L40) -> -2100 | O40: =AVERAGE('Revenue Requirement'!E10:F10) -> 0 | P40: =AVERAGE('Revenue Requirement'!G10:H10) -> 0 | R40: =AVERAGE('Revenue Requirement'!I10:I10) -> 0 | S40: =AVERAGE('Revenue Requirement'!#REF!) -> #REF! | U40: =AVERAGE('Revenue Requirement'!#REF!) -> #REF! | V40: =AVERAGE('Revenue Requirement'!#REF!) -> #REF! | X40: PIS FORECAST | AC40: =AVERAGE(AFUDC!F18:G18) -> #DIV/0! | AD40: =AVERAGE(AFUDC!H18:I18) -> #DIV/0! | AE40: =AVERAGE(AFUDC!J18:K18) -> #DIV/0! | AF40: =AVERAGE(AFUDC!L18:M18) -> #DIV/0! | AG40: =AVERAGE(AFUDC!N18:O18) -> 522644.57 | AH40: =AVERAGE(AFUDC!P18:Q18) -> 600558.45 | AI40: =AVERAGE(AFUDC!R18:S18) -> 558546.54 | AJ40: =AVERAGE(AFUDC!T18:U18) -> 554280.12
B41: OTHER - USE OF RESERVES FOR RATE RELIEF | F41: -20000 | G41: -20000 | I41: =AVERAGE(F41:G41) -> -20000 | J41: 0 | L41: 0 | M41: =AVERAGE(J41:L41) -> 0 | O41: =AVERAGE('Revenue Requirement'!#REF!) -> #REF! | P41: =AVERAGE('Revenue Requirement'!#REF!) -> #REF! | R41: =AVERAGE('Revenue Requirement'!#REF!) -> #REF! | S41: =AVERAGE('Revenue Requirement'!#REF!) -> #REF! | U41: =AVERAGE('Revenue Requirement'!#REF!) -> #REF! | V41: =AVERAGE('Revenue Requirement'!#REF!) -> #REF!
B42: DEPRECIATION & AMORTIZATION | F42: 192141 | G42: 202465 | I42: =AVERAGE(F42:G42) -> 197303 | J42: 239852.19 | L42: 259210.19 | M42: =AVERAGE(J42:L42) -> 249531.19 | O42: =AVERAGE('Revenue Requirement'!E11:F11) -> 356029.38 | P42: =AVERAGE('Revenue Requirement'!G11:H11) -> 390477.19 | R42: =AVERAGE('Revenue Requirement'!I11:I11) -> 431924.68 | S42: =AVERAGE('Revenue Requirement'!#REF!) -> #REF! | U42: =AVERAGE('Revenue Requirement'!#REF!) -> #REF! | V42: =AVERAGE('Revenue Requirement'!#REF!) -> #REF! | AD42: Celilo | AF42: I-5 Upgrade
A43: TOTAL OPERATING EXPENSES | F43: =F35+F36+F37+F38+F39+F40+F42 -> 718457 | G43: =G35+G36+G37+G38+G39+G40+G42 -> 741619 | I43: =AVERAGE(F43:G43) -> 730038 | J43: 830197.27 | L43: 859027.04 | M43: =AVERAGE(J43:L43) -> 844612.15 | O43: =AVERAGE('Revenue Requirement'!E12:F12) -> 1068238.9 | P43: =AVERAGE('Revenue Requirement'!G12:H12) -> 1284943.3 | R43: =AVERAGE('Revenue Requirement'!I12:I12) -> 1396247.7 | S43: =AVERAGE('Revenue Requirement'!#REF!) -> #REF! | U43: =AVERAGE('Revenue Requirement'!#REF!) -> #REF! | V43: =AVERAGE('Revenue Requirement'!#REF!) -> #REF!
A45: NET INTEREST EXPENSE | F45: 143924 | G45: 159813 | I45: =AVERAGE(F45:G45) -> 151868.5 | J45: 150702.18 | L45: 157381.87 | M45: =AVERAGE(J45:L45) -> 154042.02 | O45: =AVERAGE('Revenue Requirement'!E26:F26) -> #N/A | P45: =AVERAGE('Revenue Requirement'!G26:H26) -> 222443.72 | R45: =AVERAGE('Revenue Requirement'!I26:I26) -> 281056.3 | S45: =AVERAGE('Revenue Requirement'!#REF!) -> #REF! | U45: =AVERAGE('Revenue Requirement'!#REF!) -> #REF! | V45: =AVERAGE('Revenue Requirement'!#REF!) -> #REF!
A47: TOTAL REVENUE REQUIREMENT | F47: =F45+F43 -> 862381 | G47: =G45+G43 -> 901432 | I47: =AVERAGE(F47:G47) -> 881906.5 | J47: =J45+J43+J49 -> 1090709.1 | L47: =L45+L43+L49 -> 1102855.8 | M47: =AVERAGE(J47:L47) -> 1096782.5 | O47: =O45+O43+O49 -> #N/A | P47: =P45+P43+P49 -> 1671200.9 | R47: =R45+R43+R49 -> 1850214.8 | S47: =S45+S43+S49 -> #REF! | U47: =U45+U43+U49 -> #REF! | V47: =V45+V43+V49 -> #REF!
A49: MINIMUM REQUIRED NET REVENUE 1/ | F49: 147145 | G49: 130447 | I49: =AVERAGE(F49:G49) -> 138796 | J49: 109809.67 | L49: 86446.889 | M49: =AVERAGE(J49:L49) -> 98128.281 | O49: =AVERAGE('Revenue Requirement'!E30:F30) -> -32750.799 | P49: =AVERAGE('Revenue Requirement'!G30:H30) -> 163813.87 | R49: =AVERAGE('Revenue Requirement'!I30:I30) -> 172910.79 | S49: =AVERAGE('Revenue Requirement'!#REF!) -> #REF! | U49: =AVERAGE('Revenue Requirement'!#REF!) -> #REF! | V49: =AVERAGE('Revenue Requirement'!#REF!) -> #REF!
A51: CAPITAL RELATED COST | F51: =F49+F45+F42 -> 483210 | G51: =G49+G45+G42 -> 492725 | I51: =I49+I45+I42 -> 487967.5 | J51: 500364.05 | L51: 503038.95 | M51: =M49+M45+M42 -> 501701.5 | O51: 532434.67 | P51: 608911.21 | R51: 657746.81 | S51: 704224.76 | U51: 743299.57 | V51: 790198.13
M53: =SUM(M35:M40) -> 595080.96 | O53: =SUM(O35:O40)-O38 -> 591465.22 | P53: =SUM(P35:P40)-P38 -> 748105.81 | R53: =SUM(R35:R40)-R38 -> 818143.53 | S53: =SUM(S35:S40)-S38 -> #REF! | U53: =SUM(U35:U40)-U38 -> #REF! | V53: =SUM(V35:V40)-V38 -> #REF!
O54: =(O53-M53)/O53 -> -0.0061131856 | P54: =(P53-O53)/P53 -> 0.20938293 | R54: =(R53-P53)/R53 -> 0.085605656 | S54: =(S53-R53)/S53 -> #REF! | U54: =(U53-S53)/U53 -> #REF! | V54: =(V53-U53)/V53 -> #REF!
M55: =M38 -> 140774.7 | O55: =O38 -> 120744.32 | P55: =P38 -> 146360.29 | R55: =R38 -> 146179.46 | S55: =S38 -> #REF! | U55: =U38 -> #REF! | V55: =V38 -> #REF!
O56: =(O55-M55)/O55 -> -0.16589084 | P56: =(P55-O55)/P55 -> 0.17501991 | R56: =(R55-P55)/R55 -> -0.0012370516 | S56: =(S55-R55)/S55 -> #REF! | U56: =(U55-S55)/U55 -> #REF! | V56: =(V55-U55)/V55 -> #REF!
M57: =M51 -> 501701.5 | O57: =O51 -> 532434.67 | P57: =P51 -> 608911.21 | R57: =R51 -> 657746.81 | S57: =S51 -> 704224.76 | U57: =U51 -> 743299.57 | V57: =V51 -> 790198.13
...

Sheet Rates Crosswalk
B1: A | C1: B | E1: C | F1: D | H1: E | I1: F | K1: G | L1: H | N1: I | O1: J
B2: Change from BP-18 to FY20/21 | E2: Change from FY20/21 to FY22/23 | H2: Change from FY22/23 to FY 24/25 | K2: Change from FY24/25 to FY26/27/28 | N2: Change from FY26/27/28 to FY29/30 | T2: HELD TO BP-18 FINAL PROPOSAL
A3: Expenses | B3: $ (Million) | C3: % Change in Rates | E3: $ (Million) | F3: % Change in Rates | H3: $ (Million) | I3: % Change in Rates | K3: $ (Million) | L3: % Change in Rates | N3: $ (Million) | O3: % Change in Rates | R3: DATA FOR CROSSWALK | T3: AVG 18/19 | U3: AVG 20/21 | V3: AVG 22/23 | W3: AVG 24/25 | X3: AVG 26/27/28 | Y3: AVG 29/30
A4: 1. Operations | B4: =(U5-T5)/1000 -> 30.538177 | C4: =(B4/B$16)*C$16 -> #REF! | E4: =(V5-U5)/1000 -> 31.016639 | F4: =(E4/E$16)*F$16 -> #REF! | H4: =(W5-V5)/1000 -> 24.693077 | I4: =(H4/H$16)*I$16 -> #REF! | K4: =(X5-W5)/1000 -> #REF! | L4: =(K4/K$16)*L$16 -> #REF! | N4: =(Y5-X5)/1000 -> #REF! | O4: =(N4/N$16)*O$16 -> #REF! | R4: OPERATING EXPENSES
A5: 2. Maintenance | B5: =(U7-T7)/1000 -> 19.484338 | C5: =(B5/B$16)*C$16 -> #REF! | E5: =(V7-U7)/1000 -> 35.255823 | F5: =(E5/E$16)*F$16 -> #REF! | H5: =(W7-V7)/1000 -> 20.905208 | I5: =(H5/H$16)*I$16 -> #REF! | K5: =(X7-W7)/1000 -> #REF! | L5: =(K5/K$16)*L$16 -> #REF! | N5: =(Y7-X7)/1000 -> #REF! | O5: =(N5/N$16)*O$16 -> #REF! | S5: TRANSMISSION OPERATIONS | T5: 167528.66 | U5: =AVERAGE('Revenue Requirement'!E5:F5) -> 198066.84 | V5: =AVERAGE('Revenue Requirement'!G5:H5) -> 229083.48 | W5: =AVERAGE('Revenue Requirement'!I5:I5) -> 253776.56 | X5: =AVERAGE('Revenue Requirement'!#REF!) -> #REF! | Y5: =AVERAGE('Revenue Requirement'!#REF!) -> #REF!
A6: 3. Engineering | B6: =(U6-T6)/1000 -> 1.5460163 | C6: =(B6/B$16)*C$16 -> #REF! | E6: =(V6-U6)/1000 -> 17.014632 | F6: =(E6/E$16)*F$16 -> #REF! | H6: =(W6-V6)/1000 -> 5.1977935 | I6: =(H6/H$16)*I$16 -> #REF! | K6: =(X6-W6)/1000 -> #REF! | L6: =(K6/K$16)*L$16 -> #REF! | N6: =(Y6-X6)/1000 -> #REF! | O6: =(N6/N$16)*O$16 -> #REF! | S6: TRANSMISSION ENGINEERING | T6: 57034.075 | U6: =AVERAGE('Revenue Requirement'!E6:F6) -> 58580.092 | V6: =AVERAGE('Revenue Requirement'!G6:H6) -> 75594.724 | W6: =AVERAGE('Revenue Requirement'!I6:I6) -> 80792.517 | X6: =AVERAGE('Revenue Requirement'!#REF!) -> #REF! | Y6: =AVERAGE('Revenue Requirement'!#REF!) -> #REF!
A7: 4. Ancillary Services (Non-Between Business Line) | B7: =(U24-T24)/1000 -> -6.067489 | C7: =(B7/B$16)*C$16 -> #REF! | E7: =(V24-U24)/1000 -> -0.32992985 | F7: =(E7/E$16)*F$16 -> #REF! | H7: =(W24-V24)/1000 -> -0.51476537 | I7: =(H7/H$16)*I$16 -> #REF! | K7: =(X24-W24)/1000 -> 0 | L7: =(K7/K$16)*L$16 -> #REF! | N7: =(Y24-X24)/1000 -> #REF! | O7: =(N7/N$16)*O$16 -> #REF! | S7: TRANSMISSION MAINTENANCE INCLUDING ENVIRONMENT | T7: 177352.62 | U7: =AVERAGE('Revenue Requirement'!E7:F7) -> 196836.96 | V7: =AVERAGE('Revenue Requirement'!G7:H7) -> 232092.78 | W7: =AVERAGE('Revenue Requirement'!I7:I7) -> 252997.99 | X7: =AVERAGE('Revenue Requirement'!#REF!) -> #REF! | Y7: =AVERAGE('Revenue Requirement'!#REF!) -> #REF!
A8: 5. Internal Support & Undistributed Reduction | B8: =((SUM(U9:U10))-(SUM(T9:T10)))/1000 -> 51.251392 | C8: =(B8/B$16)*C$16 -> #REF! | E8: =((SUM(V9:V10))-(SUM(U9:U10)))/1000 -> 73.353495 | F8: =(E8/E$16)*F$16 -> #REF! | H8: =((SUM(W9:W10))-(SUM(V9:V10)))/1000 -> 19.241635 | I8: =(H8/H$16)*I$16 -> #REF! | K8: =((SUM(X9:X10))-(SUM(W9:W10)))/1000 -> #REF! | L8: =(K8/K$16)*L$16 -> #REF! | N8: =((SUM(Y9:Y10))-(SUM(X9:X10)))/1000 -> #REF! | O8: =(N8/N$16)*O$16 -> #REF! | S8: TRANSMISSION ACQ & ANCILLARY SERVICES | T8: 115721.53 | U8: =AVERAGE('Revenue Requirement'!E8:F8) -> 120744.32 | V8: =AVERAGE('Revenue Requirement'!G8:H8) -> 146360.29 | W8: =AVERAGE('Revenue Requirement'!I8:I8) -> 146179.46 | X8: =AVERAGE('Revenue Requirement'!#REF!) -> #REF! | Y8: =AVERAGE('Revenue Requirement'!#REF!) -> #REF!
A9: 6. IPR Sub-Total | B9: =SUM(B4:B8) -> 96.752435 | C9: =SUM(C4:C8) -> #REF! | E9: =SUM(E4:E8) -> 156.31066 | F9: =SUM(F4:F8) -> #REF! | H9: =SUM(H4:H8) -> 69.522948 | I9: =SUM(I4:I8) -> #REF! | K9: =SUM(K4:K8) -> #REF! | L9: =SUM(L4:L8) -> #REF! | N9: =SUM(N4:N8) -> #REF! | O9: =SUM(O4:O8) -> #REF! | S9: BPA INTERNAL SUPPORT | T9: 94773.398 | U9: =AVERAGE('Revenue Requirement'!E9:F9) -> 137981.33 | V9: =AVERAGE('Revenue Requirement'!G9:H9) -> 211334.83 | W9: =AVERAGE('Revenue Requirement'!I9:I9) -> 230576.47 | X9: =AVERAGE('Revenue Requirement'!#REF!) -> #REF! | Y9: =AVERAGE('Revenue Requirement'!#REF!) -> #REF!
S10: OTHER INCOME, EXPENSES & ADJUSTMENTS | T10: -8043.456 | U10: =AVERAGE('Revenue Requirement'!E10:F10) -> 0 | V10: =AVERAGE('Revenue Requirement'!G10:H10) -> 0 | W10: =AVERAGE('Revenue Requirement'!I10:I10) -> 0 | X10: =AVERAGE('Revenue Requirement'!#REF!) -> #REF! | Y10: =AVERAGE('Revenue Requirement'!#REF!) -> #REF!
A11: 7. Ancillary Services (Between Business Line) | B11: =(U23-T23)/1000 -> -0.72919415 | C11: =(B11/B$16)*C$16 -> #REF! | E11: =(V23-U23)/1000 -> 7.840755 | F11: =(E11/E$16)*F$16 -> #REF! | H11: =(W23-V23)/1000 -> 29.302894 | I11: =(H11/H$16)*I$16 -> #REF! | K11: =(X23-W23)/1000 -> -0.18083154 | L11: =(K11/K$16)*L$16 -> #REF! | N11: =(Y23-X23)/1000 -> #REF! | O11: =(N11/N$16)*O$16 -> #REF!
A12: 8. Non-IPR Sub-Total | B12: =SUM(B11:B11) -> -0.72919415 | C12: =SUM(C11) -> #REF! | E12: =SUM(E11:E11) -> 7.840755 | F12: =SUM(F11) -> #REF! | H12: =SUM(H11:H11) -> 29.302894 | I12: =SUM(I11) -> #REF! | K12: =SUM(K11:K11) -> -0.18083154 | L12: =SUM(L11) -> #REF! | N12: =SUM(N11:N11) -> #REF! | O12: =SUM(O11) -> #REF! | S12: DEPRECIATION & AMORTIZATION | T12: 278792.94 | U12: =AVERAGE('Revenue Requirement'!E11:F11) -> 356029.38 | V12: =AVERAGE('Revenue Requirement'!G11:H11) -> 390477.19 | W12: =AVERAGE('Revenue Requirement'!I11:I11) -> 431924.68 | X12: =AVERAGE('Revenue Requirement'!#REF!) -> #REF! | Y12: =AVERAGE('Revenue Requirement'!#REF!) -> #REF!
R13: TOTAL OPERATING EXPENSES | T13: 883159.77 | U13: =AVERAGE('Revenue Requirement'!E12:F12) -> 1068238.9 | V13: =AVERAGE('Revenue Requirement'!G12:H12) -> 1284943.3 | W13: =AVERAGE('Revenue Requirement'!I12:I12) -> 1396247.7 | X13: =AVERAGE('Revenue Requirement'!#REF!) -> #REF! | Y13: =AVERAGE('Revenue Requirement'!#REF!) -> #REF!
A14: 9. Capital Related Costs 1/ | B14: =(U21-T21)/1000 -> #REF! | C14: =(B14/B$16)*C$16 -> #REF! | E14: =(V21-U21)/1000 -> #REF! | F14: =(E14/E$16)*F$16 -> #REF! | H14: =(W21-V21)/1000 -> #REF! | I14: =(H14/H$16)*I$16 -> #REF! | K14: =(X21-W21)/1000 -> #REF! | L14: =(K14/K$16)*L$16 -> #REF! | N14: =(Y21-X21)/1000 -> #REF! | O14: =(N14/N$16)*O$16 -> #REF!
R15: NET INTEREST EXPENSE | T15: 156196.3 | U15: =AVERAGE('Revenue Requirement'!E26:F26) -> #N/A | V15: =AVERAGE('Revenue Requirement'!G26:H26) -> 222443.72 | W15: =AVERAGE('Revenue Requirement'!I26:I26) -> 281056.3 | X15: =AVERAGE('Revenue Requirement'!#REF!) -> #REF! | Y15: =AVERAGE('Revenue Requirement'!#REF!) -> #REF!
A16: 10. Total Revenue Requirement (Lines 5+7+8) 2/ | B16: =SUM(B14,B12,B9) -> #REF! | C16: =(B16/B$20)*C$20 -> #REF! | E16: =SUM(E9,E12,E14) -> #REF! | F16: =(E16/E$20)*F$20 -> #REF! | H16: =SUM(H9,H12,H14) -> #REF! | I16: =(H16/H$20)*I$20 -> #REF! | K16: =SUM(K9,K12,K14) -> #REF! | L16: =(K16/K$20)*L$20 -> #REF! | N16: =SUM(N9,N12,N14) -> #REF! | O16: =(N16/N$20)*O$20 -> #REF!
R17: MINIMUM REQUIRED NET REVENUE 1/ | T17: 4486.9295 | U17: =AVERAGE('Revenue Requirement'!E32:F32) -> -32750.799 | V17: =AVERAGE('Revenue Requirement'!G32:H32) -> 163813.87 | W17: =AVERAGE('Revenue Requirement'!I32:I32) -> 172910.79 | X17: =AVERAGE('Revenue Requirement'!#REF!) -> #REF! | Y17: =AVERAGE('Revenue Requirement'!#REF!) -> #REF!
A18: 11. Revenues | B18: =U28 -> 0 | C18: =(-B18/B$20)*C$20 -> #REF! | E18: =U29 -> 0 | F18: =(-E18/E$20)*F$20 -> #REF! | H18: =U30 -> 0 | I18: =(-H18/H$20)*I$20 -> #REF! | K18: =U31 -> 0 | L18: =(-K18/K$20)*L$20 -> #REF! | N18: =U32 -> 0 | O18: =(-N18/N$20)*O$20 -> #REF!
R19: TOTAL REVENUE REQUIREMENT | T19: 1043843 | U19: =AVERAGE('Revenue Requirement'!E34:F34) -> #N/A | V19: =AVERAGE('Revenue Requirement'!G34:H34) -> 1671200.9 | W19: =AVERAGE('Revenue Requirement'!I34:I34) -> 1850214.8 | X19: =AVERAGE('Revenue Requirement'!#REF!) -> #REF! | Y19: =AVERAGE('Revenue Requirement'!#REF!) -> #REF!
A20: 12. Total Change (Line 10 less Line 11) | B20: =B16-B18 -> #REF! | C20: =T28 -> 0 | E20: =E16-E18 -> #REF! | F20: =T29 -> 0 | H20: =H16-H18 -> #REF! | I20: =T30 -> 0 | K20: =K16-K18 -> #REF! | L20: =T31 -> 0 | N20: =N16-N18 -> #REF! | O20: =T32 -> 0
R21: CAPITAL RELATED COSTS | T21: 439476.17 | U21: =AVERAGE('Revenue Requirement'!#REF!) -> #REF! | V21: =AVERAGE('Revenue Requirement'!#REF!) -> #REF! | W21: =AVERAGE('Revenue Requirement'!#REF!) -> #REF! | X21: =AVERAGE('Revenue Requirement'!#REF!) -> #REF! | Y21: =AVERAGE('Revenue Requirement'!#REF!) -> #REF!
A22: 1/ Includes Net Interest Expense, Depreciation/Amortization and Minimum Required Net Revenues.
A23: 2/ Change in rates reflects average across all segments. | R23: BETWEEN BUSINESS LINE ANCILLARY SERVICES | T23: 104974.45 | U23: =AVERAGE('Expense Input File'!F90:G90) -> 104245.26 | V23: =AVERAGE('Expense Input File'!H90:I90) -> 112086.01 | W23: =AVERAGE('Expense Input File'!J90:K90) -> 141388.91 | X23: =AVERAGE('Expense Input File'!L90:L90) -> 141208.08 | Y23: =AVERAGE('Expense Input File'!#REF!) -> #REF!
R24: NON-BETWEEN BUSINESS LINE ANCILLARY SERVICES | T24: 10747.074 | U24: =AVERAGE('Expense Input File'!F89:G89) -> 4679.585 | V24: =AVERAGE('Expense Input File'!H89:I89) -> 4349.6552 | W24: =AVERAGE('Expense Input File'!J89:K89) -> 3834.8898 | X24: =AVERAGE('Expense Input File'!L89:L89) -> 3834.8898 | Y24: =AVERAGE('Expense Input File'!#REF!) -> #REF!
R25: Ancillary Services Total Check | T25: =(SUM(T23:T24))=T8 -> TRUE | U25: =(SUM(U23:U24))=U8 -> FALSE | V25: =(SUM(V23:V24))=V8 -> FALSE | W25: =(SUM(W23:W24))=W8 -> FALSE | X25: =(SUM(X23:X24))=X8 -> #REF! | Y25: =(SUM(Y23:Y24))=Y8 -> #REF!
S27: Inputs from Rates | T27: Total % Change | U27: Revenues
S28: BP-18 FP to FY20/21
S29: FY20/21 to FY22/23
S30: FY22/23 to FY24/25
S31: FY24/25 to FY26/27/28
S32: FY26/27/28 to FY29/30
S34: Last Updated Rates Version:
S35: Date Updated:

Sheet Revenue Requirement
C1: BP22 FP | E1: BP24
A2: INCOME STATEMENT | C2: 2022 | D2: =C2+1 -> 2023 | E2: 2024 | F2: =E2+1 -> 2025 | G2: 2026 | H2: =G2+1 -> 2027 | I2: =H2+1 -> 2028
A4: OPERATING EXPENSES
B5: TRANSMISSION OPERATIONS | C5: 168710.53 | D5: 171594.53 | E5: =HLOOKUP(E$2,'Expense Input File'!$D$14:$L$21,2,FALSE) -> 194646.81 | F5: =HLOOKUP(F$2,'Expense Input File'!$D$14:$L$21,2,FALSE) -> 201486.87 | G5: =HLOOKUP(G$2,'Expense Input File'!$D$14:$L$21,2,FALSE) -> 220399.58 | H5: =HLOOKUP(H$2,'Expense Input File'!$D$14:$L$21,2,FALSE) -> 237767.37 | I5: =HLOOKUP(I$2,'Expense Input File'!$D$14:$L$21,2,FALSE) -> 253776.56
B6: TRANSMISSION ENGINEERING | C6: 56569.63 | D6: 57094.456 | E6: =HLOOKUP(E$2,'Expense Input File'!$D$14:$L$21,3,FALSE) -> 58098.646 | F6: =HLOOKUP(F$2,'Expense Input File'!$D$14:$L$21,3,FALSE) -> 59061.538 | G6: =HLOOKUP(G$2,'Expense Input File'!$D$14:$L$21,3,FALSE) -> 73816.91 | H6: =HLOOKUP(H$2,'Expense Input File'!$D$14:$L$21,3,FALSE) -> 77372.537 | I6: =HLOOKUP(I$2,'Expense Input File'!$D$14:$L$21,3,FALSE) -> 80792.517
B7: TRANSMISSION MAINTENANCE INCLUDING ENVIRONMENT | C7: 177560.31 | D7: 179860.31 | E7: =HLOOKUP(E$2,'Expense Input File'!$D$14:$L$21,4,FALSE) -> 193858.09 | F7: =HLOOKUP(F$2,'Expense Input File'!$D$14:$L$21,4,FALSE) -> 199815.82 | G7: =HLOOKUP(G$2,'Expense Input File'!$D$14:$L$21,4,FALSE) -> 224667.21 | H7: =HLOOKUP(H$2,'Expense Input File'!$D$14:$L$21,4,FALSE) -> 239518.35 | I7: =HLOOKUP(I$2,'Expense Input File'!$D$14:$L$21,4,FALSE) -> 252997.99
B8: TRANSMISSION ACQ & ANCILLARY SERVICES | C8: 109596.64 | D8: 110278.05 | E8: =HLOOKUP(E$2,'Expense Input File'!$D$14:$L$94,6,FALSE)+HLOOKUP(E$2,'Expense Input File'!$D$14:$L$94,70,FALSE) -> 120743.1 | F8: =HLOOKUP(F$2,'Expense Input File'!$D$14:$L$94,6,FALSE)+HLOOKUP(F$2,'Expense Input File'!$D$14:$L$94,70,FALSE) -> 120745.54 | G8: =+'Expense Input File'!J91+'Expense Input File'!J$94 -> 146541.12 | H8: =+'Expense Input File'!K91+'Expense Input File'!K$94 -> 146179.46 | I8: =+'Expense Input File'!L91+'Expense Input File'!L$94 -> 146179.46
B9: BPA INTERNAL SUPPORT | C9: 103195.5 | D9: 104681.44 | E9: =HLOOKUP(E$2,'Expense Input File'!$D$14:$L$21,7,FALSE) -> 136027.43 | F9: =HLOOKUP(F$2,'Expense Input File'!$D$14:$L$21,7,FALSE) -> 139935.24 | G9: =HLOOKUP(G$2,'Expense Input File'!$D$14:$L$21,7,FALSE) -> 202978.69 | H9: =HLOOKUP(H$2,'Expense Input File'!$D$14:$L$21,7,FALSE) -> 219690.97 | I9: =HLOOKUP(I$2,'Expense Input File'!$D$14:$L$21,7,FALSE) -> 230576.47
B10: OTHER INCOME, EXPENSES & ADJUSTMENTS | C10: 0 | D10: 0 | E10: =HLOOKUP(E$2,'Expense Input File'!$D$14:$L$21,8,FALSE) -> 0 | F10: =HLOOKUP(F$2,'Expense Input File'!$D$14:$L$21,8,FALSE) -> 0 | G10: =HLOOKUP(G$2,'Expense Input File'!$D$14:$L$21,8,FALSE) -> 0 | H10: =HLOOKUP(H$2,'Expense Input File'!$D$14:$L$21,8,FALSE) -> 0 | I10: =HLOOKUP(I$2,'Expense Input File'!$D$14:$L$21,8,FALSE) -> 0
B11: DEPRECIATION & AMORTIZATION | C11: 345302.92 | D11: 349991.26 | E11: 359415.71 | F11: 352643.05 | G11: 377162.05 | H11: 403792.33 | I11: 431924.68
A12: TOTAL OPERATING EXPENSES | C12: 960935.52 | D12: 973500.04 | E12: =SUM(E5:E10,E11) -> 1062789.8 | F12: =SUM(F5:F10,F11) -> 1073688.1 | G12: =SUM(G5:G10,G11) -> 1245565.6 | H12: =SUM(H5:H10,H11) -> 1324321 | I12: =SUM(I5:I10,I11) -> 1396247.7
A15: INTEREST EXPENSE
B16: INTEREST EXPENSE
B17: FEDERAL APPROPRIATIONS | C17: 0 | D17: 0 | E17: =HLOOKUP(E$2,'Repayment Inputs'!$D$2:$J$44,4,FALSE) -> 0 | F17: =HLOOKUP(F$2,'Repayment Inputs'!$D$2:$J$44,4,FALSE) -> 0 | G17: =HLOOKUP(G$2,'Repayment Inputs'!$D$2:$J$44,4,FALSE) -> 0 | H17: =HLOOKUP(H$2,'Repayment Inputs'!$D$2:$J$44,4,FALSE) -> 0 | I17: =HLOOKUP(I$2,'Repayment Inputs'!$D$2:$J$44,4,FALSE) -> 0
B18: CAPITALIZATION ADJUSTMENT | C18: -18968 | D18: -18968 | E18: -18968 | F18: -18968 | G18: -18968 | H18: -18968 | I18: -18968
B19: ON LONG-TERM DEBT | C19: 108188.94 | D19: 115052.02 | E19: =HLOOKUP(E$2,'Repayment Inputs'!$D$2:$J$44,5,FALSE) -> 130463 | F19: =HLOOKUP(F$2,'Repayment Inputs'!$D$2:$J$44,5,FALSE) -> 171274 | G19: =HLOOKUP(G$2,'Repayment Inputs'!$D$2:$J$44,11,FALSE) -> 212946 | H19: =HLOOKUP(H$2,'Repayment Inputs'!$D$2:$J$44,11,FALSE) -> 258415 | I19: =HLOOKUP(I$2,'Repayment Inputs'!$D$2:$J$44,11,FALSE) -> 305688
B20: AMORTIZATION OF CAPITALIZED BOND PREMIUMS | C20: 558.55198 | D20: 558.55198 | E20: 558.55198 | F20: 558.55198 | G20: 558.55198 | H20: 558.55198 | I20: 527.31601
B21: DEBT SERVICE REASSIGNMENT INTEREST | C21: 2959.694 | D21: 1927.342 | E21: =HLOOKUP(E$2,'Repayment Inputs'!$D$2:$J$44,14,FALSE) -> 843.248 | F21: =HLOOKUP(F$2,'Repayment Inputs'!$D$2:$J$44,14,FALSE) -> 0 | G21: =HLOOKUP(G$2,'Repayment Inputs'!$D$2:$J$44,14,FALSE) -> 0 | H21: =HLOOKUP(H$2,'Repayment Inputs'!$D$2:$J$44,14,FALSE) -> 0 | I21: =HLOOKUP(I$2,'Repayment Inputs'!$D$2:$J$44,14,FALSE) -> 0
B22: NON-FEDERAL INTEREST (INCL CUSTOMER FUNDED) | C22: 67410.733 | D22: 65176.244 | E22: =HLOOKUP(E$2,'Repayment Inputs'!$D$2:$J$44,23,FALSE)-HLOOKUP(E$2,'Repayment Inputs'!$D$2:$J$44,14,FALSE) -> 64239.409 | F22: =HLOOKUP(F$2,'Repayment Inputs'!$D$2:$J$44,23,FALSE)-HLOOKUP(F$2,'Repayment Inputs'!$D$2:$J$44,14,FALSE) -> 67730.053 | G22: =HLOOKUP(G$2,'Repayment Inputs'!$D$2:$J$44,23,FALSE)-HLOOKUP(G$2,'Repayment Inputs'!$D$2:$J$44,14,FALSE) -> 65494.62 | H22: =HLOOKUP(H$2,'Repayment Inputs'!$D$2:$J$44,23,FALSE)-HLOOKUP(H$2,'Repayment Inputs'!$D$2:$J$44,14,FALSE) -> 62384.971 | I22: =HLOOKUP(I$2,'Repayment Inputs'!$D$2:$J$44,23,FALSE)-HLOOKUP(I$2,'Repayment Inputs'!$D$2:$J$44,14,FALSE) -> 57781.582
B23: PREMIUMS/DISCOUNTS | C23: 0 | D23: 0 | E23: =HLOOKUP(E$2,'Repayment Inputs'!$D$2:$J$44,6,FALSE)+HLOOKUP(E$2,'Repayment Inputs'!$D$2:$J$44,7,FALSE) -> 0 | F23: =HLOOKUP(F$2,'Repayment Inputs'!$D$2:$J$44,6,FALSE)+HLOOKUP(F$2,'Repayment Inputs'!$D$2:$J$44,7,FALSE) -> 5055 | G23: =HLOOKUP(G$2,'Repayment Inputs'!$D$2:$J$44,6,FALSE)+HLOOKUP(G$2,'Repayment Inputs'!$D$2:$J$44,7,FALSE) -> 10 | H23: =HLOOKUP(H$2,'Repayment Inputs'!$D$2:$J$44,6,FALSE)+HLOOKUP(H$2,'Repayment Inputs'!$D$2:$J$44,7,FALSE) -> 15 | I23: =HLOOKUP(I$2,'Repayment Inputs'!$D$2:$J$44,6,FALSE)+HLOOKUP(I$2,'Repayment Inputs'!$D$2:$J$44,7,FALSE) -> 31
B24: AFUDC | C24: -15937.167 | D24: -16016.208 | E24: =-HLOOKUP(E$2,AFUDC!$I$13:$AJ$38,26,FALSE) -> -15100.44 | F24: =-HLOOKUP(F$2,AFUDC!$I$13:$AJ$38,26,FALSE) -> -13934.146 | G24: -45332.846 | H24: -50507.921 | I24: -52940.499
B25: INTEREST INCOME | C25: -2002.439 | D25: -1809.9139 | E25: =-HLOOKUP(E2,'Interest Income'!$A$2:$D$22,21,FALSE) -> #N/A | F25: =-HLOOKUP(F2,'Interest Income'!$A$2:$D$22,21,FALSE) -> #N/A | G25: =-HLOOKUP(G2,'Interest Income'!$A$2:$D$22,21,FALSE) -> -10979.391 | H25: =-HLOOKUP(H2,'Interest Income'!$A$2:$D$22,21,FALSE) -> -10739.094 | I25: =-HLOOKUP(I2,'Interest Income'!$A$2:$D$22,21,FALSE) -> -11063.096
A26: NET INTEREST EXPENSE | C26: 142210.31 | D26: 145920.04 | E26: =SUM(E17:E25) -> #N/A | F26: =SUM(F17:F25) -> #N/A | G26: =SUM(G17:G25) -> 203728.94 | H26: =SUM(H17:H25) -> 241158.51 | I26: =SUM(I17:I25) -> 281056.3
A28: TOTAL EXPENSES | C28: 1103145.8 | D28: 1119420.1 | E28: =SUM(E12,E26) -> #N/A | F28: =SUM(F12,F26) -> #N/A | G28: =SUM(G12,G26) -> 1449294.5 | H28: =SUM(H12,H26) -> 1565479.5 | I28: =SUM(I12,I26) -> 1677304
A30: TOTAL MINIMUM REQUIRED NET REVENUE 1/ | C30: 40022.921 | D30: 40012.201 | E30: =E40 -> -104980.14 | F30: =F40 -> 39478.546 | G30: =G40 -> 177401.27 | H30: =H40 -> 150226.48 | I30: =I40 -> 172910.79
A31: PLANNED NET REVENUES FOR RISK | C31: 0 | D31: 0 | E31: =E68 -> 0 | F31: =F68 -> 0 | G31: =G68 -> 0 | H31: =H68 -> 0 | I31: =I68 -> 0
A32: TOTAL PLANNED NET REVENUE | C32: 40022.921 | D32: 40012.201 | E32: =SUM(E30:E31) -> -104980.14 | F32: =SUM(F30:F31) -> 39478.546 | G32: =SUM(G30:G31) -> 177401.27 | H32: =SUM(H30:H31) -> 150226.48 | I32: =SUM(I30:I31) -> 172910.79
A34: TOTAL REVENUE REQUIREMENT | C34: 1143168.8 | D34: 1159432.3 | E34: =SUM(E28,E32) -> #N/A | F34: =SUM(F28,F32) -> #N/A | G34: =SUM(G28,G32) -> 1626695.8 | H34: =SUM(H28,H32) -> 1715706 | I34: =SUM(I28,I32) -> 1850214.8
A37: CASH FLOW STATEMENT | C37: =+C2 -> 2022 | D37: =+D2 -> 2023 | E37: =+E2 -> 2024 | F37: =+F2 -> 2025 | G37: =G2 -> 2026 | H37: =H2 -> 2027 | I37: =I2 -> 2028
A39: CASH FROM CURRENT OPERATIONS:
B40: TOTAL MINIMUM REQUIRED NET REVENUE | C40: 40022.921 | D40: 40012.201 | E40: =SUM(E41:E42) -> -104980.14 | F40: =SUM(F41:F42) -> 39478.546 | G40: =SUM(G41:G42) -> 177401.27 | H40: =SUM(H41:H42) -> 150226.48 | I40: =SUM(I41:I42) -> 172910.79
B41: CASH FLOW BEFORE REVENUE FINANCING | C41: 22.92133 | D41: 12.201427 | E41: =IF(E71<0,-E71,(IF((OR(E42>E71,E42=E71)),-E71,(IF((AND(E42>0,E42<E71)),-(E71-E42),0))))) -> -159980.14 | F41: =IF(F71<0,-F71,(IF((OR(F42>F71,F42=F71)),-F71,(IF((AND(F42>0,F42<F71)),-(F71-F42),0))))) -> -15521.454 | G41: =IF(G71<0,-G71,(IF((OR(G42>G71,G42=G71)),-G71,(IF((AND(G42>0,G42<G71)),-(G71-G42),0))))) -> 52401.266 | H41: =IF(H71<0,-H71,(IF((OR(H42>H71,H42=H71)),-H71,(IF((AND(H42>0,H42<H71)),-(H71-H42),0))))) -> 25226.478 | I41: =IF(I71<0,-I71,(IF((OR(I42>I71,I42=I71)),-I71,(IF((AND(I42>0,I42<I71)),-(I71-I42),0))))) -> 47910.788
B42: REVENUE FINANCING | C42: 40000 | D42: 40000 | E42: =HLOOKUP(E$37,'Capital Input File'!$D$12:$AE$14,3,FALSE) -> 55000 | F42: =HLOOKUP(F$37,'Capital Input File'!$D$12:$AE$14,3,FALSE) -> 55000 | G42: 125000 | H42: 125000 | I42: 125000
B43: RESERVE FINANCING | C43: 0 | D43: 0 | E43: =HLOOKUP(E37,'Capital Input File'!$D$12:$AE$14,2,FALSE) -> 0 | F43: =HLOOKUP(F37,'Capital Input File'!$D$12:$AE$14,2,FALSE) -> 0 | G43: =HLOOKUP(G37,'Capital Input File'!$D$12:$AE$14,2,FALSE) -> 0 | H43: =HLOOKUP(H37,'Capital Input File'!$D$12:$AE$14,2,FALSE) -> 0 | I43: =HLOOKUP(I37,'Capital Input File'!$D$12:$AE$14,2,FALSE) -> 0
B44: EXPENSES NOT REQUIRING CASH:
B45: DEPRECIATION & AMORTIZATION | C45: 345302.92 | D45: 349991.26 | E45: =E11 -> 359415.71 | F45: =F11 -> 352643.05 | G45: =G11 -> 377162.05 | H45: =H11 -> 403792.33 | I45: =I11 -> 431924.68
B46: CUSTOMER FUNDED PROJECTS NET INTEREST | C46: 4303.9978 | D46: 3736.3402 | E46: =((HLOOKUP(E$2,'Repayment Inputs'!$C$2:$J$44,19,FALSE))+(HLOOKUP(E$2,'Repayment Inputs'!$C$2:$J$44,20,FALSE)))-(HLOOKUP(E$2,AFUDC!$I$13:$AJ$38,25,FALSE)) -> 7558.7266 | F46: =((HLOOKUP(F$2,'Repayment Inputs'!$C$2:$J$44,19,FALSE))+(HLOOKUP(F$2,'Repayment Inputs'!$C$2:$J$44,20,FALSE)))-(HLOOKUP(F$2,AFUDC!$I$13:$AJ$38,25,FALSE)) -> 7521.7604 | G46: ='Repayment Inputs'!H20 -> 8634.4849 | H46: ='Repayment Inputs'!I20 -> 8526.26 | I46: ='Repayment Inputs'!J20 -> 7054.0288
B47: AMORTIZATION OF CAPITALIZED BOND PREMIUMS | C47: 558.55198 | D47: 558.55198 | E47: =E20 -> 558.55198 | F47: =F20 -> 558.55198 | G47: =G20 -> 558.55198 | H47: =H20 -> 558.55198 | I47: =I20 -> 527.31601
B48: CAPITALIZATION ADJUSTMENT | C48: -18968 | D48: -18968 | E48: =E18 -> -18968 | F48: =F18 -> -18968 | G48: =G18 -> -18968 | H48: =H18 -> -18968 | I48: =I18 -> -18968
B49: NON-CASH REVENUES
...

Sheet AFUDC
A1: TRANSMISSION LONG-TERM RATE FORECAST - AFUDC INPUT FILE
M2: External Worksheet Links (To Update) | Q2: Internal Workbook Links (No Update Required)
A3: Analysis By: | D3: Exclude/Old | M3: UPDATED | N3: LINK TO SOURCE FILE: | Q3: Capital Input
A4: AFUDC Rate Source: | B4: 0.03 | D4: Hardcoded | N4: CWIP FY21 EOY Balances (FY21 YE 1017) | Q4: Inflation Rates
A5: Corp Allocation: | B5: 0.65 | D5: Linked | N5: AFUDC Rate FY22 memo | Q5: External Worksheet Links (To Update)
D6: Auto-Calculate | Q6: UPDATED | R6: LINK TO SOURCE FILE:
N7: Plant-in-Service No LGIA/w LGIA
N8: LGIA CWIP | R8: AFUDC Balances
A9: Capital Numbers: | B9: Preliminary BP24 IPR | N9: LGIA Out Year Assumption (See notes) | Q9: Reference Documents:
Q10: Corporate Allocation
A11: Timeperiod - Start: | B11: 2024 | D11: LGIA Out Year Assumption: Per e-mail with Kathy, hold LGIA flat for years past 2032. The Trans Capital Expenditures Row is an Array Formula and is locked
A12: End: | B12: 2032
C13: 2011 | D13: 2012 | E13: 2013 | F13: 2014 | G13: 2015 | H13: 2016 | I13: 2017 | J13: 2018 | K13: 2019 | L13: 2020 | M13: 2021 | N13: 2022 | O13: 2023 | P13: 2024 | Q13: 2025 | R13: 2026 | S13: 2027 | T13: 2028 | U13: 2029 | V13: 2030 | W13: 2031 | X13: 2032 | Y13: 2033 | Z13: 2034 | AA13: 2035 | AB13: 2036 | AC13: 2037 | AD13: 2038 | AE13: 2039 | AF13: 2040 | AG13: 2041 | AH13: 2042 | AI13: 2043 | AJ13: 2044 | AK13: 2045
C14: Historical | J14: BP-18 | L14: BP-20 | N14: BP-22 | P14: Long Term Forecasting | Y14: INFLATED COSTS / COSTS PULLED FORWARD - FOR LONG-TERM VIEW
C15: 2011 | D15: =C15+1 -> 2012 | E15: =D15+1 -> 2013 | F15: =E15+1 -> 2014 | G15: =F15+1 -> 2015 | H15: =G15+1 -> 2016 | I15: =H15+1 -> 2017 | J15: =I15+1 -> 2018 | K15: =J15+1 -> 2019 | ... AK15: =AJ15+1 -> 2045
A16: TREASURY & LEASE FINANCING | N16: <<<<<ARRAY FORMULA>>>>> | Y16: =VLOOKUP(Y$15,'GI Forecast(Tbls 4 & 9)'!$B$51:$M$95,5,0) -> 0.023076461 | Z16: =VLOOKUP(Z$15,'GI Forecast(Tbls 4 & 9)'!$B$51:$M$95,5,0) -> 0.022917153 | AA16: =VLOOKUP(AA$15,'GI Forecast(Tbls 4 & 9)'!$B$51:$M$95,5,0) -> 0.022406324 | AB16: =VLOOKUP(AB$15,'GI Forecast(Tbls 4 & 9)'!$B$51:$M$95,5,0) -> 0.021846856 | AC16: =VLOOKUP(AC$15,'GI Forecast(Tbls 4 & 9)'!$B$51:$M$95,5,0) -> 0.02141804 | AD16: =VLOOKUP(AD$15,'GI Forecast(Tbls 4 & 9)'!$B$51:$M$95,5,0) -> 0.021253626 | AE16: =VLOOKUP(AE$15,'GI Forecast(Tbls 4 & 9)'!$B$51:$M$95,5,0) -> 0.021018422 | AF16: =VLOOKUP(AF$15,'GI Forecast(Tbls 4 & 9)'!$B$51:$M$95,5,0) -> 0.021082762 | ... AK16: =VLOOKUP(AK$15,'GI Forecast(Tbls 4 & 9)'!$B$51:$M$95,5,0) -> 0.020791213
A17: TRANS CAPITAL EXPENDITURES | N17: {=SUM(HLOOKUP(N15,'Capital Input File'!$C$28:$ZZ$44,{2,3,4,5,6},0))} -> 442589 | O17: {=SUM(HLOOKUP(O15,'Capital Input File'!$C$28:$ZZ$44,{2,3,4,5,6},0))} -> 494611.35 | P17: {=SUM(HLOOKUP(P15,'Capital Input File'!$C$28:$ZZ$44,{2,3,4,5,6},0))} -> 547897.09 | Q17: {=SUM(HLOOKUP(Q15,'Capital Input File'!$C$28:$ZZ$44,{2,3,4,5,6},0))} -> 531745.32 | R17: {=SUM(HLOOKUP(R15,'Capital Input File'!$C$28:$ZZ$44,{2,3,4,5,6},0))} -> 505380.6 | S17: {=SUM(HLOOKUP(S15,'Capital Input File'!$C$28:$ZZ$44,{2,3,4,5,6},0))} -> 483314.2 | T17: {=SUM(HLOOKUP(T15,'Capital Input File'!$C$28:$ZZ$44,{2,3,4,5,6},0))} -> 493268.65 | U17: {=SUM(HLOOKUP(U15,'Capital Input File'!$C$28:$ZZ$44,{2,3,4,5,6},0))} -> 481208.18 | ... AK17: {=SUM(HLOOKUP(AK15,'Capital Input File'!$C$28:$ZZ$44,{2,3,4,5,6},0))} -> 629857.44
A18: PLANT-IN-SERVICE | N18: 556213.56 | O18: 489075.57 | P18: 604926.55 | Q18: 596190.35 | R18: 568759.95 | S18: 548333.14 | T18: 559552.59 | U18: 549007.64 | V18: 552779.71 | W18: 552093.8 | X18: 553282 | Y18: 557193.35 | Z18: 621729.64 | AA18: =Z18*(1+AA16) -> 635660.31 | AB18: =AA18*(1+AB16) -> 649547.49 | AC18: =AB18*(1+AC16) -> 663459.53 | AD18: =AC18*(1+AD16) -> 677560.45 | AE18: =AD18*(1+AE16) -> 691801.7 | AF18: =AE18*(1+AF16) -> 706386.79 | AG18: =AF18*(1+AG16) -> 721262.29 | AH18: =AG18*(1+AH16) -> 736346.31 | ... AK18: =AJ18*(1+AK16) -> 783213.62
A19: SOY CWIP BALANCE | N19: =M20 -> 738620.77 | O19: =N20 -> 624996.21 | P19: =O20 -> 630531.99 | Q19: =P20 -> 573502.53 | R19: =Q20 -> 509057.5 | S19: =R20 -> 445678.15 | T19: =S20 -> 380659.21 | U19: =T20 -> 314375.26 | ... AK19: =AJ20 -> -1520866.6
A20: EOY CWIP BALANCE | M20: =738620772.682/1000 -> 738620.77 | N20: =N17-N18+N19 -> 624996.21 | O20: =O17-O18+O19 -> 630531.99 | P20: =P17-P18+P19 -> 573502.53 | Q20: =Q17-Q18+Q19 -> 509057.5 | R20: =R17-R18+R19 -> 445678.15 | S20: =S17-S18+S19 -> 380659.21 | T20: =T17-T18+T19 -> 314375.26 | U20: =U17-U18+U19 -> 246575.8 | ... AK20: =AK17-AK18+AK19 -> -1674222.8
A21: AVERAGE CWIP BALANCE | N21: =AVERAGE(N19:N20) -> 681808.49 | O21: =AVERAGE(O19:O20) -> 627764.1 | P21: =AVERAGE(P19:P20) -> 602017.26 | Q21: =AVERAGE(Q19:Q20) -> 541280.02 | R21: =AVERAGE(R19:R20) -> 477367.82 | S21: =AVERAGE(S19:S20) -> 413168.68 | T21: =AVERAGE(T19:T20) -> 347517.24 | U21: =AVERAGE(U19:U20) -> 280475.53 | ... AK21: =AVERAGE(AK19:AK20) -> -1597544.7
A23: AFUDC RATE | M23: 0.0256 | N23: 0.0237 | O23: =N23+O24 -> 0.0242 | P23: =O23+P24 -> 0.0247 | Q23: =P23+Q24 -> 0.0252 | R23: =Q23+R24 -> 0.0257 | S23: =R23+S24 -> 0.0262 | T23: =S23+T24 -> 0.0267 | U23: =T23+U24 -> 0.0272 | V23: =U23+V24 -> 0.0277 | ... AK23: =AJ23+AK24 -> 0.0352
A24: AFUDC Adjustment Factor | O24: 0.0005 | P24: 0.0005 | Q24: 0.0005 | R24: 0.0005 | S24: 0.0005 | T24: 0.0005 | U24: 0.0005 | V24: 0.0005 | W24: 0.0005 | X24: 0.0005 | Y24: 0.0005 | Z24: 0.0005 | AA24: 0.0005 | AB24: 0.0005 | AC24: 0.0005 | AD24: 0.0005 | AE24: 0.0005 | AF24: 0.0005 | AG24: 0.0005 | AH24: 0.0005 | AI24: 0.0005 | AJ24: 0.0005 | AK24: 0.0005
A25: AFUDC | N25: =(N21)*N23 -> 16158.861 | O25: =(O21)*O23 -> 15191.891 | P25: =(P21)*P23 -> 14869.826 | Q25: =(Q21)*Q23 -> 13640.256 | R25: =(R21)*R23 -> 12268.353 | S25: =(S21)*S23 -> 10825.019 | T25: =(T21)*T23 -> 9278.7102 | U25: =(U21)*U23 -> 7628.9344 | ... AK25: =(AK21)*AK23 -> -56233.572
A27: CORPORATE CAPITAL (Allocation of Total) | N27: =+'Capital Input File'!C50 -> 11292.45 | O27: =HLOOKUP(O$15,'Capital Input File'!$D$48:$AE$74,3,FALSE) -> 7948.2 | P27: =HLOOKUP(P$15,'Capital Input File'!$D$48:$AE$74,3,FALSE) -> 10725 | Q27: =HLOOKUP(Q$15,'Capital Input File'!$D$48:$AE$74,3,FALSE) -> 12599.6 | R27: =HLOOKUP(R$15,'Capital Input File'!$D$48:$AE$74,3,FALSE) -> 12025 | S27: =HLOOKUP(S$15,'Capital Input File'!$D$48:$AE$74,3,FALSE) -> 12502.1 | T27: =HLOOKUP(T$15,'Capital Input File'!$D$48:$AE$74,3,FALSE) -> 12025 | U27: =HLOOKUP(U$15,'Capital Input File'!$D$48:$AE$74,3,FALSE) -> 12259.156 | V27: =HLOOKUP(V$15,'Capital Input File'!$D$48:$AE$74,3,FALSE) -> 12543.568 | ... AK27: =HLOOKUP(AK$15,'Capital Input File'!$D$48:$AE$74,3,FALSE) -> 17284.529
A28: CORPORATE AFUDC (IT AFUDC) | N28: =(AVERAGE(M27:N27))*N23 -> 267.63106 | O28: =(AVERAGE(N27:O27))*O23 -> 232.81187 | P28: =(AVERAGE(O27:P27))*P23 -> 230.61402 | Q28: =(AVERAGE(P27:Q27))*Q23 -> 293.88996 | R28: =(AVERAGE(Q27:R27))*R23 -> 316.42611 | S28: =(AVERAGE(R27:S27))*S23 -> 321.30501 | T28: =(AVERAGE(S27:T27))*T23 -> 327.43678 | U28: =(AVERAGE(T27:U27))*U23 -> 330.26452 | ... AK28: =(AVERAGE(AJ27:AK27))*AK23 -> 602.21939
A29: TOTAL TREASURY AND LEASE FINANCING TRANS AFUDC | N29: =N28+N25 -> 16426.492 | O29: =O28+O25 -> 15424.703 | P29: =P28+P25 -> 15100.44 | Q29: =Q28+Q25 -> 13934.146 | R29: =R28+R25 -> 12584.779 | S29: =S28+S25 -> 11146.324 | T29: =T28+T25 -> 9606.147 | U29: =U28+U25 -> 7959.1989 | ... AK29: =AK28+AK25 -> -55631.353
N30: 0
A31: CUSTOMER FUNDED AFUDC (Includes LGIA & LLIP)
A32: CUSTOMER FUNDED CAPITAL EXPENDITURES | M32: 46883.853 | O32: =HLOOKUP(O$15,'Capital Input File'!$D$76:$AE$77,2,FALSE) -> 0 | P32: =HLOOKUP(P$15,'Capital Input File'!$D$76:$AE$77,2,FALSE) -> 0 | Q32: =HLOOKUP(Q$15,'Capital Input File'!$D$76:$AE$77,2,FALSE) -> 0 | R32: =HLOOKUP(R$15,'Capital Input File'!$D$76:$AE$77,2,FALSE) -> 0 | S32: =HLOOKUP(S$15,'Capital Input File'!$D$76:$AE$77,2,FALSE) -> 0 | T32: =HLOOKUP(T$15,'Capital Input File'!$D$76:$AE$77,2,FALSE) -> 0 | U32: =HLOOKUP(U$15,'Capital Input File'!$D$76:$AE$77,2,FALSE) -> 0 | V32: =HLOOKUP(V$15,'Capital Input File'!$D$76:$AE$77,2,FALSE) -> 0 | ... X32: =HLOOKUP(X$15,'Capital Input File'!$D$76:$AE$77,2,FALSE) -> 0 | Y32: =HLOOKUP(Y$13,'Capital Input File'!$D$76:$AE$77,2,FALSE) -> 0 | Z32: =HLOOKUP(Z$13,'Capital Input File'!$D$76:$AE$77,2,FALSE) -> 0 | AA32: =HLOOKUP(AA$13,'Capital Input File'!$D$76:$AE$77,2,FALSE) -> 0 | AB32: =HLOOKUP(AB$13,'Capital Input File'!$D$76:$AE$77,2,FALSE) -> 0 | AC32: =HLOOKUP(AC$13,'Capital Input File'!$D$76:$AE$77,2,FALSE) -> 0 | AD32: =HLOOKUP(AD$13,'Capital Input File'!$D$76:$AE$77,2,FALSE) -> 0 | AE32: =HLOOKUP(AE$13,'Capital Input File'!$D$76:$AE$77,2,FALSE) -> 0 | AF32: =HLOOKUP(AF$13,'Capital Input File'!$D$76:$AE$77,2,FALSE) -> 0 | ... AK32: =HLOOKUP(AK$13,'Capital Input File'!$D$76:$AE$77,2,FALSE) -> 0
A33: CUSTOMER FUNDED PLANT-IN-SERVICE | M33: 46883.853 | N33: 0 | O33: 0 | P33: 0 | Q33: 0 | R33: 0 | S33: 0 | T33: 0 | U33: 0 | V33: 0 | W33: 0 | X33: 0 | Y33: =X33 -> 0 | Z33: =Y33 -> 0 | AA33: =Z33 -> 0 | AB33: =AA33 -> 0 | AC33: =AB33 -> 0 | AD33: =AC33 -> 0 | AE33: =AD33 -> 0 | AF33: =AE33 -> 0 | ... AK33: =AJ33 -> 0
A34: SOY CWIP BALANCE | N34: =M35 -> 0 | O34: =N35 -> 0 | P34: =O35 -> 0 | Q34: =P35 -> 0 | R34: =Q35 -> 0 | S34: =R35 -> 0 | T34: =S35 -> 0 | U34: =T35 -> 0 | ... AK34: =AJ35 -> 0
A35: EOY CWIP BALANCE | M35: 0 | N35: =N32-N33+N34 -> 0 | O35: =O32-O33+O34 -> 0 | P35: =P32-P33+P34 -> 0 | Q35: =Q32-Q33+Q34 -> 0 | R35: =R32-R33+R34 -> 0 | S35: =S32-S33+S34 -> 0 | T35: =T32-T33+T34 -> 0 | U35: =U32-U33+U34 -> 0 | ... AK35: =AK32-AK33+AK34 -> 0
A36: AVERAGE CWIP BALANCE | N36: =AVERAGE(N34:N35) -> 0 | O36: =AVERAGE(O34:O35) -> 0 | P36: =AVERAGE(P34:P35) -> 0 | Q36: =AVERAGE(Q34:Q35) -> 0 | R36: =AVERAGE(R34:R35) -> 0 | S36: =AVERAGE(S34:S35) -> 0 | T36: =AVERAGE(T34:T35) -> 0 | U36: =AVERAGE(U34:U35) -> 0 | ... AK36: =AVERAGE(AK34:AK35) -> 0
A37: TOTAL CUSTOMER FUNDED AFUDC | C37: 2409 | D37: 2298 | E37: 5852 | F37: 366.75888 | G37: 287.96033 | H37: 43.94149 | I37: =I45 -> 49.99001 | J37: 272.28201 | K37: 985.98041 | L37: 985.98041 | M37: 985.98041 | N37: =N36*N23 -> 0 | O37: =O36*O23 -> 0 | P37: =P36*P23 -> 0 | Q37: =Q36*Q23 -> 0 | R37: =R36*R23 -> 0 | S37: =S36*S23 -> 0 | T37: =T36*T23 -> 0 | U37: =U36*U23 -> 0 | ... AK37: =AK36*AK23 -> 0
A38: TOTAL AFUDC | C38: =C37+C29 -> 2409 | D38: =D37+D29 -> 2298 | E38: =E37+E29 -> 5852 | F38: =F37+F29 -> 366.75888 | G38: =G37+G29 -> 287.96033 | H38: =H37+H29 -> 43.94149 | I38: =I37+I29 -> 49.99001 | J38: 16778.379 | K38: 17224.213 | L38: 14211.272 | M38: 14635.248 | N38: =N37+N29 -> 16426.492 | O38: =O37+O29 -> 15424.703 | P38: =P37+P29 -> 15100.44 | Q38: =Q37+Q29 -> 13934.146 | R38: =R37+R29 -> 12584.779 | S38: =S37+S29 -> 11146.324 | T38: =T37+T29 -> 9606.147 | U38: =U37+U29 -> 7959.1989 | ... AK38: =AK37+AK29 -> -55631.353
C40: =C15 -> 2011 | D40: =D15 -> 2012 | E40: =E15 -> 2013 | F40: =E40+1 -> 2014 | G40: 2015 | H40: 2016 | I40: 2017 | J40: 2018 | K40: 2018
B41: AFUDC (ACTUALS) | C41: =SUM(C43:C45) -> 27832.999 | D41: =SUM(D43:D45) -> 37009.956 | E41: =SUM(E43:E45) -> 26855.157 | F41: =SUM(F43:F45) -> 40861.327 | G41: =SUM(G43:G45) -> 44553.035 | H41: =SUM(H43:H45) -> 31041.645 | I41: =SUM(I43:I45) -> 21576.933 | J41: 16778.379 | K41: =SUM(K43:K45) -> 15723.454
C42: =C41/C38 -> 11.553756 | D42: =D41/D38 -> 16.10529 | E42: =E41/E38 -> 4.5890561 | F42: =F41/F38 -> 111.41196 | G42: =G41/G38 -> 154.71935 | H42: =H41/H38 -> 706.43133 | I42: =I41/I38 -> 431.6249 | J42: 1 | K42: =K41/K38 -> 0.91286925
B43: REGULAR | C43: 18144.965 | D43: 20666.412 | E43: 9382.1069 | F43: 19565.447 | G43: 22845.466 | H43: 17028.255 | I43: 11590.565 | J43: 10886.261 | K43: 10499.936
...

Sheet Leverage
A3: Analysis By: | B3: Quay Rubin | F3: Internal Workbook Links
F4: Revenue Requirement & Repayment Input
A5: Scenario: | B5: ='Revenue Requirement'!#REF! -> #REF! | F5: Capital Input File
F7: Inflation Rates
A9: Timeperiod - Start: | B9: 2026 | R9: Change title, double check links after updating GI Forecast
A10: End: | B10: ='Revenue Requirement'!#REF! -> #REF!
E11: Data used in other tab | G11: updated
N12: =VLOOKUP(N$13,'GI Forecast(Tbls 4 & 9)'!$B$51:$M$95,5,0) -> 0.022406324 | O12: =VLOOKUP(O$13,'GI Forecast(Tbls 4 & 9)'!$B$51:$M$95,5,0) -> 0.021846856 | P12: =VLOOKUP(P$13,'GI Forecast(Tbls 4 & 9)'!$B$51:$M$95,5,0) -> 0.02141804 | Q12: =VLOOKUP(Q$13,'GI Forecast(Tbls 4 & 9)'!$B$51:$M$95,5,0) -> 0.021253626 | R12: =VLOOKUP(R$13,'GI Forecast(Tbls 4 & 9)'!$B$51:$M$95,5,0) -> 0.021018422 | S12: =VLOOKUP(S$13,'GI Forecast(Tbls 4 & 9)'!$B$51:$M$95,5,0) -> 0.021082762
A13: NOT OFFICIAL LEVERAGE POLICY CALC | B13: Debt to Asset Ratio Calculation | C13: 2024 | D13: =+C13+1 -> 2025 | E13: =+D13+1 -> 2026 | F13: =+E13+1 -> 2027 | G13: =+F13+1 -> 2028 | H13: =+G13+1 -> 2029 | I13: =+H13+1 -> 2030 | J13: =+I13+1 -> 2031 | K13: =+J13+1 -> 2032 | ... S13: =+R13+1 -> 2040
B14: DEBT (Fed + NF) | C14: =SUM(C15:C19) -> 6687083 | D14: =SUM(D15:D19) -> 7335593.6 | E14: =SUM(E15:E19) -> 8207681.3 | F14: =SUM(F15:F19) -> 9277042.3 | G14: =SUM(G15:G19) -> 10196368 | H14: =SUM(H15:H19) -> 10817796 | I14: =SUM(I15:I19) -> 11406423 | J14: =SUM(J15:J19) -> 11984500 | ... S14: =SUM(S15:S19) -> 14228683
B15: PRIOR YEAR NET DEBT OUTSTANDING | C15: 6319398 | D15: =+C14 -> 6687083 | E15: =+D14 -> 7335593.6 | F15: =+E14 -> 8207681.3 | G15: =+F14 -> 9277042.3 | H15: =+G14 -> 10196368 | I15: =+H14 -> 10817796 | J15: =+I14 -> 11406423 | K15: =+J14 -> 11984500 | ... S15: =+R14 -> 13926526
A16: Revenue Requirement tab | B16: NEW FEDERAL BORROWING | C16: 0 | D16: =HLOOKUP(D$13,'Revenue Requirement'!$C$37:$I$72,24,FALSE) -> 946800 | E16: =HLOOKUP(E$13,'Revenue Requirement'!$C$37:$I$72,24,FALSE) -> 1240200 | F16: =HLOOKUP(F$13,'Revenue Requirement'!$C$37:$I$72,24,FALSE) -> 1414400 | G16: =HLOOKUP(G$13,'Revenue Requirement'!$C$37:$I$72,24,FALSE) -> 1314400 | H16: 993600 | I16: 983300 | J16: 1002700 | K16: 699500 | L16: 711100 | M16: 740600 | N16: 749100 | O16: 767400 | P16: 777500 | Q16: 797100 | R16: 809200 | S16: 829500
B17: NEW NON-FEDERAL BORROWING
B18: DEFERRED BORROWING | C18: 367685
A19: DSR Gapped Ungapped | B19: LESS: PRINCIPAL REPAYMENT | C19: 0 | D19: =SUM('Revenue Requirement'!F$62:F$64) -> -298289.4 | E19: =SUM('Revenue Requirement'!G$62:G$64) -> -368112.3 | F19: =SUM('Revenue Requirement'!H$62:H$64) -> -345038.96 | G19: =SUM('Revenue Requirement'!I$62:I$64) -> -395074.62 | H19: -372171.31 | I19: -394673.38 | J19: -424622.65 | K19: -465316.86 | L19: -510278.17 | M19: -536065.84 | N19: -556652.54 | O19: -524022.28 | P19: -495079.48 | Q19: -505677.61 | R19: -516381.27 | S19: -527343.14
B21: ASSETS (INCLUDE CORP ALLOCATION) | C21: =SUM(C22:C29) -> 8896371 | D21: =SUM(D22:D29) -> 9634634.3 | E21: =SUM(E22:E29) -> 10716952 | F21: =SUM(F22:F29) -> 11952014 | G21: =SUM(G22:G29) -> 13061377 | H21: =SUM(H22:H29) -> 13839066 | I21: =SUM(I22:I29) -> 14574471 | J21: =SUM(J22:J29) -> 15324501 | ... S21: =SUM(S22:S29) -> 19507303
B22: PRIOR YEAR COMPLETED PLANT BALANCE | C22: 11689709 | D22: =+C22+C24+C25+C26 -> 11689709 | E22: =+D22+D24+D25+D26 -> 12623169 | F22: =+E22+E24+E25+E26 -> 13925202 | G22: =+F22+F24+F25+F26 -> 15406610 | H22: =+G22+G24+G25+G26 -> 16790450 | I22: =+H22+H24+H25+H26 -> 17861348 | J22: =+I22+I24+I25+I26 -> 18916756 | K22: =+J22+J24+J25+J26 -> 20008963 | ... S22: =+R22+R24+R25+R26 -> 27019977
B23: CWIP | C23: 1526252 | D23: =+C23 -> 1526252 | E23: =+D23 -> 1526252 | F23: =+E23 -> 1526252 | G23: =+F23 -> 1526252 | H23: =+G23 -> 1526252 | I23: =+H23 -> 1526252 | J23: =+I23 -> 1526252 | K23: =+J23 -> 1526252 | ... S23: =+R23 -> 1526252
A24: Revenue Requirement tab | B24: NEW BPA-FINANCED INVESTMENT | D24: =-HLOOKUP(D$13,'Revenue Requirement'!$C$37:$I$72,21,FALSE) -> 1001800 | E24: =-HLOOKUP(E$13,'Revenue Requirement'!$C$37:$I$72,21,FALSE) -> 1365200 | F24: =-HLOOKUP(F$13,'Revenue Requirement'!$C$37:$I$72,21,FALSE) -> 1539400 | G24: =-HLOOKUP(G$13,'Revenue Requirement'!$C$37:$I$72,21,FALSE) -> 1439400 | H24: 1133600 | I24: 1123300 | J24: 1157700 | K24: 854500 | L24: 881100 | M24: 910600 | N24: 934100 | O24: 952400 | P24: 971900 | Q24: 991500 | R24: 1011500 | S24: 1031800
