Workbook
Name asd: #REF!
Name BPFAS_BU_Cubeset: #REF!
Name BU_Cubeset: #REF!
Name BUN: #REF!
Name Calibration_Multiplier: #REF!
Name CategoryColumn: '[4]Risk Summary'!$B:$B
Name column: #REF!
Name Credit: [5]Data!#REF!
Name d: _xll.RiskCellHasTokens(1024)
Name Debit: [6]Data!#REF!
Name DetermDuration: [7]GamedDuration1!$D$2
Name dsa: #REF!
Name entry: [5]Data!$A$3:$M$41,[5]Data!#REF!,[5]Data!#REF!,[5]Data!#REF!,[5]Data!#REF!,[5]Data!#REF!
Name EntryFields: [5]Data!$A$3:$M$41,[5]Data!#REF!,[5]Data!#REF!,[5]Data!#REF!,[5]Data!#REF!,[5]Data!#REF!
Name EXP: '[8]May-98'!#REF!
Name form: [5]Data!#REF!
Name FY: #REF!
Name FYLapsed: #REF!
Name game: #REF!
Name Header: [5]Data!#REF!
Name IRCorr: #REF!
Name IRCorr: [9]Interest!$B$98:$J$106
Name IRCorrMatrix: #REF!
Name IRCorrMatrix: [9]Interest!$B$56:$M$67
Name iterations: #REF!
Name LYN: #REF!
Name NeilDelayDays: #REF!
Name NeilPerDay: #REF!
Name NeilProb: #REF!
Name NewMatrix2: #REF!
Name NewMatrix2: #REF!
Name NrtcRiskOn: NR_to_Cash!#REF!
Name NrtcRiskOn: #REF!
Name NvsASD: "V2008-10-31"
Name NvsAutoDrillOk: "VN"
Name NvsElapsedTime: 0.000162037038535345
Name NvsEndTime: 36880.4227447917
Name NvsInstLang: "VENG"
Name NvsInstSpec: "%"
Name NvsInstSpec1: ","
Name NvsInstSpec2: ","
Name NvsInstSpec3: ","
Name NvsInstSpec4: ","
Name NvsInstSpec5: ","
Name NvsInstSpec6: ","
Name NvsInstSpec7: ","
Name NvsInstSpec8: ","
Name NvsInstSpec9: ","
Name NvsLayoutType: "M3"
Name NvsNplSpec: "%,X,RZF..,CZF.."
Name NvsPanelBusUnit: "V"
Name NvsPanelEffdt: "V2007-10-01"
Name NvsPanelSetid: "VFCRPS"
Name NvsReqBU: "VTRANS"
Name NvsReqBUOnly: "VN"
Name NvsTransLed: "VN"
Name NvsTreeASD: "V2007-10-01"
Name NvsValTbl.ACCOUNT: "GL_ACCOUNT_TBL"
Name NvsValTbl.BUSINESS_UNIT: "BUS_UNIT_TBL_GL"
Name NvsValTbl.CURRENCY_CD: "CURRENCY_CD_TBL"

Sheet Risk Summary
B1: Transmission Pro Forma Income Statement ($millions)
C4: ($ millions) | D4: FY25 | E4: =D4&" EV" -> FY25 EV | F4: =D4&" @Risk" -> FY25 @Risk | G4: FY26 | H4: =G4&" EV" -> FY26 EV | I4: =G4&" @Risk" -> FY26 @Risk | J4: FY27 | K4: =J4&" EV" -> FY27 EV | L4: =J4&" @Risk" -> FY27 @Risk | M4: FY28 | N4: =M4&" EV" -> FY28 EV | O4: =M4&" @Risk" -> FY28 @Risk
D5: Forecast | E5: Modeled | F5: Game | G5: Forecast | H5: Modeled | I5: Game | J5: Forecast | K5: Modeled | L5: Game | M5: Forecast | N5: Modeled | O5: Game
B6: Revenue
B7: Total Operating Revenues | D7: ='T Revenue'!B2 -> 1319976 | E7: =_xll.RiskMean(F7) -> #NAME? | F7: =_xll.RiskOutput("FY21 gamed Revenue")+OFFSET('T Revenue'!$B$4,'T Revenue'!$G$5,0) -> #NAME? | G7: ='T Revenue'!C2 -> 1683678.1 | H7: =_xll.RiskMean(I7) -> #NAME? | I7: =OFFSET('T Revenue'!$C$4,'T Revenue'!$G$5,0) -> #NAME? | J7: ='T Revenue'!D2 -> 1719961.7 | K7: =_xll.RiskMean(L7) -> #NAME? | L7: =OFFSET('T Revenue'!$D$4,'T Revenue'!$G$5,0) -> #NAME? | M7: ='T Revenue'!E2 -> 1789401.5 | N7: =_xll.RiskMean(O7) -> #NAME? | O7: =OFFSET('T Revenue'!$D$4,'T Revenue'!$G$5,0) -> #NAME?
B9: Operating Expenses
C10: Transmission Operations | D10: ='Year 0'!G125 -> 220011.91 | E10: =_xll.RiskMean(F10) -> #NAME? | F10: =_xll.RiskPert(D10*'Historical Data'!$B41,D10,D10*'Historical Data'!$D41) -> #NAME? | G10: ='Revenue Requirement'!C7 -> 220399.58 | H10: =_xll.RiskMean(I10) -> #NAME? | I10: =_xll.RiskPert(G10*'Historical Data'!$B41,G10,G10*'Historical Data'!$D41) -> #NAME? | J10: ='Revenue Requirement'!D7 -> 237767.37 | K10: =_xll.RiskMean(L10) -> #NAME? | L10: =_xll.RiskPert(J10*'Historical Data'!$B41,J10,J10*'Historical Data'!$D41) -> #NAME? | M10: ='Revenue Requirement'!E7 -> 253776.56 | N10: =_xll.RiskMean(O10) -> #NAME? | O10: =_xll.RiskPert(M10*'Historical Data'!$B41,M10,M10*'Historical Data'!$D41) -> #NAME?
C11: Transmission Maintenance | D11: ='Year 0'!G127 -> 220469.25 | E11: =_xll.RiskMean(F11) -> #NAME? | F11: =_xll.RiskPert(D11*'Historical Data'!$B42,D11,D11*'Historical Data'!$D42) -> #NAME? | G11: ='Revenue Requirement'!C9 -> 224667.21 | H11: =_xll.RiskMean(I11) -> #NAME? | I11: =_xll.RiskPert(G11*'Historical Data'!$B42,G11,G11*'Historical Data'!$D42) -> #NAME? | J11: ='Revenue Requirement'!D9 -> 239518.35 | K11: =_xll.RiskMean(L11) -> #NAME? | L11: =_xll.RiskPert(J11*'Historical Data'!$B42,J11,J11*'Historical Data'!$D42) -> #NAME? | M11: ='Revenue Requirement'!E9 -> 252997.99 | N11: =_xll.RiskMean(O11) -> #NAME? | O11: =_xll.RiskPert(M11*'Historical Data'!$B42,M11,M11*'Historical Data'!$D42) -> #NAME?
C12: Transmission Engineering | D12: ='Year 0'!G126 -> 74945.253 | E12: =_xll.RiskMean(F12) -> #NAME? | F12: =_xll.RiskPert(D12*'Historical Data'!$B43,D12,D12*'Historical Data'!$D43) -> #NAME? | G12: ='Revenue Requirement'!C8 -> 73816.91 | H12: =_xll.RiskMean(I12) -> #NAME? | I12: =_xll.RiskPert(G12*'Historical Data'!$B43,G12,G12*'Historical Data'!$D43) -> #NAME? | J12: ='Revenue Requirement'!D8 -> 77372.537 | K12: =_xll.RiskMean(L12) -> #NAME? | L12: =_xll.RiskPert(J12*'Historical Data'!$B43,J12,J12*'Historical Data'!$D43) -> #NAME? | M12: ='Revenue Requirement'!E8 -> 80792.517 | N12: =_xll.RiskMean(O12) -> #NAME? | O12: =_xll.RiskPert(M12*'Historical Data'!$B43,M12,M12*'Historical Data'!$D43) -> #NAME?
C13: Agency Services G&A | D13: ='Year 0'!G130 -> 157882.24 | E13: =_xll.RiskMean(F13) -> #NAME? | F13: =_xll.RiskPert(D13*'Historical Data'!$B46,D13,D13*'Historical Data'!$D46) -> #NAME? | G13: ='Revenue Requirement'!C11 -> 202978.69 | H13: =_xll.RiskMean(I13) -> #NAME? | I13: =_xll.RiskPert(G13*'Historical Data'!#REF!,G13,G13*'Historical Data'!#REF!) -> #NAME? | J13: ='Revenue Requirement'!D11 -> 219690.97 | K13: =_xll.RiskMean(L13) -> #NAME? | L13: =_xll.RiskPert(J13*'Historical Data'!#REF!,J13,J13*'Historical Data'!#REF!) -> #NAME? | M13: ='Revenue Requirement'!E11 -> 230576.47 | N13: =_xll.RiskMean(O13) -> #NAME? | O13: =_xll.RiskPert(M13*'Historical Data'!#REF!,M13,M13*'Historical Data'!#REF!) -> #NAME?
B14: Interest Expense | D14: =SUM('Year 0'!G110:G114) -> 192177.42 | E14: =_xll.RiskMean(F14) -> #NAME? | F14: =_xll.RiskNormal(D14,1500) -> #NAME? | G14: =SUM('Revenue Requirement'!C18:C24) -> 260041.17 | H14: =_xll.RiskMean(I14) -> #NAME? | I14: =_xll.RiskNormal(G14,1700) -> #NAME? | J14: =SUM('Revenue Requirement'!D18:D24) -> 302405.52 | K14: =_xll.RiskMean(L14) -> #NAME? | L14: =_xll.RiskNormal(J14,5000) -> #NAME? | M14: =SUM('Revenue Requirement'!E18:E24) -> 345059.9 | N14: =_xll.RiskMean(O14) -> #NAME? | O14: =_xll.RiskNormal(M14,5000) -> #NAME?
B15: Interest Earnings | D15: ='Year 0'!G116 -> -17200 | E15: =_xll.RiskMean(F15) -> #NAME? | F15: =_xll.RiskUniform(D15,0) -> #NAME? | G15: ='Revenue Requirement'!C26 -> -10942.213 | H15: =_xll.RiskMean(I15) -> #NAME? | I15: =_xll.RiskUniform(G15,0) -> #NAME? | J15: ='Revenue Requirement'!D26 -> -10632.21 | K15: =_xll.RiskMean(L15) -> #NAME? | L15: =_xll.RiskUniform(J15,0) -> #NAME? | M15: ='Revenue Requirement'!E26 -> -10885.595 | N15: =_xll.RiskMean(O15) -> #NAME? | O15: =_xll.RiskUniform(M15,0) -> #NAME?
B16: Total | D16: =SUM(D10:D13,D14:D15) -> 848286.07 | F16: =SUM(F10:F13,F14:F15) -> #NAME? | G16: =SUM(G10:G13,G14:G15) -> 970961.35 | I16: =SUM(I10:I13,I14:I15) -> #NAME? | J16: =SUM(J10:J13,J14:J15) -> 1066122.5 | L16: =SUM(L10:L13,L14:L15) -> #NAME? | M16: =SUM(M10:M13,M14:M15) -> 1152317.8 | O16: =SUM(O10:O13,O14:O15) -> #NAME?
C17: Net Revenue Delta | F17: =_xll.RiskOutput(,"Net Revenue Delta",1)+D16-F16 -> #NAME? | I17: =_xll.RiskOutput(,"Net Revenue Delta",1)+G16-I16 -> #NAME? | L17: =_xll.RiskOutput(,"Net Revenue Delta",1)+J16-L16 -> #NAME? | O17: =_xll.RiskOutput(,"Net Revenue Delta",1)+M16-O16 -> #NAME?

Sheet T Revenue
A2: Average Rev | B2: =AVERAGE(B5:B2704) -> 1319976 | C2: =AVERAGE(C5:C2704) -> 1683678.1 | D2: =AVERAGE(D5:D2704) -> 1719961.7 | E2: =AVERAGE(E5:E2704) -> 1789401.5
A3: Name | B3: =AVERAGE(B5:B2704)-'Year 0'!G8 -> -1.8626451e-09 | C3: =AVERAGE(C5:C2704)-'Revenue Requirement'!C4 -> -3.0267984e-09 | D3: =AVERAGE(D5:D2704)-'Revenue Requirement'!D4 -> 7.9162419e-09 | E3: =AVERAGE(E5:E2704)-'Revenue Requirement'!E4 -> 2.3283064e-09
A4: Description | B4: Total Revenue With Reimb / 2025 | C4: Total Revenue With Reimb / 2026 | D4: Total Revenue With Reimb / 2027 | E4: Total Revenue With Reimb / 2028 | F4: Index
A5: 1 | B5: 1345563.5 | C5: 1717880.3 | D5: 1732769.4 | E5: 1765018.6 | F5: =_xll.RiskCurrentIter() -> #NAME? | G5: =IF(F5=0,1,F5) -> #NAME?
A6: 2 | B6: 1316481.8 | C6: 1665960.4 | D6: 1704184.4 | E6: 1792185.7
A7: 3 | B7: 1330574.8 | C7: 1732209 | D7: 1746273.2 | E7: 1844349.2
A8: 4 | B8: 1291121.2 | C8: 1657824.6 | D8: 1681853 | E8: 1770997.4
A9: 5 | B9: 1329158 | C9: 1715221.2 | D9: 1794146 | E9: 1842476.4
A10: 6 | B10: 1294390.3 | C10: 1722041.8 | D10: 1716227.7 | E10: 1783867.6
A11: 7 | B11: 1320544.3 | C11: 1666845.1 | D11: 1716917.9 | E11: 1796661
A12: 8 | B12: 1300721 | C12: 1669529.1 | D12: 1679406.8 | E12: 1764494.6
A13: 9 | B13: 1303498.6 | C13: 1668312.3 | D13: 1690144.8 | E13: 1757720.2
A14: 10 | B14: 1324167.6 | C14: 1694470 | D14: 1705432.6 | E14: 1777251.1
A15: 11 | B15: 1334902.7 | C15: 1700200.9 | D15: 1697549.1 | E15: 1769369
A16: 12 | B16: 1331259.9 | C16: 1680588.8 | D16: 1717918.4 | E16: 1802104.7
A17: 13 | B17: 1353203.8 | C17: 1665886.7 | D17: 1752468 | E17: 1831070.9
... A2704: 2700 | B2704: 1320174.9 | C2704: 1670619.9 | D2704: 1734495.9 | E2704: 1835513.6

Sheet Historical Data
A4: Actuals* | B4: 2010 | C4: 2011 | D4: 2012 | E4: 2013 | F4: 2014 | G4: 2015 | H4: 2016 | I4: 2017 | J4: 2018 | K4: 2019 | L4: 2020 | M4: 2021 | N4: 2022 | O4: 2023 | P4: 2024 | Q4: 2025 | R4: Total
A5: Transmission Operations Sub-Total | B5: 1.0362497e+08 | C5: 1.1401037e+08 | D5: 1.2179166e+08 | E5: 1.14942e+08 | F5: 131396000 | G5: 133793000 | H5: 145216000 | I5: 144518000 | J5: 1.5471392e+08 | K5: 1.5855749e+08 | L5: 1.7533699e+08 | M5: 1.7116863e+08 | N5: 1.9948986e+08 | O5: 1.8877133e+08 | P5: 2.050734e+08 | R5: =SUM(B5:Q5) -> 2.2624036e+09
A6: Transmission Maintenance Sub-Total | B6: 1.2543072e+08 | C6: 1.2893743e+08 | D6: 1.3537688e+08 | E6: 1.4693256e+08 | F6: 153989000 | G6: 166157000 | H6: 157455000 | I6: 166929000 | J6: 1.633606e+08 | K6: 1.7223668e+08 | L6: 1.5957242e+08 | M6: 1.6442438e+08 | N6: 1.7150141e+08 | O6: 1.7355509e+08 | P6: 2.0410492e+08 | R6: =SUM(B6:Q6) -> 2.3899631e+09
A7: Transmission Engineering Sub-Total | B7: 24221206 | C7: 30894663 | D7: 46111313 | E7: 45876044 | F7: 52705000 | G7: 57251000 | H7: 51168000 | I7: 47901494 | J7: 47902385 | K7: 49720840 | L7: 49436779 | M7: 53598202 | N7: 58262803 | O7: 62778368 | P7: 58098646 | R7: =SUM(B7:Q7) -> 7.3592674e+08
A8: Trans. Srvcs. Acq. and Ancillary Svcs. | B8: 1.0978198e+08 | C8: 1.1678497e+08 | D8: 1.528091e+08 | E8: 1.5680725e+08 | F8: 155368000 | G8: 142514000 | H8: 129210000 | I8: 140914000 | J8: 1.2809211e+08 | K8: 1.0813017e+08 | L8: 1.2026223e+08 | M8: 1.2492211e+08 | N8: 1.0126478e+08 | O8: 1.1716813e+08 | P8: 1.5952379e+08 | R8: =SUM(B8:Q8) -> 1.9635526e+09
A9: Transmission Reimbursables Sub-Total | B9: 9100389.2 | C9: 13806887 | D9: 26722038 | E9: 27225474 | F9: 12866000 | G9: 10641000 | H9: 15376000 | I9: 15646000 | J9: 11748859 | K9: 11926807 | L9: 8951682.4 | M9: 8331299.9 | N9: 11183526 | O9: 19712185 | P9: 17575104 | R9: =SUM(B9:Q9) -> 2.2081325e+08
A10: BPA Internal Support Subtotal | B10: 65808925 | C10: 75645409 | D10: 74308431 | E10: 77688692 | F10: 86784000 | G10: 83190000 | H10: 87584000 | I10: 80644000 | J10: 91752043 | K10: 1.0162225e+08 | L10: 99671479 | M10: 1.0916479e+08 | N10: 1.2177802e+08 | O10: 1.2977332e+08 | P10: 1.3546802e+08 | R10: =SUM(B10:Q10) -> 1.4208834e+09
A11: Other Income, Expenses, and Adj. | B11: 7721756.7 | C11: 19886802 | D11: -280314.85 | E11: -1629228 | F11: -2525000 | G11: 161000 | H11: -6727000 | I11: -972245.57 | J11: -972245.57 | K11: -8539337 | L11: 0 | M11: 0 | N11: 0 | O11: 0 | P11: 0 | R11: =SUM(B11:Q11) -> 6124188
A12: Depreciation and Amortization | B12: 1.8338176e+08 | C12: 1.92396e+08 | D12: 1.8981138e+08 | E12: 2.0654476e+08 | F12: 213257000 | G12: 223795000 | H12: 244158000 | I12: 260927000 | J12: 2.8628431e+08 | K12: 3.0572003e+08 | L12: 3.3983267e+08 | M12: 3.3837143e+08 | N12: 3.3876769e+08 | O12: 3.4752524e+08 | P12: 3.6759726e+08 | R12: =SUM(B12:Q12) -> 4.0383695e+09
A13: Interest Expense | B13: 1.231945e+08 | C13: 1.438577e+08 | D13: 1.2978061e+08 | E13: 1.3408183e+08 | F13: 108125000 | G13: 120399000 | H13: 136358000 | I13: 164121000 | J13: 1.4078755e+08 | K13: 1.4760041e+08 | L13: 1.4889349e+08 | M13: 1.3565673e+08 | N13: 142210314 | O13: 1.4592004e+08 | P13: 1.5075212e+08 | R13: =SUM(B13:Q13) -> 2.0717383e+09
A14: Undistributed Reduction | B14: 0 | C14: 0 | D14: 0 | E14: 0 | F14: 0 | G14: 0 | H14: 0 | I14: 0 | J14: 0 | K14: 0 | L14: 0 | M14: 0 | N14: 0 | O14: 0 | P14: 0 | R14: =SUM(B14:Q14) -> 0
A16: Revenue Requirement** | B16: 2010 | C16: 2011 | D16: 2012 | E16: 2013 | F16: 2014 | G16: 2015 | H16: 2016 | I16: 2017 | J16: 2018 | K16: 2019 | L16: 2020 | M16: 2021 | N16: 2022 | O16: 2023 | P16: 2024 | Q16: 2025 | R16: Total
A17: Transmission Operations Sub-Total | B17: 1.1747206e+08 | C17: 1.1969549e+08 | D17: 130050000 | E17: 133590000 | F17: 140729000 | G17: 144346000 | H17: 155274000 | I17: 160800000 | J17: 167100000 | K17: 168000000 | L17: 168500000 | M17: 1.6385438e+08 | N17: 1.6871053e+08 | O17: 171595000 | P17: 191615000 | Q17: 198324000 | R17: =SUM(B17:Q17) -> 2.4996555e+09
A18: Transmission Maintenance Sub-Total | B18: 1.2730649e+08 | C18: 1.3234646e+08 | D18: 146712000 | E18: 150831000 | F18: 154234000 | G18: 157893000 | H18: 162552000 | I18: 176580000 | J18: 172767000 | K18: 176580000 | L18: 172767000 | M18: 1.7328297e+08 | N18: 1.7756031e+08 | O18: 179860000 | P18: 193212000 | Q18: 199230000 | R18: =SUM(B18:Q18) -> 2653714243
A19: Transmission Engineering Sub-Total | B19: 23539950 | C19: 23674715 | D19: 31800000 | E19: 32803000 | F19: 41638000 | G19: 41769000 | H19: 54421000 | I19: 56351000 | J19: 51973000 | K19: 56351000 | L19: 44126553 | M19: 49483511 | N19: 56569630 | O19: 57094000 | P19: 60231000 | Q19: 61194000 | R19: =SUM(B19:Q19) -> 7.4301936e+08
A20: Trans. Srvcs. Acq. and Ancillary Svcs. | B20: 103328015 | C20: 1.1642158e+08 | D20: 138373000 | E20: 142079000 | F20: 125174000 | G20: 127228000 | H20: 140767000 | I20: 119460000 | J20: 131743000 | K20: 119460000 | L20: 1.2836863e+08 | M20: 1.3221103e+08 | N20: 109597000 | O20: 110278000 | P20: 117998000 | Q20: 117998000 | R20: =SUM(B20:Q20) -> 1.9804843e+09
A21: Transmission Reimbursables Sub-Total | B21: 0 | C21: 0 | D21: 0 | E21: 0 | F21: 0 | G21: 0 | H21: 0 | I21: 0 | J21: 0 | K21: 0 | L21: 0 | M21: 0 | N21: 0 | O21: 0 | P21: 0 | Q21: 0 | R21: =SUM(B21:Q21) -> 0
A22: BPA Internal Support Subtotal | B22: 65312005 | C22: 65716108 | D22: 77100000 | E22: 78781000 | F22: 78428000 | G22: 80902000 | H22: 82038000 | I22: 93940000 | J22: 90434000 | K22: 93940000 | L22: 92528268 | M22: 93884294 | N22: 1.031955e+08 | O22: 104681000 | P22: 136034000 | Q22: 139964000 | R22: =SUM(B22:Q22) -> 1.4768782e+09
A23: Other Income, Expenses, and Adj. | B23: 0 | C23: 0 | D23: 0 | E23: 0 | F23: 0 | G23: -40000000 | H23: -2100000 | I23: -7548000 | J23: 0 | K23: -7548000 | L23: -58349641 | M23: -52477000 | N23: 0 | O23: 0 | P23: 0 | Q23: 0 | R23: =SUM(B23:Q23) -> -1.6802264e+08
A24: Depreciation and Amortization | B24: 189702000 | C24: 201536000 | D24: 198604000 | E24: 218124000 | F24: 192141000 | G24: 202465000 | H24: 234327000 | I24: 273164000 | J24: 292442000 | K24: 273164000 | L24: 3.3580675e+08 | M24: 3.4186673e+08 | N24: 345303000 | O24: 349991000 | P24: 357998000 | Q24: 343958000 | R24: =SUM(B24:Q24) -> 4.3505925e+09
A25: Net Interest Expense | B25: 1.5386499e+08 | C25: 1.7182431e+08 | D25: 158490887 | E25: 177041618 | F25: 143923000 | G25: 159812000 | H25: 141047000 | I25: 148208000 | J25: 141743000 | K25: 148208000 | L25: 1.6416851e+08 | M25: 1.7862557e+08 | N25: 141551000 | O25: 144815000 | P25: 150636000 | Q25: 166937000 | R25: =SUM(B25:Q25) -> 2.4908959e+09
A26: Undistributed Reduction | B26: 0 | C26: 0 | D26: 0 | E26: 0 | F26: 0 | G26: 0 | H26: 0 | I26: 0 | J26: 0 | K26: 0 | L26: 0 | M26: 0 | N26: 0 | O26: 0 | P26: 0 | Q26: 0 | R26: =SUM(B26:Q26) -> 0
A28: % of RR | B28: 2010 | C28: 2011 | D28: 2012 | E28: 2013 | F28: 2014 | G28: 2015 | H28: 2016 | I28: 2017 | J28: 2018 | K28: 2019 | L28: 2020 | M28: 2021 | N28: 2022 | O28: 2023 | P28: 2024 | Q28: 2025 | R28: Total
A29: Transmission Operations Sub-Total | B29: =IF(B17=0,NA(),B5/B17) -> 0.88212435 | C29: =IF(C17=0,NA(),C5/C17) -> 0.95250345 | D29: =IF(D17=0,NA(),D5/D17) -> 0.93649874 | E29: =IF(E17=0,NA(),E5/E17) -> 0.86040872 | F29: =IF(F17=0,NA(),F5/F17) -> 0.93368105 | G29: =IF(G17=0,NA(),G5/G17) -> 0.92689094 | H29: =IF(H17=0,NA(),H5/H17) -> 0.93522418 | I29: =IF(I17=0,NA(),I5/I17) -> 0.89874378 | ... P29: =IF(P17=0,NA(),P5/P17) -> 1.0702367 | R29: =IF(R17=0,NA(),R5/R17) -> 0.90508619
A30: Transmission Maintenance Sub-Total | B30: =IF(B18=0,NA(),B6/B18) -> 0.98526572 | C30: =IF(C18=0,NA(),C6/C18) -> 0.97424159 | D30: =IF(D18=0,NA(),D6/D18) -> 0.92273894 | E30: =IF(E18=0,NA(),E6/E18) -> 0.97415359 | F30: =IF(F18=0,NA(),F6/F18) -> 0.9984115 | G30: =IF(G18=0,NA(),G6/G18) -> 1.0523392 | H30: =IF(H18=0,NA(),H6/H18) -> 0.96864388 | I30: =IF(I18=0,NA(),I6/I18) -> 0.94534489 | ... P30: =IF(P18=0,NA(),P6/P18) -> 1.0563781 | R30: =IF(R18=0,NA(),R6/R18) -> 0.90061057
A31: Transmission Engineering Sub-Total | B31: =IF(B19=0,NA(),B7/B19) -> 1.0289404 | C31: =IF(C19=0,NA(),C7/C19) -> 1.3049645 | D31: =IF(D19=0,NA(),D7/D19) -> 1.4500413 | E31: =IF(E19=0,NA(),E7/E19) -> 1.398532 | F31: =IF(F19=0,NA(),F7/F19) -> 1.2657909 | G31: =IF(G19=0,NA(),G7/G19) -> 1.3706577 | H31: =IF(H19=0,NA(),H7/H19) -> 0.94022528 | I31: =IF(I19=0,NA(),I7/I19) -> 0.85005579 | ... P31: =IF(P19=0,NA(),P7/P19) -> 0.96459707 | R31: =IF(R19=0,NA(),R7/R19) -> 0.99045433
A32: Trans. Srvcs. Acq. and Ancillary Svcs. | B32: =IF(B20=0,NA(),B8/B20) -> 1.062461 | C32: =IF(C20=0,NA(),C8/C20) -> 1.0031213 | D32: =IF(D20=0,NA(),D8/D20) -> 1.1043274 | E32: =IF(E20=0,NA(),E8/E20) -> 1.1036624 | F32: =IF(F20=0,NA(),F8/F20) -> 1.2412162 | G32: =IF(G20=0,NA(),G8/G20) -> 1.1201465 | H32: =IF(H20=0,NA(),H8/H20) -> 0.91789979 | I32: =IF(I20=0,NA(),I8/I20) -> 1.1795915 | ... P32: =IF(P20=0,NA(),P8/P20) -> 1.3519194 | R32: =IF(R20=0,NA(),R8/R20) -> 0.99145076
A33: Transmission Reimbursables Sub-Total | B33: =IF(B21=0,NA(),B9/B21) -> #N/A | C33: =IF(C21=0,NA(),C9/C21) -> #N/A | D33: =IF(D21=0,NA(),D9/D21) -> #N/A | E33: =IF(E21=0,NA(),E9/E21) -> #N/A | F33: =IF(F21=0,NA(),F9/F21) -> #N/A | G33: =IF(G21=0,NA(),G9/G21) -> #N/A | H33: =IF(H21=0,NA(),H9/H21) -> #N/A | I33: =IF(I21=0,NA(),I9/I21) -> #N/A | ... P33: =IF(P21=0,NA(),P9/P21) -> #N/A | R33: =IF(R21=0,NA(),R9/R21) -> #N/A
A34: BPA Internal Support Subtotal | B34: =IF(B22=0,NA(),B10/B22) -> 1.0076084 | C34: =IF(C22=0,NA(),C10/C22) -> 1.1510939 | D34: =IF(D22=0,NA(),D10/D22) -> 0.96379287 | E34: =IF(E22=0,NA(),E10/E22) -> 0.98613487 | F34: =IF(F22=0,NA(),F10/F22) -> 1.1065436 | G34: =IF(G22=0,NA(),G10/G22) -> 1.0282811 | H34: =IF(H22=0,NA(),H10/H22) -> 1.0676028 | I34: =IF(I22=0,NA(),I10/I22) -> 0.85846285 | ... P34: =IF(P22=0,NA(),P10/P22) -> 0.99583944 | R34: =IF(R22=0,NA(),R10/R22) -> 0.9620857
A35: Other Income, Expenses, and Adj. | B35: =IF(B23=0,NA(),B11/B23) -> #N/A | C35: =IF(C23=0,NA(),C11/C23) -> #N/A | D35: =IF(D23=0,NA(),D11/D23) -> #N/A | E35: =IF(E23=0,NA(),E11/E23) -> #N/A | F35: =IF(F23=0,NA(),F11/F23) -> #N/A | G35: =IF(G23=0,NA(),G11/G23) -> -0.004025 | H35: =IF(H23=0,NA(),H11/H23) -> 3.2033333 | I35: =IF(I23=0,NA(),I11/I23) -> 0.12880837 | ... P35: =IF(P23=0,NA(),P11/P23) -> #N/A | R35: =IF(R23=0,NA(),R11/R23) -> -0.036448588
A36: Depreciation and Amortization | B36: =IF(B24=0,NA(),B12/B24) -> 0.96668333 | C36: =IF(C24=0,NA(),C12/C24) -> 0.95464832 | D36: =IF(D24=0,NA(),D12/D24) -> 0.95572788 | E36: =IF(E24=0,NA(),E12/E24) -> 0.94691443 | F36: =IF(F24=0,NA(),F12/F24) -> 1.1098985 | G36: =IF(G24=0,NA(),G12/G24) -> 1.1053515 | H36: =IF(H24=0,NA(),H12/H24) -> 1.0419542 | I36: =IF(I24=0,NA(),I12/I24) -> 0.95520274 | ... P36: =IF(P24=0,NA(),P12/P24) -> 1.0268137 | R36: =IF(R24=0,NA(),R12/R24) -> 0.92823438
A37: Net Interest Expense | B37: =IF(B25=0,NA(),B13/B25) -> 0.80066624 | C37: =IF(C25=0,NA(),C13/C25) -> 0.83723719 | D37: =IF(D25=0,NA(),D13/D25) -> 0.81885219 | E37: =IF(E25=0,NA(),E13/E25) -> 0.75734638 | F37: =IF(F25=0,NA(),F13/F25) -> 0.75126978 | G37: =IF(G25=0,NA(),G13/G25) -> 0.75337897 | H37: =IF(H25=0,NA(),H13/H25) -> 0.96675576 | I37: =IF(I25=0,NA(),I13/I25) -> 1.1073694 | ... P37: =IF(P25=0,NA(),P13/P25) -> 1.0007709 | R37: =IF(R25=0,NA(),R13/R25) -> 0.83172416
A38: Undistributed Reduction | B38: =IF(B26=0,NA(),B14/B26) -> #N/A | C38: =IF(C26=0,NA(),C14/C26) -> #N/A | D38: =IF(D26=0,NA(),D14/D26) -> #N/A | E38: =IF(E26=0,NA(),E14/E26) -> #N/A | F38: =IF(F26=0,NA(),F14/F26) -> #N/A | G38: =IF(G26=0,NA(),G14/G26) -> #N/A | H38: =IF(H26=0,NA(),H14/H26) -> #N/A | I38: =IF(I26=0,NA(),I14/I26) -> #N/A | ... P38: =IF(P26=0,NA(),P14/P26) -> #N/A | R38: =IF(R26=0,NA(),R14/R26) -> #N/A
B40: Min | C40: Avg | D40: Max | E40: Min | F40: Max
A41: =A29 -> Transmission Operations Sub-Total | B41: =MIN($B29:$P29) -> 0.86040872 | C41: =AVERAGE($B29:$P29) -> 0.97558226 | D41: =MAX($B29:$P29) -> 1.1824387 | E41: =B41-1 -> -0.13959128 | F41: =D41-1 -> 0.18243874
A42: =A30 -> Transmission Maintenance Sub-Total | B42: =MIN($B30:$P30) -> 0.92273894 | C42: =AVERAGE($B30:$P30) -> 0.97345354 | D42: =MAX($B30:$P30) -> 1.0563781 | E42: =B42-1 -> -0.077261061 | F42: =D42-1 -> 0.05637807
A43: =A31 -> Transmission Engineering Sub-Total | B43: =MIN($B31:$P31) -> 0.85005579 | C43: =AVERAGE($B31:$P31) -> 1.1140541 | D43: =MAX($B31:$P31) -> 1.4500413 | E43: =B43-1 -> -0.14994421 | F43: =D43-1 -> 0.4500413
A44: =A32 -> Trans. Srvcs. Acq. and Ancillary Svcs. | B44: =MIN($B32:$P32) -> 0.90515795 | C44: =AVERAGE($B32:$P32) -> 1.055331 | D44: =MAX($B32:$P32) -> 1.3519194 | E44: =B44-1 -> -0.094842051 | F44: =D44-1 -> 0.3519194
A45: =A33 -> Transmission Reimbursables Sub-Total | B45: =MIN($B33:$P33) -> #N/A | C45: =AVERAGE($B33:$P33) -> #N/A | D45: =MAX($B33:$P33) -> #N/A | E45: =B45-1 -> #N/A | F45: =D45-1 -> #N/A
A46: =A34 -> BPA Internal Support Subtotal | B46: =MIN($B34:$P34) -> 0.85846285 | C46: =AVERAGE($B34:$P34) -> 1.0614297 | D46: =MAX($B34:$P34) -> 1.2397027 | E46: =B46-1 -> -0.14153715 | F46: =D46-1 -> 0.23970268
...

Sheet Revenue Requirement
A3: INCOME STATEMENT | C3: 2026 | D3: 2027 | E3: 2028
B4: REVENUES FROM PROPOSED RATES | C4: 1683678.1 | D4: 1719961.7 | E4: 1789401.5
A6: OPERATING EXPENSES
B7: TRANSMISSION OPERATIONS | C7: 220399.58 | D7: 237767.37 | E7: 253776.56
B8: TRANSMISSION ENGINEERING | C8: 73816.91 | D8: 77372.537 | E8: 80792.517
B9: TRANSMISSION MAINTENANCE INCLUDING ENVIRONMENT | C9: 224667.21 | D9: 239518.35 | E9: 252997.99
B10: TRANSMISSION ACQ & ANCILLARY SERVICES | C10: 146541.12 | D10: 146179.46 | E10: 146179.46
B11: BPA INTERNAL SUPPORT | C11: 202978.69 | D11: 219690.97 | E11: 230576.47
B12: OTHER INCOME, EXPENSES & ADJUSTMENTS
B13: DEPRECIATION & AMORTIZATION | C13: 377162.05 | D13: 403792.33 | E13: 431924.68
A14: TOTAL OPERATING EXPENSES | C14: =SUM(C7:C13) -> 1245565.6 | D14: =SUM(D7:D13) -> 1324321 | E14: =SUM(E7:E13) -> 1396247.7
A16: INTEREST EXPENSE
B17: INTEREST EXPENSE
B18: FEDERAL APPROPRIATIONS | C18: 0 | D18: 0 | E18: 0
B19: CAPITALIZATION ADJUSTMENT | C19: -18968 | D19: -18968 | E19: -18968
B20: ON LONG-TERM DEBT | C20: 212946 | D20: 258415 | E20: 305688
B21: AMORTIZATION OF CAPITALIZED BOND PREMIUMS | C21: 558.55198 | D21: 558.55198 | E21: 527.31601
B22: DEBT SERVICE REASSIGNMENT INTEREST | C22: 0 | D22: 0 | E22: 0
B23: NON-FEDERAL INTEREST (INCL COI & LGIA) | C23: 65494.62 | D23: 62384.971 | E23: 57781.582
B24: PREMIUMS/DISCOUNTS | C24: 10 | D24: 15 | E24: 31
B25: AFUDC | C25: -45332.846 | D25: -50507.921 | E25: -52940.499
B26: INTEREST INCOME | C26: -10942.213 | D26: -10632.21 | E26: -10885.595
A27: NET INTEREST EXPENSE | C27: =SUM(C18:C26) -> 203766.11 | D27: =SUM(D19:D26) -> 241265.39 | E27: =SUM(E19:E26) -> 281233.8
A29: TOTAL EXPENSES | C29: =C14+C27 -> 1449331.7 | D29: =D14+D27 -> 1565586.4 | E29: =E14+E27 -> 1677481.5
A31: MINIMUM REQUIRED NET REVENUE 1/
A32: PLANNED NET REVENUES FOR RISK
A33: TOTAL PLANNED NET REVENUE | C33: =C4-C29 -> 234346.47 | D33: =D4-D29 -> 154375.25 | E33: =E4-E29 -> 111920.05
A35: TOTAL REVENUE REQUIREMENT | C35: =C29+C33 -> 1683678.1 | D35: =D29+D33 -> 1719961.7 | E35: =E29+E33 -> 1789401.5
A38: CASH FLOW STATEMENT | C38: =C3 -> 2026 | D38: =D3 -> 2027 | E38: =E3 -> 2028
A40: CASH FROM CURRENT OPERATIONS:
B41: NET REVENUE | C41: =C33 -> 234346.47 | D41: =D33 -> 154375.25 | E41: =E33 -> 111920.05
B43: REVENUE FINANCING
B44: RESERVE FINANCING
B45: EXPENSES NOT REQUIRING CASH:
B46: DEPRECIATION & AMORTIZATION | C46: 377162.05 | D46: 403792.33 | E46: 431924.68
B47: CUSTOMER FUNDED PROJECTS NET INTEREST | C47: 8634.4849 | D47: 8526.26 | E47: 7054.0288
B48: AMORTIZATION OF CAPITALIZED BOND PREMIUMS | C48: 558.55198 | D48: 558.55198 | E48: 527.31601
B49: CAPITALIZATION ADJUSTMENT | C49: -18968 | D49: -18968 | E49: -18968
B50: NON-CASH REVENUES
B51: CUSTOMER FUNDED | C51: -48108.044 | D51: -70528.665 | E51: -69806.194
...

Sheet Year 0
G3: FY25
A4: Operating Revenues
B5: Sales | G5: 1188284.9
B6: Other Revenues | G6: 49624.847
B7: Inter-Business Unit Revenues | G7: 82066.303
B8: Total Operating Revenues | G8: =SUM(G5:G7) -> 1319976
A10: Operating Expenses
B11: Integrated Program Review Programs
C12: Asset Management
D13: Asset Management Enterprise Services | G13: 2212.5376
D14: Aircraft Services | G14: 1593.268
D15: Asset Management Executive & Administrative Services | G15: 19820.731
D16: Capital to Expense Transfer | G16: 5264.492
D17: Control Center Support | G17: 47367.849
D18: Engineering Line Rating and Compliance | G18: 5003.2199
D19: Environmental Policy and Planning < Note 3 | G19: 4870.5397
D20: Heavy Mobile Equipment Maintenance | G20: 0.00013
D21: Information Technology | G21: 7113.642
D22: Joint Cost Maintenance | G22: 51.91812
D23: KSI Asset Management Expense | G23: 106.11252
D24: Logistics Services | G24: 7659.5225
... D39: Vegetation Management | G39: 25801.24
D40: Sub-Total | G40: =SUM(G13:G39) -> 382766.3
C41: Operations
D42: Operations Enterprise Services | G42: 578.66952
D43: Operations Executive & Administrative Services | G43: 3904.7121
D44: Power System Dispatching | G44: 24851.2
D45: Pre-Scheduling | G45: 0
D46: Real-Time Scheduling | G46: 5116.6961
D47: Scheduling After-the-Fact | G47: 0
D48: Scheduling Technical Support | G48: 4185.7478
D49: Strategic Integration | G49: 0
D50: Strategic Projects | G50: 0
D51: Substation Operations | G51: 35971.095
D52: Technical Operations < Note 2 | G52: 10990.578
D53: Transmission Grid Mod Existing | G53: 513.54504
... D55: Transmission System Operator | G55: 32.01715
D56: Sub-Total | G56: =SUM(G42:G55) -> 86144.261
C57: Commercial Activities
D58: Commercial Activities Enterprise Services | G58: 520.5882
...

Sheet NR_to_Cash
A2: TOOLKIT NET REVENUE TO CASH ADJUSTMENTS
A3: (in $Thousands)
C4: NR to Cash
C7: FY 2025 | D7: FY 2026 | E7: FY 2027 | F7: FY 2028
B9: Input NRTC Adjustment | C9: -54723.469 | D9: -177401.27 | E9: -150226.48 | F9: -172910.79
B11: Net Revenue to Cash Adjustment | C11: =C9 -> -54723.469 | D11: =D9 -> -177401.27 | E11: =E9 -> -150226.48 | F11: =F9 -> -172910.79
B14: (in $Thousands) | C14: =C7 -> FY 2025 | D14: =D7 -> FY 2026 | E14: =E7 -> FY 2027 | F14: =F7 -> FY 2028
B15: TS NR | C15: ='Year 0'!G122 -> 1224.7193 | D15: ='Revenue Requirement'!C41 -> 234346.47 | E15: ='Revenue Requirement'!D41 -> 154375.25 | F15: ='Revenue Requirement'!E41 -> 111920.05
B18: BOY Reserves for risk | C18: 267134.55 | D18: =C19 -> 213635.8 | E18: =D19 -> 270581.01 | F18: =E19 -> 274729.78
B19: EOY Reserves for risk | C19: =C11+C15+C18 -> 213635.8 | D19: =D11+D15+D18 -> 270581.01 | E19: =E11+E15+E18 -> 274729.78 | F19: =F11+F15+F18 -> 213739.04
B20: Cashflow: | C20: =C9+C15 -> -53498.749 | D20: =D9+D15 -> 56945.206 | E20: =E9+E15 -> 4148.7673 | F20: =F9+F15 -> -60990.736

Sheet rsklibSimData
