Workbook
Name _1759: #REF!
Name _SCH18: #REF!
Name A_SW1: #REF!
Name A_SW1back: #REF!
Name Albeni_pf: #REF!
Name Area: #REF!
Name ARSUB: #REF!
Name ARSUBSWYD: #REF!
Name ASD: #REF!
Name B: {#N/A,#N/A,FALSE,"Coversheet";#N/A,#N/A,FALSE,"QA"}
Name B_SW2: #REF!
Name B_SW2back: #REF!
Name Basic_13965: #REF!
Name Basic_91697: #REF!
Name Basic_92359: #REF!
Name Basic_92364: #REF!
Name Basic_93486: #REF!
Name Basic_93752: #REF!
Name BCIDSUB: #REF!
Name BCPUMP: #REF!
Name BOIIDC: #REF!
Name BOISE: #REF!
Name Bonn_pf: #REF!
Name BPP: #REF!
Name bun: #REF!
Name C_SJI: #REF!
Name C_SJIback: #REF!
Name ChJo_pf: #REF!
Name CHNDIDC: #REF!
Name CHNDPP: #REF!
Name CHNDSWYD: #REF!
Name Cost_Authority: #REF!
Name Cougar_pf: #REF!
Name D_Other: #REF!
Name D_Otherback: #REF!
Name Dalles_pf: #REF!
Name Data_IDP: #REF!
Name Dave: #REF!
Name Debit_Credit: #REF!
Name defAllocation: #REF!
Name default_pf: #REF!
Name Detroit_pf: #REF!
Name df: 40819.3484837963
Name DKVCABLES: #REF!
Name DKVPCT: #REF!
Name DKVSwitch: #REF!
Name dsa: #REF!
Name EAST_HIGH: #REF!
Name EAST_LOW: #REF!
Name ELEC_GCPO: #REF!
Name ELECTRIC: #REF!
Name EMMETSUB: #REF!
Name Ending_Balance: #REF!
Name FISH_WILD: #REF!
Name FUTURE: #REF!
Name FY: #REF!
Name GSSWYD: #REF!
Name HH: #REF!
Name HHIDC: #REF!
Name HHTXPLANT: #REF!

Sheet T-1
A1: Table 1
A2: Transmission Revenue Requirements
A3: ($000/yr)
B4: (A) | C4: (B) | D4: (C) | E4: (D) | F4: (E) | G4: (F) | H4: (H) | I4: (I)
C5: Total | D5: Generation Integration | E5: Network | F5: Intertie | H5: Delivery | I5: Ancillary Services /1
F6: Southern | G6: Eastern | H6: Industrial
A8: =MAX($A$4:A7)+1 -> 1 | B8: FY 2026
A9: =MAX($A$4:A8)+1 -> 2 | B9: FCRTS Investment Base (Net Plant) | C9: =SUM(D9:I9) -> 7317878 | D9: 150300.58 | E9: 6080490.8 | F9: 753677.18 | G9: 77859.794 | H9: 6156.782 | I9: 249392.84
A10: =MAX($A$4:A9)+1 -> 3 | B10: Percent of Total | C10: =SUM(D10:I10) -> 1 | D10: =D9/$C$9 -> 0.02053882 | E10: =E9/$C$9 -> 0.83090902 | F10: =F9/$C$9 -> 0.10299122 | G10: =G9/$C$9 -> 0.010639668 | H10: =H9/$C$9 -> 0.00084133433 | I10: =I9/$C$9 -> 0.034079939
A11: =MAX($A$4:A10)+1 -> 4 | B11: Operations & Maintenance | C11: =SUM(D11:I11) -> 672720.9 | D11: 11056.015 | E11: 426239.69 | F11: 54194.448 | G11: 5190.6853 | H11: 720.38083 | I11: 175319.68
A12: =MAX($A$4:A11)+1 -> 5 | B12: Transmission Acquisition & Ancillary Services | C12: =SUM(D12:I12) -> 138189.93 | D12: 88.929595 | E12: 16175.966 | F12: 2210.399 | G12: 40.582684 | H12: 6.7623133 | I12: 119667.29
A13: =MAX($A$4:A12)+1 -> 6 | B13: Depreciation | C13: =SUM(D13:I13) -> 422525.05 | D13: 7157.4366 | E13: 316735.02 | F13: 39646.271 | G13: 4608.8953 | H13: 306.13004 | I13: 54071.292
A14: =MAX($A$4:A13)+1 -> 7 | B14: Net Interest Expense | C14: =SUM(D14:I14) -> 165550.35 | D14: 3223.3604 | E14: 139013.32 | F14: 16163.334 | G14: 1669.7885 | H14: 132.03893 | I14: 5348.5024
A15: =MAX($A$4:A14)+1 -> 8 | B15: Planned Net Revenues | C15: =SUM(D15:I15) -> 139149.78 | D15: 2281.2318 | E15: 120369.03 | F15: 11439.091 | G15: 1181.7402 | H15: 93.446393 | I15: 3785.2341
A16: =MAX($A$4:A15)+1 -> 9 | B16: Total Transmission Revenue Requirement | C16: =SUM(D16:I16) -> 1538136 | D16: =SUM(D11:D15) -> 23806.974 | E16: =SUM(E11:E15) -> 1018533 | F16: =SUM(F11:F15) -> 123653.54 | G16: =SUM(G11:G15) -> 12691.692 | H16: =SUM(H11:H15) -> 1258.7585 | I16: =SUM(I11:I15) -> 358192
D17: =D16/$C$16 -> 0.015477808 | E17: =E16/$C$16 -> 0.66218659 | F17: =F16/$C$16 -> 0.080391814 | G17: =G16/$C$16 -> 0.0082513459 | H17: =H16/$C$16 -> 0.0008183662 | I17: =I16/$C$16 -> 0.23287408
A18: =MAX($A$4:A17)+1 -> 10 | B18: FY 2027
A19: =MAX($A$4:A18)+1 -> 11 | B19: FCRTS Investment Base (Net Plant) | C19: =SUM(D19:I19) -> 7908898.3 | D19: 144702.96 | E19: 6597268.5 | F19: 726325.13 | G19: 73803.458 | H19: 5957.0563 | I19: 360841.19
A20: =MAX($A$4:A19)+1 -> 12 | B20: Percent of Total | C20: =SUM(D20:I20) -> 1 | D20: =D19/$C$19 -> 0.018296222 | E20: =E19/$C$19 -> 0.83415771 | F20: =F19/$C$19 -> 0.091836447 | G20: =G19/$C$19 -> 0.009331699 | H20: =H19/$C$19 -> 0.00075320937 | I20: =I19/$C$19 -> 0.04562471
A21: =MAX($A$4:A20)+1 -> 13 | B21: Operations & Maintenance | C21: =SUM(D21:I21) -> 725207.75 | D21: 11967.596 | E21: 461383.37 | F21: 58662.84 | G21: 5618.6631 | H21: 779.77704 | I21: 186795.5
A22: =MAX($A$4:A21)+1 -> 14 | B22: Transmission Acquisition & Ancillary Services | C22: =SUM(D22:I22) -> 138189.93 | D22: 88.547254 | E22: 16176.52 | F22: 2208.4973 | G22: 40.359694 | H22: 6.7472888 | I22: 119669.26
A23: =MAX($A$4:A22)+1 -> 15 | B23: Depreciation | C23: =SUM(D23:I23) -> 454170.32 | D23: 7324.2966 | E23: 341646.9 | F23: 40492.186 | G23: 4687.2344 | H23: 317.0022 | I23: 59702.701
A24: =MAX($A$4:A23)+1 -> 16 | B24: Net Interest Expense | C24: =SUM(D24:I24) -> 192298.7 | D24: 3365.9556 | E24: 161788.77 | F24: 16895.078 | G24: 1716.7524 | H24: 138.56791 | I24: 8393.5769
A25: =MAX($A$4:A24)+1 -> 17 | B25: Planned Net Revenues | C25: =SUM(D25:I25) -> 152591.8 | D25: 2150.2222 | E25: 133101.6 | F25: 10792.826 | G25: 1096.6869 | H25: 88.519232 | I25: 5361.9411
A26: =MAX($A$4:A25)+1 -> 18 | B26: Total Transmission Revenue Requirement | C26: =SUM(D26:I26) -> 1662458.5 | D26: =SUM(D21:D25) -> 24896.618 | E26: =SUM(E21:E25) -> 1114097.2 | F26: =SUM(F21:F25) -> 129051.43 | G26: =SUM(G21:G25) -> 13159.696 | H26: =SUM(H21:H25) -> 1330.6137 | I26: =SUM(I21:I25) -> 379922.97
A28: =MAX($A$4:A27)+1 -> 19 | B28: FY 2028
A29: =MAX($A$4:A28)+1 -> 20 | B29: FCRTS Investment Base (Net Plant) | C29: =SUM(D29:I29) -> 8599654.4 | D29: 138371.9 | E29: 7202979.5 | F29: 695630.38 | G29: 69362.401 | H29: 5727.4085 | I29: 487582.83
A30: =MAX($A$4:A29)+1 -> 21 | B30: Percent of Total | C30: =SUM(D30:I30) -> 1 | D30: =D29/$C$29 -> 0.016090402 | E30: =E29/$C$29 -> 0.83758941 | F30: =F29/$C$29 -> 0.080890504 | G30: =G29/$C$29 -> 0.0080657195 | H30: =H29/$C$29 -> 0.00066600449 | I30: =I29/$C$29 -> 0.056697956
A31: =MAX($A$4:A30)+1 -> 22 | B31: Operations & Maintenance | C31: =SUM(D31:I31) -> 769002.03 | D31: 12704.642 | E31: 489798.3 | F31: 62275.699 | G31: 5964.6988 | H31: 827.80103 | I31: 197430.9
A32: =MAX($A$4:A31)+1 -> 23 | B32: Transmission Acquisition & Ancillary Services | C32: =SUM(D32:I32) -> 138189.93 | D32: 88.171185 | E32: 16177.105 | F32: 2206.6312 | G32: 40.143863 | H32: 6.7324213 | I32: 119671.14
A33: =MAX($A$4:A32)+1 -> 24 | B33: Depreciation | C33: =SUM(D33:I33) -> 476849.78 | D33: 7399.2425 | E33: 366129.23 | F33: 40903.557 | G33: 4722.4207 | H33: 321.88548 | I33: 57373.441
A34: =MAX($A$4:A33)+1 -> 25 | B34: Net Interest Expense | C34: =SUM(D34:I34) -> 237846.54 | D34: 3710.0806 | E34: 200398.41 | F34: 18651.46 | G34: 1859.7714 | H34: 153.56548 | I34: 13073.259
A35: =MAX($A$4:A34)+1 -> 26 | B35: Planned Net Revenues | C35: =SUM(D35:I35) -> 217055.32 | D35: 2727.7286 | E35: 189522.67 | F35: 13712.942 | G35: 1367.3427 | H35: 112.90454 | I35: 9611.7321
A36: =MAX($A$4:A35)+1 -> 27 | B36: Total Transmission Revenue Requirement | C36: =SUM(D36:I36) -> 1838943.6 | D36: =SUM(D31:D35) -> 26629.865 | E36: =SUM(E31:E35) -> 1262025.7 | F36: =SUM(F31:F35) -> 137750.29 | G36: =SUM(G31:G35) -> 13954.377 | H36: =SUM(H31:H35) -> 1422.889 | I36: =SUM(I31:I35) -> 397160.47
A38: =MAX($A$4:A37)+1 -> 28 | B38: BP-26 Average
A39: =MAX($A$4:A38)+1 -> 29 | B39: FCRTS Investment Base (Net Plant) | C39: =SUM(D39:I39) -> 7942143.6 | D39: =AVERAGE(D9,D19,D29) -> 144458.48 | E39: =AVERAGE(E9,E19,E29) -> 6626913 | F39: =AVERAGE(F9,F19,F29) -> 725210.9 | G39: =AVERAGE(G9,G19,G29) -> 73675.218 | H39: =AVERAGE(H9,H19,H29) -> 5947.0822 | I39: =AVERAGE(I9,I19,I29) -> 365938.95
A40: =MAX($A$4:A39)+1 -> 30 | B40: Percent of Total | C40: =SUM(D40:I40) -> 1 | D40: =D39/$C$39 -> 0.018188853 | E40: =E39/$C$39 -> 0.83439853 | F40: =F39/$C$39 -> 0.091311733 | G40: =G39/$C$39 -> 0.0092764903 | H40: =H39/$C$39 -> 0.00074880065 | I40: =I39/$C$39 -> 0.04607559
A41: =MAX($A$4:A40)+1 -> 31 | B41: =B11 -> Operations & Maintenance | C41: =SUM(D41:I41) -> 722310.23 | D41: =AVERAGE(D11,D21,D31) -> 11909.418 | E41: =AVERAGE(E11,E21,E31) -> 459140.45 | F41: =AVERAGE(F11,F21,F31) -> 58377.662 | G41: =AVERAGE(G11,G21,G31) -> 5591.349 | H41: =AVERAGE(H11,H21,H31) -> 775.9863 | I41: =AVERAGE(I11,I21,I31) -> 186515.36
A42: =MAX($A$4:A41)+1 -> 32 | B42: =B12 -> Transmission Acquisition & Ancillary Services | C42: =SUM(D42:I42) -> 138189.93 | D42: =AVERAGE(D12,D22,D32) -> 88.549344 | E42: =AVERAGE(E12,E22,E32) -> 16176.53 | F42: =AVERAGE(F12,F22,F32) -> 2208.5091 | G42: =AVERAGE(G12,G22,G32) -> 40.36208 | H42: =AVERAGE(H12,H22,H32) -> 6.7473411 | I42: =AVERAGE(I12,I22,I32) -> 119669.23
A43: =MAX($A$4:A42)+1 -> 33 | B43: =B13 -> Depreciation | C43: =SUM(D43:I43) -> 451181.71 | D43: =AVERAGE(D13,D23,D33) -> 7293.6586 | E43: =AVERAGE(E13,E23,E33) -> 341503.72 | F43: =AVERAGE(F13,F23,F33) -> 40347.338 | G43: =AVERAGE(G13,G23,G33) -> 4672.8501 | H43: =AVERAGE(H13,H23,H33) -> 315.0059 | I43: =AVERAGE(I13,I23,I33) -> 57049.145
...

Sheet T-2
A1: Table 2
A2: Revenue Credits
A3: ($000/yr)
B4: (A) | C4: (B) | D4: (C) | E4: (D) | F4: (E) | G4: (F) | H4: (G)
B5: Transmission Revenue Credit | C5: FY 2025 | D5: FY 2026 | E5: FY 2027 | F5: FY 2028 | G5: BP-26 Average | H5: Growth
A6: =MAX($A$5:A5)+1 -> 1 | B6: 3RD AC RAS GENERATION DROPPING | C6: 76.572 | D6: 76.572 | E6: 76.572 | F6: 76.572 | G6: =AVERAGE(D6:F6) -> 76.572 | H6: =IF(C6=0,"N/A",(G6-C6)/C6) -> 0
A7: =MAX($A$5:A6)+1 -> 2 | B7: AMORT NONFED PNW AC INTERTIE | C7: 3493.3388 | D7: 3493.3388 | E7: 3493.3388 | F7: 3493.3388 | G7: =AVERAGE(D7:F7) -> 3493.3388 | H7: =IF(C7=0,"N/A",(G7-C7)/C7) -> 0
A8: =MAX($A$5:A7)+1 -> 3 | B8: BPA EQUIPMENT USE | C8: 172.008 | D8: 172.008 | E8: 172.008 | F8: 172.008 | G8: =AVERAGE(D8:F8) -> 172.008 | H8: =IF(C8=0,"N/A",(G8-C8)/C8) -> 0
A9: =MAX($A$5:A8)+1 -> 4 | B9: DSI DELIVERY CHARGE | C9: 2030.1 | D9: 2030.1 | E9: 384.204 | F9: 384.204 | G9: =AVERAGE(D9:F9) -> 932.836 | H9: =IF(C9=0,"N/A",(G9-C9)/C9) -> -0.54049751
A10: =MAX($A$5:A9)+1 -> 5 | B10: FIBER LEASES | C10: 7792.9891 | D10: 5694.8895 | E10: 5075.251 | F10: 4963.328 | G10: =AVERAGE(D10:F10) -> 5244.4895 | H10: =IF(C10=0,"N/A",(G10-C10)/C10) -> -0.32702465
A11: =MAX($A$5:A10)+1 -> 6 | B11: FIBER OPERATIONS & MAINTENANCE | C11: 1204.1194 | D11: 907.89818 | E11: 812.57444 | F11: 801.49925 | G11: =AVERAGE(D11:F11) -> 840.65729 | H11: =IF(C11=0,"N/A",(G11-C11)/C11) -> -0.30184889
A12: =MAX($A$5:A11)+1 -> 7 | B12: LAND USE/LEASE/SALE | C12: 88.123 | D12: 88.123 | E12: 88.123 | F12: 88.123 | G12: =AVERAGE(D12:F12) -> 88.123 | H12: =IF(C12=0,"N/A",(G12-C12)/C12) -> 0
A13: =MAX($A$5:A12)+1 -> 8 | B13: MISC LEASES | C13: 83.979 | D13: 83.979 | E13: 83.979 | F13: 83.979 | G13: =AVERAGE(D13:F13) -> 83.979 | H13: =IF(C13=0,"N/A",(G13-C13)/C13) -> 0
A14: =MAX($A$5:A13)+1 -> 9 | B14: MISC SERVICE FEES | C14: 1212.912 | D14: 1212.912 | E14: 1212.912 | F14: 1212.912 | G14: =AVERAGE(D14:F14) -> 1212.912 | H14: =IF(C14=0,"N/A",(G14-C14)/C14) -> 0
A15: =MAX($A$5:A14)+1 -> 10 | B15: O&M FEDERAL FACILITY | C15: 220.972 | D15: 220.972 | E15: 220.972 | F15: 220.972 | G15: =AVERAGE(D15:F15) -> 220.972 | H15: =IF(C15=0,"N/A",(G15-C15)/C15) -> 0
A16: =MAX($A$5:A15)+1 -> 11 | B16: O&M NON-FEDERAL FACILITY | C16: 417.108 | D16: 417.108 | E16: 417.108 | F16: 417.108 | G16: =AVERAGE(D16:F16) -> 417.108 | H16: =IF(C16=0,"N/A",(G16-C16)/C16) -> 0
A17: =MAX($A$5:A16)+1 -> 12 | B17: PCS CONSTRUCTION | C17: 2400 | D17: 2400 | E17: 2400 | F17: 2400 | G17: =AVERAGE(D17:F17) -> 2400 | H17: =IF(C17=0,"N/A",(G17-C17)/C17) -> 0 | M17: `
A18: =MAX($A$5:A17)+1 -> 13 | B18: PCS OPERATIONS & MAINTENANCE | C18: 780 | D18: 780 | E18: 780 | F18: 780 | G18: =AVERAGE(D18:F18) -> 780 | H18: =IF(C18=0,"N/A",(G18-C18)/C18) -> 0
A19: =MAX($A$5:A18)+1 -> 14 | B19: PCS WIRELESS LEASES | C19: 6752.7 | D19: 6752.7 | E19: 6752.7 | F19: 6752.7 | G19: =AVERAGE(D19:F19) -> 6752.7 | H19: =IF(C19=0,"N/A",(G19-C19)/C19) -> 0
A20: =MAX($A$5:A19)+1 -> 15 | B20: PTP RESERVATION FEE | C20: 4718.224 | D20: 3724.48 | E20: 2208.32 | F20: 2208.32 | G20: =AVERAGE(D20:F20) -> 2713.7067 | H20: =IF(C20=0,"N/A",(G20-C20)/C20) -> -0.42484573
A21: =MAX($A$5:A20)+1 -> 16 | B21: RIGHT-OF-WAY LEASE | C21: 79.2 | D21: 79.2 | E21: 79.2 | F21: 79.2 | G21: =AVERAGE(D21:F21) -> 79.2 | H21: =IF(C21=0,"N/A",(G21-C21)/C21) -> 0
A22: =MAX($A$5:A21)+1 -> 17 | B22: SINT AC NON FEDERAL O&M | C22: 2209.8 | D22: 2209.8 | E22: 2209.8 | F22: 2209.8 | G22: =AVERAGE(D22:F22) -> 2209.8 | H22: =IF(C22=0,"N/A",(G22-C22)/C22) -> 0
A23: =MAX($A$5:A22)+1 -> 18 | B23: TRANSMISSION OPERATOR SERVICES | C23: 900 | D23: 900 | E23: 900 | F23: 900 | G23: =AVERAGE(D23:F23) -> 900 | H23: =IF(C23=0,"N/A",(G23-C23)/C23) -> 0
A24: =MAX($A$5:A23)+1 -> 19 | B24: TRANSMISSION PLANNER CFR SERV | C24: 269.35752 | D24: 269.35752 | E24: 269.35752 | F24: 269.35752 | G24: =AVERAGE(D24:F24) -> 269.35752 | H24: =IF(C24=0,"N/A",(G24-C24)/C24) -> 0
A25: =MAX($A$5:A24)+1 -> 20 | B25: TRANSMISSION PROCESSING FEE | C25: 39.6 | D25: 39.6 | E25: 39.6 | F25: 39.6 | G25: =AVERAGE(D25:F25) -> 39.6 | H25: =IF(C25=0,"N/A",(G25-C25)/C25) -> 0
A26: =MAX($A$5:A25)+1 -> 21 | B26: TS SHARE OF RES ENRGY/WHLG-COE | C26: 245.697 | D26: 245.697 | E26: 245.697 | F26: 245.697 | G26: =AVERAGE(D26:F26) -> 245.697 | H26: =IF(C26=0,"N/A",(G26-C26)/C26) -> 0
A27: =MAX($A$5:A26)+1 -> 22 | B27: UFT FIXED DOLLAR AMOUNT | C27: 3405.12 | D27: 3429.588 | E27: 3429.588 | F27: 3429.588 | G27: =AVERAGE(D27:F27) -> 3429.588 | H27: =IF(C27=0,"N/A",(G27-C27)/C27) -> 0.0071856498
A28: =MAX($A$5:A27)+1 -> 23 | B28: UFT VARIABLE SERVICE AMT | C28: 242.916 | D28: 242.916 | E28: 242.916 | F28: 242.916 | G28: =AVERAGE(D28:F28) -> 242.916 | H28: =IF(C28=0,"N/A",(G28-C28)/C28) -> 1.1700221e-16
A29: =MAX($A$5:A28)+1 -> 24 | B29: Total | C29: =SUM(C6:C28) -> 38834.836 | D29: =SUM(D6:D28) -> 35471.239 | E29: =SUM(E6:E28) -> 31594.221 | F29: =SUM(F6:F28) -> 31471.223 | G29: =AVERAGE(D29:F29) -> 32845.561 | H29: =(G29-C29)/C29 -> -0.15422429
B31: (A) | C31: (B) | D31: (C) | E31: (D) | F31: (E) | G31: (G) | H31: (H) | I31: (I) | J31: (J)
B32: Credit Segmentation Factors | C32: Generation Integration | D32: Network | E32: Intertie | G32: Delivery | H32: Ancillary Services | I32: Total | J32: Basis
E33: Southern | F33: Eastern | G33: Industrial
A34: =MAX($A$5:A33)+1 -> 25 | B34: =B6 -> 3RD AC RAS GENERATION DROPPING | C34: =_xlfn.XLOOKUP($J34,$J$72:$J$90,C$72:C$90,"Not Found",0) -> 0 | D34: =_xlfn.XLOOKUP($J34,$J$72:$J$90,D$72:D$90,"Not Found",0) -> 0 | E34: =_xlfn.XLOOKUP($J34,$J$72:$J$90,E$72:E$90,"Not Found",0) -> 1 | F34: =_xlfn.XLOOKUP($J34,$J$72:$J$90,F$72:F$90,"Not Found",0) -> 0 | G34: =_xlfn.XLOOKUP($J34,$J$72:$J$90,G$72:G$90,"Not Found",0) -> 0 | H34: =_xlfn.XLOOKUP($J34,$J$72:$J$90,H$72:H$90,"Not Found",0) -> 0 | I34: =SUM(C34:H34) -> 1 | J34: southern
A35: =MAX($A$5:A34)+1 -> 26 | B35: =B7 -> AMORT NONFED PNW AC INTERTIE | C35: =_xlfn.XLOOKUP($J35,$J$72:$J$90,C$72:C$90,"Not Found",0) -> 0 | D35: =_xlfn.XLOOKUP($J35,$J$72:$J$90,D$72:D$90,"Not Found",0) -> 0 | E35: =_xlfn.XLOOKUP($J35,$J$72:$J$90,E$72:E$90,"Not Found",0) -> 1 | F35: =_xlfn.XLOOKUP($J35,$J$72:$J$90,F$72:F$90,"Not Found",0) -> 0 | G35: =_xlfn.XLOOKUP($J35,$J$72:$J$90,G$72:G$90,"Not Found",0) -> 0 | H35: =_xlfn.XLOOKUP($J35,$J$72:$J$90,H$72:H$90,"Not Found",0) -> 0 | I35: =SUM(C35:H35) -> 1 | J35: southern
A36: =MAX($A$5:A35)+1 -> 27 | B36: =B8 -> BPA EQUIPMENT USE | C36: =_xlfn.XLOOKUP($J36,$J$72:$J$90,C$72:C$90,"Not Found",0) -> 0.01613025 | D36: =_xlfn.XLOOKUP($J36,$J$72:$J$90,D$72:D$90,"Not Found",0) -> 0.73996187 | E36: =_xlfn.XLOOKUP($J36,$J$72:$J$90,E$72:E$90,"Not Found",0) -> 0.080977133 | F36: =_xlfn.XLOOKUP($J36,$J$72:$J$90,F$72:F$90,"Not Found",0) -> 0.0082265834 | G36: =_xlfn.XLOOKUP($J36,$J$72:$J$90,G$72:G$90,"Not Found",0) -> 0.00066405189 | H36: =_xlfn.XLOOKUP($J36,$J$72:$J$90,H$72:H$90,"Not Found",0) -> 0.15404011 | I36: =SUM(C36:H36) -> 1 | J36: net plant
A37: =MAX($A$5:A36)+1 -> 28 | B37: =B9 -> DSI DELIVERY CHARGE | C37: =_xlfn.XLOOKUP($J37,$J$72:$J$90,C$72:C$90,"Not Found",0) -> 0 | D37: =_xlfn.XLOOKUP($J37,$J$72:$J$90,D$72:D$90,"Not Found",0) -> 0 | E37: =_xlfn.XLOOKUP($J37,$J$72:$J$90,E$72:E$90,"Not Found",0) -> 0 | F37: =_xlfn.XLOOKUP($J37,$J$72:$J$90,F$72:F$90,"Not Found",0) -> 0 | G37: =_xlfn.XLOOKUP($J37,$J$72:$J$90,G$72:G$90,"Not Found",0) -> 1 | H37: =_xlfn.XLOOKUP($J37,$J$72:$J$90,H$72:H$90,"Not Found",0) -> 0 | I37: =SUM(C37:H37) -> 1 | J37: industry
A38: =MAX($A$5:A37)+1 -> 29 | B38: =B10 -> FIBER LEASES | C38: =_xlfn.XLOOKUP($J38,$J$72:$J$90,C$72:C$90,"Not Found",0) -> 0.01613025 | D38: =_xlfn.XLOOKUP($J38,$J$72:$J$90,D$72:D$90,"Not Found",0) -> 0.73996187 | E38: =_xlfn.XLOOKUP($J38,$J$72:$J$90,E$72:E$90,"Not Found",0) -> 0.080977133 | F38: =_xlfn.XLOOKUP($J38,$J$72:$J$90,F$72:F$90,"Not Found",0) -> 0.0082265834 | G38: =_xlfn.XLOOKUP($J38,$J$72:$J$90,G$72:G$90,"Not Found",0) -> 0.00066405189 | H38: =_xlfn.XLOOKUP($J38,$J$72:$J$90,H$72:H$90,"Not Found",0) -> 0.15404011 | I38: =SUM(C38:H38) -> 1 | J38: net plant
A39: =MAX($A$5:A38)+1 -> 30 | B39: =B11 -> FIBER OPERATIONS & MAINTENANCE | C39: =_xlfn.XLOOKUP($J39,$J$72:$J$90,C$72:C$90,"Not Found",0) -> 0.01613025 | D39: =_xlfn.XLOOKUP($J39,$J$72:$J$90,D$72:D$90,"Not Found",0) -> 0.73996187 | E39: =_xlfn.XLOOKUP($J39,$J$72:$J$90,E$72:E$90,"Not Found",0) -> 0.080977133 | F39: =_xlfn.XLOOKUP($J39,$J$72:$J$90,F$72:F$90,"Not Found",0) -> 0.0082265834 | G39: =_xlfn.XLOOKUP($J39,$J$72:$J$90,G$72:G$90,"Not Found",0) -> 0.00066405189 | H39: =_xlfn.XLOOKUP($J39,$J$72:$J$90,H$72:H$90,"Not Found",0) -> 0.15404011 | I39: =SUM(C39:H39) -> 1 | J39: net plant
A40: =MAX($A$5:A39)+1 -> 31 | B40: =B12 -> LAND USE/LEASE/SALE | C40: =_xlfn.XLOOKUP($J40,$J$72:$J$90,C$72:C$90,"Not Found",0) -> 0.01613025 | D40: =_xlfn.XLOOKUP($J40,$J$72:$J$90,D$72:D$90,"Not Found",0) -> 0.73996187 | E40: =_xlfn.XLOOKUP($J40,$J$72:$J$90,E$72:E$90,"Not Found",0) -> 0.080977133 | F40: =_xlfn.XLOOKUP($J40,$J$72:$J$90,F$72:F$90,"Not Found",0) -> 0.0082265834 | G40: =_xlfn.XLOOKUP($J40,$J$72:$J$90,G$72:G$90,"Not Found",0) -> 0.00066405189 | H40: =_xlfn.XLOOKUP($J40,$J$72:$J$90,H$72:H$90,"Not Found",0) -> 0.15404011 | I40: =SUM(C40:H40) -> 1 | J40: net plant
A41: =MAX($A$5:A40)+1 -> 32 | B41: =B13 -> MISC LEASES | C41: =_xlfn.XLOOKUP($J41,$J$72:$J$90,C$72:C$90,"Not Found",0) -> 0.01613025 | D41: =_xlfn.XLOOKUP($J41,$J$72:$J$90,D$72:D$90,"Not Found",0) -> 0.73996187 | E41: =_xlfn.XLOOKUP($J41,$J$72:$J$90,E$72:E$90,"Not Found",0) -> 0.080977133 | F41: =_xlfn.XLOOKUP($J41,$J$72:$J$90,F$72:F$90,"Not Found",0) -> 0.0082265834 | G41: =_xlfn.XLOOKUP($J41,$J$72:$J$90,G$72:G$90,"Not Found",0) -> 0.00066405189 | H41: =_xlfn.XLOOKUP($J41,$J$72:$J$90,H$72:H$90,"Not Found",0) -> 0.15404011 | I41: =SUM(C41:H41) -> 1 | J41: net plant
...

Sheet T-3
A1: Table 3
A2: Segmented Revenue Requirement Adjustments
A3: ($000/yr)
B4: (A) | C4: (B) | D4: (C) | E4: (D) | F4: (E) | G4: (G) | H4: (H)
C5: Generation Integration | D5: Network | E5: Intertie | G5: Delivery | H5: Ancillary Services
E6: Southern | F6: Eastern | G6: Industrial
A8: =MAX($A$4:A6)+1 -> 1 | B8: FY 2026
A9: =MAX($A$4:A8)+1 -> 2 | B9: Unadjusted Costs (Table 1) | C9: ='T-1'!D16 -> 23806.974 | D9: ='T-1'!E16 -> 1018533 | E9: ='T-1'!F16 -> 123653.54 | F9: ='T-1'!G16 -> 12691.692 | G9: ='T-1'!H16 -> 1258.7585 | H9: ='T-1'!I16 -> 358192
A10: =MAX($A$4:A9)+1 -> 3 | B10: Revenue Credits (Table 2) | C10: =-'T-2'!C118 -> -293.11423 | D10: =-'T-2'!D118 -> -20426.03 | E10: =-'T-2'!E118 -> -9066.5875 | F10: =-'T-2'!F118 -> -844.16863 | G10: =-'T-2'!G118 -> -2042.167 | H10: =-'T-2'!H118 -> -2799.1722
A11: =MAX($A$4:A10)+1 -> 4 | B11: Regional Compliance Enforcement | C11: 0 | D11: 0 | E11: 0 | F11: 0 | G11: 0 | H11: -3830.345
A12: =MAX($A$4:A11)+1 -> 5 | B12: Regional Coordinator | C12: 0 | D12: 0 | E12: 0 | F12: 0 | G12: 0 | H12: -1621.2534
A13: =MAX($A$4:A12)+1 -> 6 | B13: IM Tx Revenues | C13: 0 | D13: 0 | E13: 0 | F13: =-'T-10'!G43 -> -791.34 | G13: 0 | H13: 0
A14: =MAX($A$4:A13)+1 -> 7 | B14: TGT Revenues | C14: 0 | D14: 0 | E14: 0 | F14: =-'T-10'!G142 -> -11418 | G14: 0 | H14: 0
A15: =MAX($A$4:A14)+1 -> 8 | B15: Eastern Intertie Adjustment 1/ | C15: =-$F15*C61 -> -7.5112019 | D15: =-$F15*D61 -> -303.86972 | E15: =-$F15*E61 -> -37.664669 | F15: =-(F9+F10+F13+F14) -> 361.81656 | G15: =-$F15*G61 -> -0.30768233 | H15: =-$F15*H61 -> -12.463292
A16: =MAX($A$4:A15)+1 -> 9 | B16: Industry Delivery Adjustment 1/ | C16: =-$G16*C69 -> -16.283556 | D16: =-$G16*D69 -> -658.76003 | E16: =-$G16*E69 -> -81.653343 | F16: =-$G16*F69 -> 0 | G16: =-SUM(G9:G15) -> 783.71613 | H16: =-$G16*H69 -> -27.019206
A17: =MAX($A$4:A16)+1 -> 10 | B17: Total | C17: =SUM(C9:C16) -> 23490.065 | D17: =SUM(D9:D16) -> 997144.37 | E17: =SUM(E9:E16) -> 114467.64 | F17: =SUM(F9:F16) -> 0 | G17: =SUM(G9:G16) -> 0 | H17: =SUM(H9:H16) -> 349901.75
A19: =MAX($A$4:A18)+1 -> 11 | B19: FY 2027
A20: =MAX($A$4:A19)+1 -> 12 | B20: =B9 -> Unadjusted Costs (Table 1) | C20: ='T-1'!D26 -> 24896.618 | D20: ='T-1'!E26 -> 1114097.2 | E20: ='T-1'!F26 -> 129051.43 | F20: ='T-1'!G26 -> 13159.696 | G20: ='T-1'!H26 -> 1330.6137 | H20: ='T-1'!I26 -> 379922.97
A21: =MAX($A$4:A20)+1 -> 13 | B21: =B10 -> Revenue Credits (Table 2) | C21: =-'T-2'!C146 -> -281.58171 | D21: =-'T-2'!D146 -> -18380.825 | E21: =-'T-2'!E146 -> -9008.6919 | F21: =-'T-2'!F146 -> -838.28693 | G21: =-'T-2'!G146 -> -395.79619 | H21: =-'T-2'!H146 -> -2689.0393
A22: =MAX($A$4:A21)+1 -> 14 | B22: =B11 -> Regional Compliance Enforcement | C22: 0 | D22: 0 | E22: 0 | F22: 0 | G22: 0 | H22: -3830.345
A23: =MAX($A$4:A22)+1 -> 15 | B23: =B12 -> Regional Coordinator | C23: 0 | D23: 0 | E23: 0 | F23: 0 | G23: 0 | H23: -1621.2534
A24: =MAX($A$4:A23)+1 -> 16 | B24: =B13 -> IM Tx Revenues | C24: 0 | D24: 0 | E24: 0 | F24: =-'T-10'!H43 -> -1221.89 | G24: 0 | H24: 0
A25: =MAX($A$4:A24)+1 -> 17 | B25: =B14 -> TGT Revenues | C25: 0 | D25: 0 | E25: 0 | F25: =-'T-10'!H142 -> -11418 | G25: 0 | H25: 0
A26: =MAX($A$4:A25)+1 -> 18 | B26: =B15 -> Eastern Intertie Adjustment 1/ | C26: =-$F26*C63 -> -5.8818768 | D26: =-$F26*D63 -> -268.16535 | E26: =-$F26*E63 -> -29.523618 | F26: =-(F20+F21+F24+F25) -> 318.48044 | G26: =-$F26*G63 -> -0.24214205 | H26: =-$F26*H63 -> -14.66745
A27: =MAX($A$4:A26)+1 -> 19 | B27: =B16 -> Industry Delivery Adjustment 1/ | C27: =-$G27*C71 -> 17.273399 | D27: =-$G27*D71 -> 787.52534 | E27: =-$G27*E71 -> 86.702465 | F27: =-$G27*F71 -> 0 | G27: =-SUM(G20:G26) -> -934.57534 | H27: =-$G27*H71 -> 43.074127
A28: =MAX($A$4:A27)+1 -> 20 | B28: Total | C28: =SUM(C20:C27) -> 24626.428 | D28: =SUM(D20:D27) -> 1096235.7 | E28: =SUM(E20:E27) -> 120099.91 | F28: =SUM(F20:F27) -> 0 | G28: =SUM(G20:G27) -> 0 | H28: =SUM(H20:H27) -> 371810.74
A30: =MAX($A$4:A29)+1 -> 21 | B30: FY 2028
A31: =MAX($A$4:A30)+1 -> 22 | B31: =B9 -> Unadjusted Costs (Table 1) | C31: ='T-1'!D36 -> 26629.865 | D31: ='T-1'!E36 -> 1262025.7 | E31: ='T-1'!F36 -> 137750.29 | F31: ='T-1'!G36 -> 13954.377 | G31: ='T-1'!H36 -> 1422.889 | H31: ='T-1'!I36 -> 397160.47
A32: =MAX($A$4:A31)+1 -> 23 | B32: =B10 -> Revenue Credits (Table 2) | C32: =-'T-2'!C174 -> -279.59772 | D32: =-'T-2'!D174 -> -18289.811 | E32: =-'T-2'!E174 -> -8998.7319 | F32: =-'T-2'!F174 -> -837.27508 | G32: =-'T-2'!G174 -> -395.71451 | H32: =-'T-2'!H174 -> -2670.0927
A33: =MAX($A$4:A32)+1 -> 24 | B33: =B11 -> Regional Compliance Enforcement | C33: 0 | D33: 0 | E33: 0 | F33: 0 | G33: 0 | H33: -3830.345
A34: =MAX($A$4:A33)+1 -> 25 | B34: =B12 -> Regional Coordinator | C34: 0 | D34: 0 | E34: 0 | F34: 0 | G34: 0 | H34: -1621.2534
A35: =MAX($A$4:A34)+1 -> 26 | B35: =B13 -> IM Tx Revenues | C35: 0 | D35: 0 | E35: 0 | F35: =-'T-10'!I43 -> -12622.2 | G35: 0 | H35: 0
A36: =MAX($A$4:A35)+1 -> 27 | B36: =B14 -> TGT Revenues | C36: 0 | D36: 0 | E36: 0 | F36: =-'T-10'!I142 -> 0 | G36: 0 | H36: 0
A37: =MAX($A$4:A36)+1 -> 28 | B37: =B15 -> Eastern Intertie Adjustment 1/ | C37: =-$F37*C65 -> 8.0279293 | D37: =-$F37*D65 -> 417.89562 | E37: =-$F37*E65 -> 40.358423 | F37: =-(F31+F32+F35+F36) -> -494.90238 | G37: =-$F37*G65 -> 0.33228734 | H37: =-$F37*H65 -> 28.288117
A38: =MAX($A$4:A37)+1 -> 29 | B38: =B16 -> Industry Delivery Adjustment 1/ | C38: =-$G38*C73 -> 16.67863 | D38: =-$G38*D73 -> 868.20973 | E38: =-$G38*E73 -> 83.847672 | F38: =-$G38*F73 -> 0 | G38: =-SUM(G31:G37) -> -1027.5067 | H38: =-$G38*H73 -> 58.770701
A39: =MAX($A$4:A38)+1 -> 30 | B39: Total | C39: =SUM(C31:C38) -> 26374.974 | D39: =SUM(D31:D38) -> 1245022 | E39: =SUM(E31:E38) -> 128875.76 | F39: =SUM(F31:F38) -> 0 | G39: =SUM(G31:G38) -> 0 | H39: =SUM(H31:H38) -> 389125.84
A41: =MAX($A$4:A40)+1 -> 31 | B41: BP-26 Average
A42: =MAX($A$4:A41)+1 -> 32 | B42: =B9 -> Unadjusted Costs (Table 1) | C42: =AVERAGE(C9,C20,C31) -> 25111.152 | D42: =AVERAGE(D9,D20,D31) -> 1131552 | E42: =AVERAGE(E9,E20,E31) -> 130151.75 | F42: =AVERAGE(F9,F20,F31) -> 13268.589 | G42: =AVERAGE(G9,G20,G31) -> 1337.4204 | H42: =AVERAGE(H9,H20,H31) -> 378425.15
A43: =MAX($A$4:A42)+1 -> 33 | B43: =B10 -> Revenue Credits (Table 2) | C43: =AVERAGE(C10,C21,C32) -> -284.76455 | D43: =AVERAGE(D10,D21,D32) -> -19032.222 | E43: =AVERAGE(E10,E21,E32) -> -9024.6704 | F43: =AVERAGE(F10,F21,F32) -> -839.91021 | G43: =AVERAGE(G10,G21,G32) -> -944.55922 | H43: =AVERAGE(H10,H21,H32) -> -2719.4347
A44: =MAX($A$4:A43)+1 -> 34 | B44: =B11 -> Regional Compliance Enforcement | C44: =AVERAGE(C11,C22,C33) -> 0 | D44: =AVERAGE(D11,D22,D33) -> 0 | E44: =AVERAGE(E11,E22,E33) -> 0 | F44: =AVERAGE(F11,F22,F33) -> 0 | G44: =AVERAGE(G11,G22,G33) -> 0 | H44: =AVERAGE(H11,H22,H33) -> -3830.345
...

Sheet T-4
A1: Table 4
A2: Long-term Transmission Sales
B3: (A) | C3: (B) | D3: (C) | E3: (D) | F3: (E) | G3: (F) | H3: (G) | I3: (H) | J3: (I) | K3: (J) | L3: (K) | M3: (L) | N3: (M) | O3: (N) | P3: (O)
B4: Transmission Rate Schedule | C4: MWs | D4: Oct | E4: Nov | F4: Dec | G4: Jan | H4: Feb | I4: Mar | J4: Apr | K4: May | L4: Jun | M4: Jul | N4: Aug | O4: Sep | P4: Average
A5: =MAX($A$4:A4)+1 -> 1 | B5: Network
A6: =MAX($A$4:A5)+1 -> 2 | B6: FY 2026
A7: =MAX($A$4:A6)+1 -> 3 | B7: PTP | C7: m_cd | D7: 31160 | E7: 31198 | F7: 31453 | G7: 31428 | H7: 31628 | I7: 32238 | J7: 32232 | K7: 32252 | L7: 32455 | M7: 32334 | N7: 32334 | O7: 32334 | P7: =AVERAGE(D7:O7) -> 31920.5
A8: =MAX($A$4:A7)+1 -> 4 | B8: PTP SDD | C8: m_cd | D8: -302.01121 | E8: -302.01121 | F8: -302.01121 | G8: -302.01121 | H8: -302.01121 | I8: -302.01121 | J8: -302.01121 | K8: -302.01121 | L8: -302.01121 | M8: -302.01121 | N8: -302.01121 | O8: -302.01121 | P8: =AVERAGE(D8:O8) -> -302.01121
A9: =MAX($A$4:A8)+1 -> 5 | B9: Point to Point (PTP) with SDD | C9: m_cd | D9: =SUM(D7:D8) -> 30857.989 | E9: =SUM(E7:E8) -> 30895.989 | F9: =SUM(F7:F8) -> 31150.989 | G9: =SUM(G7:G8) -> 31125.989 | H9: =SUM(H7:H8) -> 31325.989 | I9: =SUM(I7:I8) -> 31935.989 | J9: =SUM(J7:J8) -> 31929.989 | K9: =SUM(K7:K8) -> 31949.989 | ... O9: =SUM(O7:O8) -> 32031.989 | P9: =AVERAGE(D9:O9) -> 31618.489
A10: =MAX($A$4:A9)+1 -> 6 | B10: Point to Point (PTP) without SDD | C10: m_cd | D10: =D7 -> 31160 | E10: =E7 -> 31198 | F10: =F7 -> 31453 | G10: =G7 -> 31428 | H10: =H7 -> 31628 | I10: =I7 -> 32238 | J10: =J7 -> 32232 | K10: =K7 -> 32252 | ... O10: =O7 -> 32334 | P10: =AVERAGE(D10:O10) -> 31920.5
A11: =MAX($A$4:A10)+1 -> 7 | B11: PTP to Which SCD Charges Do Not Apply | C11: m_cd | D11: 72 | E11: 72 | F11: 72 | G11: 72 | H11: 72 | I11: 72 | J11: 72 | K11: 72 | L11: 72 | M11: 72 | N11: 72 | O11: 72 | P11: =AVERAGE(D11:O11) -> 72
A12: =MAX($A$4:A11)+1 -> 8 | B12: NT SDD Expectation | C12: m_cp | D12: -107.57705 | E12: -112.44981 | F12: -115.04351 | G12: -120.84536 | H12: -112.70605 | I12: -125.94626 | J12: -62.049045 | K12: -32.625032 | L12: -73.897691 | M12: -72.308252 | N12: -109.11935 | O12: -107.91939 | P12: =AVERAGE(D12:O12) -> -96.040567
A13: =MAX($A$4:A12)+1 -> 9 | B13: NT Coincident with Transmission Peak (CP):
A14: =MAX($A$4:A13)+1 -> 10 | B14: Network Load Service | C14: m_cp | D14: 7990.5189 | E14: 9157.3305 | F14: 10420.85 | G14: 10522.973 | H14: 9859.4679 | I14: 9277.5948 | J14: 8352.4887 | K14: 7710.9633 | L14: 8680.288 | M14: 9192.5449 | N14: 8943.4188 | O14: 8072.7171 | P14: =AVERAGE(D14:O14) -> 9015.0964
A15: =MAX($A$4:A14)+1 -> 11 | B15: Network Transmission (NT) (Including SDD) | C15: m_cp | D15: =D14+D12 -> 7882.9419 | E15: =E14+E12 -> 9044.8807 | F15: =F14+F12 -> 10305.806 | G15: =G14+G12 -> 10402.128 | H15: =H14+H12 -> 9746.7618 | I15: =I14+I12 -> 9151.6485 | J15: =J14+J12 -> 8290.4397 | K15: =K14+K12 -> 7678.3383 | ... O15: =O14+O12 -> 7964.7977 | P15: =AVERAGE(D15:O15) -> 8919.0558
A16: =MAX($A$4:A15)+1 -> 12 | B16: Annual peak (Including SDD) | C16: a_cp | P16: =MAX(D15:O15) -> 10402.128
A17: =MAX($A$4:A16)+1 -> 13 | B17: NT Coincident with Customer Peak (NCP):
A18: =MAX($A$4:A17)+1 -> 14 | B18: Network Load Service | C18: m_ncp | D18: 9919.9014 | E18: 10895.722 | F18: 12218.578 | G18: 12213.983 | H18: 11798.561 | I18: 11063.167 | J18: 10456.865 | K18: 9435.8537 | L18: 9945.8473 | M18: 10301.216 | N18: 10337.077 | O18: 9264.8048 | P18: =AVERAGE(D18:O18) -> 10654.298
A19: =MAX($A$4:A18)+1 -> 15 | B19: Network Transmission (NT) (Including SDD) | C19: m_ncp | D19: =D18+D12 -> 9812.3243 | E19: =E18+E12 -> 10783.272 | F19: =F18+F12 -> 12103.535 | G19: =G18+G12 -> 12093.138 | H19: =H18+H12 -> 11685.855 | I19: =I18+I12 -> 10937.221 | J19: =J18+J12 -> 10394.816 | K19: =K18+K12 -> 9403.2287 | ... O19: =O18+O12 -> 9156.8855 | P19: =AVERAGE(D19:O19) -> 10558.257
A20: =MAX($A$4:A19)+1 -> 16 | B20: Annual peak (Including SDD) | C20: a_ncp | P20: =MAX(D19:O19) -> 12103.535
A21: =MAX($A$4:A20)+1 -> 17 | B21: Subtotal of FY 2026 | D21: =SUM(D9,D14) -> 38848.508 | E21: =SUM(E9,E14) -> 40053.319 | F21: =SUM(F9,F14) -> 41571.839 | G21: =SUM(G9,G14) -> 41648.962 | H21: =SUM(H9,H14) -> 41185.457 | I21: =SUM(I9,I14) -> 41213.584 | J21: =SUM(J9,J14) -> 40282.478 | K21: =SUM(K9,K14) -> 39660.952 | ... P21: =SUM(P9,P14) -> 40633.585
A22: =MAX($A$4:A21)+1 -> 18 | B22: FY 2027
A23: =MAX($A$4:A22)+1 -> 19 | B23: PTP | C23: m_cd | D23: 30716 | E23: 30716 | F23: 30716 | G23: 31103 | H23: 31103 | I23: 31103 | J23: 31103 | K23: 32303 | L23: 32303 | M23: 32303 | N23: 32803 | O23: 32799 | P23: =AVERAGE(D23:O23) -> 31589.25
A24: =MAX($A$4:A23)+1 -> 20 | B24: PTP SDD | C24: m_cd | D24: -302.01121 | E24: -302.01121 | F24: -302.01121 | G24: -302.01121 | H24: -302.01121 | I24: -302.01121 | J24: -302.01121 | K24: -302.01121 | L24: -302.01121 | M24: -302.01121 | N24: -302.01121 | O24: -302.01121 | P24: =AVERAGE(D24:O24) -> -302.01121
A25: =MAX($A$4:A24)+1 -> 21 | B25: Point to Point (PTP) with SDD | C25: m_cd | D25: =SUM(D23:D24) -> 30413.989 | E25: =SUM(E23:E24) -> 30413.989 | F25: =SUM(F23:F24) -> 30413.989 | G25: =SUM(G23:G24) -> 30800.989 | H25: =SUM(H23:H24) -> 30800.989 | I25: =SUM(I23:I24) -> 30800.989 | J25: =SUM(J23:J24) -> 30800.989 | K25: =SUM(K23:K24) -> 32000.989 | ... O25: =SUM(O23:O24) -> 32496.989 | P25: =AVERAGE(D25:O25) -> 31287.239
A26: =MAX($A$4:A25)+1 -> 22 | B26: Point to Point (PTP) without SDD | C26: m_cd | D26: =D23 -> 30716 | E26: =E23 -> 30716 | F26: =F23 -> 30716 | G26: =G23 -> 31103 | H26: =H23 -> 31103 | I26: =I23 -> 31103 | J26: =J23 -> 31103 | K26: =K23 -> 32303 | ... O26: =O23 -> 32799 | P26: =AVERAGE(D26:O26) -> 31589.25
A27: =MAX($A$4:A26)+1 -> 23 | B27: PTP to Which SCD Charges Do Not Apply | C27: m_cd | D27: 72 | E27: 72 | F27: 72 | G27: 72 | H27: 72 | I27: 72 | J27: 72 | K27: 72 | L27: 72 | M27: 72 | N27: 72 | O27: 72 | P27: =AVERAGE(D27:O27) -> 72
A28: =MAX($A$4:A27)+1 -> 24 | B28: NT SDD Expectation | C28: m_cp | D28: -107.57705 | E28: -112.44981 | F28: -115.04351 | G28: -120.84536 | H28: -112.70605 | I28: -125.94626 | J28: -62.049045 | K28: -32.625032 | L28: -73.897691 | M28: -72.308252 | N28: -109.11935 | O28: -107.91939 | P28: =AVERAGE(D28:O28) -> -96.040567
A29: =MAX($A$4:A28)+1 -> 25 | B29: NT Coincident with Transmission Peak (CP):
A30: =MAX($A$4:A29)+1 -> 26 | B30: Network Load Service | C30: m_cp | D30: 9343.1524 | E30: 10681.569 | F30: 12034.425 | G30: 12188.482 | H30: 11368.924 | I30: 10705.114 | J30: 9655.9558 | K30: 8872.6313 | L30: 9874.7631 | M30: 10471.943 | N30: 10208.223 | O30: 9229.275 | P30: =AVERAGE(D30:O30) -> 10386.205
A31: =MAX($A$4:A30)+1 -> 27 | B31: Network Transmission (NT) (Including SDD) | C31: m_cp | D31: =D30+D28 -> 9235.5753 | E31: =E30+E28 -> 10569.119 | F31: =F30+F28 -> 11919.382 | G31: =G30+G28 -> 12067.637 | H31: =H30+H28 -> 11256.218 | I31: =I30+I28 -> 10579.168 | J31: =J30+J28 -> 9593.9067 | K31: =K30+K28 -> 8840.0063 | ... O31: =O30+O28 -> 9121.3556 | P31: =AVERAGE(D31:O31) -> 10290.164
A32: =MAX($A$4:A31)+1 -> 28 | B32: Annual peak (Including SDD) | C32: a_cp | P32: =MAX(D31:O31) -> 12067.637
A33: =MAX($A$4:A32)+1 -> 29 | B33: NT Coincident with Customer Peak (NCP):
A34: =MAX($A$4:A33)+1 -> 30 | B34: Network Load Service | C34: m_ncp | D34: 11422.447 | E34: 12541.019 | F34: 13960.939 | G34: 13996.804 | H34: 13454.875 | I34: 12622.901 | J34: 11928.534 | K34: 10748.563 | L34: 11258.685 | M34: 11668.669 | N34: 11728.394 | O34: 10559.729 | P34: =AVERAGE(D34:O34) -> 12157.63
A35: =MAX($A$4:A34)+1 -> 31 | B35: Network Transmission (NT) (Including SDD) | C35: m_ncp | D35: =D34+D28 -> 11314.87 | E35: =E34+E28 -> 12428.569 | F35: =F34+F28 -> 13845.895 | G35: =G34+G28 -> 13875.958 | H35: =H34+H28 -> 13342.169 | I35: =I34+I28 -> 12496.955 | J35: =J34+J28 -> 11866.485 | K35: =K34+K28 -> 10715.938 | ... O35: =O34+O28 -> 10451.81 | P35: =AVERAGE(D35:O35) -> 12061.589
A36: =MAX($A$4:A35)+1 -> 32 | B36: Annual peak (Including SDD) | C36: a_ncp | P36: =MAX(D35:O35) -> 13875.958
A37: =MAX($A$4:A36)+1 -> 33 | B37: Subtotal of FY 2027 | D37: =SUM(,D25,D30) -> 39757.141 | E37: =SUM(,E25,E30) -> 41095.557 | F37: =SUM(,F25,F30) -> 42448.414 | G37: =SUM(,G25,G30) -> 42989.471 | H37: =SUM(,H25,H30) -> 42169.912 | I37: =SUM(,I25,I30) -> 41506.103 | J37: =SUM(,J25,J30) -> 40456.945 | K37: =SUM(,K25,K30) -> 40873.62 | ... P37: =SUM(,P25,P30) -> 41673.444
A38: =MAX($A$4:A37)+1 -> 34 | B38: FY 2028
A39: =MAX($A$4:A38)+1 -> 35 | B39: PTP | C39: m_cd | D39: 32796 | E39: 32796 | F39: 32745 | G39: 32739 | H39: 32739 | I39: 32739 | J39: 33725 | K39: 33800 | L39: 33850 | M39: 33850 | N39: 33850 | O39: 33850 | P39: =AVERAGE(D39:O39) -> 33289.917
A40: =MAX($A$4:A39)+1 -> 36 | B40: PTP SDD | C40: m_cd | D40: -302.01121 | E40: -302.01121 | F40: -302.01121 | G40: -302.01121 | H40: -302.01121 | I40: -302.01121 | J40: -302.01121 | K40: -302.01121 | L40: -302.01121 | M40: -302.01121 | N40: -302.01121 | O40: -302.01121 | P40: =AVERAGE(D40:O40) -> -302.01121
...

Sheet T-5
A1: Table 5
A2: Short-term Transmission Sales
B3: (A) | C3: (B) | D3: (C) | E3: (D) | F3: (E) | G3: (F) | H3: (G) | I3: (H) | J3: (I) | K3: (J) | L3: (K) | M3: (L) | N3: (M) | O3: (N) | P3: (O)
B4: Short-term Product | C4: Units | D4: Oct | E4: Nov | F4: Dec | G4: Jan | H4: Feb | I4: Mar | J4: Apr | K4: May | L4: Jun | M4: Jul | N4: Aug | O4: Sep | P4: Annual
A5: =MAX($A$4:A4)+1 -> 1 | B5: FY 2026 Days in Month | D5: 31 | E5: 30 | F5: 31 | G5: 31 | H5: 28 | I5: 31 | J5: 30 | K5: 31 | L5: 30 | M5: 31 | N5: 31 | O5: 30 | P5: =SUM(D5:O5) -> 365
A6: =MAX($A$4:A5)+1 -> 2 | B6: FY 2027 Days in Month | D6: 31 | E6: 30 | F6: 31 | G6: 31 | H6: 28 | I6: 31 | J6: 30 | K6: 31 | L6: 30 | M6: 31 | N6: 31 | O6: 30 | P6: =SUM(D6:O6) -> 365
A7: =MAX($A$4:A6)+1 -> 3 | B7: FY 2028 Days in Month | D7: 31 | E7: 30 | F7: 31 | G7: 31 | H7: 29 | I7: 31 | J7: 30 | K7: 31 | L7: 30 | M7: 31 | N7: 31 | O7: 30 | P7: =SUM(D7:O7) -> 366
A8: =MAX($A$4:A7)+1 -> 4 | B8: Network (PTP only short-term)
A9: =MAX($A$4:A8)+1 -> 5 | B9: FY 2026 | C9: 1/
A10: =MAX($A$4:A9)+1 -> 6 | B10: Monthly/Weekly/Daily Block1 | C10: MW-days | D10: =D13*D$5 -> 5.0958897 | E10: =E13*E$5 -> 0 | F10: =F13*F$5 -> 2879.1777 | G10: =G13*G$5 -> 3511.068 | H10: =H13*H$5 -> 5408.2184 | I10: =I13*I$5 -> 12739.724 | J10: =J13*J$5 -> 18463.559 | K10: =K13*K$5 -> 17407.559 | ... O10: =O13*O$5 -> 0 | P10: =SUM(D10:O10) -> 105963.27
A11: =MAX($A$4:A10)+1 -> 7 | B11: Monthly/Weekly/Daily Block2 | C11: MW-days | D11: =D14*D$5 -> 0 | E11: =E14*E$5 -> 0 | F11: =F14*F$5 -> 8286.0711 | G11: =G14*G$5 -> 9552.6345 | H11: =H14*H$5 -> 11251.559 | I11: =I14*I$5 -> 26969.152 | J11: =J14*J$5 -> 29288.97 | K11: =K14*K$5 -> 56196.755 | ... O11: =O14*O$5 -> 13541.841 | P11: =SUM(D11:O11) -> 263685.72
A12: =MAX($A$4:A11)+1 -> 8 | B12: Hourly | C12: MWh | D12: =D15*D$5*24 -> 225107.9 | E12: =E15*E$5*24 -> 241730.63 | F12: =F15*F$5*24 -> 125945.95 | G12: =G15*G$5*24 -> 140304.13 | H12: =H15*H$5*24 -> 138060.1 | I12: =I15*I$5*24 -> 204390.05 | J12: =J15*J$5*24 -> 346617.86 | K12: =K15*K$5*24 -> 168849.27 | ... O12: =O15*O$5*24 -> 42584.548 | P12: =SUM(D12:O12) -> 2235626.4
A13: =MAX($A$4:A12)+1 -> 9 | B13: Monthly/Weekly/Daily Block1 | C13: m_cd | D13: 0.16438354 | E13: 0 | F13: 92.876699 | G13: 113.26026 | H13: 193.15066 | I13: 410.95884 | J13: 615.45197 | K13: 561.53417 | L13: 721.80812 | M13: 729.69852 | N13: 41.095884 | O13: 0 | P13: =AVERAGE(D13:O13) -> 289.99996
A14: =MAX($A$4:A13)+1 -> 10 | B14: Monthly/Weekly/Daily Block2 | C14: m_cd | D14: 0 | E14: 0 | F14: 267.29262 | G14: 308.1495 | H14: 401.84139 | I14: 869.97265 | J14: 976.299 | K14: 1812.7985 | L14: 1907.639 | M14: 969.89973 | N14: 687.18323 | O14: 451.39471 | P14: =AVERAGE(D14:O14) -> 721.0392
A15: =MAX($A$4:A14)+1 -> 11 | B15: Hourly | C15: m_cd | D15: 302.56438 | E15: 335.73699 | F15: 169.28219 | G15: 188.58082 | H15: 205.44658 | I15: 274.71781 | J15: 481.4137 | K15: 226.94795 | L15: 377.29315 | M15: 400.3726 | N15: 43.693151 | O15: 59.145205 | P15: =AVERAGE(D15:O15) -> 255.43288
A16: =MAX($A$4:A15)+1 -> 12 | B16: Subtotal of FY 2026 | C16: m_cd | D16: =SUM(D13:D15) -> 302.72877 | E16: =SUM(E13:E15) -> 335.73699 | F16: =SUM(F13:F15) -> 529.45151 | G16: =SUM(G13:G15) -> 609.99058 | H16: =SUM(H13:H15) -> 800.43862 | I16: =SUM(I13:I15) -> 1555.6493 | J16: =SUM(J13:J15) -> 2073.1647 | K16: =SUM(K13:K15) -> 2601.2807 | ... P16: =SUM(P13:P15) -> 1266.472
A17: =MAX($A$4:A16)+1 -> 13 | B17: FY 2027 | C17: 1/
A18: =MAX($A$4:A17)+1 -> 14 | B18: Monthly/Weekly/Daily Block1 | C18: MW-days | D18: =D21*D$6 -> 5.0958897 | E18: =E21*E$6 -> 0 | F18: =F21*F$6 -> 3093.205 | G18: =G21*G$6 -> 4142.9583 | H18: =H21*H$6 -> 5514.0814 | I18: =I21*I$6 -> 12755.012 | J18: =J21*J$6 -> 18616.436 | K18: =K21*K$6 -> 17494.189 | ... O18: =O21*O$6 -> 0 | P18: =SUM(D18:O18) -> 107471.49
A19: =MAX($A$4:A18)+1 -> 15 | B19: Monthly/Weekly/Daily Block2 | C19: MW-days | D19: =D22*D$6 -> 0 | E19: =E22*E$6 -> 0 | F19: =F22*F$6 -> 8850.6837 | G19: =G22*G$6 -> 11378.724 | H19: =H22*H$6 -> 11600.729 | I19: =I22*I$6 -> 26979.325 | J19: =J22*J$6 -> 29594.166 | K19: =K22*K$6 -> 56461.258 | ... O19: =O22*O$6 -> 14521.422 | P19: =SUM(D19:O19) -> 269808.35
A20: =MAX($A$4:A19)+1 -> 16 | B20: Hourly | C20: MWh | D20: =D23*D$6*24 -> 227235.95 | E20: =E23*E$6*24 -> 259626.08 | F20: =F23*F$6*24 -> 134580.43 | G20: =G23*G$6*24 -> 168115.46 | H20: =H23*H$6*24 -> 144003.16 | I20: =I23*I$6*24 -> 204561.27 | J20: =J23*J$6*24 -> 349529.42 | K20: =K23*K$6*24 -> 167283.81 | ... O20: =O23*O$6*24 -> 45590.795 | P20: =SUM(D20:O20) -> 2307222.4
A21: =MAX($A$4:A20)+1 -> 17 | B21: Monthly/Weekly/Daily Block1 | C21: m_cd | D21: 0.16438354 | E21: 0 | F21: 99.780808 | G21: 133.64382 | H21: 196.93148 | I21: 411.452 | J21: 620.54786 | K21: 564.32869 | L21: 731.01359 | M21: 728.38346 | N21: 43.23287 | O21: 0 | P21: =AVERAGE(D21:O21) -> 294.12325
A22: =MAX($A$4:A21)+1 -> 18 | B22: Monthly/Weekly/Daily Block2 | C22: m_cd | D22: 0 | E22: 0 | F22: 285.50593 | G22: 367.05561 | H22: 414.31176 | I22: 870.30082 | J22: 986.4722 | K22: 1821.3309 | L22: 1930.7748 | M22: 968.0948 | N22: 725.41477 | O22: 484.0474 | P22: =AVERAGE(D22:O22) -> 737.77575
A23: =MAX($A$4:A22)+1 -> 19 | B23: Hourly | C23: m_cd | D23: 305.42466 | E23: 360.59178 | F23: 180.88767 | G23: 225.96164 | H23: 214.29041 | I23: 274.94795 | J23: 485.45753 | K23: 224.84384 | L23: 381.86301 | M23: 399.8137 | N23: 46.093151 | O23: 63.320548 | P23: =AVERAGE(D23:O23) -> 263.62466
A24: =MAX($A$4:A23)+1 -> 20 | B24: Subtotal of FY 2027 | C24: m_cd | D24: =SUM(D21:D23) -> 305.58904 | E24: =SUM(E21:E23) -> 360.59178 | F24: =SUM(F21:F23) -> 566.1744 | G24: =SUM(G21:G23) -> 726.66107 | H24: =SUM(H21:H23) -> 825.53365 | I24: =SUM(I21:I23) -> 1556.7008 | J24: =SUM(J21:J23) -> 2092.4776 | K24: =SUM(K21:K23) -> 2610.5034 | ... P24: =SUM(P21:P23) -> 1295.5237
A25: =MAX($A$4:A24)+1 -> 21 | B25: FY 2028 | C25: 1/
A26: =MAX($A$4:A25)+1 -> 22 | B26: Monthly/Weekly/Daily Block1 | C26: MW-days | D26: =D29*D$7 -> 5.0958897 | E26: =E29*E$7 -> 0 | F26: =F29*F$7 -> 2904.6571 | G26: =G29*G$7 -> 3531.4515 | H26: =H29*H$7 -> 5663.3416 | I26: =I29*I$7 -> 12846.738 | J26: =J29*J$7 -> 18611.504 | K26: =K29*K$7 -> 17545.148 | ... O26: =O29*O$7 -> 0 | P26: =SUM(D26:O26) -> 107022.89
A27: =MAX($A$4:A26)+1 -> 23 | B27: Monthly/Weekly/Daily Block2 | C27: MW-days | D27: =D30*D$7 -> 0 | E27: =E30*E$7 -> 0 | F27: =F30*F$7 -> 8347.1103 | G27: =G30*G$7 -> 9628.9335 | H27: =H30*H$7 -> 11748.569 | I27: =I30*I$7 -> 27187.876 | J27: =J30*J$7 -> 29520.328 | K27: =K30*K$7 -> 56654.549 | ... O27: =O30*O$7 -> 13655.059 | P27: =SUM(D27:O27) -> 266226.24
A28: =MAX($A$4:A27)+1 -> 24 | B28: Hourly | C28: MWh | D28: =D31*D$7*24 -> 226917.96 | E28: =E31*E$7*24 -> 243695.34 | F28: =F31*F$7*24 -> 126948.82 | G28: =G31*G$7*24 -> 141453.76 | H28: =H31*H$7*24 -> 144157.81 | I28: =I31*I$7*24 -> 206028.89 | J28: =J31*J$7*24 -> 349411.07 | K28: =K31*K$7*24 -> 170219.05 | ... O28: =O31*O$7*24 -> 42892.274 | P28: =SUM(D28:O28) -> 2258604.9
A29: =MAX($A$4:A28)+1 -> 25 | B29: Monthly/Weekly/Daily Block1 | C29: m_cd | D29: 0.16438354 | E29: 0 | F29: 93.698617 | G29: 113.91779 | H29: 195.28764 | I29: 414.4109 | J29: 620.38347 | K29: 565.97252 | L29: 727.72592 | M29: 735.45195 | N29: 41.424652 | O29: 0 | P29: =AVERAGE(D29:O29) -> 292.36982
A30: =MAX($A$4:A29)+1 -> 26 | B30: Monthly/Weekly/Daily Block2 | C30: m_cd | D30: 0 | E30: 0 | F30: 269.26162 | G30: 310.61076 | H30: 405.12306 | I30: 877.02826 | J30: 984.01094 | K30: 1827.5661 | L30: 1922.8988 | M30: 977.77575 | N30: 693.09025 | O30: 455.16864 | P30: =AVERAGE(D30:O30) -> 726.87785
A31: =MAX($A$4:A30)+1 -> 27 | B31: Hourly | C31: m_cd | D31: 304.99726 | E31: 338.46575 | F31: 170.63014 | G31: 190.12603 | H31: 207.12329 | I31: 276.92055 | J31: 485.29315 | K31: 228.78904 | L31: 380.31781 | M31: 403.66027 | N31: 43.989041 | O31: 59.572603 | P31: =AVERAGE(D31:O31) -> 257.49041
A32: =MAX($A$4:A31)+1 -> 28 | B32: Subtotal of FY 2028 | C32: m_cd | D32: =SUM(D29:D31) -> 305.16164 | E32: =SUM(E29:E31) -> 338.46575 | F32: =SUM(F29:F31) -> 533.59038 | G32: =SUM(G29:G31) -> 614.65458 | H32: =SUM(H29:H31) -> 807.53399 | I32: =SUM(I29:I31) -> 1568.3597 | J32: =SUM(J29:J31) -> 2089.6876 | K32: =SUM(K29:K31) -> 2622.3277 | ... P32: =SUM(P29:P31) -> 1276.7381
A33: =MAX($A$4:A32)+1 -> 29 | B33: BP-26 Average
A34: =MAX($A$4:A33)+1 -> 30 | B34: Monthly/Weekly/Daily Block1 | C34: m_cd | D34: =AVERAGE(D13,D21,D29) -> 0.16438354 | E34: =AVERAGE(E13,E21,E29) -> 0 | F34: =AVERAGE(F13,F21,F29) -> 95.452041 | G34: =AVERAGE(G13,G21,G29) -> 120.27396 | H34: =AVERAGE(H13,H21,H29) -> 195.12326 | I34: =AVERAGE(I13,I21,I29) -> 412.27391 | J34: =AVERAGE(J13,J21,J29) -> 618.79443 | K34: =AVERAGE(K13,K21,K29) -> 563.94512 | ... O34: =AVERAGE(O13,O21,O29) -> 0 | P34: =AVERAGE(D34:O34) -> 292.16434
A35: =MAX($A$4:A34)+1 -> 31 | B35: Monthly/Weekly/Daily Block2 | C35: m_cd | D35: =AVERAGE(D14,D22,D30) -> 0 | E35: =AVERAGE(E14,E22,E30) -> 0 | F35: =AVERAGE(F14,F22,F30) -> 274.02005 | G35: =AVERAGE(G14,G22,G30) -> 328.60529 | H35: =AVERAGE(H14,H22,H30) -> 407.09207 | I35: =AVERAGE(I14,I22,I30) -> 872.43391 | J35: =AVERAGE(J14,J22,J30) -> 982.26071 | K35: =AVERAGE(K14,K22,K30) -> 1820.5652 | ... O35: =AVERAGE(O14,O22,O30) -> 463.53692 | P35: =AVERAGE(D35:O35) -> 728.56427
A36: =MAX($A$4:A35)+1 -> 32 | B36: Hourly | C36: m_cd | D36: =AVERAGE(D15,D23,D31) -> 304.32877 | E36: =AVERAGE(E15,E23,E31) -> 344.93151 | F36: =AVERAGE(F15,F23,F31) -> 173.6 | G36: =AVERAGE(G15,G23,G31) -> 201.55616 | H36: =AVERAGE(H15,H23,H31) -> 208.95342 | I36: =AVERAGE(I15,I23,I31) -> 275.52877 | J36: =AVERAGE(J15,J23,J31) -> 484.05479 | K36: =AVERAGE(K15,K23,K31) -> 226.86027 | ... O36: =AVERAGE(O15,O23,O31) -> 60.679452 | P36: =AVERAGE(D36:O36) -> 258.84932
A37: =MAX($A$4:A36)+1 -> 33 | B37: Subtotal for BP-26 | C37: m_cd | D37: =SUM(D34:D36) -> 304.49315 | E37: =SUM(E34:E36) -> 344.93151 | F37: =SUM(F34:F36) -> 543.0721 | G37: =SUM(G34:G36) -> 650.43541 | H37: =SUM(H34:H36) -> 811.16875 | I37: =SUM(I34:I36) -> 1560.2366 | J37: =SUM(J34:J36) -> 2085.1099 | K37: =SUM(K34:K36) -> 2611.3706 | ... P37: =SUM(P34:P36) -> 1279.5779
A38: =MAX($A$4:A37)+1 -> 34 | B38: Southern Intertie
A39: =MAX($A$4:A38)+1 -> 35 | B39: FY 2026 | C39: 1/
A40: =MAX($A$4:A39)+1 -> 36 | B40: Monthly/Weekly/Daily Block1 | C40: MW-days | D40: =D43*D$5 -> 1564.4384 | E40: =E43*E$5 -> 2268.4932 | F40: =F43*F$5 -> 117.20548 | G40: =G43*G$5 -> 76.438356 | H40: =H43*H$5 -> 18.410959 | I40: =I43*I$5 -> 163.06849 | J40: =J43*J$5 -> 93.69863 | K40: =K43*K$5 -> 101.91781 | ... O40: =O43*O$5 -> 103.56164 | P40: =SUM(D40:O40) -> 5090.9589
...

Sheet T-6
A1: Table 6
A2: Calculation of PTP and NT Rates
B3: (A) | C3: (B) | D3: (C) | E3: (D) | F3: (E) | G3: (F)
B4: =A1 -> Table 6 | C4: Source | D4: Costs | E4: Sales | F4: Percentage | G4: Rates
A5: =MAX($A$4:A4)+1 -> 1 | B5: Network costs | D5: $000/Yr | E5: aMW
A6: =MAX($A$4:A5)+1 -> 2 | B6: Segmented Network costs | C6: ="Table 3, Line "&TEXT('T-3'!A50,"0")&" "&'T-3'!D4 -> Table 3, Line 40 (C) | D6: ='T-3'!D50 -> 1112800.7
A7: =MAX($A$4:A6)+1 -> 3 | B7: Network sales (PTP and NT)
A8: =MAX($A$4:A7)+1 -> 4 | B8: Point to Point (PTP) without SDD | C8: ="Table 4, Line "&TEXT('T-4'!A56,"0")&" "&'T-4'!$P$3 -> Table 4, Line 52 (O) | E8: ='T-4'!P56 -> 32266.556
A9: =MAX($A$4:A8)+1 -> 5 | B9: Point to Point (PTP) with SDD | C9: ="Table 4, Line "&TEXT('T-4'!A55,"0")&" "&'T-4'!$P$3 -> Table 4, Line 51 (O) | E9: ='T-4'!P55 -> 31964.544
A10: =MAX($A$4:A9)+1 -> 6 | B10: Network Integration without SDD (12 CP Average Peak) | C10: ="Table 4, Line "&TEXT('T-4'!A59,"0")&" "&'T-4'!$P$3 -> Table 4, Line 55 (O) | E10: ='T-4'!P59 -> 10101.817
A11: =MAX($A$4:A10)+1 -> 7 | B11: Network Integration with SDD (12 CP Average Peak) | C11: ="Table 4, Line "&TEXT('T-4'!A60,"0")&" "&'T-4'!$P$3 -> Table 4, Line 56 (O) | E11: ='T-4'!P60 -> 10005.777
A12: =MAX($A$4:A11)+1 -> 8 | B12: Annual peak (1 CP) | C12: ="Table 4, Line "&TEXT('T-4'!A61,"0")&" "&'T-4'!$P$3 -> Table 4, Line 57 (O) | E12: ='T-4'!P61 -> 11684.42
A13: =MAX($A$4:A12)+1 -> 9 | B13: Network Integration without SDD (12 NCP Average Peak) | C13: ="Table 4, Line "&TEXT('T-4'!A63,"0")&" "&'T-4'!$P$3 -> Table 4, Line 59 (O) | E13: ='T-4'!P63 -> 11846.065
A14: =MAX($A$4:A13)+1 -> 10 | B14: Network Integration with SDD (12 NCP Average Peak) | C14: ="Table 4, Line "&TEXT('T-4'!A64,"0")&" "&'T-4'!$P$3 -> Table 4, Line 60 (O) | E14: ='T-4'!P64 -> 11750.024
A15: =MAX($A$4:A14)+1 -> 11 | B15: Annual Noncoincidental Peak (1 NCP) | C15: ="Table 4, Line "&TEXT('T-4'!A65,"0")&" "&'T-4'!$P$3 -> Table 4, Line 61 (O) | E15: ='T-4'!P65 -> 13468.38
A16: =MAX($A$4:A15)+1 -> 12 | B16: Daily Block1 (day 1 through 5) | C16: ="Table 5, Line "&TEXT('T-5'!A34,"0")&" "&'T-5'!$P$3 -> Table 5, Line 30 (O) | E16: ='T-5'!P34 -> 292.16434
A17: =MAX($A$4:A16)+1 -> 13 | B17: Daily Block2 (day 6 and beyond) | C17: ="Table 5, Line "&TEXT('T-5'!A35,"0")&" "&'T-5'!$P$3 -> Table 5, Line 31 (O) | E17: ='T-5'!P35 -> 728.56427
A18: =MAX($A$4:A17)+1 -> 14 | B18: Hourly | C18: ="Table 5, Line "&TEXT('T-5'!A36,"0")&" "&'T-5'!$P$3 -> Table 5, Line 32 (O) | E18: ='T-5'!P36 -> 258.84932
A19: =MAX($A$4:A18)+1 -> 15 | B19: Sales used for cost allocation
A20: =MAX($A$4:A19)+1 -> 16 | B20: NT Load (12 NCP Average Peak) (with SDD) | C20: ="Line "&TEXT(A14,"0") -> Line 10 | E20: =E14 -> 11750.024
A21: =MAX($A$4:A20)+1 -> 17 | B21: PTP Contracts (with SDD) | C21: ="Line "&TEXT(A9,"0") -> Line 5 | E21: =E9 -> 31964.544
A22: =MAX($A$4:A21)+1 -> 18 | B22: Daily Block1 (day 1 through 5) | C22: ="Line "&TEXT(A16,"0")&" x (7/5)" -> Line 12 x (7/5) | E22: =E16*7/5 -> 409.03008
A23: =MAX($A$4:A22)+1 -> 19 | B23: Daily Block2 (day 6 and beyond) | C23: ="Line "&TEXT(A17,"0") -> Line 13 | E23: =E17 -> 728.56427
A24: =MAX($A$4:A23)+1 -> 20 | B24: Hourly | C24: ="Line "&TEXT(A18,"0")&" x (7/5) x (24/16)" -> Line 14 x (7/5) x (24/16) | E24: =E18*7/5*24/16 -> 543.58356
A25: =MAX($A$4:A24)+1 -> 21 | B25: Total cost allocation sales -- Reserved capacity contracts | C25: ="Sum of Line "&TEXT(A20,"0")&" through Line "&TEXT(A24,"0") -> Sum of Line 16 through Line 20 | E25: =SUM(E20:E24) -> 45395.747
A26: =MAX($A$4:A25)+1 -> 22 | B26: Sales allocation percentages:
A27: =MAX($A$4:A26)+1 -> 23 | B27: PTP Contract Demand | C27: ="Sum of Line "&TEXT(A21,"0")&" through Line "&TEXT(A24,"0") -> Sum of Line 17 through Line 20 | E27: =(E21+E22+E23+E24) -> 33645.722
A28: =MAX($A$4:A27)+1 -> 24 | B28: Total Cost Allocation Sales | C28: ="Line "&TEXT(A25,"0") -> Line 21 | E28: =$E$25 -> 45395.747
A29: =MAX($A$4:A28)+1 -> 25 | B29: PTP Percentage | C29: ="Line "&TEXT(A27,"0")&" / Line "&TEXT(A28,"0") -> Line 23 / Line 24 | F29: =E27/E28 -> 0.74116464
A30: =MAX($A$4:A29)+1 -> 26 | B30: NT Load (12 NCP Average Peak) (with SDD) | C30: ="Line "&TEXT(A20,"0") -> Line 16 | E30: =+E20 -> 11750.024
A31: =MAX($A$4:A30)+1 -> 27 | B31: Total Cost Allocation Sales | C31: ="Line "&TEXT(A25,"0") -> Line 21 | E31: =$E$25 -> 45395.747
A32: =MAX($A$4:A31)+1 -> 28 | B32: NT Percentage | C32: ="Line "&TEXT(A30,"0")&" / Line "&TEXT(A31,"0") -> Line 26 / Line 27 | F32: =E30/E31 -> 0.25883536
A33: =MAX($A$4:A32)+1 -> 29 | B33: Application of Revenue Requirements to Products:
A34: =MAX($A$4:A33)+1 -> 30 | B34: PTP Rate Calculations:
A35: =MAX($A$4:A34)+1 -> 31 | B35: Total segment costs | C35: ="Line "&TEXT(A6,"0") -> Line 2 | D35: =D6 -> 1112800.7
A36: =MAX($A$4:A35)+1 -> 32 | B36: PTP Cost Allocation Percentage | C36: ="Line "&TEXT(A29,"0") -> Line 25 | F36: =F29 -> 0.74116464
A37: =MAX($A$4:A36)+1 -> 33 | B37: Allocated PTP Costs | C37: ="Line "&TEXT(A35,"0")&" x Line "&TEXT(A36,"0") -> Line 31 x Line 32 | D37: =D35*F36 -> 824768.53
A38: =MAX($A$4:A37)+1 -> 34 | B38: PTP Billing Factor (PTP Contract Demand) | C38: ="Line "&TEXT(A27,"0") -> Line 23 | E38: =E27 -> 33645.722
A39: =MAX($A$4:A38)+1 -> 35 | B39: PTP Annual Rate ($/kW-yr) | C39: ="Line "&TEXT(A37,"0")&" / Line "&TEXT(A38,"0") -> Line 33 / Line 34 | G39: =D37/E38 -> 24.513325 | H39: =_xlfn.FORMULATEXT(G39) -> =D37/E38
A40: =MAX($A$4:A39)+1 -> 36 | B40: Monthly ($/kW-mo) | C40: ="Line "&TEXT(A39,"0")&" / 12" -> Line 35 / 12 | G40: =ROUND(G39/12,3) -> 2.043 | H40: =_xlfn.FORMULATEXT(G40) -> =ROUND(G39/12,3)
...

Sheet T-7
A1: Table 7
A2: Calculation of Intertie Rates
B3: (A) | C3: (B) | D3: (C) | E3: (D) | F3: (E)
B4: FY 2026/2027/2028 | C4: Source | D4: Costs | E4: Sales | F4: Rates
A5: =MAX($A$4:A4)+1 -> 1 | B5: Intertie Costs | D5: $000/Yr | E5: aMW
A6: =MAX($A$4:A5)+1 -> 2 | B6: Segmented Southern Intertie Costs | C6: ="Table 3, Line "&TEXT('T-3'!A50,"0")&" "&'T-3'!E4 -> Table 3, Line 40 (D) | D6: ='T-3'!E50 -> 121147.77
A7: =MAX($A$4:A6)+1 -> 3 | B7: Southern Intertie Sales
A8: =MAX($A$4:A7)+1 -> 4 | B8: Long-term Agreements | C8: ="Table 4, Line "&TEXT('T-4'!A71,"0")&" "&'T-4'!P3 -> Table 4, Line 67 (O) | E8: ='T-4'!P71 -> 6991.1389
A9: =MAX($A$4:A8)+1 -> 5 | B9: Short-term Daily Block1 | C9: ="Table 5, Line "&TEXT('T-5'!A64,"0")&" "&'T-5'!P3 -> Table 5, Line 60 (O) | E9: ='T-5'!P64 -> 14.461187
A10: =MAX($A$4:A9)+1 -> 6 | B10: Short-term Daily Block2 | C10: ="Table 5, Line "&TEXT('T-5'!A65,"0")&" "&'T-5'!P3 -> Table 5, Line 61 (O) | E10: ='T-5'!P65 -> 13.872142
A11: =MAX($A$4:A10)+1 -> 7 | B11: Hourly | C11: ="Table 5, Line "&TEXT('T-5'!A66,"0")&" "&'T-5'!P3 -> Table 5, Line 62 (O) | E11: ='T-5'!P66 -> 220.45753
A12: =MAX($A$4:A11)+1 -> 8 | B12: Sales used for cost allocation
A13: =MAX($A$4:A12)+1 -> 9 | B13: Long-term Agreements | C13: ="Line "&TEXT(A8,"0") -> Line 4 | E13: =E8 -> 6991.1389
A14: =MAX($A$4:A13)+1 -> 10 | B14: Daily Block1 (day 1 through 5) | C14: ="Line "&TEXT(A9,"0")&" x (7/5)" -> Line 5 x (7/5) | E14: =E9*7/5 -> 20.245662
A15: =MAX($A$4:A14)+1 -> 11 | B15: Daily Block2 (day 6 and beyond) | C15: ="Line "&TEXT(A10,"0") -> Line 6 | E15: =E10 -> 13.872142
A16: =MAX($A$4:A15)+1 -> 12 | B16: Hourly | C16: ="Line "&TEXT(A11,"0")&" x (7/5) x (24/5)" -> Line 7 x (7/5) x (24/5) | E16: =E11*7/5*24/5 -> 1481.4746
A17: =MAX($A$4:A16)+1 -> 13 | B17: Total cost allocation sales | C17: ="Sum of Line "&TEXT(A13,"0")&" through Line "&TEXT(A16,"0") -> Sum of Line 9 through Line 12 | E17: =SUM(E13:E16) -> 8506.7313
A18: =MAX($A$4:A17)+1 -> 14 | B18: IS rate calculation
A19: =MAX($A$4:A18)+1 -> 15 | B19: Annual ($/kW-yr) | C19: ="Line "&TEXT(A6,"0")&" / Line "&TEXT(A17,"0") -> Line 2 / Line 13 | F19: =D6/E17 -> 14.241401 | G19: =_xlfn.FORMULATEXT(F19) -> =D6/E17
A20: =MAX($A$4:A19)+1 -> 16 | B20: Monthly ($/kW-mo) | C20: ="Line "&TEXT(A19,"0")&" / (12)" -> Line 15 / (12) | F20: =ROUND(F19/12,3) -> 1.187 | G20: =_xlfn.FORMULATEXT(F20) -> =ROUND(F19/12,3)
A21: =MAX($A$4:A20)+1 -> 17 | B21: Daily Block1 ($/kW-day) | C21: ="Line "&TEXT(A19,"0")&" / 365 x (7/5)" -> Line 15 / 365 x (7/5) | F21: =ROUND(F19/365*7/5,3) -> 0.055 | G21: =_xlfn.FORMULATEXT(F21) -> =ROUND(F19/365*7/5,3)
A22: =MAX($A$4:A21)+1 -> 18 | B22: Daily Block2 ($/kW-day) | C22: ="Line "&TEXT(A19,"0")&" / 365" -> Line 15 / 365 | F22: =ROUND(F19/365,3) -> 0.039 | G22: =_xlfn.FORMULATEXT(F22) -> =ROUND(F19/365,3)
A23: =MAX($A$4:A22)+1 -> 19 | B23: Hourly (mills/kWh) | C23: ="Line "&TEXT(A19,"0")&" / 8.76 x (7/5) x (24/5)" -> Line 15 / 8.76 x (7/5) x (24/5) | F23: =ROUND(F19/8.76*7/5*24/5,2) -> 10.92 | G23: =_xlfn.FORMULATEXT(F23) -> =ROUND(F19/8.76*7/5*24/5,2)
A24: =MAX($A$4:A23)+1 -> 20 | B24: TGT Rate Calculation
A25: =MAX($A$4:A24)+1 -> 21 | B25: Eastern Intertie Costs | C25: Montana Intertie Agreement | D25: =12535.613 -> 12535.613
A26: =MAX($A$4:A25)+1 -> 22 | B26: IM Sales | C26: ="Table 4, Line "&TEXT('T-4'!A76,"0")&" "&'T-4'!P3 -> Table 4, Line 72 (O) | E26: ='T-4'!P76 -> 745.94444
A27: =MAX($A$4:A26)+1 -> 23 | B27: TGT Sales | C27: Montana Intertie Agreement | E27: =1730*(2/3) -> 1153.3333
A28: =MAX($A$4:A27)+1 -> 24 | B28: Total Sales | C28: ="Line "&TEXT(A26,"0")&" + Line "&TEXT(A27,"0") -> Line 22 + Line 23 | E28: =SUM(E26:E27) -> 1899.2778
A29: =MAX($A$4:A28)+1 -> 25 | B29: BPA Annual Share of Costs | C29: ="Line "&TEXT(A25,"0")&" x (Line "&TEXT(A26,"0")&" / Line "&TEXT(A28,"0")&")" -> Line 21 x (Line 22 / Line 24) | D29: =D25*E26/E28 -> 4923.3824
A30: =MAX($A$4:A29)+1 -> 26 | B30: Annual ($/kW-yr) | C30: ="Line "&TEXT(A29,"0")&" / Line "&TEXT(A26,"0") -> Line 25 / Line 22 | F30: =D29/E26 -> 6.6001999 | G30: =_xlfn.FORMULATEXT(F30) -> =D29/E26
A31: =MAX($A$4:A30)+1 -> 27 | B31: Monthly ($/kW-mo) | C31: ="Line "&TEXT(A30,"0")&" / 12" -> Line 26 / 12 | F31: =ROUND(F30/12,3) -> 0.55 | G31: =_xlfn.FORMULATEXT(F31) -> =ROUND(F30/12,3)
A32: =MAX($A$4:A31)+1 -> 28 | B32: IM rate calculation
A33: =MAX($A$4:A32)+1 -> 29 | B33: Segmented Eastern Intertie Costs | C33: ="Table 1, Line "&TEXT('T-1'!A46,"0")&" "&'T-1'!G4 -> Table 1, Line 36 (F) | D33: ='T-1'!G46 -> 13268.589
A34: =MAX($A$4:A33)+1 -> 30 | B34: Eastern Intertie Revenue Credits | C34: ="Table 2, (Line "&TEXT('T-2'!A118,"0")&" "&TEXT('T-2'!F92,"0")&" + Line "&TEXT('T-2'!A146,"0")&" "&TEXT('T-2'!F92,"0")&") / 2" -> Table 2, (Line 71 (E) + Line 95 (E)) / 2 | D34: =-AVERAGE('T-2'!F118,'T-2'!F146,'T-2'!F174) -> -839.91021
A35: =MAX($A$4:A34)+1 -> 31 | B35: Adjusted Segmented Eastern Intertie Costs | C35: ="Line "&TEXT(A33,"0")&" + Line "&TEXT(A34,"0") -> Line 29 + Line 30 | D35: =SUM(D33:D34) -> 12428.678
A36: =MAX($A$4:A35)+1 -> 32 | B36: IM Sales | C36: ="Table 4, Line "&TEXT('T-4'!A76,"0")&" "&'T-4'!P3 -> Table 4, Line 72 (O) | E36: ='T-4'!P76 -> 745.94444
A37: =MAX($A$4:A36)+1 -> 33 | B37: TGT Sales | C37: Montana Intertie Agreement | E37: =1730*(2/3) -> 1153.3333
A38: =MAX($A$4:A37)+1 -> 34 | B38: Total Sales | C38: ="Line "&TEXT(A36,"0")&" + Line "&TEXT(A37,"0") -> Line 32 + Line 33 | E38: =SUM(E36:E37) -> 1899.2778
A39: =MAX($A$4:A38)+1 -> 35 | B39: Annual ($/kW-yr) | C39: ="Line "&TEXT(A35,"0")&" / Line "&TEXT(A38,"0") -> Line 31 / Line 34 | F39: =D35/E38 -> 6.5438972 | G39: =_xlfn.FORMULATEXT(F39) -> =D35/E38
A40: =MAX($A$4:A39)+1 -> 36 | B40: Monthly ($/kW-mo) | C40: ="Line "&TEXT(A39,"0")&" / 12" -> Line 35 / 12 | F40: =ROUND(F39/12,3) -> 0.545 | G40: =_xlfn.FORMULATEXT(F40) -> =ROUND(F39/12,3)
...

Sheet T-8.1
A1: Table 8.1
A2: Calculation of Ancillary Service Rates
B3: (A) | C3: (B) | D3: (C) | E3: (D) | F3: (E) | G3: (F) | H3: (G) | I3: (H) | J3: (I) | K3: (J)
B4: FY 2026/2027/2028 | C4: Source | D4: FY 2026 | E4: FY 2027 | F4: FY 2028 | G4: BP-26 Average | H4: Sales | I4: Percentage | J4: Rates | K4: Units
A5: =MAX($A$4:A4)+1 -> 1 | B5: Scheduling, System Control & Dispatch | D5: $000/Yr | E5: $000/Yr | F5: $000/Yr | G5: $000/Yr | H5: (MW)
A6: =MAX($A$4:A5)+1 -> 2 | B6: Direct O&M | C6: Rev Rqmt | D6: 88925.228 | E6: 93157.124 | F6: 97898.824 | G6: =AVERAGE(D6:F6) -> 93327.059
A7: =MAX($A$4:A6)+1 -> 3 | B7: Overheads | C7: Rev Rqmt | D7: 86394.455 | E7: 93638.372 | F7: 99532.075 | G7: =AVERAGE(D7:F7) -> 93188.301
A8: =MAX($A$4:A7)+1 -> 4 | B8: Non-BBL/Acq. & Ancillary | C8: Rev Rqmt | D8: 5.8102371 | E8: 7.7784776 | F8: 9.6663257 | G8: =AVERAGE(D8:F8) -> 7.7516801
A9: =MAX($A$4:A8)+1 -> 5 | B9: Total O&M | D9: =SUM(D6:D8) -> 175325.49 | E9: =SUM(E6:E8) -> 186803.27 | F9: =SUM(F6:F8) -> 197440.57 | G9: =AVERAGE(D9:F9) -> 186523.11
A10: =MAX($A$4:A9)+1 -> 6 | B10: Depreciation | C10: Rev Rqmt | D10: 54071.292 | E10: 59702.701 | F10: 57373.441 | G10: =AVERAGE(D10:F10) -> 57049.145
A11: =MAX($A$4:A10)+1 -> 7 | B11: Financing Costs | C11: Rev Rqmt | D11: 5348.5024 | E11: 8393.5769 | F11: 13073.259 | G11: =AVERAGE(D11:F11) -> 8938.446
A12: =MAX($A$4:A11)+1 -> 8 | B12: Planned Net Revenue | C12: Rev Rqmt | D12: 3785.2341 | E12: 5361.9411 | F12: 9611.7321 | G12: =AVERAGE(D12:F12) -> 6252.9691
A13: =MAX($A$4:A12)+1 -> 9 | B13: Total Segmented SCD | D13: =SUM(D9:D12) -> 238530.52 | E13: =SUM(E9:E12) -> 260261.49 | F13: =SUM(F9:F12) -> 277499 | G13: =AVERAGE(D13:F13) -> 258763.67
A14: =MAX($A$4:A13)+1 -> 10 | B14: Revenue Credits | C14: ="Table 3, Lines "&TEXT('T-3'!A10,"0")&" "&'T-3'!H4&", "&TEXT('T-3'!A21,"0")&" "&'T-3'!H4&", and "&TEXT('T-3'!A32,"0")&" "&'T-3'!H4&"" -> Table 3, Lines 3 (H), 13 (H), and 23 (H) | D14: ='T-3'!H10 -> -2799.1722 | E14: ='T-3'!H21 -> -2689.0393 | F14: ='T-3'!H32 -> -2670.0927 | G14: =AVERAGE(D14:F14) -> -2719.4347
A15: =MAX($A$4:A14)+1 -> 11 | B15: Regional Compliance Enforcement Costs | C15: ="Table 3, Lines "&TEXT('T-3'!A11,"0")&" "&'T-3'!H4&", "&TEXT('T-3'!A22,"0")&" "&'T-3'!H4&", and "&TEXT('T-3'!A33,"0")&" "&'T-3'!H4&"" -> Table 3, Lines 4 (H), 14 (H), and 24 (H) | D15: ='T-3'!H11 -> -3830.345 | E15: ='T-3'!H22 -> -3830.345 | F15: ='T-3'!H33 -> -3830.345 | G15: =AVERAGE(D15:F15) -> -3830.345
A16: =MAX($A$4:A15)+1 -> 12 | B16: Regional Coordinator Costs | C16: ="Table 3, Lines "&TEXT('T-3'!A12,"0")&" "&'T-3'!H4&", "&TEXT('T-3'!A23,"0")&" "&'T-3'!H4&", and "&TEXT('T-3'!A34,"0")&" "&'T-3'!H4&"" -> Table 3, Lines 5 (H), 15 (H), and 25 (H) | D16: ='T-3'!H12 -> -1621.2534 | E16: ='T-3'!H23 -> -1621.2534 | F16: ='T-3'!H34 -> -1621.2534 | G16: =AVERAGE(D16:F16) -> -1621.2534
A17: =MAX($A$4:A16)+1 -> 13 | B17: Eastern Intertie Adjustment | C17: ="Table 3, Lines "&TEXT('T-3'!A15,"0")&" "&'T-3'!H4&", "&TEXT('T-3'!A26,"0")&" "&'T-3'!H4&", and "&TEXT('T-3'!A37,"0")&" "&'T-3'!H4&"" -> Table 3, Lines 8 (H), 18 (H), and 28 (H) | D17: ='T-3'!H15 -> -12.463292 | E17: ='T-3'!H26 -> -14.66745 | F17: ='T-3'!H37 -> 28.288117 | G17: =AVERAGE(D17:F17) -> 0.38579185
