Workbook
Name CurrentYear: Init!$AS$3:$AS$5
Name YesNo: Init!$AT$3:$AT$4

Sheet Init
B1: Rate Period First Year | D1: 2026
B3: Monthly Hours | K3: Annual Hours | P3: Previous Year | R3: =IF(R6=2026, 2024, IF(OR(R6=2027,R6=2028), 2025, "ERROR")) -> 2024 | AS3: 2026 | AT3: Yes
B4: FiscalID | C4: Cal Date | D4: HLH | E4: LLH | F4: Total | G4: HLH% | H4: LLH% | K4: year | L4: days | M4: hours | AS4: 2027 | AT4: No
B5: 2015_1 | C5: 41913 | D5: 432 | E5: 312 | F5: 744 | G5: 0.58064516 | H5: 0.41935484 | K5: 2009 | L5: 365 | M5: 8760 | P5: Select Current Year? | AS5: 2028
B6: 2015_2 | C6: 41944 | D6: 384 | E6: 337 | F6: 721 | G6: 0.53259362 | H6: 0.46740638 | K6: 2010 | L6: 365 | M6: 8760 | R6: 2026
B7: 2015_3 | C7: 41974 | D7: 416 | E7: 328 | F7: 744 | G7: 0.55913978 | H7: 0.44086022 | K7: 2011 | L7: 365 | M7: 8760
B8: 2015_4 | C8: 42005 | D8: 416 | E8: 328 | F8: 744 | G8: 0.55913978 | H8: 0.44086022 | K8: 2012 | L8: 366 | M8: 8784 | P8: Use Previous BP-24 Billing Determinants adjusted for BP-26 Loads and CSP?
B9: 2015_5 | C9: 42036 | D9: 384 | E9: 288 | F9: 672 | G9: 0.57142857 | H9: 0.42857143 | K9: 2013 | L9: 365 | M9: 8760 | R9: Yes
B10: 2015_6 | C10: 42064 | D10: 416 | E10: 327 | F10: 743 | G10: 0.55989233 | H10: 0.44010767 | K10: 2014 | L10: 365 | M10: 8760
B11: 2015_7 | C11: 42095 | D11: 416 | E11: 304 | F11: 720 | G11: 0.57777778 | H11: 0.42222222 | K11: 2015 | L11: 365 | M11: 8760 | P11: Include Tier 2 Load Shaping in Tier 1 Rate Impacts?
B12: 2015_8 | C12: 42125 | D12: 400 | E12: 344 | F12: 744 | G12: 0.53763441 | H12: 0.46236559 | K12: 2016 | L12: 366 | M12: 8784 | R12: No
B13: 2015_9 | C13: 42156 | D13: 416 | E13: 304 | F13: 720 | G13: 0.57777778 | H13: 0.42222222 | K13: 2017 | L13: 365 | M13: 8760
B14: 2015_10 | C14: 42186 | D14: 416 | E14: 328 | F14: 744 | G14: 0.55913978 | H14: 0.44086022 | K14: 2018 | L14: 365 | M14: 8760
B15: 2015_11 | C15: 42217 | D15: 416 | E15: 328 | F15: 744 | G15: 0.55913978 | H15: 0.44086022 | K15: 2019 | L15: 365 | M15: 8760
B16: 2015_12 | C16: 42248 | D16: 400 | E16: 320 | F16: 720 | G16: 0.55555556 | H16: 0.44444444 | K16: 2020 | L16: 366 | M16: 8784
B17: 2016_1 | C17: 42278 | D17: 432 | E17: 312 | F17: 744 | G17: 0.58064516 | H17: 0.41935484 | K17: 2021 | L17: 365 | M17: 8760
B18: 2016_2 | C18: 42309 | D18: 384 | E18: 337 | F18: 721 | G18: 0.53259362 | H18: 0.46740638 | K18: 2022 | L18: 365 | M18: 8760
B19: 2016_3 | C19: 42339 | D19: 416 | E19: 328 | F19: 744 | G19: 0.55913978 | H19: 0.44086022 | K19: 2023 | L19: 365 | M19: 8760
B20: 2016_4 | C20: 42370 | D20: 400 | E20: 344 | F20: 744 | G20: 0.53763441 | H20: 0.46236559 | K20: 2024 | L20: 366 | M20: 8784
B21: 2016_5 | C21: 42401 | D21: 400 | E21: 296 | F21: 696 | G21: 0.57471264 | H21: 0.42528736 | K21: 2025 | L21: 365 | M21: 8760
B22: 2016_6 | C22: 42430 | D22: 432 | E22: 311 | F22: 743 | G22: 0.58142665 | H22: 0.41857335 | K22: 2026 | L22: 365 | M22: 8760
B23: 2016_7 | C23: 42461 | D23: 416 | E23: 304 | F23: 720 | G23: 0.57777778 | H23: 0.42222222 | K23: 2027 | L23: 365 | M23: 8760
B24: 2016_8 | C24: 42491 | D24: 400 | E24: 344 | F24: 744 | G24: 0.53763441 | H24: 0.46236559 | K24: 2028 | L24: 366 | M24: 8784
... B40: 2017_12 | C40: 42979 | D40: 400 | E40: 320 | F40: 720 | G40: 0.55555556 | H40: 0.44444444 | K40: 2044 | L40: 366 | M40: 8784
B41: 2018_1 | C41: 43009 | D41: 416 | E41: 328 | F41: 744 | G41: 0.55913978 | H41: 0.44086022
B42: 2018_2 | C42: 43040 | D42: 400 | E42: 321 | F42: 721 | G42: 0.55478502 | H42: 0.44521498
B43: 2018_3 | C43: 43070 | D43: 400 | E43: 344 | F43: 744 | G43: 0.53763441 | H43: 0.46236559
B44: 2018_4 | C44: 43101 | D44: 416 | E44: 328 | F44: 744 | G44: 0.55913978 | H44: 0.44086022
B45: 2018_5 | C45: 43132 | D45: 384 | E45: 288 | F45: 672 | G45: 0.57142857 | H45: 0.42857143
B46: 2018_6 | C46: 43160 | D46: 432 | E46: 311 | F46: 743 | G46: 0.58142665 | H46: 0.41857335
B47: 2018_7 | C47: 43191 | D47: 400 | E47: 320 | F47: 720 | G47: 0.55555556 | H47: 0.44444444
B48: 2018_8 | C48: 43221 | D48: 416 | E48: 328 | F48: 744 | G48: 0.55913978 | H48: 0.44086022
B49: 2018_9 | C49: 43252 | D49: 416 | E49: 304 | F49: 720 | G49: 0.57777778 | H49: 0.42222222
B50: 2018_10 | C50: 43282 | D50: 400 | E50: 344 | F50: 744 | G50: 0.53763441 | H50: 0.46236559
B51: 2018_11 | C51: 43313 | D51: 432 | E51: 312 | F51: 744 | G51: 0.58064516 | H51: 0.41935484
B52: 2018_12 | C52: 43344 | D52: 384 | E52: 336 | F52: 720 | G52: 0.53333333 | H52: 0.46666667
... B232: 2033_12 | C232: 48823 | D232: 400 | E232: 320 | F232: 720 | G232: 0.55555556 | H232: 0.44444444

Sheet TOCA_previous
A1: TOCA Computations, RHWMs and Net Requirements
A2: BESID | B2: Preference Customer | C2: NOTJOE | D2: JOE | E2: CHWM 2024 | F2: TRL 2024 | G2: TRL 2025 | H2: NLSL 2024 | I2: NLSL 2025 | J2: Existing/Other Resource aMW 2024 | K2: Existing/Other Resource aMW 2025 | L2: Existing/Other Resource MWh 2024 | M2: Existing/Other Resource MWh 2025 | N2: TRL - NLSL - Existing Resource 2024 | O2: TRL - NLSL - Existing Resource 2025 | P2: TRL - NLSL - Existing Resource MWh 2024 | Q2: TRL - NLSL - Existing Resource MWh 2025 | R2: RHWM 2024 | S2: RHWM MWh 2024 | T2: RHWM MWh 2025 | U2: Above RHWM 2024 | V2: Above RHWM 2025 | W2: Above RHWM Not Served with LS 2024 | X2: Above RHWM Not Served with LS 2025 | Y2: TOCA 2024 | Z2: TOCA 2025 | AA2: Slice% 2024 | AB2: Non-slice TOCA 2024 | AC2: Non-slice TOCA 2025 | AD2: Avg Non-Slice TOCA | AE2: T1 Percentage 2024 | AF2: T1 Percentage 2025 | AG2: LDD adjTRL/RHWM 2024 | AH2: LDD adjTRL/RHWM 2025 | AI2: Applicable LDD 2024 | AJ2: Applicable LDD 2025
A3: 10015 | B3: Asotin County PUD #1 | C3: 1 | D3: 0 | E3: 0.582 | F3: 0.759 | G3: 0.761 | H3: 0 | I3: 0 | J3: 0 | K3: 0 | L3: 0 | M3: 0 | N3: 0.582 | O3: 0.583 | P3: 5112.288 | Q3: 5107.08 | R3: 0.573 | S3: 5033.232 | T3: 5019.48 | U3: 0.009 | V3: 0.01 | W3: 0 | X3: 0 | Y3: 8.3e-05 | Z3: 8.3e-05 | AA3: 0 | AB3: 8.3e-05 | AC3: 8.3e-05 | AD3: 8.3e-05 | AE3: 0.98425928 | AF3: 0.98257101 | AG3: 1.0157068 | AH3: 1.017452 | AI3: 0 | AJ3: 0
A4: 10024 | B4: Benton County PUD #1 | C4: 1 | D4: 0 | E4: 203.92 | F4: 213.082 | G4: 214.564 | H4: 0 | I4: 0 | J4: 0.916 | K4: 0.919 | L4: 8046.144 | M4: 8050.44 | N4: 211.167 | O4: 212.387 | P4: 1854890.9 | Q4: 1860510.1 | R4: 200.923 | S4: 1764907.6 | T4: 1760085.5 | U4: 10.244 | V4: 11.464 | W4: 10.244 | X4: 11.464 | Y4: 0.0290878 | Z4: 0.0290878 | AA4: 0 | AB4: 0.0290878 | AC4: 0.0290878 | AD4: 0.0290878 | AE4: 0.95169893 | AF4: 0.94625593 | AG4: 1.0509847 | AH4: 1.0570567 | AI4: 0 | AJ4: 0
A5: 10025 | B5: Benton REA | C5: 1 | D5: 0 | E5: 60.549 | F5: 74.601 | G5: 75.47 | H5: 0 | I5: 0 | J5: 0 | K5: 0 | L5: 0 | M5: 0 | N5: 64.824 | O5: 65.037 | P5: 569414.02 | Q5: 569724.12 | R5: 59.659 | S5: 524044.66 | T5: 522612.84 | U5: 5.165 | V5: 5.378 | W5: 5.165 | X5: 5.378 | Y5: 0.0086369 | Z5: 0.0086369 | AA5: 0 | AB5: 0.0086369 | AC5: 0.0086369 | AD5: 0.0086369 | AE5: 0.92032734 | AF5: 0.91731322 | AG5: 1.0865754 | AH5: 1.0901457 | AI5: 0.059761645 | AJ5: 0.059958011
A6: 10027 | B6: Big Bend Elec Coop | C6: 1 | D6: 0 | E6: 62.107 | F6: 72.36 | G6: 73.884 | H6: 0 | I6: 0 | J6: 0 | K6: 0 | L6: 0 | M6: 0 | N6: 67.791 | O6: 68.216 | P6: 595476.14 | Q6: 597572.16 | R6: 61.194 | S6: 537528.1 | T6: 536059.44 | U6: 6.597 | V6: 7.022 | W6: 6.597 | X6: 7.022 | Y6: 0.0088591 | Z6: 0.0088591 | AA6: 0 | AB6: 0.0088591 | AC6: 0.0088591 | AD6: 0.0088591 | AE6: 0.90268869 | AF6: 0.89706475 | AG6: 1.1078047 | AH6: 1.1147498 | AI6: 0.077546328 | AJ6: 0.078032487
A7: 10029 | B7: Blachly Lane Elec Coop | C7: 0 | D7: 1 | E7: 17.879 | F7: 23.15 | G7: 24.409 | H7: 0 | I7: 0 | J7: 0 | K7: 0 | L7: 0 | M7: 0 | N7: 21.679 | O7: 21.674 | P7: 190428.34 | Q7: 189864.24 | R7: 17.616 | S7: 154738.94 | T7: 154316.16 | U7: 4.063 | V7: 4.058 | W7: 4.063 | X7: 4.058 | Y7: 0.0025503 | Z7: 0.0025503 | AA7: 0 | AB7: 0.0025503 | AC7: 0.0025503 | AD7: 0.0025503 | AE7: 0.8125851 | AF7: 0.81277255 | AG7: 1.2306426 | AH7: 1.2303588 | AI7: 0.079991769 | AJ7: 0.07997332
A8: 10044 | B8: Canby, City of | C8: 1 | D8: 0 | E8: 20.612 | F8: 22.277 | G8: 22.45 | H8: 0 | I8: 0 | J8: 0 | K8: 0 | L8: 0 | M8: 0 | N8: 23.851 | O8: 24.05 | P8: 209507.18 | Q8: 210678 | R8: 20.309 | S8: 178394.26 | T8: 177906.84 | U8: 3.542 | V8: 3.741 | W8: 3.542 | X8: 3.741 | Y8: 0.0029401 | Z8: 0.0029401 | AA8: 0 | AB8: 0.0029401 | AC8: 0.0029401 | AD8: 0.0029401 | AE8: 0.851507 | AF8: 0.84446126 | AG8: 1.1744054 | AH8: 1.184204 | AI8: 0 | AJ8: 0
A9: 10046 | B9: Central Electric Coop | C9: 0 | D9: 1 | E9: 83.072 | F9: 102.161 | G9: 103.89 | H9: 0 | I9: 0 | J9: 0 | K9: 0 | L9: 0 | M9: 0 | N9: 98.879 | O9: 100.606 | P9: 868553.14 | Q9: 881308.56 | R9: 81.851 | S9: 718979.18 | T9: 717014.76 | U9: 17.028 | V9: 18.755 | W9: 17.028 | X9: 18.755 | Y9: 0.0118496 | Z9: 0.0118496 | AA9: 0 | AB9: 0.0118496 | AC9: 0.0118496 | AD9: 0.0118496 | AE9: 0.82778932 | AF9: 0.81357951 | AG9: 1.2080366 | AH9: 1.2291359 | AI9: 0.078522376 | AJ9: 0.079893831
A10: 10047 | B10: Central Lincoln PUD | C10: 1 | D10: 0 | E10: 159.01 | F10: 151.106 | G10: 151.672 | H10: 0 | I10: 0 | J10: 0 | K10: 0 | L10: 0 | M10: 0 | N10: 152.313 | O10: 152.465 | P10: 1337917.4 | Q10: 1335593.4 | R10: 156.673 | S10: 1376215.6 | T10: 1372455.5 | U10: 0 | V10: 0 | W10: 0 | X10: 0 | Y10: 0.0220505 | Z10: 0.0220725 | AA10: 0 | AB10: 0.0220505 | AC10: 0.0220725 | AD10: 0.0220615 | AE10: 0.99999994 | AF10: 0.99999903 | AG10: 1 | AH10: 1 | AI10: 0 | AJ10: 0
A11: 10055 | B11: Albion, City of | C11: 1 | D11: 0 | E11: 0.404 | F11: 0.464 | G11: 0.469 | H11: 0 | I11: 0 | J11: 0 | K11: 0 | L11: 0 | M11: 0 | N11: 0.391 | O11: 0.39 | P11: 3434.544 | Q11: 3416.4 | R11: 0.398 | S11: 3496.032 | T11: 3486.48 | U11: 0 | V11: 0 | W11: 0 | X11: 0 | Y11: 5.66e-05 | Z11: 5.65e-05 | AA11: 0 | AB11: 5.66e-05 | AC11: 5.65e-05 | AD11: 5.655e-05 | AE11: 1 | AF11: 0.99973782 | AG11: 1 | AH11: 1 | AI11: 0 | AJ11: 0
A12: 10057 | B12: Ashland, City of | C12: 1 | D12: 0 | E12: 21.383 | F12: 19.323 | G12: 19.376 | H12: 0 | I12: 0 | J12: 0.158 | K12: 0.158 | L12: 1387.872 | M12: 1384.08 | N12: 19.994 | O12: 19.99 | P12: 175627.3 | Q12: 175112.4 | R12: 21.069 | S12: 185070.1 | T12: 184564.44 | U12: 0 | V12: 0 | W12: 0 | X12: 0 | Y12: 0.0028945 | Z12: 0.002894 | AA12: 0 | AB12: 0.0028945 | AC12: 0.002894 | AD12: 0.00289425 | AE12: 1 | AF12: 1 | AG12: 1 | AH12: 1 | AI12: 0 | AJ12: 0
A13: 10059 | B13: Bandon, City of | C13: 1 | D13: 0 | E13: 7.753 | F13: 7.714 | G13: 7.735 | H13: 0 | I13: 0 | J13: 0 | K13: 0 | L13: 0 | M13: 0 | N13: 7.604 | O13: 7.599 | P13: 66793.536 | Q13: 66567.24 | R13: 7.639 | S13: 67100.976 | T13: 66917.64 | U13: 0 | V13: 0 | W13: 0 | X13: 0 | Y13: 0.0011008 | Z13: 0.0011001 | AA13: 0 | AB13: 0.0011008 | AC13: 0.0011001 | AD13: 0.00110045 | AE13: 0.99996218 | AF13: 0.99996948 | AG13: 1 | AH13: 1 | AI13: 0 | AJ13: 0
A14: 10061 | B14: Blaine, City of | C14: 1 | D14: 0 | E14: 8.877 | F14: 11.791 | G14: 12.473 | H14: 0 | I14: 0 | J14: 0 | K14: 0 | L14: 0 | M14: 0 | N14: 9.714 | O14: 9.802 | P14: 85327.776 | Q14: 85865.52 | R14: 8.747 | S14: 76833.648 | T14: 76623.72 | U14: 0.967 | V14: 1.055 | W14: 0 | X14: 1.055 | Y14: 0.0012663 | Z14: 0.0012663 | AA14: 0 | AB14: 0.0012663 | AC14: 0.0012663 | AD14: 0.0012663 | AE14: 0.90048087 | AF14: 0.89239657 | AG14: 1.1105522 | AH14: 1.1206128 | AI14: 0 | AJ14: 0
... A136: 10298 | B136: PNGC Aggregate | C136: 1 | D136: 0 | E136: 611.261 | F136: 923.847 | G136: 939.444 | H136: 0 | I136: 0 | J136: 18.715 | K136: 12.046 | L136: 164392.56 | M136: 105522.96 | N136: 665.216 | O136: 671.893 | P136: 5843257.3 | Q136: 5885782.7 | R136: 602.276 | S136: 5290392.4 | T136: 5275937.8 | U136: 67.096 | V136: 73.69 | W136: 67.096 | X136: 73.69 | Y136: 0.1091585 | Z136: 0.1091704 | AA136: 0 | AB136: 0.1091585 | AC136: 0.1091704 | AD136: 0.10916445 | AE136: 0.90109597 | AF136: 0.89243419 | AG136: 1.1045036 | AH136: 1.1155899 | AI136: 0 | AJ136: 0
A148: 1 | B148: 2 | C148: 3 | D148: 4 | E148: 6 | F148: 7 | G148: 8 | H148: 9 | I148: 10 | J148: 11 | K148: 12 | L148: 13 | M148: 14 | N148: 15 | O148: 16 | P148: 17 | Q148: 18 | R148: 19 | S148: 20 | U148: 22 | V148: 23 | W148: 24 | X148: 25 | Y148: 32 | Z148: 33 | AA148: 34 | AB148: 35 | AC148: 36 | AD148: 37 | AE148: 38 | AF148: 39 | AG148: 40 | AH148: 41 | AI148: 42 | AJ148: 43

Sheet TOCA_current
A1: TOCA Computations, RHWMs and Net Requirements
A2: BESID | B2: Preference Customer | C2: NOTJOE | D2: JOE | E2: CHWM 2026 | F2: TRL 2026 | G2: TRL 2027 | H2: TRL 2028 | I2: NLSL 2026 | J2: NLSL 2027 | K2: NLSL 2028 | L2: Existing/Other Resource aMW 2026 | M2: Existing/Other Resource aMW 2027 | N2: Existing/Other Resource aMW 2028 | O2: Existing/Other Resource MWh 2026 | P2: Existing/Other Resource MWh 2027 | Q2: Existing/Other Resource MWh 2028 | R2: TRL - NLSL - Existing Resource 2026 | S2: TRL - NLSL - Existing Resource 2027 | T2: TRL - NLSL - Existing Resource 2028 | U2: TRL - NLSL - Existing Resource MWh 2026 | V2: TRL - NLSL - Existing Resource MWh 2027 | W2: TRL - NLSL - Existing Resource MWh 2028 | X2: RHWM 2026 | Y2: RHWM MWh 2026 | Z2: RHWM MWh 2027 | AA2: RHWM MWh 2028 | AB2: Above RHWM 2026 | AC2: Above RHWM 2027 | AD2: Above RHWM 2028 | AE2: Above RHWM Not Served with LS 2026 | AF2: Above RHWM Not Served with LS 2027 | AG2: Above RHWM Not Served with LS 2028 | AH2: Above RHWM Load Served at the LS rate 2026 | AI2: Above RHWM Load Served at the LS rate 2027 | AJ2: Above RHWM Load Served at the LS rate 2028 | AK2: Total Vintage 2026 | AL2: Total Vintage 2027 | AM2: Total Vintage 2028 | AN2: Remaining Above RHWM 2026 | AO2: Remaining Above RHWM 2027 | AP2: Remaining Above RHWM 2028 | AQ2: TOCA 2026 | AR2: TOCA 2027 | AS2: TOCA 2028 | AT2: Slice% 2026 | AU2: Non-slice TOCA 2026 | AV2: Non-slice TOCA 2027 | AW2: Non-slice TOCA 2028 | AX2: Avg Non-Slice TOCA | AY2: T1 Percentage 2026 | AZ2: T1 Percentage 2027 | BA2: T1 Percentage 2028 | BB2: LDD adjTRL/RHWM 2026 | BC2: LDD adjTRL/RHWM 2027 | BD2: LDD adjTRL/RHWM 2028 | BE2: Applicable LDD 2026 | BF2: Applicable LDD 2027 | BG2: Applicable LDD 2028
A3: 10015 | B3: Asotin County PUD #1 | C3: 1 | D3: 0 | E3: 0.582 | F3: 0.761 | G3: 0.761 | H3: 0.76 | I3: 0 | J3: 0 | K3: 0 | L3: 0 | M3: 0 | N3: 0 | O3: 0 | P3: 0 | Q3: 0 | R3: 0.761 | S3: 0.761 | T3: 0.76 | U3: 6666.36 | V3: 6666.36 | W3: 6675.84 | X3: 0.577 | Y3: 5054.52 | Z3: 5054.52 | AA3: 5068.368 | AB3: 0.184 | AC3: 0.184 | AD3: 0.183 | AE3: 0 | AF3: 0 | AG3: 0 | AH3: 0.184 | AI3: 0.184 | AJ3: 0.183 | AK3: 0 | AL3: 0 | AM3: 0 | AN3: 0 | AO3: 0 | AP3: 0 | AQ3: 8.12e-05 | AR3: 8.12e-05 | AS3: 8.12e-05 | AT3: 0 | AU3: 8.12e-05 | AV3: 8.12e-05 | AW3: 8.12e-05 | AX3: 8.12e-05 | AY3: 0.75860134 | AZ3: 0.75860134 | BA3: 0.7595995 | BB3: 1.3188908 | BC3: 1.3188908 | BD3: 1.3171577 | BE3: 0 | BF3: 0 | BG3: 0
A4: 10024 | B4: Benton County PUD #1 | C4: 1 | D4: 0 | E4: 203.92 | F4: 213.666 | G4: 214.564 | H4: 214.739 | I4: 0 | J4: 0 | K4: 0 | L4: 0.919 | M4: 0.919 | N4: 0.918 | O4: 8050.44 | P4: 8050.44 | Q4: 8063.712 | R4: 212.747 | S4: 213.645 | T4: 213.821 | U4: 1863663.7 | V4: 1871530.2 | W4: 1878203.7 | X4: 202.081 | Y4: 1770229.6 | Z4: 1770229.6 | AA4: 1775079.5 | AB4: 10.666 | AC4: 11.564 | AD4: 11.74 | AE4: 10.666 | AF4: 11.564 | AG4: 11.74 | AH4: 0 | AI4: 0 | AJ4: 0 | AK4: 0 | AL4: 0 | AM4: 0 | AN4: 10.666 | AO4: 11.564 | AP4: 11.74 | AQ4: 0.0284239 | AR4: 0.0284239 | AS4: 0.0284239 | AT4: 0 | AU4: 0.0284239 | AV4: 0.0284239 | AW4: 0.0284239 | AX4: 0.0284239 | AY4: 0.95008188 | AZ4: 0.94610557 | BA4: 0.94532989 | BB4: 1.0527808 | BC4: 1.0572246 | BD4: 1.0580955 | BE4: 0 | BF4: 0 | BG4: 0
A5: 10025 | B5: Benton REA | C5: 1 | D5: 0 | E5: 60.549 | F5: 74.805 | G5: 75.47 | H5: 75.931 | I5: 0 | J5: 0 | K5: 0 | L5: 0 | M5: 0 | N5: 0 | O5: 0 | P5: 0 | Q5: 0 | R5: 74.805 | S5: 75.47 | T5: 75.931 | U5: 655291.8 | V5: 661117.2 | W5: 666977.9 | X5: 60.003 | Y5: 525626.28 | Z5: 525626.28 | AA5: 527066.35 | AB5: 14.802 | AC5: 15.467 | AD5: 15.928 | AE5: 14.802 | AF5: 15.467 | AG5: 15.928 | AH5: 0 | AI5: 0 | AJ5: 0 | AK5: 0 | AL5: 0 | AM5: 0 | AN5: 14.802 | AO5: 15.467 | AP5: 15.928 | AQ5: 0.0084398 | AR5: 0.0084398 | AS5: 0.0084398 | AT5: 0 | AU5: 0.0084398 | AV5: 0.0084398 | AW5: 0.0084398 | AX5: 0.0084398 | AY5: 0.80212816 | AZ5: 0.79506025 | BA5: 0.7902332 | BB5: 1.2466877 | BC5: 1.2577704 | BD5: 1.2654534 | BE5: 0.068567822 | BF5: 0.069177374 | BG5: 0.069599937
A6: 10027 | B6: Big Bend Elec Coop | C6: 1 | D6: 0 | E6: 62.107 | F6: 72.558 | G6: 73.884 | H6: 75.005 | I6: 0 | J6: 0 | K6: 0 | L6: 0 | M6: 0 | N6: 0 | O6: 0 | P6: 0 | Q6: 0 | R6: 72.558 | S6: 73.884 | T6: 75.005 | U6: 635608.08 | V6: 647223.84 | W6: 658843.92 | X6: 61.547 | Y6: 539151.72 | Z6: 539151.72 | AA6: 540628.85 | AB6: 11.011 | AC6: 12.337 | AD6: 13.458 | AE6: 11.011 | AF6: 12.337 | AG6: 13.458 | AH6: 0 | AI6: 0 | AJ6: 0 | AK6: 0 | AL6: 0 | AM6: 0 | AN6: 11.011 | AO6: 12.337 | AP6: 13.458 | AQ6: 0.0086569 | AR6: 0.0086569 | AS6: 0.0086569 | AT6: 0 | AU6: 0.0086569 | AV6: 0.0086569 | AW6: 0.0086569 | AX6: 0.0086569 | AY6: 0.84824114 | AZ6: 0.83301771 | BA6: 0.8205677 | BB6: 1.1789039 | BC6: 1.2004484 | BD6: 1.2186622 | BE6: 0.082523275 | BF6: 0.084031391 | BG6: 0.085306351
A7: 10029 | B7: Blachly Lane Elec Coop | C7: 0 | D7: 1 | E7: 17.879 | F7: 23.213 | G7: 24.409 | H7: 24.669 | I7: 0 | J7: 0 | K7: 0 | L7: 0 | M7: 0 | N7: 0 | O7: 0 | P7: 0 | Q7: 0 | R7: 23.213 | S7: 24.409 | T7: 24.669 | U7: 203345.88 | V7: 213822.84 | W7: 216692.5 | X7: 17.718 | Y7: 155209.68 | Z7: 155209.68 | AA7: 155634.91 | AB7: 5.495 | AC7: 6.691 | AD7: 6.951 | AE7: 5.495 | AF7: 6.691 | AG7: 6.951 | AH7: 0 | AI7: 0 | AJ7: 0 | AK7: 0 | AL7: 0 | AM7: 0 | AN7: 5.495 | AO7: 6.691 | AP7: 6.951 | AQ7: 0.0024921 | AR7: 0.0024921 | AS7: 0.0024921 | AT7: 0 | AU7: 0.0024921 | AV7: 0.0024921 | AW7: 0.0024921 | AX7: 0.0024921 | AY7: 0.7632669 | AZ7: 0.7258681 | BA7: 0.71821779 | BB7: 1.3101366 | BC7: 1.3776386 | BD7: 1.3923129 | BE7: 0.085158878 | BF7: 0.089546506 | BG7: 0.090500339
A8: 10044 | B8: Canby, City of | C8: 1 | D8: 0 | E8: 20.612 | F8: 22.338 | G8: 22.45 | H8: 22.556 | I8: 0 | J8: 0 | K8: 0 | L8: 0 | M8: 0 | N8: 0 | O8: 0 | P8: 0 | Q8: 0 | R8: 22.338 | S8: 22.45 | T8: 22.556 | U8: 195680.88 | V8: 196662 | W8: 198131.9 | X8: 20.426 | Y8: 178931.76 | Z8: 178931.76 | AA8: 179421.98 | AB8: 1.912 | AC8: 2.024 | AD8: 2.13 | AE8: 1.912 | AF8: 2.024 | AG8: 2.13 | AH8: 0 | AI8: 0 | AJ8: 0 | AK8: 0 | AL8: 0 | AM8: 0 | AN8: 1.912 | AO8: 2.024 | AP8: 2.13 | AQ8: 0.002873 | AR8: 0.002873 | AS8: 0.002873 | AT8: 0 | AU8: 0.002873 | AV8: 0.002873 | AW8: 0.002873 | AX8: 0.002873 | AY8: 0.91439444 | AZ8: 0.90983265 | BA8: 0.90555696 | BB8: 1.0936062 | BC8: 1.0990894 | BD8: 1.1042789 | BE8: 0 | BF8: 0 | BG8: 0
A9: 10046 | B9: Central Electric Coop | C9: 0 | D9: 1 | E9: 83.072 | F9: 102.441 | G9: 103.89 | H9: 105.331 | I9: 0 | J9: 0 | K9: 0 | L9: 0 | M9: 0 | N9: 0 | O9: 0 | P9: 0 | Q9: 0 | R9: 102.441 | S9: 103.89 | T9: 105.331 | U9: 897383.16 | V9: 910076.4 | W9: 925227.5 | X9: 82.323 | Y9: 721149.48 | Z9: 721149.48 | AA9: 723125.23 | AB9: 20.118 | AC9: 21.567 | AD9: 23.008 | AE9: 20.118 | AF9: 21.567 | AG9: 23.008 | AH9: 0 | AI9: 0 | AJ9: 0 | AK9: 0 | AL9: 0 | AM9: 0 | AN9: 20.118 | AO9: 21.567 | AP9: 23.008 | AQ9: 0.0115792 | AR9: 0.0115792 | AS9: 0.0115792 | AT9: 0 | AU9: 0.0115792 | AV9: 0.0115792 | AW9: 0.0115792 | AX9: 0.0115792 | AY9: 0.80361305 | AZ9: 0.7924047 | BA9: 0.78156406 | BB9: 1.2443788 | BC9: 1.2619802 | BD9: 1.2794845 | BE9: 0.080884625 | BF9: 0.082028716 | BG9: 0.083166491
A10: 10047 | B10: Central Lincoln PUD | C10: 1 | D10: 0 | E10: 159.01 | F10: 151.52 | G10: 151.672 | H10: 151.976 | I10: 0 | J10: 0 | K10: 0 | L10: 0 | M10: 0 | N10: 0 | O10: 0 | P10: 0 | Q10: 0 | R10: 151.52 | S10: 151.672 | T10: 151.976 | U10: 1327315.2 | V10: 1328646.7 | W10: 1334957.2 | X10: 157.576 | Y10: 1380365.8 | Z10: 1380365.8 | AA10: 1384147.6 | AB10: 0 | AC10: 0 | AD10: 0 | AE10: 0 | AF10: 0 | AG10: 0 | AH10: 0 | AI10: 0 | AJ10: 0 | AK10: 0 | AL10: 0 | AM10: 0 | AN10: 0 | AO10: 0 | AP10: 0 | AQ10: 0.0213122 | AR10: 0.0213336 | AS10: 0.0213763 | AT10: 0 | AU10: 0.0213122 | AV10: 0.0213336 | AW10: 0.0213763 | AX10: 0.0213407 | AY10: 1 | AZ10: 1 | BA10: 0.99999945 | BB10: 1 | BC10: 1 | BD10: 1 | BE10: 0 | BF10: 0 | BG10: 0
A11: 10055 | B11: Albion, City of | C11: 1 | D11: 0 | E11: 0.404 | F11: 0.466 | G11: 0.469 | H11: 0.471 | I11: 0 | J11: 0 | K11: 0 | L11: 0 | M11: 0 | N11: 0 | O11: 0 | P11: 0 | Q11: 0 | R11: 0.466 | S11: 0.469 | T11: 0.471 | U11: 4082.16 | V11: 4108.44 | W11: 4137.264 | X11: 0.4 | Y11: 3504 | Z11: 3504 | AA11: 3513.6 | AB11: 0.066 | AC11: 0.069 | AD11: 0.071 | AE11: 0 | AF11: 0 | AG11: 0 | AH11: 0.066 | AI11: 0.069 | AJ11: 0.071 | AK11: 0 | AL11: 0 | AM11: 0 | AN11: 0 | AO11: 0 | AP11: 0 | AQ11: 5.63e-05 | AR11: 5.63e-05 | AS11: 5.63e-05 | AT11: 0 | AU11: 5.63e-05 | AV11: 5.63e-05 | AW11: 5.63e-05 | AX11: 5.63e-05 | AY11: 0.85894373 | AZ11: 0.85344942 | BA11: 0.84982543 | BB11: 1.165 | BC11: 1.1725 | BD11: 1.1775 | BE11: 0 | BF11: 0 | BG11: 0
A12: 10057 | B12: Ashland, City of | C12: 1 | D12: 0 | E12: 21.383 | F12: 19.376 | G12: 19.376 | H12: 19.381 | I12: 0 | J12: 0 | K12: 0 | L12: 0.158 | M12: 0.158 | N12: 0.158 | O12: 1384.08 | P12: 1384.08 | Q12: 1387.872 | R12: 19.218 | S12: 19.218 | T12: 19.223 | U12: 168349.68 | V12: 168349.68 | W12: 168854.83 | X12: 21.19 | Y12: 185624.4 | Z12: 185624.4 | AA12: 186132.96 | AB12: 0 | AC12: 0 | AD12: 0 | AE12: 0 | AF12: 0 | AG12: 0 | AH12: 0 | AI12: 0 | AJ12: 0 | AK12: 0 | AL12: 0 | AM12: 0 | AN12: 0 | AO12: 0 | AP12: 0 | AQ12: 0.0027031 | AR12: 0.0027031 | AS12: 0.0027038 | AT12: 0 | AU12: 0.0027031 | AV12: 0.0027031 | AW12: 0.0027038 | AX12: 0.0027033333 | AY12: 0.99999123 | AZ12: 0.99999123 | BA12: 0.99999003 | BB12: 1 | BC12: 1 | BD12: 1 | BE12: 0 | BF12: 0 | BG12: 0
A13: 10059 | B13: Bandon, City of | C13: 1 | D13: 0 | E13: 7.753 | F13: 7.735 | G13: 7.735 | H13: 7.735 | I13: 0 | J13: 0 | K13: 0 | L13: 0 | M13: 0 | N13: 0 | O13: 0 | P13: 0 | Q13: 0 | R13: 7.735 | S13: 7.735 | T13: 7.735 | U13: 67758.6 | V13: 67758.6 | W13: 67944.24 | X13: 7.683 | Y13: 67303.08 | Z13: 67303.08 | AA13: 67487.472 | AB13: 0.052 | AC13: 0.052 | AD13: 0.052 | AE13: 0 | AF13: 0 | AG13: 0 | AH13: 0.052 | AI13: 0.052 | AJ13: 0.052 | AK13: 0 | AL13: 0 | AM13: 0 | AN13: 0 | AO13: 0 | AP13: 0 | AQ13: 0.0010807 | AR13: 0.0010807 | AS13: 0.0010807 | AT13: 0 | AU13: 0.0010807 | AV13: 0.0010807 | AW13: 0.0010807 | AX13: 0.0010807 | AY13: 0.99331517 | AZ13: 0.99331517 | BA13: 0.99331517 | BB13: 1.0067682 | BC13: 1.0067682 | BD13: 1.0067682 | BE13: 0 | BF13: 0 | BG13: 0
A14: 10061 | B14: Blaine, City of | C14: 1 | D14: 0 | E14: 8.877 | F14: 11.823 | G14: 12.473 | H14: 13.11 | I14: 0 | J14: 0 | K14: 0 | L14: 0 | M14: 0 | N14: 0 | O14: 0 | P14: 0 | Q14: 0 | R14: 11.823 | S14: 12.473 | T14: 13.11 | U14: 103569.48 | V14: 109263.48 | W14: 115158.24 | X14: 8.797 | Y14: 77061.72 | Z14: 77061.72 | AA14: 77272.848 | AB14: 3.026 | AC14: 3.676 | AD14: 4.313 | AE14: 3.026 | AF14: 3.676 | AG14: 4.313 | AH14: 0 | AI14: 0 | AJ14: 0 | AK14: 0 | AL14: 0 | AM14: 0 | AN14: 3.026 | AO14: 3.676 | AP14: 4.313 | AQ14: 0.0012373 | AR14: 0.0012373 | AS14: 0.0012373 | AT14: 0 | AU14: 0.0012373 | AV14: 0.0012373 | AW14: 0.0012373 | AX14: 0.0012373 | AY14: 0.74402848 | AZ14: 0.70525525 | BA14: 0.6709877 | BB14: 1.3439809 | BC14: 1.4178697 | BD14: 1.4902808 | BE14: 0 | BF14: 0 | BG14: 0
... A136: 10298 | B136: PNGC Aggregate | C136: 1 | D136: 0 | E136: 769.476 | F136: 926.378 | G136: 939.444 | H136: 950.54 | I136: 0 | J136: 0 | K136: 0 | L136: 11.767 | M136: 12.046 | N136: 12.333 | O136: 103078.92 | P136: 105522.96 | Q136: 108333.07 | R136: 914.609 | S136: 927.397 | T136: 938.206 | U136: 8011974.8 | V136: 8123997.7 | W136: 8241201.5 | X136: 762.537 | Y136: 6679824.1 | Z136: 6679824.1 | AA136: 6698125 | AB136: 153.158 | AC136: 165.9 | AD136: 176.658 | AE136: 153.158 | AF136: 165.9 | AG136: 176.658 | AH136: 0 | AI136: 0 | AJ136: 0 | AK136: 0 | AL136: 0 | AM136: 0 | AN136: 153.158 | AO136: 165.9 | AP136: 176.658 | AQ136: 0.1071025 | AR136: 0.107109 | AS136: 0.1071162 | AT136: 0 | AU136: 0.1071025 | AV136: 0.107109 | AW136: 0.1071162 | AX136: 0.10710923 | AY136: 0.8346677 | AZ136: 0.82340513 | BA136: 0.814149 | BB136: 1.199429 | BC136: 1.2161993 | BD136: 1.2303744 | BE136: 0 | BF136: 0 | BG136: 0

Sheet LS_previous
B1: Tier 1 Load Shaping Charges Billing Determinant (MWh)
D2: 45200 | E2: 45200 | F2: 45231 | G2: 45231 | H2: 45261 | I2: 45261 | J2: 45292 | K2: 45292 | L2: 45323 | M2: 45323 | N2: 45352 | O2: 45352 | P2: 45383 | Q2: 45383 | R2: 45413 | S2: 45413 | T2: 45444 | U2: 45444 | V2: 45474 | W2: 45474 | X2: 45505 | Y2: 45505 | Z2: 45536 | AA2: 45536 | AB2: 45566 | AC2: 45566 | AD2: 45597 | AE2: 45597 | AF2: 45627 | AG2: 45627 | AH2: 45658 | AI2: 45658 | AJ2: 45689 | AK2: 45689 | AL2: 45717 | AM2: 45717 | AN2: 45748 | AO2: 45748 | AP2: 45778 | AQ2: 45778 | AR2: 45809 | AS2: 45809 | AT2: 45839 | AU2: 45839 | AV2: 45870 | AW2: 45870 | AX2: 45901 | AY2: 45901
B3: BESID | C3: AccountName | D3: HLH | E3: LLH | F3: HLH | G3: LLH | H3: HLH | I3: LLH | J3: HLH | K3: LLH | L3: HLH | M3: LLH | N3: HLH | O3: LLH | P3: HLH | Q3: LLH | R3: HLH | S3: LLH | T3: HLH | U3: LLH | V3: HLH | W3: LLH | X3: HLH | Y3: LLH | Z3: HLH | AA3: LLH | AB3: HLH | AC3: LLH | AD3: HLH | AE3: LLH | AF3: HLH | AG3: LLH | AH3: HLH | AI3: LLH | AJ3: HLH | AK3: LLH | AL3: HLH | AM3: LLH | AN3: HLH | AO3: LLH | AP3: HLH | AQ3: LLH | AR3: HLH | AS3: LLH | AT3: HLH | AU3: LLH | AV3: HLH | AW3: LLH | AX3: HLH | AY3: LLH
B4: 10015 | C4: Asotin County PUD #1 | D4: 20.352145 | E4: 52.848143 | F4: -101.53345 | G4: -51.745926 | H4: -120.25532 | I4: -56.713477 | J4: -118.60241 | K4: -72.751456 | L4: -120.19566 | M4: -39.526863 | N4: -91.265286 | O4: -68.580008 | P4: 14.962154 | Q4: 8.1882827 | R4: 50.805202 | S4: 130.95826 | T4: 142.08934 | U4: 205.09217 | V4: 341.59336 | W4: 381.93102 | X4: 323.16892 | Y4: 339.57374 | Z4: 125.63012 | AA4: 224.89636 | AB4: 20.352145 | AC4: 52.848143 | AD4: -101.53345 | AE4: -51.745926 | AF4: -120.25532 | AG4: -56.713477 | AH4: -118.60241 | AI4: -72.751456 | AJ4: -110.81551 | AK4: -34.836788 | AL4: -91.265286 | AM4: -68.580008 | AN4: 14.962154 | AO4: 8.1882827 | AP4: 50.805202 | AQ4: 130.95826 | AR4: 142.08934 | AS4: 205.09217 | AT4: 341.59336 | AU4: 381.93102 | AV4: 323.16892 | AW4: 339.57374 | AX4: 125.63012 | AY4: 224.89636
B5: 10024 | C5: Benton County PUD #1 | D5: -1348.4856 | E5: -3430.2314 | F5: -26827.073 | G5: -12326.523 | H5: -19766.262 | I5: -6211.9864 | J5: -29412.174 | K5: -9325.9914 | L5: -22234.095 | M5: -4085.0802 | N5: -27942.889 | O5: -16674.223 | P5: -4674.716 | Q5: -4702.0901 | R5: -7592.4801 | S5: 64.495731 | T5: 15617.039 | U5: 11180.968 | V5: 45034.789 | W5: 36212.73 | X5: 33887.882 | Y5: 22206.367 | Z5: 1571.2295 | AA5: -283.65982 | AB5: -1579.2416 | AC5: -3358.1544 | AD5: -26952.385 | AE5: -12454.292 | AF5: -20198.754 | AG5: -6590.8154 | AH5: -29795.507 | AI5: -9659.7914 | AJ5: -18915.574 | AK5: -2478.2082 | AL5: -28046.698 | AM5: -16786.998 | AN5: -4713.057 | AO5: -4779.0011 | AP5: -7619.6101 | AQ5: 3.3037314 | AR5: 15657.499 | AS5: 11115.904 | AT5: 45081.035 | AU5: 36186.663 | AV5: 34073.094 | AW5: 21961.272 | AX5: 1363.2005 | AY5: -213.68782
B6: 10025 | C6: Benton REA | D6: 6996.4671 | E6: 4215.5087 | F6: -4657.0326 | G6: 1697.6709 | H6: 1683.1357 | I6: 3226.454 | J6: -1730.8988 | K6: 2555.4217 | L6: -5550.2424 | M6: 11.03877 | N6: -6373.0784 | O6: -1544.6523 | P6: 2745.5793 | Q6: 2364.7654 | R6: 94.055066 | S6: 3580.4014 | T6: 4929.7085 | U6: 3810.3293 | V6: 12690.139 | W6: 10229.181 | X6: 10755.066 | Y6: 9745.2052 | Z6: 7206.8066 | AA6: 5371.1994 | AB6: 7187.3651 | AC6: 4469.6337 | AD6: -4468.1686 | AE6: 1860.8309 | AF6: 1765.2987 | AG6: 3274.444 | AH6: -3069.6918 | AI6: 3975.7047 | AJ6: -4369.5352 | AK6: 624.55239 | AL6: -5108.3914 | AM6: -2530.8483 | AN6: 2957.1703 | AO6: 2501.3454 | AP6: 330.52107 | AQ6: 3760.0884 | AR6: 5223.4375 | AS6: 3979.9193 | AT6: 12996.503 | AU6: 10426.36 | AV6: 11100.066 | AW6: 9829.7912 | AX6: 7306.2926 | AY6: 5573.5954
B7: 10027 | C7: Big Bend Elec Coop | D7: 1623.396 | E7: 1915.2996 | F7: -12919.372 | G7: -6660.9874 | H7: -13185.731 | I7: -6752.0278 | J7: -15406.177 | K7: -6877.9356 | L7: -15434.035 | M7: -6772.4624 | N7: -15460.891 | O7: -9371.3342 | P7: 83.540258 | Q7: 941.45592 | R7: 7839.4164 | S7: 9459.3106 | T7: 16952.976 | U7: 14896.626 | V7: 22324.456 | W7: 21208.616 | X7: 14721.387 | Y7: 12880.605 | Z7: 5545.6903 | AA7: 6448.9198 | AB7: 1832.743 | AC7: 2227.1436 | AD7: -12743.72 | AE7: -6542.8854 | AF7: -12973.358 | AG7: -6615.1948 | AH7: -15204.42 | AI7: -6736.5596 | AJ7: -14185.216 | AK7: -6128.422 | AL7: -15306.055 | AM7: -9288.7982 | AN7: 404.49926 | AO7: 1144.1439 | AP7: 8407.0344 | AQ7: 9879.6956 | AR7: 17722.601 | AS7: 15407.72 | AT7: 23107.437 | AU7: 21791.537 | AV7: 15465.385 | AW7: 13184.86 | AX7: 5846.0243 | AY7: 6857.4368
B8: 10029 | C8: Blachly Lane Elec Coop | D8: 0 | E8: 0 | F8: 0 | G8: 0 | H8: 0 | I8: 0 | J8: 0 | K8: 0 | L8: 0 | M8: 0 | N8: 0 | O8: 0 | P8: 0 | Q8: 0 | R8: 0 | S8: 0 | T8: 0 | U8: 0 | V8: 0 | W8: 0 | X8: 0 | Y8: 0 | Z8: 0 | AA8: 0 | AB8: 0 | AC8: 0 | AD8: 0 | AE8: 0 | AF8: 0 | AG8: 0 | AH8: 0 | AI8: 0 | AJ8: 0 | AK8: 0 | AL8: 0 | AM8: 0 | AN8: 0 | AO8: 0 | AP8: 0 | AQ8: 0 | AR8: 0 | AS8: 0 | AT8: 0 | AU8: 0 | AV8: 0 | AW8: 0 | AX8: 0 | AY8: 0
B9: 10044 | C9: Canby, City of | D9: 1043.9973 | E9: -672.93723 | F9: -1332.7712 | G9: -744.54276 | H9: 331.78288 | I9: -553.27307 | J9: -563.69921 | K9: -667.32662 | L9: -1077.4389 | M9: -823.21175 | N9: -1206.4212 | O9: -1301.4137 | P9: 242.22289 | Q9: -861.4726 | R9: -2545.7417 | S9: -1991.59 | T9: -2201.3473 | U9: -2038.4846 | V9: 138.50991 | W9: -477.349 | X9: 371.13207 | Y9: 119.56607 | Z9: -6.2990194 | AA9: -1030.0875 | AB9: 955.71629 | AC9: -649.12923 | AD9: -1364.3092 | AE9: -775.59276 | AF9: 304.08188 | AG9: -590.04607 | AH9: -1013.7232 | AI9: -281.78162 | AJ9: -717.00489 | AK9: -658.46775 | AL9: -869.17518 | AM9: -1702.9387 | AN9: 211.56589 | AO9: -893.2156 | AP9: -2577.2537 | AQ9: -2024.553 | AR9: -2228.6643 | AS9: -2073.5636 | AT9: 108.71491 | AU9: -512.024 | AV9: 397.64507 | AW9: 28.583071 | AX9: -91.731019 | AY9: -1007.0455
B10: 10046 | C10: Central Electric Coop | D10: 0 | E10: 0 | F10: 0 | G10: 0 | H10: 0 | I10: 0 | J10: 0 | K10: 0 | L10: 0 | M10: 0 | N10: 0 | O10: 0 | P10: 0 | Q10: 0 | R10: 0 | S10: 0 | T10: 0 | U10: 0 | V10: 0 | W10: 0 | X10: 0 | Y10: 0 | Z10: 0 | AA10: 0 | AB10: 0 | AC10: 0 | AD10: 0 | AE10: 0 | AF10: 0 | AG10: 0 | AH10: 0 | AI10: 0 | AJ10: 0 | AK10: 0 | AL10: 0 | AM10: 0 | AN10: 0 | AO10: 0 | AP10: 0 | AQ10: 0 | AR10: 0 | AS10: 0 | AT10: 0 | AU10: 0 | AV10: 0 | AW10: 0 | AX10: 0 | AY10: 0
B11: 10047 | C11: Central Lincoln PUD | D11: 10673.669 | E11: 6402.2049 | F11: -6622.3318 | G11: 5509.9312 | H11: 1220.9272 | I11: 5183.852 | J11: -5256.9792 | K11: 4214.3764 | L11: -5324.6761 | M11: 3822.2439 | N11: -4580.1444 | O11: 2220.4046 | P11: 5546.7813 | Q11: 5269.9101 | R11: -16835.173 | S11: -2917.0925 | T11: -22659.682 | U11: -9491.4916 | V11: -11038.572 | W11: -352.4203 | X11: -8682.9484 | Y11: 2850.8825 | Z11: -1618.9734 | AA11: 1663.8526 | AB11: 10685.156 | AC11: 6409.127 | AD11: -6628.7835 | AE11: 5515.5579 | AF11: 1222.4925 | AG11: 5189.2711 | AH11: -8208.1964 | AI11: 7165.0784 | AJ11: -2835.2941 | AK11: 5073.439 | AL11: -1844.7456 | AM11: -516.89569 | AN11: 5552.5843 | AO11: 5275.3354 | AP11: -16851.794 | AQ11: -2919.879 | AR11: -22682.095 | AS11: -9500.8366 | AT11: -11049.395 | AU11: -352.6312 | AV11: -8691.4128 | AW11: 2853.8732 | AX11: -1620.4441 | AY11: 1665.6215
B12: 10055 | C12: Albion, City of | D12: 46.383668 | E12: 29.28104 | F12: 7.0990172 | G12: 42.586269 | H12: 91.660507 | I12: 90.455757 | J12: 64.747849 | K12: 85.812388 | L12: 38.237233 | M12: 58.313549 | N12: 15.550578 | O12: 36.388527 | P12: 31.79272 | Q12: 28.979918 | R12: -37.957834 | S12: -6.0501144 | T12: -40.589449 | U12: -24.896968 | V12: 6.7410022 | W12: 1.3316993 | X12: -1.4472237 | Y12: 0.83982468 | Z12: 4.3914937 | AA12: -1.2106913 | AB12: 47.918912 | AC12: 30.276676 | AD12: 8.531466 | AE12: 43.733857 | AF12: 93.213556 | AG12: 91.592356 | AH12: 55.571418 | AI12: 97.701201 | AJ12: 46.050515 | AK12: 62.50218 | AL12: 25.23957 | AM12: 29.37517 | AN12: 33.273961 | AO12: 29.987939 | AP12: -36.426652 | AQ12: -4.9174075 | AR12: -38.947448 | AS12: -23.931041 | AT12: 8.3747053 | AU12: 2.2991715 | AV12: 0.18360531 | AW12: 1.7927985 | AX12: 5.8919875 | AY12: -0.23235438
B13: 10057 | C13: Ashland, City of | D13: 756.58774 | E13: -404.45923 | F13: -1057.4106 | G13: -239.3407 | H13: 1122.949 | I13: 349.79225 | J13: 71.607331 | K13: 138.37248 | L13: -635.68507 | M13: -123.63122 | N13: -1173.8449 | O13: -762.50884 | P13: -159.44931 | Q13: -651.50287 | R13: -2910.2779 | S13: -1718.6367 | T13: -2402.9089 | U13: -1872.0866 | V13: 649.17156 | W13: -98.065645 | X13: 467.8011 | Y13: 197.25513 | Z13: -106.77083 | AA13: -675.73487 | AB13: 757.86396 | AC13: -403.62605 | AD13: -1055.7783 | AE13: -238.28276 | AF13: 1124.7093 | AG13: 350.93524 | AH13: -351.80482 | AI13: 564.80154 | AJ13: -306.97302 | AK13: 40.844757 | AL13: -823.54691 | AM13: -1109.9726 | AN13: -158.08811 | AO13: -650.62776 | AP13: -2908.592 | AQ13: -1717.5481 | AR13: -2401.1289 | AS13: -1871.032 | AT13: 650.70507 | AU13: -97.138284 | AV13: 469.31024 | AW13: 198.125 | AX13: -105.46336 | AY13: -674.85319
B14: 10059 | C14: Bandon, City of | D14: 547.91761 | E14: 0.47721417 | F14: -198.57465 | G14: 133.7468 | H14: 688.2863 | I14: 321.77914 | J14: 694.68956 | K14: 518.69166 | L14: 488.08454 | M14: 458.79692 | N14: -52.66896 | O14: 55.995907 | P14: 647.44552 | Q14: 293.88102 | R14: -822.71899 | S14: -369.80673 | T14: -1025.2527 | U14: -673.60298 | V14: -596.24657 | W14: -370.71467 | X14: -577.24682 | Y14: -271.59568 | Z14: -142.80105 | AA14: -289.79871 | AB14: 549.70432 | AC14: 1.643666 | AD14: -196.28951 | AE14: 135.22792 | AF14: 690.75064 | AG14: 323.37934 | AH14: 496.11754 | AI14: 721.48735 | AJ14: 614.72106 | AK14: 522.28312 | AL14: 109.79598 | AM14: -102.5036 | AN14: 649.3512 | AO14: 295.10617 | AP14: -820.35871 | AQ14: -368.28278 | AR14: -1022.7607 | AS14: -672.12649 | AT14: -594.09964 | AU14: -369.41636 | AV14: -575.13402 | AW14: -270.37786 | AX14: -140.9706 | AY14: -288.56435
B15: 10061 | C15: Blaine, City of | D15: 1844.5201 | E15: 845.64168 | F15: 1222.8917 | G15: 1155.7439 | H15: 1551.5009 | I15: 983.71318 | J15: 1652.8306 | K15: 1316.8508 | L15: 1311.2922 | M15: 1060.5921 | N15: 1179.1764 | O15: 825.9141 | P15: 1746.606 | Q15: 942.68869 | R15: 399.39433 | S15: 543.73932 | T15: 250.20696 | U15: 158.996 | V15: 1061.4867 | W15: 863.59974 | X15: 1092.1332 | Y15: 870.96167 | Z15: 1363.6727 | AA15: 757.7997 | AB15: 1640.8921 | AC15: 672.84068 | AD15: 1102.8447 | AE15: 1016.6609 | AF15: 1409.4379 | AG15: 804.70318 | AH15: 1285.5556 | AI15: 1403.3798 | AJ15: 1330.5926 | AK15: 1002.7449 | AL15: 1244.6444 | AM15: 491.8101 | AN15: 1615.345 | AO15: 811.47069 | AP15: 257.74533 | AQ15: 410.79132 | AR15: 122.92296 | AS15: -2.3980015 | AT15: 896.44268 | AU15: 705.26674 | AV15: 957.82616 | AW15: 698.27967 | AX15: 1199.4847 | AY15: 587.4077
... B137: 10298 | C137: PNGC Aggregate | D137: 64445.133 | E137: 19439.307 | F137: 3109.939 | G137: 33485.574 | H137: 110692.17 | I137: 82029.321 | J137: 82496.785 | K137: 86603.182 | L137: 45724.474 | M137: 59662.839 | N137: 19059.94 | O137: 25371.794 | P137: 44297.575 | Q137: 23102.503 | R137: -72258.45 | S137: -29120.501 | T137: -61279.237 | U137: -40905.893 | V137: 23080.995 | W137: 20369.722 | X137: 21599.281 | Y137: 20591.693 | Z137: 9924.6654 | AA137: -2914.2023 | AB137: 69847.629 | AC137: 24425.571 | AD137: 9345.7386 | AE137: 37942.528 | AF137: 117523.11 | AG137: 86698.424 | AH137: 74479.614 | AI137: 105583.57 | AJ137: 65066.226 | AK137: 70288.163 | AL137: 37245.735 | AM137: 17756.303 | AN137: 49570.289 | AO137: 26474.404 | AP137: -67231.305 | AQ137: -25695.45 | AR137: -56002.406 | AS137: -37745.408 | AT137: 28472.112 | AU137: 23754.177 | AV137: 28018.774 | AW137: 22689.7 | AX137: 13714.968 | AY137: 1336.4046
B148: 1 | C148: 2 | D148: 3 | E148: 4 | F148: 5 | G148: 6 | H148: 7 | I148: 8 | J148: 9 | K148: 10 | L148: 11 | M148: 12 | N148: 13 | O148: 14 | P148: 15 | Q148: 16 | R148: 17 | S148: 18 | T148: 19 | U148: 20 | V148: 21 | W148: 22 | X148: 23 | Y148: 24 | Z148: 25 | AA148: 26 | AB148: 27 | AC148: 28 | AD148: 29 | AE148: 30 | AF148: 31 | AG148: 32 | AH148: 33 | AI148: 34 | AJ148: 35 | AK148: 36 | AL148: 37 | AM148: 38 | AN148: 39 | AO148: 40 | AP148: 41 | AQ148: 42 | AR148: 43 | AS148: 44 | AT148: 45 | AU148: 46 | AV148: 47 | AW148: 48 | AX148: 49 | AY148: 50

Sheet LS_current
B1: Tier 1 Load Shaping Charges Billing Determinant (MWh)
D2: 45931 | E2: 45931 | F2: 45962 | G2: 45962 | H2: 45992 | I2: 45992 | J2: 46023 | K2: 46023 | L2: 46054 | M2: 46054 | N2: 46082 | O2: 46082 | P2: 46113 | Q2: 46113 | R2: 46143 | S2: 46143 | T2: 46174 | U2: 46174 | V2: 46204 | W2: 46204 | X2: 46235 | Y2: 46235 | Z2: 46266 | AA2: 46266 | AB2: 46296 | AC2: 46296 | AD2: 46327 | AE2: 46327 | AF2: 46357 | AG2: 46357 | AH2: 46388 | AI2: 46388 | AJ2: 46419 | AK2: 46419 | AL2: 46447 | AM2: 46447 | AN2: 46478 | AO2: 46478 | AP2: 46508 | AQ2: 46508 | AR2: 46539 | AS2: 46539 | AT2: 46569 | AU2: 46569 | AV2: 46600 | AW2: 46600 | AX2: 46631 | AY2: 46631 | AZ2: 46661 | BA2: 46661 | BB2: 46692 | BC2: 46692 | BD2: 46722 | BE2: 46722 | BF2: 46753 | BG2: 46753 | BH2: 46784 | BI2: 46784 | BJ2: 46813 | BK2: 46813 | BL2: 46844 | BM2: 46844 | BN2: 46874 | BO2: 46874 | BP2: 46905 | BQ2: 46905 | BR2: 46935 | BS2: 46935 | BT2: 46966 | BU2: 46966 | BV2: 46997 | BW2: 46997
B3: BESID | C3: AccountName | D3: HLH | E3: LLH | F3: HLH | G3: LLH | H3: HLH | I3: LLH | J3: HLH | K3: LLH | L3: HLH | M3: LLH | N3: HLH | O3: LLH | P3: HLH | Q3: LLH | R3: HLH | S3: LLH | T3: HLH | U3: LLH | V3: HLH | W3: LLH | X3: HLH | Y3: LLH | Z3: HLH | AA3: LLH | AB3: HLH | AC3: LLH | AD3: HLH | AE3: LLH | AF3: HLH | AG3: LLH | AH3: HLH | AI3: LLH | AJ3: HLH | AK3: LLH | AL3: HLH | AM3: LLH | AN3: HLH | AO3: LLH | AP3: HLH | AQ3: LLH | AR3: HLH | AS3: LLH | AT3: HLH | AU3: LLH | AV3: HLH | AW3: LLH | AX3: HLH | AY3: LLH | AZ3: HLH | BA3: LLH | BB3: HLH | BC3: LLH | BD3: HLH | BE3: LLH | BF3: HLH | BG3: LLH | BH3: HLH | BI3: LLH | BJ3: HLH | BK3: LLH | BL3: HLH | BM3: LLH | BN3: HLH | BO3: LLH | BP3: HLH | BQ3: LLH | BR3: HLH | BS3: LLH | BT3: HLH | BU3: LLH | BV3: HLH | BW3: LLH
B4: 10015 | C4: Asotin County PUD #1 | D4: 22.21833 | E4: 64.139316 | F4: -90.875655 | G4: -46.681041 | H4: -142.04716 | I4: -42.821636 | J4: -134.29404 | K4: -73.069069 | L4: -108.38044 | M4: -32.437155 | N4: -97.746276 | O4: -42.036557 | P4: 26.073779 | Q4: 19.360721 | R4: 57.215139 | S4: 133.51552 | T4: 136.96427 | U4: 219.53461 | V4: 336.01868 | W4: 385.47396 | X4: 293.7527 | Y4: 342.77026 | Z4: 139.09799 | AA4: 247.7654 | AB4: 22.21833 | AC4: 64.139316 | AD4: -90.875655 | AE4: -46.681041 | AF4: -142.04716 | AG4: -42.821636 | AH4: -134.29404 | AI4: -73.069069 | AJ4: -108.38044 | AK4: -32.437155 | AL4: -97.746276 | AM4: -42.036557 | AN4: 26.073779 | AO4: 19.360721 | AP4: 57.215139 | AQ4: 133.51552 | AR4: 136.96427 | AS4: 219.53461 | AT4: 336.01868 | AU4: 385.47396 | AV4: 293.7527 | AW4: 342.77026 | AX4: 139.09799 | AY4: 247.7654 | AZ4: 22.21833 | BA4: 64.139316 | BB4: -90.875655 | BC4: -46.681041 | BD4: -142.04716 | BE4: -42.821636 | BF4: -134.29404 | BG4: -73.069069 | BH4: -112.33717 | BI4: -33.02552 | BJ4: -97.746276 | BK4: -42.036557 | BL4: 26.073779 | BM4: 19.360721 | BN4: 57.215139 | BO4: 133.51552 | BP4: 136.96427 | BQ4: 219.53461 | BR4: 336.01868 | BS4: 385.47396 | BT4: 293.7527 | BU4: 342.77026 | BV4: 139.09799 | BW4: 247.7654
B5: 10024 | C5: Benton County PUD #1 | D5: -955.13203 | E5: 610.80707 | F5: -22984.094 | G5: -10788.143 | H5: -27614.87 | I5: -1246.3893 | J5: -34954.234 | K5: -9497.8787 | L5: -17984.76 | M5: -1579.0218 | N5: -30270.445 | O5: -7445.7899 | P5: -868.61132 | Q5: -860.30719 | R5: -5239.577 | S5: 724.20121 | T5: 13603.94 | U5: 16343.455 | V5: 43011.538 | W5: 37377.228 | X5: 23681.207 | Y5: 23081.807 | Z5: 6041.3451 | AA5: 7810.0892 | AB5: -882.88003 | AC5: 619.44407 | AD5: -22966.238 | AE5: -10826.918 | AF5: -27932.93 | AG5: -1500.0823 | AH5: -35018.591 | AI5: -9911.0867 | AJ5: -17993.819 | AK5: -1605.0278 | AL5: -30425.326 | AM5: -7268.2469 | AN5: -773.00032 | AO5: -839.33019 | AP5: -5118.387 | AQ5: 754.25721 | AR5: 13758.832 | AS5: 16395.799 | AT5: 43191.736 | AU5: 37456.777 | AV5: 23836.467 | AW5: 23106.232 | AX5: 6126.0201 | AY5: 7819.1972 | AZ5: -296.66603 | BA5: 659.77807 | BB5: -22870.873 | BC5: -10425.913 | BD5: -27961.935 | BE5: -1525.2713 | BF5: -35280.85 | BG5: -10111.553 | BH5: -19369.752 | BI5: -1899.9343 | BJ5: -30428.28 | BK5: -7274.2099 | BL5: -518.74332 | BM5: -1014.3382 | BN5: -5244.369 | BO5: 1019.2182 | BP5: 13900.921 | BQ5: 16474.834 | BR5: 43601.641 | BS5: 37382.194 | BT5: 23789.544 | BU5: 23384.727 | BV5: 6170.4011 | BW5: 7839.5342
B6: 10025 | C6: Benton REA | D6: 2970.1635 | E6: 2481.6731 | F6: -7134.5662 | G6: -1085.0202 | H6: -4638.2632 | I6: 1614.9388 | J6: -7333.4566 | K6: -615.52018 | L6: -7907.1193 | M6: -1967.2847 | N6: -11021.158 | O6: -1914.8786 | P6: -81.234385 | Q6: 613.88408 | R6: -2978.1114 | S6: 470.22501 | T6: 341.02374 | U6: 2485.5617 | V6: 8132.427 | W6: 7455.06 | X6: 3801.4546 | Y6: 6851.2862 | Z6: 4695.3729 | AA6: 4764.6232 | AB6: 3048.4375 | AC6: 2512.1341 | AD6: -7115.8622 | AE6: -1077.5922 | AF6: -4747.5402 | AG6: 1518.0808 | AH6: -8612.8096 | AI6: 409.03482 | AJ6: -7958.7093 | AK6: -2013.3117 | AL6: -10191.975 | AM6: -2801.4066 | AN6: -57.675385 | AO6: 613.05608 | AP6: -2919.0374 | AQ6: 491.01601 | AR6: 443.31274 | AS6: 2521.1517 | AT6: 8250.759 | AU6: 7503.983 | AV6: 3875.7826 | AW6: 6870.2562 | AX6: 4696.6989 | AY6: 4739.7392 | AZ6: 2069.8505 | BA6: 3550.4051 | BB6: -6196.4492 | BC6: -2061.6322 | BD6: -4935.2892 | BE6: 1369.7908 | BF6: -8627.5386 | BG6: 388.57182 | BH6: -8238.0135 | BI6: -2244.9303 | BJ6: -10157.805 | BK6: -2785.5876 | BL6: -965.33039 | BM6: 1600.1891 | BN6: -1735.7904 | BO6: -596.90499 | BP6: 523.93574 | BQ6: 2551.9177 | BR6: 6929.242 | BS6: 9038.345 | BT6: 5376.1006 | BU6: 5573.3222 | BV6: 4789.2679 | BW6: 4786.9222
B7: 10027 | C7: Big Bend Elec Coop | D7: -163.76033 | E7: 1864.6195 | F7: -13338.928 | G7: -7692.2896 | H7: -17414.526 | I7: -6589.688 | J7: -18876.847 | K7: -8335.9221 | L7: -15729.83 | M7: -7215.6073 | N7: -17952.539 | O7: -7962.0347 | P7: -540.01433 | Q7: 808.74086 | R7: 6897.469 | S7: 8130.3972 | T7: 14501.468 | U7: 15221.783 | V7: 19925.488 | W7: 20157.644 | X7: 9885.6746 | Y7: 11685.965 | Z7: 5137.3045 | AA7: 7598.2661 | AB7: -238.09333 | AC7: 1789.7995 | AD7: -13502.46 | AE7: -7884.6246 | AF7: -17583.769 | AG7: -6741.583 | AH7: -18852.514 | AI7: -8687.4661 | AJ7: -15933.747 | AK7: -7384.4313 | AL7: -18369.911 | AM7: -7976.7337 | AN7: -593.87133 | AO7: 737.52486 | AP7: 7111.487 | AQ7: 8234.0382 | AR7: 14889.477 | AS7: 15465.773 | AT7: 20333.653 | AU7: 20445.037 | AV7: 10149.305 | AW7: 11800.244 | AX7: 5182.7905 | AY7: 7612.9111 | AZ7: -47.543334 | BA7: 1537.0965 | BB7: -13847.322 | BC7: -7825.4796 | BD7: -17712.081 | BE7: -6859.064 | BF7: -18966.905 | BG7: -8825.3541 | BH7: -16925.442 | BI7: -7845.4028 | BJ7: -18573.374 | BK7: -8137.8017 | BL7: -384.37333 | BM7: 488.45786 | BN7: 7172.818 | BO7: 8608.9802 | BP7: 15356.368 | BQ7: 15767.661 | BR7: 21037.685 | BS7: 20580.779 | BT7: 10265.071 | BU7: 12185.087 | BV7: 5282.1545 | BW7: 7671.7201
B8: 10029 | C8: Blachly Lane Elec Coop | D8: 0 | E8: 0 | F8: 0 | G8: 0 | H8: 0 | I8: 0 | J8: 0 | K8: 0 | L8: 0 | M8: 0 | N8: 0 | O8: 0 | P8: 0 | Q8: 0 | R8: 0 | S8: 0 | T8: 0 | U8: 0 | V8: 0 | W8: 0 | X8: 0 | Y8: 0 | Z8: 0 | AA8: 0 | AB8: 0 | AC8: 0 | AD8: 0 | AE8: 0 | AF8: 0 | AG8: 0 | AH8: 0 | AI8: 0 | AJ8: 0 | AK8: 0 | AL8: 0 | AM8: 0 | AN8: 0 | AO8: 0 | AP8: 0 | AQ8: 0 | AR8: 0 | AS8: 0 | AT8: 0 | AU8: 0 | AV8: 0 | AW8: 0 | AX8: 0 | AY8: 0 | AZ8: 0 | BA8: 0 | BB8: 0 | BC8: 0 | BD8: 0 | BE8: 0 | BF8: 0 | BG8: 0 | BH8: 0 | BI8: 0 | BJ8: 0 | BK8: 0 | BL8: 0 | BM8: 0 | BN8: 0 | BO8: 0 | BP8: 0 | BQ8: 0 | BR8: 0 | BS8: 0 | BT8: 0 | BU8: 0 | BV8: 0 | BW8: 0
B9: 10044 | C9: Canby, City of | D9: 1766.2252 | E9: 297.48347 | F9: -261.94652 | G9: -65.479047 | H9: 194.17153 | I9: 537.35857 | J9: -428.06771 | K9: -136.0812 | L9: 34.458808 | M9: -68.139452 | N9: -745.87617 | O9: 178.31489 | P9: 1322.7429 | Q9: 35.321224 | R9: -1598.7674 | S9: -1389.6318 | T9: -1749.1237 | U9: -968.09477 | V9: 629.8149 | W9: 188.9763 | X9: 75.387199 | Y9: 716.56986 | Z9: 1074.4702 | AA9: 363.34941 | AB9: 1772.2002 | AC9: 291.76347 | AD9: -256.89252 | AE9: -70.394047 | AF9: 199.47853 | AG9: 532.30557 | AH9: -809.51571 | AI9: 245.6158 | AJ9: 39.356808 | AK9: -72.811452 | AL9: -404.82217 | AM9: -162.37711 | AN9: 1328.2779 | AO9: 30.026224 | AP9: -1592.2954 | AQ9: -1395.8508 | AR9: -1743.4327 | AS9: -973.54177 | AT9: 636.2119 | AU9: 182.8373 | AV9: 81.420199 | AW9: 710.79486 | AX9: 1080.5102 | AY9: 357.55941 | AZ9: 1475.2682 | BA9: 593.41147 | BB9: 86.587484 | BC9: -409.40905 | BD9: 207.27853 | BE9: 529.21857 | BF9: -801.81771 | BG9: 242.6298 | BH9: 46.476922 | BI9: -134.78539 | BJ9: -396.95017 | BK9: -165.43011 | BL9: 1027.0299 | BM9: 335.83322 | BN9: -1299.6764 | BO9: -1683.7508 | BP9: -1735.2467 | BQ9: -977.16577 | BR9: 310.0289 | BS9: 513.7393 | BT9: 432.6162 | BU9: 364.32486 | BV9: 1088.9492 | BW9: 353.68841
B10: 10046 | C10: Central Electric Coop | D10: 0 | E10: 0 | F10: 0 | G10: 0 | H10: 0 | I10: 0 | J10: 0 | K10: 0 | L10: 0 | M10: 0 | N10: 0 | O10: 0 | P10: 0 | Q10: 0 | R10: 0 | S10: 0 | T10: 0 | U10: 0 | V10: 0 | W10: 0 | X10: 0 | Y10: 0 | Z10: 0 | AA10: 0 | AB10: 0 | AC10: 0 | AD10: 0 | AE10: 0 | AF10: 0 | AG10: 0 | AH10: 0 | AI10: 0 | AJ10: 0 | AK10: 0 | AL10: 0 | AM10: 0 | AN10: 0 | AO10: 0 | AP10: 0 | AQ10: 0 | AR10: 0 | AS10: 0 | AT10: 0 | AU10: 0 | AV10: 0 | AW10: 0 | AX10: 0 | AY10: 0 | AZ10: 0 | BA10: 0 | BB10: 0 | BC10: 0 | BD10: 0 | BE10: 0 | BF10: 0 | BG10: 0 | BH10: 0 | BI10: 0 | BJ10: 0 | BK10: 0 | BL10: 0 | BM10: 0 | BN10: 0 | BO10: 0 | BP10: 0 | BQ10: 0 | BR10: 0 | BS10: 0 | BT10: 0 | BU10: 0 | BV10: 0 | BW10: 0
B11: 10047 | C11: Central Lincoln PUD | D11: 11842.076 | E11: 9808.7704 | F11: -2957.1254 | G11: 7401.8209 | H11: -3562.7168 | I11: 9437.7403 | J11: -8382.3122 | K11: 4742.0018 | L11: -1346.2445 | M11: 6185.5009 | N11: -5363.978 | O11: 9776.4075 | P11: 9186.9846 | Q11: 8667.6052 | R11: -14256.348 | S11: -1667.1004 | T11: -23058.364 | U11: -5140.0719 | V11: -11686.327 | W11: 1070.5796 | X11: -15601.241 | Y11: 4152.388 | Z11: 2611.0894 | AA11: 8134.9976 | AB11: 11743.952 | AC11: 9752.0843 | AD11: -2960.3582 | AE11: 7409.0482 | AF11: -3566.4524 | AG11: 9447.1077 | AH11: -11337.196 | AI11: 7692.9088 | AJ11: -1347.8321 | AK11: 6191.5529 | AL11: -2629.8539 | AM11: 7046.381 | AN11: 9196.0581 | AO11: 8676.1949 | AP11: -14270.856 | AQ11: -1668.9395 | AR11: -23081.681 | AS11: -5145.3457 | AT11: -11698.233 | AU11: 1071.5354 | AV11: -15617.078 | AW11: 4156.4398 | AX11: 2613.4966 | AY11: 8143.015 | AZ11: 9397.7757 | BA11: 12288.158 | BB11: -274.20929 | BC11: 4697.0368 | BD11: -3596.647 | BE11: 9449.7582 | BF11: -11381.645 | BG11: 7691.343 | BH11: -992.71999 | BI11: 6209.8101 | BJ11: -2656.9251 | BK11: 7046.2921 | BL11: 6666.8665 | BM11: 11209.062 | BN11: -12022.442 | BO11: -3979.5063 | BP11: -23144.305 | BQ11: -5166.5286 | BR11: -13909.995 | BS11: 3233.4703 | BT11: -13450.066 | BU11: 1937.3711 | BV11: 2602.1688 | BW11: 8147.334
B12: 10055 | C12: Albion, City of | D12: 45.257794 | E12: 35.530013 | F12: 11.393765 | G12: 44.092091 | H12: 73.213613 | I12: 97.920472 | J12: 50.326515 | K12: 83.413468 | L12: 43.30082 | M12: 61.437513 | N12: 7.7863605 | O12: 52.691189 | P12: 36.916039 | Q12: 35.067071 | R12: -36.710087 | S12: -6.3409662 | T12: -47.517906 | U12: -16.882958 | V12: -0.031840368 | W12: 2.0298638 | X12: -24.704375 | Y12: 1.406805 | Z12: 11.250395 | AA12: 12.97382 | AB12: 46.537794 | AC12: 36.359013 | AD12: 12.499765 | AE12: 45.028091 | AF12: 74.414613 | AG12: 98.828472 | AH12: 40.776515 | AI12: 95.072468 | AJ12: 44.39882 | AK12: 62.244513 | AL12: 17.13036 | AM12: 45.456189 | AN12: 38.125039 | AO12: 35.900071 | AP12: -35.516087 | AQ12: -5.4259662 | AR12: -46.231906 | AS12: -16.127958 | AT12: 1.2951596 | AU12: 2.8118638 | AV12: -23.375375 | AW12: 2.185805 | AX12: 12.489395 | AY12: 13.77582 | AZ12: 40.896794 | BA12: 44.110013 | BB12: 21.635765 | BC12: 37.933091 | BD12: 75.615613 | BE12: 99.736472 | BF12: 41.914515 | BG12: 96.043468 | BH12: 45.541535 | BI12: 62.267371 | BJ12: 18.36936 | BK12: 46.327189 | BL12: 32.196039 | BM12: 43.870071 | BN12: -28.365087 | BO12: -10.467966 | BP12: -44.945906 | BQ12: -15.372958 | BR12: -3.6948404 | BS12: 9.9118638 | BT12: -16.118375 | BU12: -2.962195 | BV12: 13.728395 | BW12: 14.57782
B13: 10057 | C13: Ashland, City of | D13: 1154.3049 | E13: 190.50868 | F13: -273.40721 | G13: 207.46009 | H13: 860.38159 | I13: 1112.8037 | J13: 40.407497 | K13: 429.95639 | L13: 191.51699 | M13: 360.86349 | N13: -936.00104 | O13: 412.51999 | P13: 568.38974 | Q13: -49.462571 | R13: -2253.5715 | S13: -1347.2681 | T13: -2105.4529 | U13: -1113.9807 | V13: 866.84409 | W13: 263.73392 | X13: -114.60521 | Y13: 532.40438 | Z13: 685.37603 | AA13: 317.40777 | AB13: 1152.4947 | AC13: 189.4137 | AD13: -273.40721 | AE13: 207.46009 | AF13: 860.38159 | AG13: 1112.8037 | AH13: -384.8725 | AI13: 855.23639 | AJ13: 191.51699 | AK13: 360.86349 | AL13: -587.42804 | AM13: 63.947992 | AN13: 568.38974 | AO13: -49.462571 | AP13: -2253.5715 | AQ13: -1347.2681 | AR13: -2105.4529 | AS13: -1113.9807 | AT13: 866.84409 | AU13: 263.73392 | AV13: -114.60521 | AW13: 532.40438 | AX13: 685.37603 | AY13: 317.40777 | AZ13: 850.44066 | BA13: 491.4687 | BB13: 79.04587 | BC13: -148.7062 | BD13: 857.67476 | BE13: 1111.2878 | BF13: -387.68073 | BG13: 853.58929 | BH13: 250.76173 | BI13: 340.8239 | BJ13: -589.95239 | BK13: 62.590927 | BL13: 264.2526 | BM13: 251.66544 | BN13: -1981.0048 | BO13: -1624.7277 | BP13: -2108.0443 | BQ13: -1115.3654 | BR13: 509.27152 | BS13: 618.76737 | BT13: 230.86256 | BU13: 184.30613 | BV13: 683.6211 | BW13: 316.3432
B14: 10059 | C14: Bandon, City of | D14: 562.91162 | E14: 144.32656 | F14: -69.318061 | G14: 192.99625 | H14: 384.67976 | I14: 497.85151 | J14: 471.44154 | K14: 505.60197 | L14: 632.60852 | M14: 545.86642 | N14: -152.22946 | O14: 400.71828 | P14: 784.83269 | Q14: 435.82674 | R14: -750.41149 | S14: -344.16755 | T14: -1107.1917 | U14: -489.52108 | V14: -682.26838 | W14: -330.71384 | X14: -980.39025 | Y14: -235.76202 | Z14: 26.360018 | AA14: 7.7675515 | AB14: 562.91162 | AC14: 144.32656 | AD14: -69.318061 | AE14: 192.99625 | AF14: 384.67976 | AG14: 497.85151 | AH14: 270.25454 | AI14: 706.78897 | AJ14: 632.60852 | AK14: 545.86642 | AL14: 7.8205358 | AM14: 240.66728 | AN14: 784.83269 | AO14: 435.82674 | AP14: -750.41149 | AQ14: -344.16755 | AR14: -1107.1917 | AS14: -489.52108 | AT14: -682.26838 | AU14: -330.71384 | AV14: -980.39025 | AW14: -235.76202 | AX14: 26.360018 | AY14: 7.7675515 | AZ14: 430.85062 | BA14: 277.87456 | BB14: 86.369939 | BC14: 38.751254 | BD14: 385.59676 | BE14: 498.42151 | BF14: 271.12754 | BG14: 707.40397 | BH14: 640.33484 | BI14: 521.75208 | BJ14: 8.7505358 | BK14: 241.22428 | BL14: 630.47869 | BM14: 591.62174 | BN14: -623.60249 | BO14: -469.48855 | BP14: -1106.2747 | BQ14: -488.99908 | BR14: -795.37038 | BS14: -216.12484 | BT14: -867.01925 | BU14: -347.64502 | BV14: 27.258018 | BW14: 8.3105515
B15: 10061 | C15: Blaine, City of | D15: 569.73733 | E15: 76.200815 | F15: 228.4401 | G15: 216.48553 | H15: -33.837547 | I15: 206.45864 | J15: 160.7836 | K15: 323.0962 | L15: 334.53296 | M15: 300.10612 | N15: -172.971 | O15: 244.35742 | P15: 661.38555 | Q15: 195.77841 | R15: -708.032 | S15: -454.81527 | T15: -1081.1063 | U15: -537.52246 | V15: -277.45271 | W15: -72.026131 | X15: -610.17254 | Y15: -70.12367 | Z15: 362.60285 | AA15: 140.7231 | AB15: 541.06933 | AC15: 29.759815 | AD15: 280.7931 | AE15: 197.00753 | AF15: -24.300547 | AG15: 177.16864 | AH15: 20.804605 | AI15: 483.6492 | AJ15: 366.24396 | AK15: 287.34412 | AL15: 2.1610038 | AM15: 101.50442 | AN15: 698.60455 | AO15: 187.68041 | AP15: -670.801 | AQ15: -465.32327 | AR15: -1056.7903 | AS15: -558.91646 | AT15: -274.01671 | AU15: -97.519131 | AV15: -575.99954 | AW15: -109.96567 | AX15: 360.41485 | AY15: 99.9311 | AZ15: 421.30633 | BA15: 85.805815 | BB15: 463.2001 | BC15: 56.575533 | BD15: -10.106547 | BE15: 151.62264 | BF15: 54.350605 | BG15: 479.0132 | BH15: 404.37658 | BI15: 259.28193 | BJ15: 44.472004 | BK15: 93.462415 | BL15: 633.44855 | BM15: 280.93241 | BN15: -550.855 | BO15: -562.53127 | BP15: -1036.7303 | BQ15: -582.10446 | BR15: -365.75571 | BS15: -33.382131 | BT15: -461.82754 | BU15: -236.62467 | BV15: 354.59285 | BW15: 57.3791
... B137: 10298 | C137: PNGC Aggregate | D137: 30866.133 | E137: 10208.29 | F137: -13033.482 | G137: 11651.451 | H137: 46741.281 | I137: 74890.42 | J137: 27721.119 | K137: 59520.664 | L137: 30972.397 | M137: 46179.695 | N137: -23475.995 | O137: 33823.982 | P137: 25197.723 | Q137: 13247.153 | R137: -95277.92 | S137: -54861.08 | T137: -103280.28 | U137: -45343.832 | V137: -18137.693 | W137: -1479.65 | X137: -49977.248 | Y137: -2751.5597 | Z137: -5841.6637 | AA137: 2462.5687 | AB137: 31657.174 | AC137: 10017.242 | AD137: -11846.999 | AE137: 11707.55 | AF137: 48137.917 | AG137: 75241.61 | AH137: 16919.158 | AI137: 71534.157 | AJ137: 31872.305 | AK137: 46323.245 | AL137: -13410.553 | AM137: 24591.269 | AN137: 25016.067 | AO137: 12632.156 | AP137: -95536.235 | AQ137: -55902.798 | AR137: -103415.22 | AS137: -46207.594 | AT137: -18200.471 | AU137: -2397.7073 | AV137: -50087.351 | AW137: -3883.1608 | AX137: -6222.2035 | AY137: 1443.3784 | AZ137: 25909.919 | BA137: 17247.861 | BB137: -1870.6486 | BC137: 3190.8675 | BD137: 49540.265 | BE137: 75720.641 | BF137: 17856.731 | BG137: 71748.193 | BH137: 31186.584 | BI137: 44796.444 | BJ137: -12798.274 | BK137: 24647.251 | BL137: 17471.646 | BM137: 19528.295 | BN137: -89840.741 | BO137: -62284.16 | BP137: -103538.91 | BQ137: -46900.873 | BR137: -24773.772 | BS137: 3446.4008 | BT137: -43751.612 | BU137: -10908.77 | BV137: -6371.3392 | BW137: 751.44951
B147: 1 | C147: 2 | D147: 3 | E147: 4 | F147: 5 | G147: 6 | H147: 7 | I147: 8 | J147: 9 | K147: 10 | L147: 11 | M147: 12 | N147: 13 | O147: 14 | P147: 15 | Q147: 16 | R147: 17 | S147: 18 | T147: 19 | U147: 20 | V147: 21 | W147: 22 | X147: 23 | Y147: 24 | Z147: 25 | AA147: 26 | AZ147: 27 | BA147: 28 | BB147: 29 | BC147: 30 | BD147: 31 | BE147: 32 | BF147: 33 | BG147: 34 | BH147: 35 | BI147: 36 | BJ147: 37 | BK147: 38 | BL147: 39 | BM147: 40 | BN147: 41 | BO147: 42 | BP147: 43 | BQ147: 44 | BR147: 45 | BS147: 46 | BT147: 47 | BU147: 48 | BV147: 49 | BW147: 50

Sheet Demand_previous
B1: Tier 1 Demand Charge Billing Determinant (KW)
D2: 45200 | E2: 45200 | F2: 45231 | G2: 45231 | H2: 45261 | I2: 45261 | J2: 45292 | K2: 45292 | L2: 45323 | M2: 45323 | N2: 45352 | O2: 45352 | P2: 45383 | Q2: 45383 | R2: 45413 | S2: 45413 | T2: 45444 | U2: 45444 | V2: 45474 | W2: 45474 | X2: 45505 | Y2: 45505 | Z2: 45536 | AA2: 45536 | AB2: 45566 | AC2: 45566 | AD2: 45597 | AE2: 45597 | AF2: 45627 | AG2: 45627 | AH2: 45658 | AI2: 45658 | AJ2: 45689 | AK2: 45689 | AL2: 45717 | AM2: 45717 | AN2: 45748 | AO2: 45748 | AP2: 45778 | AQ2: 45778 | AR2: 45809 | AS2: 45809 | AT2: 45839 | AU2: 45839 | AV2: 45870 | AW2: 45870 | AX2: 45901 | AY2: 45901
B3: BESID | C3: AccountName | D3: HLH | E3: LLH | F3: HLH | G3: LLH | H3: HLH | I3: LLH | J3: HLH | K3: LLH | L3: HLH | M3: LLH | N3: HLH | O3: LLH | P3: HLH | Q3: LLH | R3: HLH | S3: LLH | T3: HLH | U3: LLH | V3: HLH | W3: LLH | X3: HLH | Y3: LLH | Z3: HLH | AA3: LLH | AB3: HLH | AC3: LLH | AD3: HLH | AE3: LLH | AF3: HLH | AG3: LLH | AH3: HLH | AI3: LLH | AJ3: HLH | AK3: LLH | AL3: HLH | AM3: LLH | AN3: HLH | AO3: LLH | AP3: HLH | AQ3: LLH | AR3: HLH | AS3: LLH | AT3: HLH | AU3: LLH | AV3: HLH | AW3: LLH | AX3: HLH | AY3: LLH
B4: 10015 | C4: Asotin County PUD #1 | D4: 279.8149 | E4: 0 | F4: 0 | G4: 0 | H4: 13.1375 | I4: 0 | J4: 112.75962 | K4: 0 | L4: 240.74 | M4: 0 | N4: 173.0625 | O4: 0 | P4: 531.86058 | Q4: 0 | R4: 477.12981 | S4: 0 | T4: 434.075 | U4: 0 | V4: 633.93029 | W4: 0 | X4: 362.02083 | Y4: 0 | Z4: 490.63021 | AA4: 0 | AB4: 300.48843 | AC4: 0 | AD4: 0 | AE4: 0 | AF4: 13.1375 | AG4: 0 | AH4: 112.75962 | AI4: 0 | AJ4: 224.72917 | AK4: 0 | AL4: 173.0625 | AM4: 0 | AN4: 531.86058 | AO4: 0 | AP4: 477.12981 | AQ4: 0 | AR4: 434.075 | AS4: 0 | AT4: 633.93029 | AU4: 0 | AV4: 310.94471 | AW4: 0 | AX4: 526.325 | AY4: 0
B5: 10024 | C5: Benton County PUD #1 | D5: 18099.462 | E5: 0 | F5: 23245.297 | G5: 0 | H5: 43271.192 | I5: 0 | J5: 44873.291 | K5: 0 | L5: 11934.688 | M5: 0 | N5: 28793.144 | O5: 0 | P5: 42192.978 | Q5: 0 | R5: 0 | S5: 0 | T5: 43498.405 | U5: 0 | V5: 64607.413 | W5: 0 | X5: 49640.41 | Y5: 0 | Z5: 3836.0859 | AA5: 0 | AB5: 24586.306 | AC5: 0 | AD5: 23051.578 | AE5: 0 | AF5: 43980.423 | AG5: 0 | AH5: 45468.418 | AI5: 0 | AJ5: 3705.1823 | AK5: 0 | AL5: 28504.647 | AM5: 0 | AN5: 41805.144 | AO5: 0 | AP5: 0 | AQ5: 0 | AR5: 43394.255 | AS5: 0 | AT5: 64530.245 | AU5: 0 | AV5: 38270.05 | AW5: 0 | AX5: 11995.995 | AY5: 0
B6: 10025 | C6: Benton REA | D6: 6540.2909 | E6: 0 | F6: 4835.955 | G6: 0 | H6: 16702.953 | I6: 0 | J6: 20794.209 | K6: 0 | L6: 8680.27 | M6: 0 | N6: 11481.442 | O6: 0 | P6: 0 | Q6: 0 | R6: 8409.9904 | S6: 0 | T6: 10926.147 | U6: 0 | V6: 18079.822 | W6: 0 | X6: 22492.87 | Y6: 0 | Z6: 11356.273 | AA6: 0 | AB6: 9139.0162 | AC6: 0 | AD6: 4786.795 | AE6: 0 | AF6: 17141.545 | AG6: 0 | AH6: 24671.462 | AI6: 0 | AJ6: 6244.6302 | AK6: 0 | AL6: 8909.3293 | AM6: 0 | AN6: 0 | AO6: 0 | AP6: 8373.5625 | AQ6: 0 | AR6: 10863.825 | AS6: 0 | AT6: 18054.37 | AU6: 0 | AV6: 19079.077 | AW6: 0 | AX6: 14776.868 | AY6: 0
B7: 10027 | C7: Big Bend Elec Coop | D7: 6923.9784 | E7: 0 | F7: 4049.38 | G7: 0 | H7: 9818.49 | I7: 0 | J7: 16611.113 | K7: 0 | L7: 8931.605 | M7: 0 | N7: 4098.4255 | O7: 0 | P7: 7468.0216 | Q7: 0 | R7: 3976.3293 | S7: 0 | T7: 3240.395 | U7: 0 | V7: 19952.2 | W7: 0 | X7: 32835.109 | Y7: 0 | Z7: 4982.974 | AA7: 0 | AB7: 9698.1204 | AC7: 0 | AD7: 4265.25 | AE7: 0 | AF7: 10105.558 | AG7: 0 | AH7: 17043.12 | AI7: 0 | AJ7: 7556.1641 | AK7: 0 | AL7: 4350.2236 | AM7: 0 | AN7: 7868.4856 | AO7: 0 | AP7: 4493.863 | AQ7: 0 | AR7: 3562.3325 | AS7: 0 | AT7: 20422.034 | AU7: 0 | AV7: 29492.349 | AW7: 0 | AX7: 8646.94 | AY7: 0
B8: 10029 | C8: Blachly Lane Elec Coop | D8: 0 | E8: 0 | F8: 0 | G8: 0 | H8: 0 | I8: 0 | J8: 0 | K8: 0 | L8: 0 | M8: 0 | N8: 0 | O8: 0 | P8: 0 | Q8: 0 | R8: 0 | S8: 0 | T8: 0 | U8: 0 | V8: 0 | W8: 0 | X8: 0 | Y8: 0 | Z8: 0 | AA8: 0 | AB8: 0 | AC8: 0 | AD8: 0 | AE8: 0 | AF8: 0 | AG8: 0 | AH8: 0 | AI8: 0 | AJ8: 0 | AK8: 0 | AL8: 0 | AM8: 0 | AN8: 0 | AO8: 0 | AP8: 0 | AQ8: 0 | AR8: 0 | AS8: 0 | AT8: 0 | AU8: 0 | AV8: 0 | AW8: 0 | AX8: 0 | AY8: 0
B9: 10044 | C9: Canby, City of | D9: 359.87019 | E9: 0 | F9: 2314.13 | G9: 0 | H9: 1048.0925 | I9: 0 | J9: 2313.8654 | K9: 0 | L9: 6778.8025 | M9: 0 | N9: 3340.5817 | O9: 0 | P9: 1452.9856 | Q9: 0 | R9: 4696.0937 | S9: 0 | T9: 6620.42 | U9: 0 | V9: 4785.649 | W9: 0 | X9: 8458.0579 | Y9: 0 | Z9: 3289.1016 | AA9: 0 | AB9: 1284.3032 | AC9: 0 | AD9: 2350.975 | AE9: 0 | AF9: 1074.345 | AG9: 0 | AH9: 3352.6538 | AI9: 0 | AJ9: 5780.0391 | AK9: 0 | AL9: 2491.8942 | AM9: 0 | AN9: 1482.6803 | AO9: 0 | AP9: 4951.8437 | AQ9: 0 | AR9: 6867.7125 | AS9: 0 | AT9: 5035.2716 | AU9: 0 | AV9: 7749.2115 | AW9: 0 | AX9: 4478.8775 | AY9: 0
B10: 10046 | C10: Central Electric Coop | D10: 0 | E10: 0 | F10: 0 | G10: 0 | H10: 0 | I10: 0 | J10: 0 | K10: 0 | L10: 0 | M10: 0 | N10: 0 | O10: 0 | P10: 0 | Q10: 0 | R10: 0 | S10: 0 | T10: 0 | U10: 0 | V10: 0 | W10: 0 | X10: 0 | Y10: 0 | Z10: 0 | AA10: 0 | AB10: 0 | AC10: 0 | AD10: 0 | AE10: 0 | AF10: 0 | AG10: 0 | AH10: 0 | AI10: 0 | AJ10: 0 | AK10: 0 | AL10: 0 | AM10: 0 | AN10: 0 | AO10: 0 | AP10: 0 | AQ10: 0 | AR10: 0 | AS10: 0 | AT10: 0 | AU10: 0 | AV10: 0 | AW10: 0 | AX10: 0 | AY10: 0
