Workbook

Sheet ScalarApproach
G3: Load Shaping Revenue
D4: Revenue Requirement | E4: 2.1715609e+09 | G4: Total Load Shaping Revenue from 5 customers | AH4: TOCA Approach
D5: Load Shaping Revenue | E5: =+SUM(Q72,Q79,Q86,Q93,Q100) -> 54238533 | AI5: MWh Purchased | AJ5: TOCA Charge | AK5: Load Shaping Charge | AL5: Effective Rate
D6: Revenue Requirement less Load Shaping Revenue | E6: =+E4-E5 -> 2.1173224e+09 | AH6: Customer 1 | AI6: =+VLOOKUP(VALUE(RIGHT(AH6,1)),$C$24:$Q$57,4,FALSE) -> 19266911 | AJ6: =+VLOOKUP(VALUE(RIGHT(AH6,1)),$C$13:$D$17,2,FALSE)*$E$6 -> 6.5749903e+08 | AK6: =+VLOOKUP(VALUE(RIGHT(AH6,1)),$C$72:$Q$101,15,FALSE) -> 11361609 | AL6: =+SUM(AJ6:AK6)/AI6 -> 34.715509
D7: Sum Energy in E18:P19 | E7: =+Q22 -> 62044598 | AH7: Customer 2 | AI7: =+VLOOKUP(VALUE(RIGHT(AH7,1)),$C$24:$Q$57,4,FALSE) -> 17016800 | AJ7: =+VLOOKUP(VALUE(RIGHT(AH7,1)),$C$13:$D$17,2,FALSE)*$E$6 -> 5.8071214e+08 | AK7: =+VLOOKUP(VALUE(RIGHT(AH7,1)),$C$72:$Q$101,15,FALSE) -> 17073936 | AL7: =+SUM(AJ7:AK7)/AI7 -> 35.129171
D8: Average Effective $/MWh Rate | E8: =E4/SUM(E21:P22) -> 35 | F8: Populate Yellow Areas with values that cause E8 to equal $35/MWh | AH8: Customer 3 | AI8: =+VLOOKUP(VALUE(RIGHT(AH8,1)),$C$24:$Q$57,4,FALSE) -> 14476742 | AJ8: =+VLOOKUP(VALUE(RIGHT(AH8,1)),$C$13:$D$17,2,FALSE)*$E$6 -> 4.9403061e+08 | AK8: =+VLOOKUP(VALUE(RIGHT(AH8,1)),$C$72:$Q$101,15,FALSE) -> 19162288 | AL8: =+SUM(AJ8:AK8)/AI8 -> 35.449474
C9: TOCA APPROACH | S9: HLH AND LLH APPROACH | AH9: Customer 4 | AI9: =+VLOOKUP(VALUE(RIGHT(AH9,1)),$C$24:$Q$57,4,FALSE) -> 7897873.4 | AJ9: =+VLOOKUP(VALUE(RIGHT(AH9,1)),$C$13:$D$17,2,FALSE)*$E$6 -> 2.6952136e+08 | AK9: =+VLOOKUP(VALUE(RIGHT(AH9,1)),$C$72:$Q$101,15,FALSE) -> 6709156.4 | AL9: =+SUM(AJ9:AK9)/AI9 -> 34.975303
C10: TOCA + Load Shaping = Tier 1 Energy | AH10: Customer 5 | AI10: =+VLOOKUP(VALUE(RIGHT(AH10,1)),$C$24:$Q$57,4,FALSE) -> 3386270.8 | AJ10: =+VLOOKUP(VALUE(RIGHT(AH10,1)),$C$13:$D$17,2,FALSE)*$E$6 -> 1.1555925e+08 | AK10: =+VLOOKUP(VALUE(RIGHT(AH10,1)),$C$72:$Q$101,15,FALSE) -> -68456.758 | AL10: =+SUM(AJ10:AK10)/AI10 -> 34.105598
C11: Customers | S11: Load Shaping Rates (Marginal, pull from BP-24)
D12: TOCA | F12: Customer Charge | T12: Oct | U12: Nov | V12: Dec | W12: Jan | X12: Feb | Y12: Mar | Z12: Apr | AA12: May | AB12: Jun | AC12: Jul | AD12: Aug | AE12: Sep | AH12: HLH and LLH Energy Approach
C13: 1 | D13: =+VLOOKUP(C13,$C$24:$E$55,3,FALSE) -> 0.31053326 | F13: Take E6 minus Total Load Shaping Revenue to calculate the amount of RR needed to be collected from Customer Charges | S13: HLH | T13: =+E64 -> 47.71 | U13: =+F64 -> 40.3 | V13: =+G64 -> 61.63 | W13: =+H64 -> 49.88 | X13: =+I64 -> 50.32 | Y13: =+J64 -> 35.07 | Z13: =+K64 -> 20.42 | AA13: =+L64 -> 18.21 | ... AE13: =+P64 -> 58.7 | AI13: MWh Purchased | AJ13: HLH Rev | AK13: LLH Rev | AL13: Effective Rate
C14: 2 | D14: =+VLOOKUP(C14,$C$24:$E$55,3,FALSE) -> 0.27426723 | F14: Take F13 and divide it by 100 to calculate an annual $/% TOCA Rate | S14: LLH | T14: =+E65 -> 32.91 | U14: =+F65 -> 31.39 | V14: =+G65 -> 52.69 | W14: =+H65 -> 36.73 | X14: =+I65 -> 42.01 | Y14: =+J65 -> 35.84 | Z14: =+K65 -> 21.67 | AA14: =+L65 -> 16.34 | ... AE14: =+P65 -> 44.18 | AH14: Customer 1 | AI14: =+AI6 -> 19266911 | AJ14: =+VLOOKUP(RIGHT($AH14,1)&LEFT(AJ$13,3),$R$35:$AF$49,15,FALSE) -> 4.4032093e+08 | AK14: =+VLOOKUP(RIGHT($AH14,1)&LEFT(AK$13,3),$R$35:$AF$49,15,FALSE) -> 2.2853972e+08 | AL14: =+SUM(AJ14:AK14)/AI14 -> 34.715509
C15: 3 | D15: =+VLOOKUP(C15,$C$24:$E$55,3,FALSE) -> 0.23332801 | AH15: Customer 2 | AI15: =+AI7 -> 17016800 | AJ15: =+VLOOKUP(RIGHT($AH15,1)&LEFT(AJ$13,3),$R$35:$AF$49,15,FALSE) -> 4.0530573e+08 | AK15: =+VLOOKUP(RIGHT($AH15,1)&LEFT(AK$13,3),$R$35:$AF$49,15,FALSE) -> 1.9248035e+08 | AL15: =+SUM(AJ15:AK15)/AI15 -> 35.129171
C16: 4 | D16: =+VLOOKUP(C16,$C$24:$E$55,3,FALSE) -> 0.12729349 | S16: Sum Customer MWh from TOCA Approach | AH16: Customer 3 | AI16: =+AI8 -> 14476742 | AJ16: =+VLOOKUP(RIGHT($AH16,1)&LEFT(AJ$13,3),$R$35:$AF$49,15,FALSE) -> 3.4818498e+08 | AK16: =+VLOOKUP(RIGHT($AH16,1)&LEFT(AK$13,3),$R$35:$AF$49,15,FALSE) -> 1.6500792e+08 | AL16: =+SUM(AJ16:AK16)/AI16 -> 35.449474
C17: 5 | D17: =+VLOOKUP(C17,$C$24:$E$55,3,FALSE) -> 0.054578012 | T17: Oct | U17: Nov | V17: Dec | W17: Jan | X17: Feb | Y17: Mar | Z17: Apr | AA17: May | AB17: Jun | AC17: Jul | AD17: Aug | AE17: Sep | AH17: Customer 4 | AI17: =+AI9 -> 7897873.4 | AJ17: =+VLOOKUP(RIGHT($AH17,1)&LEFT(AJ$13,3),$R$35:$AF$49,15,FALSE) -> 1.8671893e+08 | AK17: =+VLOOKUP(RIGHT($AH17,1)&LEFT(AK$13,3),$R$35:$AF$49,15,FALSE) -> 89511589 | AL17: =+SUM(AJ17:AK17)/AI17 -> 34.975303
S18: HLH | T18: =+E28+E35+E42+E49+E56 -> 2850928.7 | U18: =+F28+F35+F42+F49+F56 -> 2908991.5 | V18: =+G28+G35+G42+G49+G56 -> 3596803.1 | W18: =+H28+H35+H42+H49+H56 -> 3611683.7 | X18: =+I28+I35+I42+I49+I56 -> 3084947.3 | Y18: =+J28+J35+J42+J49+J56 -> 3118782 | Z18: =+K28+K35+K42+K49+K56 -> 2934993.7 | AA18: =+L28+L35+L42+L49+L56 -> 2895283.6 | ... AE18: =+P28+P35+P42+P49+P56 -> 2715391.6 | AH18: Customer 5 | AI18: =+AI10 -> 3386270.8 | AJ18: =+VLOOKUP(RIGHT($AH18,1)&LEFT(AJ$13,3),$R$35:$AF$49,15,FALSE) -> 73423544 | AK18: =+VLOOKUP(RIGHT($AH18,1)&LEFT(AK$13,3),$R$35:$AF$49,15,FALSE) -> 42067246 | AL18: =+SUM(AJ18:AK18)/AI18 -> 34.105598
D19: Benchmark TOCA Shape for Load Shaping Billing Determinants. Create a MWh Benchmark Shape, any shape you want in 24 bins. | S19: LLH | T19: =+E29+E36+E43+E50+E57 -> 1725105.1 | U19: =+F29+F36+F43+F50+F57 -> 2010711.7 | V19: =+G29+G36+G43+G50+G57 -> 2567821.6 | W19: =+H29+H36+H43+H50+H57 -> 2532372.2 | X19: =+I29+I36+I43+I50+I57 -> 2009524.4 | Y19: =+J29+J36+J43+J50+J57 -> 2059655.8 | Z19: =+K29+K36+K43+K50+K57 -> 1837505.5 | AA19: =+L29+L36+L43+L50+L57 -> 1955919.4 | ... AE19: =+P29+P36+P43+P50+P57 -> 1800335.5
E20: Oct | F20: Nov | G20: Dec | H20: Jan | I20: Feb | J20: Mar | K20: Apr | L20: May | M20: Jun | N20: Jul | O20: Aug | P20: Sep | Q20: Total
D21: HLH | E21: 2552444 | F21: 3264487.3 | G21: 3520485.7 | H21: 3735691.7 | I21: 3299995.9 | J21: 3449919.1 | K21: 2722407.8 | L21: 3371816.8 | M21: 3560007.9 | N21: 3067031.8 | O21: 3018290.2 | P21: 2614938.3 | S21: Revenue Collected at Marginal Rates
D22: LLH | E22: 1666359.7 | F22: 2115878.6 | G22: 2285993.7 | H22: 2298138 | I22: 1889902 | J22: 2216421.8 | K22: 1750213.5 | L22: 2177069.2 | M22: 2109275.1 | N22: 1854722.6 | O22: 1739738.1 | P22: 1763369.1 | Q22: =+SUM(E21:P22) -> 62044598 | T22: Oct | U22: Nov | V22: Dec | W22: Jan | X22: Feb | Y22: Mar | Z22: Apr | AA22: May | AB22: Jun | AC22: Jul | AD22: Aug | AE22: Sep
S23: HLH | T23: =T13*T18 -> 1.3601781e+08 | U23: =U13*U18 -> 1.1723236e+08 | V23: =V13*V18 -> 2.2167098e+08 | W23: =W13*W18 -> 1.8015078e+08 | X23: =X13*X18 -> 1.5523455e+08 | Y23: =Y13*Y18 -> 1.0937569e+08 | Z23: =Z13*Z18 -> 59932571 | AA23: =AA13*AA18 -> 52723113 | ... AE23: =AE13*AE18 -> 1.5939349e+08 | AF23: Sum
C24: =+RANK(Q27,$Q$26:$Q$55) -> 3 | D24: ="Customer "&C24 -> Customer 3 | E24: =+Q27/SUM($Q$26:$Q$55) -> 0.23332801 | F24: =+E24*SUM($E$21:$P$22) -> 14476742 | G24: <--target MWh | S24: LLH | T24: =T14*T19 -> 56773208 | U24: =U14*U19 -> 63116239 | V24: =V14*V19 -> 1.3529852e+08 | W24: =W14*W19 -> 93014029 | X24: =X14*X19 -> 84420118 | Y24: =Y14*Y19 -> 73818063 | Z24: =Z14*Z19 -> 39818744 | AA24: =AA14*AA19 -> 31959723 | ... AE24: =AE14*AE19 -> 79538823 | AF24: =SUM(T23:AE24) -> 2.5301693e+09
E25: Oct | F25: Nov | G25: Dec | H25: Jan | I25: Feb | J25: Mar | K25: Apr | L25: May | M25: Jun | N25: Jul | O25: Aug | P25: Sep
D26: HLH | E26: 79419.744 | F26: 82881.6 | G26: 102371.2 | H26: 103222.91 | I26: 88377.6 | J26: 87882.08 | K26: 77744.16 | L26: 69876.352 | M26: 73308.4 | N26: 81432.416 | O26: 84944.704 | P26: 71816.8 | AF26: Revenue Requirement | AG26: =+E4 -> 2.1715609e+09
D27: LLH | E27: 46273.344 | F27: 54771.588 | G27: 71150.208 | H27: 70846.688 | I27: 55788.48 | J27: 55108.656 | K27: 46798.672 | L27: 44601.768 | M27: 42909.76 | N27: 49547.024 | O27: 48455.768 | P27: 44727.36 | Q27: =+SUM(E26:P27) -> 1634257.3 | AF27: Scalar | AG27: =(AG26-AF24)/SUM(T18:AE19) -> -5.7798492
C28: =+C24&D28 -> 3HLH | D28: HLH | E28: =+E26/$Q$27*$F$24 -> 703523.97 | F28: =+F26/$Q$27*$F$24 -> 734190.13 | G28: =+G26/$Q$27*$F$24 -> 906834.87 | H28: =+H26/$Q$27*$F$24 -> 914379.59 | I28: =+I26/$Q$27*$F$24 -> 782875.35 | J28: =+J26/$Q$27*$F$24 -> 778485.89 | K28: =+K26/$Q$27*$F$24 -> 688681.14 | L28: =+L26/$Q$27*$F$24 -> 618985.73 | ... P28: =+P26/$Q$27*$F$24 -> 636174.81 | S28: HLH and LLH Energy Rates
C29: =+C24&D29 -> 3LLH | D29: LLH | E29: =+E27/$Q$27*$F$24 -> 409903.19 | F29: =+F27/$Q$27*$F$24 -> 485183.19 | G29: =+G27/$Q$27*$F$24 -> 630269.93 | H29: =+H27/$Q$27*$F$24 -> 627581.26 | I29: =+I27/$Q$27*$F$24 -> 494191.13 | J29: =+J27/$Q$27*$F$24 -> 488169.04 | K29: =+K27/$Q$27*$F$24 -> 414556.71 | L29: =+L27/$Q$27*$F$24 -> 395095.87 | ... P29: =+P27/$Q$27*$F$24 -> 396208.4 | T29: Oct | U29: Nov | V29: Dec | W29: Jan | X29: Feb | Y29: Mar | Z29: Apr | AA29: May | AB29: Jun | AC29: Jul | AD29: Aug | AE29: Sep
S30: HLH | T30: =T13+$AG$27 -> 41.930151 | U30: =U13+$AG$27 -> 34.520151 | V30: =V13+$AG$27 -> 55.850151 | W30: =W13+$AG$27 -> 44.100151 | X30: =X13+$AG$27 -> 44.540151 | Y30: =Y13+$AG$27 -> 29.290151 | Z30: =Z13+$AG$27 -> 14.640151 | AA30: =AA13+$AG$27 -> 12.430151 | ... AE30: =AE13+$AG$27 -> 52.920151
C31: =+RANK(Q34,$Q$26:$Q$55) -> 2 | D31: ="Customer "&C31 -> Customer 2 | E31: =+Q34/SUM($Q$26:$Q$55) -> 0.27426723 | F31: =+E31*SUM($E$21:$P$22) -> 17016800 | G31: <--target MWh | S31: LLH | T31: =T14+$AG$27 -> 27.130151 | U31: =U14+$AG$27 -> 25.610151 | V31: =V14+$AG$27 -> 46.910151 | W31: =W14+$AG$27 -> 30.950151 | X31: =X14+$AG$27 -> 36.230151 | Y31: =Y14+$AG$27 -> 30.060151 | Z31: =Z14+$AG$27 -> 15.890151 | AA31: =AA14+$AG$27 -> 10.560151 | ... AE31: =AE14+$AG$27 -> 38.400151
E32: Oct | F32: Nov | G32: Dec | H32: Jan | I32: Feb | J32: Mar | K32: Apr | L32: May | M32: Jun | N32: Jul | O32: Aug | P32: Sep
D33: HLH | E33: 96837.984 | F33: 101994.4 | G33: 119301.2 | H33: 125607.46 | I33: 108484.22 | J33: 107693.25 | K33: 96245.76 | L33: 85116.928 | M33: 82094 | N33: 88346.752 | O33: 88971.584 | P33: 80771.6 | S33: Revenues from Diurnal Rates
D34: LLH | E34: 54570.984 | F34: 66674.268 | G34: 84353.616 | H34: 81773.68 | I34: 67657.536 | J34: 69878.592 | K34: 56949.84 | L34: 52328.464 | M34: 50474.24 | N34: 52855.56 | O34: 52703.368 | P34: 49315.2 | Q34: =+SUM(E33:P34) -> 1921000.5 | S34: Customer 1
C35: =+C31&D35 -> 2HLH | D35: HLH | E35: =+E33/$Q$34*$F$31 -> 857819.98 | F35: =+F33/$Q$34*$F$31 -> 903497.06 | G35: =+G33/$Q$34*$F$31 -> 1056805.9 | H35: =+H33/$Q$34*$F$31 -> 1112668.6 | I35: =+I33/$Q$34*$F$31 -> 960985.87 | J35: =+J33/$Q$34*$F$31 -> 953979.17 | K35: =+K33/$Q$34*$F$31 -> 852573.88 | L35: =+L33/$Q$34*$F$31 -> 753991.34 | ... P35: =+P33/$Q$34*$F$31 -> 715499.12 | R35: =+RIGHT(S34,1)&S35 -> 1HLH | S35: HLH | T35: =+VLOOKUP($R35,$C$28:$Q$58,2+MATCH(T$29,$T$29:$AE$29,0),FALSE)*VLOOKUP($S35,$S$29:$AE$31,1+MATCH(T$29,$T$29:$AE$29,0),FALSE) -> 32314899 | U35: =+VLOOKUP($R35,$C$28:$Q$58,2+MATCH(U$29,$T$29:$AE$29,0),FALSE)*VLOOKUP($S35,$S$29:$AE$31,1+MATCH(U$29,$T$29:$AE$29,0),FALSE) -> 26737900 | V35: =+VLOOKUP($R35,$C$28:$Q$58,2+MATCH(V$29,$T$29:$AE$29,0),FALSE)*VLOOKUP($S35,$S$29:$AE$31,1+MATCH(V$29,$T$29:$AE$29,0),FALSE) -> 59618631 | W35: =+VLOOKUP($R35,$C$28:$Q$58,2+MATCH(W$29,$T$29:$AE$29,0),FALSE)*VLOOKUP($S35,$S$29:$AE$31,1+MATCH(W$29,$T$29:$AE$29,0),FALSE) -> 44216913 | X35: =+VLOOKUP($R35,$C$28:$Q$58,2+MATCH(X$29,$T$29:$AE$29,0),FALSE)*VLOOKUP($S35,$S$29:$AE$31,1+MATCH(X$29,$T$29:$AE$29,0),FALSE) -> 36837616 | Y35: =+VLOOKUP($R35,$C$28:$Q$58,2+MATCH(Y$29,$T$29:$AE$29,0),FALSE)*VLOOKUP($S35,$S$29:$AE$31,1+MATCH(Y$29,$T$29:$AE$29,0),FALSE) -> 25584229 | Z35: =+VLOOKUP($R35,$C$28:$Q$58,2+MATCH(Z$29,$T$29:$AE$29,0),FALSE)*VLOOKUP($S35,$S$29:$AE$31,1+MATCH(Z$29,$T$29:$AE$29,0),FALSE) -> 12842734 | AA35: =+VLOOKUP($R35,$C$28:$Q$58,2+MATCH(AA$29,$T$29:$AE$29,0),FALSE)*VLOOKUP($S35,$S$29:$AE$31,1+MATCH(AA$29,$T$29:$AE$29,0),FALSE) -> 12081133 | ... AE35: =+VLOOKUP($R35,$C$28:$Q$58,2+MATCH(AE$29,$T$29:$AE$29,0),FALSE)*VLOOKUP($S35,$S$29:$AE$31,1+MATCH(AE$29,$T$29:$AE$29,0),FALSE) -> 44716798 | AF35: =+SUM(T35:AE35) -> 4.4032093e+08
C36: =+C31&D36 -> 2LLH | D36: LLH | E36: =+E34/$Q$34*$F$31 -> 483406.18 | F36: =+F34/$Q$34*$F$31 -> 590620.71 | G36: =+G34/$Q$34*$F$31 -> 747229.69 | H36: =+H34/$Q$34*$F$31 -> 724375.84 | I36: =+I34/$Q$34*$F$31 -> 599330.79 | J36: =+J34/$Q$34*$F$31 -> 619005.58 | K36: =+K34/$Q$34*$F$31 -> 504478.8 | L36: =+L34/$Q$34*$F$31 -> 463541.27 | ... P36: =+P34/$Q$34*$F$31 -> 436848.87 | R36: =+RIGHT(S34,1)&S36 -> 1LLH | S36: LLH | T36: =+VLOOKUP($R36,$C$28:$Q$58,2+MATCH(T$29,$T$29:$AE$29,0),FALSE)*VLOOKUP($S36,$S$29:$AE$31,1+MATCH(T$29,$T$29:$AE$29,0),FALSE) -> 13704316 | U36: =+VLOOKUP($R36,$C$28:$Q$58,2+MATCH(U$29,$T$29:$AE$29,0),FALSE)*VLOOKUP($S36,$S$29:$AE$31,1+MATCH(U$29,$T$29:$AE$29,0),FALSE) -> 14945066 | V36: =+VLOOKUP($R36,$C$28:$Q$58,2+MATCH(V$29,$T$29:$AE$29,0),FALSE)*VLOOKUP($S36,$S$29:$AE$31,1+MATCH(V$29,$T$29:$AE$29,0),FALSE) -> 35814423 | W36: =+VLOOKUP($R36,$C$28:$Q$58,2+MATCH(W$29,$T$29:$AE$29,0),FALSE)*VLOOKUP($S36,$S$29:$AE$31,1+MATCH(W$29,$T$29:$AE$29,0),FALSE) -> 23877787 | X36: =+VLOOKUP($R36,$C$28:$Q$58,2+MATCH(X$29,$T$29:$AE$29,0),FALSE)*VLOOKUP($S36,$S$29:$AE$31,1+MATCH(X$29,$T$29:$AE$29,0),FALSE) -> 20762648 | Y36: =+VLOOKUP($R36,$C$28:$Q$58,2+MATCH(Y$29,$T$29:$AE$29,0),FALSE)*VLOOKUP($S36,$S$29:$AE$31,1+MATCH(Y$29,$T$29:$AE$29,0),FALSE) -> 17949469 | Z36: =+VLOOKUP($R36,$C$28:$Q$58,2+MATCH(Z$29,$T$29:$AE$29,0),FALSE)*VLOOKUP($S36,$S$29:$AE$31,1+MATCH(Z$29,$T$29:$AE$29,0),FALSE) -> 9291628.8 | AA36: =+VLOOKUP($R36,$C$28:$Q$58,2+MATCH(AA$29,$T$29:$AE$29,0),FALSE)*VLOOKUP($S36,$S$29:$AE$31,1+MATCH(AA$29,$T$29:$AE$29,0),FALSE) -> 7570908.9 | ... AE36: =+VLOOKUP($R36,$C$28:$Q$58,2+MATCH(AE$29,$T$29:$AE$29,0),FALSE)*VLOOKUP($S36,$S$29:$AE$31,1+MATCH(AE$29,$T$29:$AE$29,0),FALSE) -> 23314953 | AF36: =+SUM(T36:AE36) -> 2.2853972e+08
S37: Customer 2
C38: =+RANK(Q41,$Q$26:$Q$55) -> 5 | D38: ="Customer "&C38 -> Customer 5 | E38: =+Q41/SUM($Q$26:$Q$55) -> 0.054578012 | F38: =+E38*SUM($E$21:$P$22) -> 3386270.8 | G38: <--target MWh | R38: =+RIGHT(S37,1)&S38 -> 2HLH | S38: HLH | T38: =+VLOOKUP($R38,$C$28:$Q$58,2+MATCH(T$29,$T$29:$AE$29,0),FALSE)*VLOOKUP($S38,$S$29:$AE$31,1+MATCH(T$29,$T$29:$AE$29,0),FALSE) -> 35968521 | U38: =+VLOOKUP($R38,$C$28:$Q$58,2+MATCH(U$29,$T$29:$AE$29,0),FALSE)*VLOOKUP($S38,$S$29:$AE$31,1+MATCH(U$29,$T$29:$AE$29,0),FALSE) -> 31188855 | V38: =+VLOOKUP($R38,$C$28:$Q$58,2+MATCH(V$29,$T$29:$AE$29,0),FALSE)*VLOOKUP($S38,$S$29:$AE$31,1+MATCH(V$29,$T$29:$AE$29,0),FALSE) -> 59022769 | W38: =+VLOOKUP($R38,$C$28:$Q$58,2+MATCH(W$29,$T$29:$AE$29,0),FALSE)*VLOOKUP($S38,$S$29:$AE$31,1+MATCH(W$29,$T$29:$AE$29,0),FALSE) -> 49068853 | X38: =+VLOOKUP($R38,$C$28:$Q$58,2+MATCH(X$29,$T$29:$AE$29,0),FALSE)*VLOOKUP($S38,$S$29:$AE$31,1+MATCH(X$29,$T$29:$AE$29,0),FALSE) -> 42802456 | Y38: =+VLOOKUP($R38,$C$28:$Q$58,2+MATCH(Y$29,$T$29:$AE$29,0),FALSE)*VLOOKUP($S38,$S$29:$AE$31,1+MATCH(Y$29,$T$29:$AE$29,0),FALSE) -> 27942194 | Z38: =+VLOOKUP($R38,$C$28:$Q$58,2+MATCH(Z$29,$T$29:$AE$29,0),FALSE)*VLOOKUP($S38,$S$29:$AE$31,1+MATCH(Z$29,$T$29:$AE$29,0),FALSE) -> 12481810 | AA38: =+VLOOKUP($R38,$C$28:$Q$58,2+MATCH(AA$29,$T$29:$AE$29,0),FALSE)*VLOOKUP($S38,$S$29:$AE$31,1+MATCH(AA$29,$T$29:$AE$29,0),FALSE) -> 9372226.1 | ... AE38: =+VLOOKUP($R38,$C$28:$Q$58,2+MATCH(AE$29,$T$29:$AE$29,0),FALSE)*VLOOKUP($S38,$S$29:$AE$31,1+MATCH(AE$29,$T$29:$AE$29,0),FALSE) -> 37864321 | AF38: =+SUM(T38:AE38) -> 4.0530573e+08
E39: Oct | F39: Nov | G39: Dec | H39: Jan | I39: Feb | J39: Mar | K39: Apr | L39: May | M39: Jun | N39: Jul | O39: Aug | P39: Sep | R39: =+RIGHT(S37,1)&S39 -> 2LLH | S39: LLH | T39: =+VLOOKUP($R39,$C$28:$Q$58,2+MATCH(T$29,$T$29:$AE$29,0),FALSE)*VLOOKUP($S39,$S$29:$AE$31,1+MATCH(T$29,$T$29:$AE$29,0),FALSE) -> 13114883 | U39: =+VLOOKUP($R39,$C$28:$Q$58,2+MATCH(U$29,$T$29:$AE$29,0),FALSE)*VLOOKUP($S39,$S$29:$AE$31,1+MATCH(U$29,$T$29:$AE$29,0),FALSE) -> 15125885 | V39: =+VLOOKUP($R39,$C$28:$Q$58,2+MATCH(V$29,$T$29:$AE$29,0),FALSE)*VLOOKUP($S39,$S$29:$AE$31,1+MATCH(V$29,$T$29:$AE$29,0),FALSE) -> 35052658 | W39: =+VLOOKUP($R39,$C$28:$Q$58,2+MATCH(W$29,$T$29:$AE$29,0),FALSE)*VLOOKUP($S39,$S$29:$AE$31,1+MATCH(W$29,$T$29:$AE$29,0),FALSE) -> 22419542 | X39: =+VLOOKUP($R39,$C$28:$Q$58,2+MATCH(X$29,$T$29:$AE$29,0),FALSE)*VLOOKUP($S39,$S$29:$AE$31,1+MATCH(X$29,$T$29:$AE$29,0),FALSE) -> 21713845 | Y39: =+VLOOKUP($R39,$C$28:$Q$58,2+MATCH(Y$29,$T$29:$AE$29,0),FALSE)*VLOOKUP($S39,$S$29:$AE$31,1+MATCH(Y$29,$T$29:$AE$29,0),FALSE) -> 18607401 | Z39: =+VLOOKUP($R39,$C$28:$Q$58,2+MATCH(Z$29,$T$29:$AE$29,0),FALSE)*VLOOKUP($S39,$S$29:$AE$31,1+MATCH(Z$29,$T$29:$AE$29,0),FALSE) -> 8016244.3 | AA39: =+VLOOKUP($R39,$C$28:$Q$58,2+MATCH(AA$29,$T$29:$AE$29,0),FALSE)*VLOOKUP($S39,$S$29:$AE$31,1+MATCH(AA$29,$T$29:$AE$29,0),FALSE) -> 4895065.7 | ... AE39: =+VLOOKUP($R39,$C$28:$Q$58,2+MATCH(AE$29,$T$29:$AE$29,0),FALSE)*VLOOKUP($S39,$S$29:$AE$31,1+MATCH(AE$29,$T$29:$AE$29,0),FALSE) -> 16775062 | AF39: =+SUM(T39:AE39) -> 1.9248035e+08
D40: HLH | E40: 18618.768 | F40: 17372.8 | G40: 17301.2 | H40: 18005.312 | I40: 16598.784 | J40: 18301.92 | K40: 17949.568 | L40: 17856.384 | M40: 17709.6 | N40: 18987.904 | O40: 19678.464 | P40: 17650.8 | S40: Customer 3
D41: LLH | E41: 13377.312 | F41: 13801.074 | G41: 14296.984 | H41: 14153.856 | I41: 12284.64 | J41: 13854.99 | K41: 13050.72 | L41: 14098.752 | M41: 13530.24 | N41: 14860.368 | O41: 14888.248 | P41: 14042.24 | Q41: =+SUM(E40:P41) -> 382270.93 | R41: =+RIGHT(S40,1)&S41 -> 3HLH | S41: HLH | T41: =+VLOOKUP($R41,$C$28:$Q$58,2+MATCH(T$29,$T$29:$AE$29,0),FALSE)*VLOOKUP($S41,$S$29:$AE$31,1+MATCH(T$29,$T$29:$AE$29,0),FALSE) -> 29498866 | U41: =+VLOOKUP($R41,$C$28:$Q$58,2+MATCH(U$29,$T$29:$AE$29,0),FALSE)*VLOOKUP($S41,$S$29:$AE$31,1+MATCH(U$29,$T$29:$AE$29,0),FALSE) -> 25344354 | V41: =+VLOOKUP($R41,$C$28:$Q$58,2+MATCH(V$29,$T$29:$AE$29,0),FALSE)*VLOOKUP($S41,$S$29:$AE$31,1+MATCH(V$29,$T$29:$AE$29,0),FALSE) -> 50646864 | W41: =+VLOOKUP($R41,$C$28:$Q$58,2+MATCH(W$29,$T$29:$AE$29,0),FALSE)*VLOOKUP($S41,$S$29:$AE$31,1+MATCH(W$29,$T$29:$AE$29,0),FALSE) -> 40324278 | X41: =+VLOOKUP($R41,$C$28:$Q$58,2+MATCH(X$29,$T$29:$AE$29,0),FALSE)*VLOOKUP($S41,$S$29:$AE$31,1+MATCH(X$29,$T$29:$AE$29,0),FALSE) -> 34869386 | Y41: =+VLOOKUP($R41,$C$28:$Q$58,2+MATCH(Y$29,$T$29:$AE$29,0),FALSE)*VLOOKUP($S41,$S$29:$AE$31,1+MATCH(Y$29,$T$29:$AE$29,0),FALSE) -> 22801969 | Z41: =+VLOOKUP($R41,$C$28:$Q$58,2+MATCH(Z$29,$T$29:$AE$29,0),FALSE)*VLOOKUP($S41,$S$29:$AE$31,1+MATCH(Z$29,$T$29:$AE$29,0),FALSE) -> 10082396 | AA41: =+VLOOKUP($R41,$C$28:$Q$58,2+MATCH(AA$29,$T$29:$AE$29,0),FALSE)*VLOOKUP($S41,$S$29:$AE$31,1+MATCH(AA$29,$T$29:$AE$29,0),FALSE) -> 7694086 | ... AE41: =+VLOOKUP($R41,$C$28:$Q$58,2+MATCH(AE$29,$T$29:$AE$29,0),FALSE)*VLOOKUP($S41,$S$29:$AE$31,1+MATCH(AE$29,$T$29:$AE$29,0),FALSE) -> 33666467 | AF41: =+SUM(T41:AE41) -> 3.4818498e+08
C42: =+C38&D42 -> 5HLH | D42: HLH | E42: =+E40/$Q$41*$F$38 -> 164930.64 | F42: =+F40/$Q$41*$F$38 -> 153893.49 | G42: =+G40/$Q$41*$F$38 -> 153259.23 | H42: =+H40/$Q$41*$F$38 -> 159496.47 | I42: =+I40/$Q$41*$F$38 -> 147037.02 | J42: =+J40/$Q$41*$F$38 -> 162123.91 | K42: =+K40/$Q$41*$F$38 -> 159002.67 | L42: =+L40/$Q$41*$F$38 -> 158177.22 | ... P42: =+P40/$Q$41*$F$38 -> 156356.09 | R42: =+RIGHT(S40,1)&S42 -> 3LLH | S42: LLH | T42: =+VLOOKUP($R42,$C$28:$Q$58,2+MATCH(T$29,$T$29:$AE$29,0),FALSE)*VLOOKUP($S42,$S$29:$AE$31,1+MATCH(T$29,$T$29:$AE$29,0),FALSE) -> 11120735 | U42: =+VLOOKUP($R42,$C$28:$Q$58,2+MATCH(U$29,$T$29:$AE$29,0),FALSE)*VLOOKUP($S42,$S$29:$AE$31,1+MATCH(U$29,$T$29:$AE$29,0),FALSE) -> 12425615 | V42: =+VLOOKUP($R42,$C$28:$Q$58,2+MATCH(V$29,$T$29:$AE$29,0),FALSE)*VLOOKUP($S42,$S$29:$AE$31,1+MATCH(V$29,$T$29:$AE$29,0),FALSE) -> 29566058 | W42: =+VLOOKUP($R42,$C$28:$Q$58,2+MATCH(W$29,$T$29:$AE$29,0),FALSE)*VLOOKUP($S42,$S$29:$AE$31,1+MATCH(W$29,$T$29:$AE$29,0),FALSE) -> 19423735 | X42: =+VLOOKUP($R42,$C$28:$Q$58,2+MATCH(X$29,$T$29:$AE$29,0),FALSE)*VLOOKUP($S42,$S$29:$AE$31,1+MATCH(X$29,$T$29:$AE$29,0),FALSE) -> 17904619 | Y42: =+VLOOKUP($R42,$C$28:$Q$58,2+MATCH(Y$29,$T$29:$AE$29,0),FALSE)*VLOOKUP($S42,$S$29:$AE$31,1+MATCH(Y$29,$T$29:$AE$29,0),FALSE) -> 14674435 | Z42: =+VLOOKUP($R42,$C$28:$Q$58,2+MATCH(Z$29,$T$29:$AE$29,0),FALSE)*VLOOKUP($S42,$S$29:$AE$31,1+MATCH(Z$29,$T$29:$AE$29,0),FALSE) -> 6587368.6 | AA42: =+VLOOKUP($R42,$C$28:$Q$58,2+MATCH(AA$29,$T$29:$AE$29,0),FALSE)*VLOOKUP($S42,$S$29:$AE$31,1+MATCH(AA$29,$T$29:$AE$29,0),FALSE) -> 4172272 | ... AE42: =+VLOOKUP($R42,$C$28:$Q$58,2+MATCH(AE$29,$T$29:$AE$29,0),FALSE)*VLOOKUP($S42,$S$29:$AE$31,1+MATCH(AE$29,$T$29:$AE$29,0),FALSE) -> 15214462 | AF42: =+SUM(T42:AE42) -> 1.6500792e+08
C43: =+C38&D43 -> 5LLH | D43: LLH | E43: =+E41/$Q$41*$F$38 -> 118500.25 | F43: =+F41/$Q$41*$F$38 -> 122254.06 | G43: =+G41/$Q$41*$F$38 -> 126646.98 | H43: =+H41/$Q$41*$F$38 -> 125379.11 | I43: =+I41/$Q$41*$F$38 -> 108821.03 | J43: =+J41/$Q$41*$F$38 -> 122731.67 | K43: =+K41/$Q$41*$F$38 -> 115607.2 | L43: =+L41/$Q$41*$F$38 -> 124890.98 | ... P43: =+P41/$Q$41*$F$38 -> 124390.38 | S43: Customer 4
R44: =+RIGHT(S43,1)&S44 -> 4HLH | S44: HLH | T44: =+VLOOKUP($R44,$C$28:$Q$58,2+MATCH(T$29,$T$29:$AE$29,0),FALSE)*VLOOKUP($S44,$S$29:$AE$31,1+MATCH(T$29,$T$29:$AE$29,0),FALSE) -> 14842017 | U44: =+VLOOKUP($R44,$C$28:$Q$58,2+MATCH(U$29,$T$29:$AE$29,0),FALSE)*VLOOKUP($S44,$S$29:$AE$31,1+MATCH(U$29,$T$29:$AE$29,0),FALSE) -> 11835291 | V44: =+VLOOKUP($R44,$C$28:$Q$58,2+MATCH(V$29,$T$29:$AE$29,0),FALSE)*VLOOKUP($S44,$S$29:$AE$31,1+MATCH(V$29,$T$29:$AE$29,0),FALSE) -> 23034183 | W44: =+VLOOKUP($R44,$C$28:$Q$58,2+MATCH(W$29,$T$29:$AE$29,0),FALSE)*VLOOKUP($S44,$S$29:$AE$31,1+MATCH(W$29,$T$29:$AE$29,0),FALSE) -> 18631932 | X44: =+VLOOKUP($R44,$C$28:$Q$58,2+MATCH(X$29,$T$29:$AE$29,0),FALSE)*VLOOKUP($S44,$S$29:$AE$31,1+MATCH(X$29,$T$29:$AE$29,0),FALSE) -> 16345508 | Y44: =+VLOOKUP($R44,$C$28:$Q$58,2+MATCH(Y$29,$T$29:$AE$29,0),FALSE)*VLOOKUP($S44,$S$29:$AE$31,1+MATCH(Y$29,$T$29:$AE$29,0),FALSE) -> 10272570 | Z44: =+VLOOKUP($R44,$C$28:$Q$58,2+MATCH(Z$29,$T$29:$AE$29,0),FALSE)*VLOOKUP($S44,$S$29:$AE$31,1+MATCH(Z$29,$T$29:$AE$29,0),FALSE) -> 5233987.3 | AA44: =+VLOOKUP($R44,$C$28:$Q$58,2+MATCH(AA$29,$T$29:$AE$29,0),FALSE)*VLOOKUP($S44,$S$29:$AE$31,1+MATCH(AA$29,$T$29:$AE$29,0),FALSE) -> 4875199.2 | ... AE44: =+VLOOKUP($R44,$C$28:$Q$58,2+MATCH(AE$29,$T$29:$AE$29,0),FALSE)*VLOOKUP($S44,$S$29:$AE$31,1+MATCH(AE$29,$T$29:$AE$29,0),FALSE) -> 19176959 | AF44: =+SUM(T44:AE44) -> 1.8671893e+08
C45: =+RANK(Q48,$Q$26:$Q$55) -> 1 | D45: ="Customer "&C45 -> Customer 1 | E45: =+Q48/SUM($Q$26:$Q$55) -> 0.31053326 | F45: =+E45*SUM($E$21:$P$22) -> 19266911 | G45: <--target MWh | R45: =+RIGHT(S43,1)&S45 -> 4LLH | S45: LLH | T45: =+VLOOKUP($R45,$C$28:$Q$58,2+MATCH(T$29,$T$29:$AE$29,0),FALSE)*VLOOKUP($S45,$S$29:$AE$31,1+MATCH(T$29,$T$29:$AE$29,0),FALSE) -> 5647496.8 | U45: =+VLOOKUP($R45,$C$28:$Q$58,2+MATCH(U$29,$T$29:$AE$29,0),FALSE)*VLOOKUP($S45,$S$29:$AE$31,1+MATCH(U$29,$T$29:$AE$29,0),FALSE) -> 5867117.4 | V45: =+VLOOKUP($R45,$C$28:$Q$58,2+MATCH(V$29,$T$29:$AE$29,0),FALSE)*VLOOKUP($S45,$S$29:$AE$31,1+MATCH(V$29,$T$29:$AE$29,0),FALSE) -> 14082730 | W45: =+VLOOKUP($R45,$C$28:$Q$58,2+MATCH(W$29,$T$29:$AE$29,0),FALSE)*VLOOKUP($S45,$S$29:$AE$31,1+MATCH(W$29,$T$29:$AE$29,0),FALSE) -> 8775733.9 | X45: =+VLOOKUP($R45,$C$28:$Q$58,2+MATCH(X$29,$T$29:$AE$29,0),FALSE)*VLOOKUP($S45,$S$29:$AE$31,1+MATCH(X$29,$T$29:$AE$29,0),FALSE) -> 8481655.9 | Y45: =+VLOOKUP($R45,$C$28:$Q$58,2+MATCH(Y$29,$T$29:$AE$29,0),FALSE)*VLOOKUP($S45,$S$29:$AE$31,1+MATCH(Y$29,$T$29:$AE$29,0),FALSE) -> 6992926.3 | Z45: =+VLOOKUP($R45,$C$28:$Q$58,2+MATCH(Z$29,$T$29:$AE$29,0),FALSE)*VLOOKUP($S45,$S$29:$AE$31,1+MATCH(Z$29,$T$29:$AE$29,0),FALSE) -> 3465982.1 | AA45: =+VLOOKUP($R45,$C$28:$Q$58,2+MATCH(AA$29,$T$29:$AE$29,0),FALSE)*VLOOKUP($S45,$S$29:$AE$31,1+MATCH(AA$29,$T$29:$AE$29,0),FALSE) -> 2697689.4 | ... AE45: =+VLOOKUP($R45,$C$28:$Q$58,2+MATCH(AE$29,$T$29:$AE$29,0),FALSE)*VLOOKUP($S45,$S$29:$AE$31,1+MATCH(AE$29,$T$29:$AE$29,0),FALSE) -> 9052067.9 | AF45: =+SUM(T45:AE45) -> 89511589
E46: Oct | F46: Nov | G46: Dec | H46: Jan | I46: Feb | J46: Mar | K46: Apr | L46: May | M46: Jun | N46: Jul | O46: Aug | P46: Sep | S46: Customer 5
D47: HLH | E47: 87001.344 | F47: 87438.8 | G47: 120505.6 | H47: 113187.36 | I47: 93366.144 | J47: 98605.312 | K47: 99028.8 | L47: 109718.75 | M47: 113449.2 | N47: 130688.06 | O47: 129724.19 | P47: 95389.2 | R47: =+RIGHT(S46,1)&S47 -> 5HLH | S47: HLH | T47: =+VLOOKUP($R47,$C$28:$Q$58,2+MATCH(T$29,$T$29:$AE$29,0),FALSE)*VLOOKUP($S47,$S$29:$AE$31,1+MATCH(T$29,$T$29:$AE$29,0),FALSE) -> 6915566.8 | U47: =+VLOOKUP($R47,$C$28:$Q$58,2+MATCH(U$29,$T$29:$AE$29,0),FALSE)*VLOOKUP($S47,$S$29:$AE$31,1+MATCH(U$29,$T$29:$AE$29,0),FALSE) -> 5312426.3 | V47: =+VLOOKUP($R47,$C$28:$Q$58,2+MATCH(V$29,$T$29:$AE$29,0),FALSE)*VLOOKUP($S47,$S$29:$AE$31,1+MATCH(V$29,$T$29:$AE$29,0),FALSE) -> 8559551.2 | W47: =+VLOOKUP($R47,$C$28:$Q$58,2+MATCH(W$29,$T$29:$AE$29,0),FALSE)*VLOOKUP($S47,$S$29:$AE$31,1+MATCH(W$29,$T$29:$AE$29,0),FALSE) -> 7033818.2 | X47: =+VLOOKUP($R47,$C$28:$Q$58,2+MATCH(X$29,$T$29:$AE$29,0),FALSE)*VLOOKUP($S47,$S$29:$AE$31,1+MATCH(X$29,$T$29:$AE$29,0),FALSE) -> 6549051 | Y47: =+VLOOKUP($R47,$C$28:$Q$58,2+MATCH(Y$29,$T$29:$AE$29,0),FALSE)*VLOOKUP($S47,$S$29:$AE$31,1+MATCH(Y$29,$T$29:$AE$29,0),FALSE) -> 4748633.8 | Z47: =+VLOOKUP($R47,$C$28:$Q$58,2+MATCH(Z$29,$T$29:$AE$29,0),FALSE)*VLOOKUP($S47,$S$29:$AE$31,1+MATCH(Z$29,$T$29:$AE$29,0),FALSE) -> 2327823.1 | AA47: =+VLOOKUP($R47,$C$28:$Q$58,2+MATCH(AA$29,$T$29:$AE$29,0),FALSE)*VLOOKUP($S47,$S$29:$AE$31,1+MATCH(AA$29,$T$29:$AE$29,0),FALSE) -> 1966166.7 | ... AE47: =+VLOOKUP($R47,$C$28:$Q$58,2+MATCH(AE$29,$T$29:$AE$29,0),FALSE)*VLOOKUP($S47,$S$29:$AE$31,1+MATCH(AE$29,$T$29:$AE$29,0),FALSE) -> 8274388 | AF47: =+SUM(T47:AE47) -> 73423544
D48: LLH | E48: 57023.616 | F48: 65877.225 | G48: 86186.792 | H48: 87092.528 | I48: 64693.728 | J48: 67407.78 | K48: 66010.56 | L48: 80933.344 | M48: 74882.88 | N48: 92559.632 | O48: 85700.168 | P48: 68541.12 | Q48: =+SUM(E47:P48) -> 2175012.1 | R48: =+RIGHT(S46,1)&S48 -> 5LLH | S48: LLH | T48: =+VLOOKUP($R48,$C$28:$Q$58,2+MATCH(T$29,$T$29:$AE$29,0),FALSE)*VLOOKUP($S48,$S$29:$AE$31,1+MATCH(T$29,$T$29:$AE$29,0),FALSE) -> 3214929.7 | U48: =+VLOOKUP($R48,$C$28:$Q$58,2+MATCH(U$29,$T$29:$AE$29,0),FALSE)*VLOOKUP($S48,$S$29:$AE$31,1+MATCH(U$29,$T$29:$AE$29,0),FALSE) -> 3130945 | V48: =+VLOOKUP($R48,$C$28:$Q$58,2+MATCH(V$29,$T$29:$AE$29,0),FALSE)*VLOOKUP($S48,$S$29:$AE$31,1+MATCH(V$29,$T$29:$AE$29,0),FALSE) -> 5941029.1 | W48: =+VLOOKUP($R48,$C$28:$Q$58,2+MATCH(W$29,$T$29:$AE$29,0),FALSE)*VLOOKUP($S48,$S$29:$AE$31,1+MATCH(W$29,$T$29:$AE$29,0),FALSE) -> 3880502.4 | X48: =+VLOOKUP($R48,$C$28:$Q$58,2+MATCH(X$29,$T$29:$AE$29,0),FALSE)*VLOOKUP($S48,$S$29:$AE$31,1+MATCH(X$29,$T$29:$AE$29,0),FALSE) -> 3942602.5 | Y48: =+VLOOKUP($R48,$C$28:$Q$58,2+MATCH(Y$29,$T$29:$AE$29,0),FALSE)*VLOOKUP($S48,$S$29:$AE$31,1+MATCH(Y$29,$T$29:$AE$29,0),FALSE) -> 3689332.4 | Z48: =+VLOOKUP($R48,$C$28:$Q$58,2+MATCH(Z$29,$T$29:$AE$29,0),FALSE)*VLOOKUP($S48,$S$29:$AE$31,1+MATCH(Z$29,$T$29:$AE$29,0),FALSE) -> 1837015.9 | AA48: =+VLOOKUP($R48,$C$28:$Q$58,2+MATCH(AA$29,$T$29:$AE$29,0),FALSE)*VLOOKUP($S48,$S$29:$AE$31,1+MATCH(AA$29,$T$29:$AE$29,0),FALSE) -> 1318867.6 | ... AE48: =+VLOOKUP($R48,$C$28:$Q$58,2+MATCH(AE$29,$T$29:$AE$29,0),FALSE)*VLOOKUP($S48,$S$29:$AE$31,1+MATCH(AE$29,$T$29:$AE$29,0),FALSE) -> 4776609.5 | AF48: =+SUM(T48:AE48) -> 42067246
C49: =+C45&D49 -> 1HLH | D49: HLH | E49: =+E47/$Q$48*$F$45 -> 770684.06 | F49: =+F47/$Q$48*$F$45 -> 774559.18 | G49: =+G47/$Q$48*$F$45 -> 1067474.8 | H49: =+H47/$Q$48*$F$45 -> 1002647.7 | I49: =+I47/$Q$48*$F$45 -> 827065.37 | J49: =+J47/$Q$48*$F$45 -> 873475.5 | K49: =+K47/$Q$48*$F$45 -> 877226.88 | L49: =+L47/$Q$48*$F$45 -> 971921.69 | ... P49: =+P47/$Q$48*$F$45 -> 844986.21
C50: =+C45&D50 -> 1LLH | D50: LLH | E50: =+E48/$Q$48*$F$45 -> 505132.33 | F50: =+F48/$Q$48*$F$45 -> 583560.26 | G50: =+G48/$Q$48*$F$45 -> 763468.52 | H50: =+H48/$Q$48*$F$45 -> 771491.8 | I50: =+I48/$Q$48*$F$45 -> 573076.49 | J50: =+J48/$Q$48*$F$45 -> 597118.38 | K50: =+K48/$Q$48*$F$45 -> 584741.39 | L50: =+L48/$Q$48*$F$45 -> 716931.89 | ... P50: =+P48/$Q$48*$F$45 -> 607157.85
C52: =+RANK(Q55,$Q$26:$Q$55) -> 4 | D52: ="Customer "&C52 -> Customer 4 | E52: =+Q55/SUM($Q$26:$Q$55) -> 0.12729349 | F52: =+E52*SUM($E$21:$P$22) -> 7897873.4 | G52: <--target MWh
E53: Oct | F53: Nov | G53: Dec | H53: Jan | I53: Feb | J53: Mar | K53: Apr | L53: May | M53: Jun | N53: Jul | O53: Aug | P53: Sep
D54: HLH | E54: 39959.136 | F54: 38704 | G54: 46558.4 | H54: 47694.4 | I54: 41428.224 | J54: 39591.968 | K54: 40358.656 | L54: 44275.712 | M54: 49885.2 | N54: 56136.288 | O54: 55558.88 | P54: 40908
D55: LLH | E55: 23499.216 | F55: 25862.007 | G55: 33889.848 | H55: 32008.864 | I55: 26427.744 | J55: 26261.37 | K55: 24623.392 | L55: 28838.416 | M55: 31859.84 | N55: 36060.976 | O55: 34577.104 | P55: 26611.2 | Q55: =+SUM(E54:P55) -> 891578.84
C56: =+C52&D56 -> 4HLH | D56: HLH | E56: =+E54/$Q$55*$F$52 -> 353970.04 | F56: =+F54/$Q$55*$F$52 -> 342851.67 | G56: =+G54/$Q$55*$F$52 -> 412428.3 | H56: =+H54/$Q$55*$F$52 -> 422491.33 | I56: =+I54/$Q$55*$F$52 -> 366983.66 | J56: =+J54/$Q$55*$F$52 -> 350717.56 | K56: =+K54/$Q$55*$F$52 -> 357509.11 | L56: =+L54/$Q$55*$F$52 -> 392207.57 | ... P56: =+P54/$Q$55*$F$52 -> 362375.36
C57: =+C52&D57 -> 4LLH | D57: LLH | E57: =+E55/$Q$55*$F$52 -> 208163.12 | F57: =+F55/$Q$55*$F$52 -> 229093.43 | G57: =+G55/$Q$55*$F$52 -> 300206.46 | H57: =+H55/$Q$55*$F$52 -> 283544.14 | I57: =+I55/$Q$55*$F$52 -> 234104.9 | J57: =+J55/$Q$55*$F$52 -> 232631.11 | K57: =+K55/$Q$55*$F$52 -> 218121.41 | L57: =+L55/$Q$55*$F$52 -> 255459.36 | ... P57: =+P55/$Q$55*$F$52 -> 235730.01
D60: Repeat for all 5 Customers
D62: Load Shaping Rates (Marginal, pull from BP-24)
E63: Oct | F63: Nov | G63: Dec | H63: Jan | I63: Feb | J63: Mar | K63: Apr | L63: May | M63: Jun | N63: Jul | O63: Aug | P63: Sep
D64: HLH | E64: 47.71 | F64: 40.3 | G64: 61.63 | H64: 49.88 | I64: 50.32 | J64: 35.07 | K64: 20.42 | L64: 18.21 | M64: 17.87 | N64: 55.6 | O64: 71.52 | P64: 58.7
D65: LLH | E65: 32.91 | F65: 31.39 | G65: 52.69 | H65: 36.73 | I65: 42.01 | J65: 35.84 | K65: 21.67 | L65: 16.34 | M65: 10.33 | N65: 36.92 | O65: 48.93 | P65: 44.18
D67: Load Shaping Revenues = Load Shaping Billing Determinates * Load Shaping Rates
D68: =+D24 -> Customer 3
E69: Oct | F69: Nov | G69: Dec | H69: Jan | I69: Feb | J69: Mar | K69: Apr | L69: May | M69: Jun | N69: Jul | O69: Aug | P69: Sep
B72: =+C72&D72 -> 3HLH | C72: =+VALUE(RIGHT(D68,1)) -> 3 | D72: HLH | E72: =(E28-VLOOKUP($C72,$C$13:$D$17,2,FALSE)*E$21)*E$64 -> 5151119.4 | F72: =(F28-VLOOKUP($C72,$C$13:$D$17,2,FALSE)*F$21)*F$64 -> -1108499.5 | G72: =(G28-VLOOKUP($C72,$C$13:$D$17,2,FALSE)*G$21)*G$64 -> 5263630.1 | H72: =(H28-VLOOKUP($C72,$C$13:$D$17,2,FALSE)*H$21)*H$64 -> 2131775.7 | I72: =(I28-VLOOKUP($C72,$C$13:$D$17,2,FALSE)*I$21)*I$64 -> 648820.56 | J72: =(J28-VLOOKUP($C72,$C$13:$D$17,2,FALSE)*J$21)*J$64 -> -928543.63 | K72: =(K28-VLOOKUP($C72,$C$13:$D$17,2,FALSE)*K$21)*K$64 -> 1091799.5 | L72: =(L28-VLOOKUP($C72,$C$13:$D$17,2,FALSE)*L$21)*L$64 -> -3054792.5 | ... P72: =(P28-VLOOKUP($C72,$C$13:$D$17,2,FALSE)*P$21)*P$64 -> 1528340.8 | Q72: =+SUM(E72:P73) -> 19162288
B73: =+C73&D73 -> 3LLH | C73: =+C72 -> 3 | D73: LLH | E73: =(E29-VLOOKUP($C73,$C$13:$D$17,2,FALSE)*E$22)*E$65 -> 694229.86 | F73: =(F29-VLOOKUP($C73,$C$13:$D$17,2,FALSE)*F$22)*F$65 -> -267146.17 | G73: =(G29-VLOOKUP($C73,$C$13:$D$17,2,FALSE)*G$22)*G$65 -> 5104795.9 | H73: =(H29-VLOOKUP($C73,$C$13:$D$17,2,FALSE)*H$22)*H$65 -> 3355700.4 | I73: =(I29-VLOOKUP($C73,$C$13:$D$17,2,FALSE)*I$22)*I$65 -> 2235943.2 | J73: =(J29-VLOOKUP($C73,$C$13:$D$17,2,FALSE)*J$22)*J$65 -> -1038794.9 | K73: =(K29-VLOOKUP($C73,$C$13:$D$17,2,FALSE)*K$22)*K$65 -> 133983.18 | L73: =(L29-VLOOKUP($C73,$C$13:$D$17,2,FALSE)*L$22)*L$65 -> -1844383 | ... P73: =(P29-VLOOKUP($C73,$C$13:$D$17,2,FALSE)*P$22)*P$65 -> -673082.14
D75: =+D31 -> Customer 2
E76: Oct | F76: Nov | G76: Dec | H76: Jan | I76: Feb | J76: Mar | K76: Apr | L76: May | M76: Jun | N76: Jul | O76: Aug | P76: Sep
B79: =+C79&D79 -> 2HLH | C79: =+VALUE(RIGHT(D75,1)) -> 2 | D79: HLH | E79: =(E35-VLOOKUP($C79,$C$13:$D$17,2,FALSE)*E$21)*E$64 -> 7527122.1 | F79: =(F35-VLOOKUP($C79,$C$13:$D$17,2,FALSE)*F$21)*F$64 -> 328653.41 | G79: =(G35-VLOOKUP($C79,$C$13:$D$17,2,FALSE)*G$21)*G$64 -> 5623862.9 | H79: =(H35-VLOOKUP($C79,$C$13:$D$17,2,FALSE)*H$21)*H$64 -> 4393969.1 | I79: =(I35-VLOOKUP($C79,$C$13:$D$17,2,FALSE)*I$21)*I$64 -> 2813147.2 | J79: =(J35-VLOOKUP($C79,$C$13:$D$17,2,FALSE)*J$21)*J$64 -> 272824.22 | K79: =(K35-VLOOKUP($C79,$C$13:$D$17,2,FALSE)*K$21)*K$64 -> 2162613.7 | L79: =(L35-VLOOKUP($C79,$C$13:$D$17,2,FALSE)*L$21)*L$64 -> -3110040.7 | ... P79: =(P35-VLOOKUP($C79,$C$13:$D$17,2,FALSE)*P$21)*P$64 -> -99364.631 | Q79: =+SUM(E79:P80) -> 17073936
B80: =+C80&D80 -> 2LLH | C80: =+C79 -> 2 | D80: LLH | E80: =(E36-VLOOKUP($C80,$C$13:$D$17,2,FALSE)*E$22)*E$65 -> 868110.55 | F80: =(F36-VLOOKUP($C80,$C$13:$D$17,2,FALSE)*F$22)*F$65 -> 323459.69 | G80: =(G36-VLOOKUP($C80,$C$13:$D$17,2,FALSE)*G$22)*G$65 -> 6336317 | H80: =(H36-VLOOKUP($C80,$C$13:$D$17,2,FALSE)*H$22)*H$65 -> 3455260.8 | I80: =(I36-VLOOKUP($C80,$C$13:$D$17,2,FALSE)*I$22)*I$65 -> 3402500.2 | J80: =(J36-VLOOKUP($C80,$C$13:$D$17,2,FALSE)*J$22)*J$65 -> 398315.76 | K80: =(K36-VLOOKUP($C80,$C$13:$D$17,2,FALSE)*K$22)*K$65 -> 529888.08 | L80: =(L36-VLOOKUP($C80,$C$13:$D$17,2,FALSE)*L$22)*L$65 -> -2182328.8 | ... P80: =(P36-VLOOKUP($C80,$C$13:$D$17,2,FALSE)*P$22)*P$65 -> -2066982.8
D82: =+D38 -> Customer 5
E83: Oct | F83: Nov | G83: Dec | H83: Jan | I83: Feb | J83: Mar | K83: Apr | L83: May | M83: Jun | N83: Jul | O83: Aug | P83: Sep
B86: =+C86&D86 -> 5HLH | C86: =+VALUE(RIGHT(D82,1)) -> 5 | D86: HLH | E86: =(E42-VLOOKUP($C86,$C$13:$D$17,2,FALSE)*E$21)*E$64 -> 1222488.8 | F86: =(F42-VLOOKUP($C86,$C$13:$D$17,2,FALSE)*F$21)*F$64 -> -978312.45 | G86: =(G42-VLOOKUP($C86,$C$13:$D$17,2,FALSE)*G$21)*G$64 -> -2396290.4 | H86: =(H42-VLOOKUP($C86,$C$13:$D$17,2,FALSE)*H$21)*H$64 -> -2214181.2 | I86: =(I42-VLOOKUP($C86,$C$13:$D$17,2,FALSE)*I$21)*I$64 -> -1664092.2 | J86: =(J42-VLOOKUP($C86,$C$13:$D$17,2,FALSE)*J$21)*J$64 -> -917635.2 | K86: =(K42-VLOOKUP($C86,$C$13:$D$17,2,FALSE)*K$21)*K$64 -> 212757.32 | L86: =(L42-VLOOKUP($C86,$C$13:$D$17,2,FALSE)*L$21)*L$64 -> -470725.63 | ... P86: =(P42-VLOOKUP($C86,$C$13:$D$17,2,FALSE)*P$21)*P$64 -> 800548.28 | Q86: =+SUM(E86:P87) -> -68456.758
B87: =+C87&D87 -> 5LLH | C87: =+C86 -> 5 | D87: LLH | E87: =(E43-VLOOKUP($C87,$C$13:$D$17,2,FALSE)*E$22)*E$65 -> 906790.64 | F87: =(F43-VLOOKUP($C87,$C$13:$D$17,2,FALSE)*F$22)*F$65 -> 212623.72 | G87: =(G43-VLOOKUP($C87,$C$13:$D$17,2,FALSE)*G$22)*G$65 -> 99162.116 | H87: =(H43-VLOOKUP($C87,$C$13:$D$17,2,FALSE)*H$22)*H$65 -> -1788.5018 | I87: =(I43-VLOOKUP($C87,$C$13:$D$17,2,FALSE)*I$22)*I$65 -> 238362.33 | J87: =(J43-VLOOKUP($C87,$C$13:$D$17,2,FALSE)*J$22)*J$65 -> 63213.604 | K87: =(K43-VLOOKUP($C87,$C$13:$D$17,2,FALSE)*K$22)*K$65 -> 435220.93 | L87: =(L43-VLOOKUP($C87,$C$13:$D$17,2,FALSE)*L$22)*L$65 -> 99198.134 | ... P87: =(P43-VLOOKUP($C87,$C$13:$D$17,2,FALSE)*P$22)*P$65 -> 1243631.8
D89: =+D45 -> Customer 1
E90: Oct | F90: Nov | G90: Dec | H90: Jan | I90: Feb | J90: Mar | K90: Apr | L90: May | M90: Jun | N90: Jul | O90: Aug | P90: Sep
B93: =+C93&D93 -> 1HLH | C93: =+VALUE(RIGHT(D89,1)) -> 1 | D93: HLH | E93: =(E49-VLOOKUP($C93,$C$13:$D$17,2,FALSE)*E$21)*E$64 -> -1046505.2 | F93: =(F49-VLOOKUP($C93,$C$13:$D$17,2,FALSE)*F$21)*F$64 -> -9638660.8 | G93: =(G49-VLOOKUP($C93,$C$13:$D$17,2,FALSE)*G$21)*G$64 -> -1587163 | H93: =(H49-VLOOKUP($C93,$C$13:$D$17,2,FALSE)*H$21)*H$64 -> -7851554.7 | I93: =(I49-VLOOKUP($C93,$C$13:$D$17,2,FALSE)*I$21)*I$64 -> -9947917.6 | J93: =(J49-VLOOKUP($C93,$C$13:$D$17,2,FALSE)*J$21)*J$64 -> -6938218.7 | K93: =(K49-VLOOKUP($C93,$C$13:$D$17,2,FALSE)*K$21)*K$64 -> 649942.29 | L93: =(L49-VLOOKUP($C93,$C$13:$D$17,2,FALSE)*L$21)*L$64 -> -1368292.1 | ... P93: =(P49-VLOOKUP($C93,$C$13:$D$17,2,FALSE)*P$21)*P$64 -> 1934804.6 | Q93: =+SUM(E93:P94) -> 11361609
B94: =+C94&D94 -> 1LLH | C94: =+C93 -> 1 | D94: LLH | E94: =(E50-VLOOKUP($C94,$C$13:$D$17,2,FALSE)*E$22)*E$65 -> -405707.54 | F94: =(F50-VLOOKUP($C94,$C$13:$D$17,2,FALSE)*F$22)*F$65 -> -2306864.6 | G94: =(G50-VLOOKUP($C94,$C$13:$D$17,2,FALSE)*G$22)*G$65 -> 2823732.6 | H94: =(H50-VLOOKUP($C94,$C$13:$D$17,2,FALSE)*H$22)*H$65 -> 2124591.6 | I94: =(I50-VLOOKUP($C94,$C$13:$D$17,2,FALSE)*I$22)*I$65 -> -579777.08 | J94: =(J50-VLOOKUP($C94,$C$13:$D$17,2,FALSE)*J$22)*J$65 -> -3266970.4 | K94: =(K50-VLOOKUP($C94,$C$13:$D$17,2,FALSE)*K$22)*K$65 -> 893711.72 | L94: =(L50-VLOOKUP($C94,$C$13:$D$17,2,FALSE)*L$22)*L$65 -> 667971.08 | ... P94: =(P50-VLOOKUP($C94,$C$13:$D$17,2,FALSE)*P$22)*P$65 -> 2631938.9
D96: =+D52 -> Customer 4
E97: Oct | F97: Nov | G97: Dec | H97: Jan | I97: Feb | J97: Mar | K97: Apr | L97: May | M97: Jun | N97: Jul | O97: Aug | P97: Sep
B100: =+C100&D100 -> 4HLH | C100: =+VALUE(RIGHT(D96,1)) -> 4 | D100: HLH | E100: =(E56-VLOOKUP($C100,$C$13:$D$17,2,FALSE)*E$21)*E$64 -> 1386477.9 | F100: =(F56-VLOOKUP($C100,$C$13:$D$17,2,FALSE)*F$21)*F$64 -> -2929661.6 | G100: =(G56-VLOOKUP($C100,$C$13:$D$17,2,FALSE)*G$21)*G$64 -> -2200598.5 | H100: =(H56-VLOOKUP($C100,$C$13:$D$17,2,FALSE)*H$21)*H$64 -> -2645530.6 | I100: =(I56-VLOOKUP($C100,$C$13:$D$17,2,FALSE)*I$21)*I$64 -> -2671203.5 | J100: =(J56-VLOOKUP($C100,$C$13:$D$17,2,FALSE)*J$21)*J$64 -> -3101404.6 | K100: =(K56-VLOOKUP($C100,$C$13:$D$17,2,FALSE)*K$21)*K$64 -> 223891.42 | L100: =(L56-VLOOKUP($C100,$C$13:$D$17,2,FALSE)*L$21)*L$64 -> -673820.39 | ... P100: =(P56-VLOOKUP($C100,$C$13:$D$17,2,FALSE)*P$21)*P$64 -> 1732280.6 | Q100: =+SUM(E100:P101) -> 6709156.4
B101: =+C101&D101 -> 4LLH | C101: =+C100 -> 4 | D101: LLH | E101: =(E57-VLOOKUP($C101,$C$13:$D$17,2,FALSE)*E$22)*E$65 -> -130113.81 | F101: =(F57-VLOOKUP($C101,$C$13:$D$17,2,FALSE)*F$22)*F$65 -> -1263263.6 | G101: =(G57-VLOOKUP($C101,$C$13:$D$17,2,FALSE)*G$22)*G$65 -> 485503.88 | H101: =(H57-VLOOKUP($C101,$C$13:$D$17,2,FALSE)*H$22)*H$65 -> -330344.86 | I101: =(I57-VLOOKUP($C101,$C$13:$D$17,2,FALSE)*I$22)*I$65 -> -271691.91 | J101: =(J57-VLOOKUP($C101,$C$13:$D$17,2,FALSE)*J$22)*J$65 -> -1774257.5 | K101: =(K57-VLOOKUP($C101,$C$13:$D$17,2,FALSE)*K$22)*K$65 -> -101185.27 | L101: =(L57-VLOOKUP($C101,$C$13:$D$17,2,FALSE)*L$22)*L$65 -> -354044.87 | ... P101: =(P57-VLOOKUP($C101,$C$13:$D$17,2,FALSE)*P$22)*P$65 -> 497670.12

Sheet SR TOCA Add
B2: Example Customer Monthly Bills under TRM Rate Design vs. Shaped Diurnal Energy Charges
C4: Oct | D4: Nov | E4: Dec | F4: Jan | G4: Feb | H4: Mar | I4: Apr | J4: May | K4: Jun | L4: Jul | M4: Aug | N4: Sep | O4: Total
B5: TRM
A6: (1) | B6: Customer Charges (TOCA * Composite+Non-Slice) | C6: =ScalarApproach!$D$13*ScalarApproach!$E$6/12 -> 54791586 | D6: =ScalarApproach!$D$13*ScalarApproach!$E$6/12 -> 54791586 | E6: =ScalarApproach!$D$13*ScalarApproach!$E$6/12 -> 54791586 | F6: =ScalarApproach!$D$13*ScalarApproach!$E$6/12 -> 54791586 | G6: =ScalarApproach!$D$13*ScalarApproach!$E$6/12 -> 54791586 | H6: =ScalarApproach!$D$13*ScalarApproach!$E$6/12 -> 54791586 | I6: =ScalarApproach!$D$13*ScalarApproach!$E$6/12 -> 54791586 | J6: =ScalarApproach!$D$13*ScalarApproach!$E$6/12 -> 54791586 | ... N6: =ScalarApproach!$D$13*ScalarApproach!$E$6/12 -> 54791586
A8: (2) | B8: LS on HLH Energy (Load - System Shaped Load * Market Rates) | C8: =+ScalarApproach!E93 -> -1046505.2 | D8: =+ScalarApproach!F93 -> -9638660.8 | E8: =+ScalarApproach!G93 -> -1587163 | F8: =+ScalarApproach!H93 -> -7851554.7 | G8: =+ScalarApproach!I93 -> -9947917.6 | H8: =+ScalarApproach!J93 -> -6938218.7 | I8: =+ScalarApproach!K93 -> 649942.29 | J8: =+ScalarApproach!L93 -> -1368292.1 | ... N8: =+ScalarApproach!P93 -> 1934804.6
A9: (3) | B9: LS on LLH Energy | C9: =+ScalarApproach!E94 -> -405707.54 | D9: =+ScalarApproach!F94 -> -2306864.6 | E9: =+ScalarApproach!G94 -> 2823732.6 | F9: =+ScalarApproach!H94 -> 2124591.6 | G9: =+ScalarApproach!I94 -> -579777.08 | H9: =+ScalarApproach!J94 -> -3266970.4 | I9: =+ScalarApproach!K94 -> 893711.72 | J9: =+ScalarApproach!L94 -> 667971.08 | ... N9: =+ScalarApproach!P94 -> 2631938.9
A10: (4) | B10: Total [(2) + (3)] | C10: =+SUM(C8:C9) -> -1452212.8 | D10: =+SUM(D8:D9) -> -11945525 | E10: =+SUM(E8:E9) -> 1236569.6 | F10: =+SUM(F8:F9) -> -5726963.1 | G10: =+SUM(G8:G9) -> -10527695 | H10: =+SUM(H8:H9) -> -10205189 | I10: =+SUM(I8:I9) -> 1543654 | J10: =+SUM(J8:J9) -> -700320.99 | ... N10: =+SUM(N8:N9) -> 4566743.5
A12: (5) | B12: Total TRM Charges [(1) + (4)] | C12: =+SUM(C10,C6) -> 53339373 | D12: =+SUM(D10,D6) -> 42846061 | E12: =+SUM(E10,E6) -> 56028156 | F12: =+SUM(F10,F6) -> 49064623 | G12: =+SUM(G10,G6) -> 44263891 | H12: =+SUM(H10,H6) -> 44586397 | I12: =+SUM(I10,I6) -> 56335240 | J12: =+SUM(J10,J6) -> 54091265 | ... N12: =+SUM(N10,N6) -> 59358330 | O12: =+SUM(C12:N12) -> 6.6886064e+08
B14: PRDM
A15: (6) | B15: Energy HLH Charge | C15: =+ScalarApproach!T35 -> 32314899 | D15: =+ScalarApproach!U35 -> 26737900 | E15: =+ScalarApproach!V35 -> 59618631 | F15: =+ScalarApproach!W35 -> 44216913 | G15: =+ScalarApproach!X35 -> 36837616 | H15: =+ScalarApproach!Y35 -> 25584229 | I15: =+ScalarApproach!Z35 -> 12842734 | J15: =+ScalarApproach!AA35 -> 12081133 | ... N15: =+ScalarApproach!AE35 -> 44716798
A16: (7) | B16: Energy LLH Charge | C16: =+ScalarApproach!T36 -> 13704316 | D16: =+ScalarApproach!U36 -> 14945066 | E16: =+ScalarApproach!V36 -> 35814423 | F16: =+ScalarApproach!W36 -> 23877787 | G16: =+ScalarApproach!X36 -> 20762648 | H16: =+ScalarApproach!Y36 -> 17949469 | I16: =+ScalarApproach!Z36 -> 9291628.8 | J16: =+ScalarApproach!AA36 -> 7570908.9 | ... N16: =+ScalarApproach!AE36 -> 23314953
A18: (8) | B18: Total PRDM Diurnal Energy Charges | C18: =+SUM(C15:C16) -> 46019215 | D18: =+SUM(D15:D16) -> 41682966 | E18: =+SUM(E15:E16) -> 95433054 | F18: =+SUM(F15:F16) -> 68094701 | G18: =+SUM(G15:G16) -> 57600264 | H18: =+SUM(H15:H16) -> 43533698 | I18: =+SUM(I15:I16) -> 22134363 | J18: =+SUM(J15:J16) -> 19652042 | ... N18: =+SUM(N15:N16) -> 68031751 | O18: =SUM(C15:N16) -> 6.6886064e+08
B22: TRM Cumulative Sum | C22: =+SUM($C12:C12)/1000 -> 53339.373 | D22: =+SUM($C12:D12)/1000 -> 96185.434 | E22: =+SUM($C12:E12)/1000 -> 152213.59 | F22: =+SUM($C12:F12)/1000 -> 201278.21 | G22: =+SUM($C12:G12)/1000 -> 245542.1 | H22: =+SUM($C12:H12)/1000 -> 290128.5 | I22: =+SUM($C12:I12)/1000 -> 346463.74 | J22: =+SUM($C12:J12)/1000 -> 400555.01 | ... N22: =+SUM($C12:N12)/1000 -> 668860.64
B23: PRDM Diurnal Energy Cumulative Sum | C23: =+SUM($C18:C18)/1000 -> 46019.215 | D23: =+SUM($C18:D18)/1000 -> 87702.181 | E23: =+SUM($C18:E18)/1000 -> 183135.24 | F23: =+SUM($C18:F18)/1000 -> 251229.94 | G23: =+SUM($C18:G18)/1000 -> 308830.2 | H23: =+SUM($C18:H18)/1000 -> 352363.9 | I23: =+SUM($C18:I18)/1000 -> 374498.26 | J23: =+SUM($C18:J18)/1000 -> 394150.3 | ... N23: =+SUM($C18:N18)/1000 -> 668860.64
