Workbook

Sheet ScalarApproach
G3: Load Shaping Revenue
D4: Revenue Requirement | E4: 2.1715609e+09 | G4: Total Load Shaping Revenue from 5 customers | AH4: TOCA Approach
D5: Load Shaping Revenue | E5: =+SUM(Q72,Q79,Q86,Q93,Q100) -> 54238533 | AI5: MWh Purchased | AJ5: TOCA Charge | AK5: Load Shaping Charge | AL5: Effective Rate
D6: Revenue Requirement less Load Shaping Revenue | E6: =+E4-E5 -> 2.1173224e+09 | AH6: Customer 1 | AI6: =+VLOOKUP(VALUE(RIGHT(AH6,1)),$C$24:$Q$57,4,FALSE) -> 19266911 | AJ6: =+VLOOKUP(VALUE(RIGHT(AH6,1)),$C$13:$D$17,2,FALSE)*$E$6 -> 6.5749903e+08 | AK6: =+VLOOKUP(VALUE(RIGHT(AH6,1)),$C$72:$Q$101,15,FALSE) -> 11361609 | AL6: =+SUM(AJ6:AK6)/AI6 -> 34.715509
D7: Sum Energy in E18:P19 | E7: =+Q22 -> 62044598 | AH7: Customer 2 | AI7: =+VLOOKUP(VALUE(RIGHT(AH7,1)),$C$24:$Q$57,4,FALSE) -> 17016800 | AJ7: =+VLOOKUP(VALUE(RIGHT(AH7,1)),$C$13:$D$17,2,FALSE)*$E$6 -> 5.8071214e+08 | AK7: =+VLOOKUP(VALUE(RIGHT(AH7,1)),$C$72:$Q$101,15,FALSE) -> 17073936 | AL7: =+SUM(AJ7:AK7)/AI7 -> 35.129171
D8: Average Effective $/MWh Rate | E8: =E4/SUM(E21:P22) -> 35 | F8: Populate Yellow Areas with values that cause E8 to equal $35/MWh | AH8: Customer 3 | AI8: =+VLOOKUP(VALUE(RIGHT(AH8,1)),$C$24:$Q$57,4,FALSE) -> 14476742 | AJ8: =+VLOOKUP(VALUE(RIGHT(AH8,1)),$C$13:$D$17,2,FALSE)*$E$6 -> 4.9403061e+08 | AK8: =+VLOOKUP(VALUE(RIGHT(AH8,1)),$C$72:$Q$101,15,FALSE) -> 19162288 | AL8: =+SUM(AJ8:AK8)/AI8 -> 35.449474
C9: TOCA APPROACH | S9: HLH AND LLH APPROACH | AH9: Customer 4 | AI9: =+VLOOKUP(VALUE(RIGHT(AH9,1)),$C$24:$Q$57,4,FALSE) -> 7897873.4 | AJ9: =+VLOOKUP(VALUE(RIGHT(AH9,1)),$C$13:$D$17,2,FALSE)*$E$6 -> 2.6952136e+08 | AK9: =+VLOOKUP(VALUE(RIGHT(AH9,1)),$C$72:$Q$101,15,FALSE) -> 6709156.4 | AL9: =+SUM(AJ9:AK9)/AI9 -> 34.975303
C10: TOCA + Load Shaping = Tier 1 Energy | AH10: Customer 5 | AI10: =+VLOOKUP(VALUE(RIGHT(AH10,1)),$C$24:$Q$57,4,FALSE) -> 3386270.8 | AJ10: =+VLOOKUP(VALUE(RIGHT(AH10,1)),$C$13:$D$17,2,FALSE)*$E$6 -> 1.1555925e+08 | AK10: =+VLOOKUP(VALUE(RIGHT(AH10,1)),$C$72:$Q$101,15,FALSE) -> -68456.758 | AL10: =+SUM(AJ10:AK10)/AI10 -> 34.105598
C11: Customers | S11: Load Shaping Rates (Marginal, pull from BP-24)
D12: TOCA | F12: Customer Charge | T12: Oct | U12: Nov | V12: Dec | W12: Jan | X12: Feb | Y12: Mar | Z12: Apr | AA12: May | AB12: Jun | AC12: Jul | AD12: Aug | AE12: Sep | AH12: HLH and LLH Energy Approach
C13: 1 | D13: =+VLOOKUP(C13,$C$24:$E$55,3,FALSE) -> 0.31053326 | F13: Take E6 minus Total Load Shaping Revenue to calculate the amount of RR needed to be collected from Customer Charges | S13: HLH | T13: =+E64 -> 47.71 | U13: =+F64 -> 40.3 | V13: =+G64 -> 61.63 | W13: =+H64 -> 49.88 | X13: =+I64 -> 50.32 | Y13: =+J64 -> 35.07 | Z13: =+K64 -> 20.42 | AA13: =+L64 -> 18.21 | ... AE13: =+P64 -> 58.7 | AI13: MWh Purchased | AJ13: HLH Rev | AK13: LLH Rev | AL13: Effective Rate
C14: 2 | D14: =+VLOOKUP(C14,$C$24:$E$55,3,FALSE) -> 0.27426723 | F14: Take F13 and divide it by 100 to calculate an annual $/% TOCA Rate | S14: LLH | T14: =+E65 -> 32.91 | U14: =+F65 -> 31.39 | V14: =+G65 -> 52.69 | W14: =+H65 -> 36.73 | X14: =+I65 -> 42.01 | Y14: =+J65 -> 35.84 | Z14: =+K65 -> 21.67 | AA14: =+L65 -> 16.34 | ... AE14: =+P65 -> 44.18 | AH14: Customer 1 | AI14: =+AI6 -> 19266911 | AJ14: =+VLOOKUP(RIGHT($AH14,1)&LEFT(AJ$13,3),$R$35:$AF$49,15,FALSE) -> 4.4032093e+08 | AK14: =+VLOOKUP(RIGHT($AH14,1)&LEFT(AK$13,3),$R$35:$AF$49,15,FALSE) -> 2.2853972e+08 | AL14: =+SUM(AJ14:AK14)/AI14 -> 34.715509
C15: 3 | D15: =+VLOOKUP(C15,$C$24:$E$55,3,FALSE) -> 0.23332801 | AH15: Customer 2 | AI15: =+AI7 -> 17016800 | AJ15: =+VLOOKUP(RIGHT($AH15,1)&LEFT(AJ$13,3),$R$35:$AF$49,15,FALSE) -> 4.0530573e+08 | AK15: =+VLOOKUP(RIGHT($AH15,1)&LEFT(AK$13,3),$R$35:$AF$49,15,FALSE) -> 1.9248035e+08 | AL15: =+SUM(AJ15:AK15)/AI15 -> 35.129171
C16: 4 | D16: =+VLOOKUP(C16,$C$24:$E$55,3,FALSE) -> 0.12729349 | S16: Sum Customer MWh from TOCA Approach | AH16: Customer 3 | AI16: =+AI8 -> 14476742 | AJ16: =+VLOOKUP(RIGHT($AH16,1)&LEFT(AJ$13,3),$R$35:$AF$49,15,FALSE) -> 3.4818498e+08 | AK16: =+VLOOKUP(RIGHT($AH16,1)&LEFT(AK$13,3),$R$35:$AF$49,15,FALSE) -> 1.6500792e+08 | AL16: =+SUM(AJ16:AK16)/AI16 -> 35.449474
C17: 5 | D17: =+VLOOKUP(C17,$C$24:$E$55,3,FALSE) -> 0.054578012 | T17: Oct | U17: Nov | V17: Dec | W17: Jan | X17: Feb | Y17: Mar | Z17: Apr | AA17: May | AB17: Jun | AC17: Jul | AD17: Aug | AE17: Sep | AH17: Customer 4 | AI17: =+AI9 -> 7897873.4 | AJ17: =+VLOOKUP(RIGHT($AH17,1)&LEFT(AJ$13,3),$R$35:$AF$49,15,FALSE) -> 1.8671893e+08 | AK17: =+VLOOKUP(RIGHT($AH17,1)&LEFT(AK$13,3),$R$35:$AF$49,15,FALSE) -> 89511589 | AL17: =+SUM(AJ17:AK17)/AI17 -> 34.975303
S18: HLH | T18: =+E28+E35+E42+E49+E56 -> 2850928.7 | U18: =+F28+F35+F42+F49+F56 -> 2908991.5 | V18: =+G28+G35+G42+G49+G56 -> 3596803.1 | W18: =+H28+H35+H42+H49+H56 -> 3611683.7 | X18: =+I28+I35+I42+I49+I56 -> 3084947.3 | Y18: =+J28+J35+J42+J49+J56 -> 3118782 | Z18: =+K28+K35+K42+K49+K56 -> 2934993.7 | AA18: =+L28+L35+L42+L49+L56 -> 2895283.6 | ... AE18: =+P28+P35+P42+P49+P56 -> 2715391.6 | AH18: Customer 5 | AI18: =+AI10 -> 3386270.8 | AJ18: =+VLOOKUP(RIGHT($AH18,1)&LEFT(AJ$13,3),$R$35:$AF$49,15,FALSE) -> 73423544 | AK18: =+VLOOKUP(RIGHT($AH18,1)&LEFT(AK$13,3),$R$35:$AF$49,15,FALSE) -> 42067246 | AL18: =+SUM(AJ18:AK18)/AI18 -> 34.105598
D19: Benchmark TOCA Shape for Load Shaping Billing Determinants. Create a MWh Benchmark Shape, any shape you want in 24 bins. | S19: LLH | T19: =+E29+E36+E43+E50+E57 -> 1725105.1 | U19: =+F29+F36+F43+F50+F57 -> 2010711.7 | V19: =+G29+G36+G43+G50+G57 -> 2567821.6 | W19: =+H29+H36+H43+H50+H57 -> 2532372.2 | X19: =+I29+I36+I43+I50+I57 -> 2009524.4 | Y19: =+J29+J36+J43+J50+J57 -> 2059655.8 | Z19: =+K29+K36+K43+K50+K57 -> 1837505.5 | AA19: =+L29+L36+L43+L50+L57 -> 1955919.4 | ... AE19: =+P29+P36+P43+P50+P57 -> 1800335.5
E20: Oct | F20: Nov | G20: Dec | H20: Jan | I20: Feb | J20: Mar | K20: Apr | L20: May | M20: Jun | N20: Jul | O20: Aug | P20: Sep | Q20: Total
D21: HLH | E21: 2552444 | F21: 3264487.3 | G21: 3520485.7 | H21: 3735691.7 | I21: 3299995.9 | J21: 3449919.1 | K21: 2722407.8 | L21: 3371816.8 | M21: 3560007.9 | N21: 3067031.8 | O21: 3018290.2 | P21: 2614938.3 | S21: Revenue Collected at Marginal Rates
D22: LLH | E22: 1666359.7 | F22: 2115878.6 | G22: 2285993.7 | H22: 2298138 | I22: 1889902 | J22: 2216421.8 | K22: 1750213.5 | L22: 2177069.2 | M22: 2109275.1 | N22: 1854722.6 | O22: 1739738.1 | P22: 1763369.1 | Q22: =+SUM(E21:P22) -> 62044598 | T22: Oct | U22: Nov | V22: Dec | W22: Jan | X22: Feb | Y22: Mar | Z22: Apr | AA22: May | AB22: Jun | AC22: Jul | AD22: Aug | AE22: Sep
S23: HLH | T23: =T13*T18 -> 1.3601781e+08 | U23: =U13*U18 -> 1.1723236e+08 | V23: =V13*V18 -> 2.2167098e+08 | W23: =W13*W18 -> 1.8015078e+08 | X23: =X13*X18 -> 1.5523455e+08 | Y23: =Y13*Y18 -> 1.0937569e+08 | Z23: =Z13*Z18 -> 59932571 | AA23: =AA13*AA18 -> 52723113 | ... AE23: =AE13*AE18 -> 1.5939349e+08 | AF23: Sum
C24: =+RANK(Q27,$Q$26:$Q$55) -> 3 | D24: ="Customer "&C24 -> Customer 3 | E24: =+Q27/SUM($Q$26:$Q$55) -> 0.23332801 | F24: =+E24*SUM($E$21:$P$22) -> 14476742 | G24: <--target MWh | S24: LLH | T24: =T14*T19 -> 56773208 | U24: =U14*U19 -> 63116239 | V24: =V14*V19 -> 1.3529852e+08 | W24: =W14*W19 -> 93014029 | X24: =X14*X19 -> 84420118 | Y24: =Y14*Y19 -> 73818063 | Z24: =Z14*Z19 -> 39818744 | AA24: =AA14*AA19 -> 31959723 | ... AE24: =AE14*AE19 -> 79538823 | AF24: =SUM(T23:AE24) -> 2.5301693e+09
E25: Oct | F25: Nov | G25: Dec | H25: Jan | I25: Feb | J25: Mar | K25: Apr | L25: May | M25: Jun | N25: Jul | O25: Aug | P25: Sep
D26: HLH | E26: 79419.744 | F26: 82881.6 | G26: 102371.2 | H26: 103222.91 | I26: 88377.6 | J26: 87882.08 | K26: 77744.16 | L26: 69876.352 | M26: 73308.4 | N26: 81432.416 | O26: 84944.704 | P26: 71816.8 | AF26: Revenue Requirement | AG26: =+E4 -> 2.1715609e+09
D27: LLH | E27: 46273.344 | F27: 54771.588 | G27: 71150.208 | H27: 70846.688 | I27: 55788.48 | J27: 55108.656 | K27: 46798.672 | L27: 44601.768 | M27: 42909.76 | N27: 49547.024 | O27: 48455.768 | P27: 44727.36 | Q27: =+SUM(E26:P27) -> 1634257.3 | AF27: Scalar | AG27: =(AG26-AF24)/SUM(T18:AE19) -> -5.7798492
C28: =+C24&D28 -> 3HLH | D28: HLH | E28: =+E26/$Q$27*$F$24 -> 703523.97 | F28: =+F26/$Q$27*$F$24 -> 734190.13 | G28: =+G26/$Q$27*$F$24 -> 906834.87 | H28: =+H26/$Q$27*$F$24 -> 914379.59 | I28: =+I26/$Q$27*$F$24 -> 782875.35 | J28: =+J26/$Q$27*$F$24 -> 778485.89 | K28: =+K26/$Q$27*$F$24 -> 688681.14 | L28: =+L26/$Q$27*$F$24 -> 618985.73 | ... P28: =+P26/$Q$27*$F$24 -> 636174.81 | S28: HLH and LLH Energy Rates
C29: =+C24&D29 -> 3LLH | D29: LLH | E29: =+E27/$Q$27*$F$24 -> 409903.19 | F29: =+F27/$Q$27*$F$24 -> 485183.19 | G29: =+G27/$Q$27*$F$24 -> 630269.93 | H29: =+H27/$Q$27*$F$24 -> 627581.26 | I29: =+I27/$Q$27*$F$24 -> 494191.13 | J29: =+J27/$Q$27*$F$24 -> 488169.04 | K29: =+K27/$Q$27*$F$24 -> 414556.71 | L29: =+L27/$Q$27*$F$24 -> 395095.87 | ... P29: =+P27/$Q$27*$F$24 -> 396208.4 | T29: Oct | U29: Nov | V29: Dec | W29: Jan | X29: Feb | Y29: Mar | Z29: Apr | AA29: May | AB29: Jun | AC29: Jul | AD29: Aug | AE29: Sep
S30: HLH | T30: =T13+$AG$27 -> 41.930151 | U30: =U13+$AG$27 -> 34.520151 | V30: =V13+$AG$27 -> 55.850151 | W30: =W13+$AG$27 -> 44.100151 | X30: =X13+$AG$27 -> 44.540151 | Y30: =Y13+$AG$27 -> 29.290151 | Z30: =Z13+$AG$27 -> 14.640151 | AA30: =AA13+$AG$27 -> 12.430151 | ... AE30: =AE13+$AG$27 -> 52.920151
C31: =+RANK(Q34,$Q$26:$Q$55) -> 2 | D31: ="Customer "&C31 -> Customer 2 | E31: =+Q34/SUM($Q$26:$Q$55) -> 0.27426723 | F31: =+E31*SUM($E$21:$P$22) -> 17016800 | G31: <--target MWh | S31: LLH | T31: =T14+$AG$27 -> 27.130151 | U31: =U14+$AG$27 -> 25.610151 | V31: =V14+$AG$27 -> 46.910151 | W31: =W14+$AG$27 -> 30.950151 | X31: =X14+$AG$27 -> 36.230151 | Y31: =Y14+$AG$27 -> 30.060151 | Z31: =Z14+$AG$27 -> 15.890151 | AA31: =AA14+$AG$27 -> 10.560151 | ... AE31: =AE14+$AG$27 -> 38.400151
E32: Oct | F32: Nov | G32: Dec | H32: Jan | I32: Feb | J32: Mar | K32: Apr | L32: May | M32: Jun | N32: Jul | O32: Aug | P32: Sep
D33: HLH | E33: 96837.984 | F33: 101994.4 | G33: 119301.2 | H33: 125607.46 | I33: 108484.22 | J33: 107693.25 | K33: 96245.76 | L33: 85116.928 | M33: 82094 | N33: 88346.752 | O33: 88971.584 | P33: 80771.6 | S33: Revenues from Diurnal Rates
D34: LLH | E34: 54570.984 | F34: 66674.268 | G34: 84353.616 | H34: 81773.68 | I34: 67657.536 | J34: 69878.592 | K34: 56949.84 | L34: 52328.464 | M34: 50474.24 | N34: 52855.56 | O34: 52703.368 | P34: 49315.2 | Q34: =+SUM(E33:P34) -> 1921000.5 | S34: Customer 1
C35: =+C31&D35 -> 2HLH | D35: HLH | E35: =+E33/$Q$34*$F$31 -> 857819.98 | F35: =+F33/$Q$34*$F$31 -> 903497.06 | G35: =+G33/$Q$34*$F$31 -> 1056805.9 | H35: =+H33/$Q$34*$F$31 -> 1112668.6 | I35: =+I33/$Q$34*$F$31 -> 960985.87 | J35: =+J33/$Q$34*$F$31 -> 953979.17 | K35: =+K33/$Q$34*$F$31 -> 852573.88 | L35: =+L33/$Q$34*$F$31 -> 753991.34 | ... P35: =+P33/$Q$34*$F$31 -> 715499.12 | R35: =+RIGHT(S34,1)&S35 -> 1HLH | S35: HLH | T35: =+VLOOKUP($R35,$C$28:$Q$58,2+MATCH(T$29,$T$29:$AE$29,0),FALSE)*VLOOKUP($S35,$S$29:$AE$31,1+MATCH(T$29,$T$29:$AE$29,0),FALSE) -> 32314899 | U35: =+VLOOKUP($R35,$C$28:$Q$58,2+MATCH(U$29,$T$29:$AE$29,0),FALSE)*VLOOKUP($S35,$S$29:$AE$31,1+MATCH(U$29,$T$29:$AE$29,0),FALSE) -> 26737900 | V35: =+VLOOKUP($R35,$C$28:$Q$58,2+MATCH(V$29,$T$29:$AE$29,0),FALSE)*VLOOKUP($S35,$S$29:$AE$31,1+MATCH(V$29,$T$29:$AE$29,0),FALSE) -> 59618631 | W35: =+VLOOKUP($R35,$C$28:$Q$58,2+MATCH(W$29,$T$29:$AE$29,0),FALSE)*VLOOKUP($S35,$S$29:$AE$31,1+MATCH(W$29,$T$29:$AE$29,0),FALSE) -> 44216913 | X35: =+VLOOKUP($R35,$C$28:$Q$58,2+MATCH(X$29,$T$29:$AE$29,0),FALSE)*VLOOKUP($S35,$S$29:$AE$31,1+MATCH(X$29,$T$29:$AE$29,0),FALSE) -> 36837616 | Y35: =+VLOOKUP($R35,$C$28:$Q$58,2+MATCH(Y$29,$T$29:$AE$29,0),FALSE)*VLOOKUP($S35,$S$29:$AE$31,1+MATCH(Y$29,$T$29:$AE$29,0),FALSE) -> 25584229 | Z35: =+VLOOKUP($R35,$C$28:$Q$58,2+MATCH(Z$29,$T$29:$AE$29,0),FALSE)*VLOOKUP($S35,$S$29:$AE$31,1+MATCH(Z$29,$T$29:$AE$29,0),FALSE) -> 12842734 | AA35: =+VLOOKUP($R35,$C$28:$Q$58,2+MATCH(AA$29,$T$29:$AE$29,0),FALSE)*VLOOKUP($S35,$S$29:$AE$31,1+MATCH(AA$29,$T$29:$AE$29,0),FALSE) -> 12081133 | ... AE35: =+VLOOKUP($R35,$C$28:$Q$58,2+MATCH(AE$29,$T$29:$AE$29,0),FALSE)*VLOOKUP($S35,$S$29:$AE$31,1+MATCH(AE$29,$T$29:$AE$29,0),FALSE) -> 44716798 | AF35: =+SUM(T35:AE35) -> 4.4032093e+08
C36: =+C31&D36 -> 2LLH | D36: LLH | E36: =+E34/$Q$34*$F$31 -> 483406.18 | F36: =+F34/$Q$34*$F$31 -> 590620.71 | G36: =+G34/$Q$34*$F$31 -> 747229.69 | H36: =+H34/$Q$34*$F$31 -> 724375.84 | I36: =+I34/$Q$34*$F$31 -> 599330.79 | J36: =+J34/$Q$34*$F$31 -> 619005.58 | K36: =+K34/$Q$34*$F$31 -> 504478.8 | L36: =+L34/$Q$34*$F$31 -> 463541.27 | ... P36: =+P34/$Q$34*$F$31 -> 436848.87 | R36: =+RIGHT(S34,1)&S36 -> 1LLH | S36: LLH | T36: =+VLOOKUP($R36,$C$28:$Q$58,2+MATCH(T$29,$T$29:$AE$29,0),FALSE)*VLOOKUP($S36,$S$29:$AE$31,1+MATCH(T$29,$T$29:$AE$29,0),FALSE) -> 13704316 | U36: =+VLOOKUP($R36,$C$28:$Q$58,2+MATCH(U$29,$T$29:$AE$29,0),FALSE)*VLOOKUP($S36,$S$29:$AE$31,1+MATCH(U$29,$T$29:$AE$29,0),FALSE) -> 14945066 | V36: =+VLOOKUP($R36,$C$28:$Q$58,2+MATCH(V$29,$T$29:$AE$29,0),FALSE)*VLOOKUP($S36,$S$29:$AE$31,1+MATCH(V$29,$T$29:$AE$29,0),FALSE) -> 35814423 | W36: =+VLOOKUP($R36,$C$28:$Q$58,2+MATCH(W$29,$T$29:$AE$29,0),FALSE)*VLOOKUP($S36,$S$29:$AE$31,1+MATCH(W$29,$T$29:$AE$29,0),FALSE) -> 23877787 | X36: =+VLOOKUP($R36,$C$28:$Q$58,2+MATCH(X$29,$T$29:$AE$29,0),FALSE)*VLOOKUP($S36,$S$29:$AE$31,1+MATCH(X$29,$T$29:$AE$29,0),FALSE) -> 20762648 | Y36: =+VLOOKUP($R36,$C$28:$Q$58,2+MATCH(Y$29,$T$29:$AE$29,0),FALSE)*VLOOKUP($S36,$S$29:$AE$31,1+MATCH(Y$29,$T$29:$AE$29,0),FALSE) -> 17949469 | Z36: =+VLOOKUP($R36,$C$28:$Q$58,2+MATCH(Z$29,$T$29:$AE$29,0),FALSE)*VLOOKUP($S36,$S$29:$AE$31,1+MATCH(Z$29,$T$29:$AE$29,0),FALSE) -> 9291628.8 | AA36: =+VLOOKUP($R36,$C$28:$Q$58,2+MATCH(AA$29,$T$29:$AE$29,0),FALSE)*VLOOKUP($S36,$S$29:$AE$31,1+MATCH(AA$29,$T$29:$AE$29,0),FALSE) -> 7570908.9 | ... AE36: =+VLOOKUP($R36,$C$28:$Q$58,2+MATCH(AE$29,$T$29:$AE$29,0),FALSE)*VLOOKUP($S36,$S$29:$AE$31,1+MATCH(AE$29,$T$29:$AE$29,0),FALSE) -> 23314953 | AF36: =+SUM(T36:AE36) -> 2.2853972e+08
S37: Customer 2
C38: =+RANK(Q41,$Q$26:$Q$55) -> 5 | D38: ="Customer "&C38 -> Customer 5 | E38: =+Q41/SUM($Q$26:$Q$55) -> 0.054578012 | F38: =+E38*SUM($E$21:$P$22) -> 3386270.8 | G38: <--target MWh | R38: =+RIGHT(S37,1)&S38 -> 2HLH | S38: HLH | T38: =+VLOOKUP($R38,$C$28:$Q$58,2+MATCH(T$29,$T$29:$AE$29,0),FALSE)*VLOOKUP($S38,$S$29:$AE$31,1+MATCH(T$29,$T$29:$AE$29,0),FALSE) -> 35968521 | U38: =+VLOOKUP($R38,$C$28:$Q$58,2+MATCH(U$29,$T$29:$AE$29,0),FALSE)*VLOOKUP($S38,$S$29:$AE$31,1+MATCH(U$29,$T$29:$AE$29,0),FALSE) -> 31188855 | V38: =+VLOOKUP($R38,$C$28:$Q$58,2+MATCH(V$29,$T$29:$AE$29,0),FALSE)*VLOOKUP($S38,$S$29:$AE$31,1+MATCH(V$29,$T$29:$AE$29,0),FALSE) -> 59022769 | W38: =+VLOOKUP($R38,$C$28:$Q$58,2+MATCH(W$29,$T$29:$AE$29,0),FALSE)*VLOOKUP($S38,$S$29:$AE$31,1+MATCH(W$29,$T$29:$AE$29,0),FALSE) -> 49068853 | X38: =+VLOOKUP($R38,$C$28:$Q$58,2+MATCH(X$29,$T$29:$AE$29,0),FALSE)*VLOOKUP($S38,$S$29:$AE$31,1+MATCH(X$29,$T$29:$AE$29,0),FALSE) -> 42802456 | Y38: =+VLOOKUP($R38,$C$28:$Q$58,2+MATCH(Y$29,$T$29:$AE$29,0),FALSE)*VLOOKUP($S38,$S$29:$AE$31,1+MATCH(Y$29,$T$29:$AE$29,0),FALSE) -> 27942194 | Z38: =+VLOOKUP($R38,$C$28:$Q$58,2+MATCH(Z$29,$T$29:$AE$29,0),FALSE)*VLOOKUP($S38,$S$29:$AE$31,1+MATCH(Z$29,$T$29:$AE$29,0),FALSE) -> 12481810 | AA38: =+VLOOKUP($R38,$C$28:$Q$58,2+MATCH(AA$29,$T$29:$AE$29,0),FALSE)*VLOOKUP($S38,$S$29:$AE$31,1+MATCH(AA$29,$T$29:$AE$29,0),FALSE) -> 9372226.1 | ... AE38: =+VLOOKUP($R38,$C$28:$Q$58,2+MATCH(AE$29,$T$29:$AE$29,0),FALSE)*VLOOKUP($S38,$S$29:$AE$31,1+MATCH(AE$29,$T$29:$AE$29,0),FALSE) -> 37864321 | AF38: =+SUM(T38:AE38) -> 4.0530573e+08
E39: Oct | F39: Nov | G39: Dec | H39: Jan | I39: Feb | J39: Mar | K39: Apr | L39: May | M39: Jun | N39: Jul | O39: Aug | P39: Sep | R39: =+RIGHT(S37,1)&S39 -> 2LLH | S39: LLH | T39: =+VLOOKUP($R39,$C$28:$Q$58,2+MATCH(T$29,$T$29:$AE$29,0),FALSE)*VLOOKUP($S39,$S$29:$AE$31,1+MATCH(T$29,$T$29:$AE$29,0),FALSE) -> 13114883 | U39: =+VLOOKUP($R39,$C$28:$Q$58,2+MATCH(U$29,$T$29:$AE$29,0),FALSE)*VLOOKUP($S39,$S$29:$AE$31,1+MATCH(U$29,$T$29:$AE$29,0),FALSE) -> 15125885 | V39: =+VLOOKUP($R39,$C$28:$Q$58,2+MATCH(V$29,$T$29:$AE$29,0),FALSE)*VLOOKUP($S39,$S$29:$AE$31,1+MATCH(V$29,$T$29:$AE$29,0),FALSE) -> 35052658 | W39: =+VLOOKUP($R39,$C$28:$Q$58,2+MATCH(W$29,$T$29:$AE$29,0),FALSE)*VLOOKUP($S39,$S$29:$AE$31,1+MATCH(W$29,$T$29:$AE$29,0),FALSE) -> 22419542 | X39: =+VLOOKUP($R39,$C$28:$Q$58,2+MATCH(X$29,$T$29:$AE$29,0),FALSE)*VLOOKUP($S39,$S$29:$AE$31,1+MATCH(X$29,$T$29:$AE$29,0),FALSE) -> 21713845 | Y39: =+VLOOKUP($R39,$C$28:$Q$58,2+MATCH(Y$29,$T$29:$AE$29,0),FALSE)*VLOOKUP($S39,$S$29:$AE$31,1+MATCH(Y$29,$T$29:$AE$29,0),FALSE) -> 18607401 | Z39: =+VLOOKUP($R39,$C$28:$Q$58,2+MATCH(Z$29,$T$29:$AE$29,0),FALSE)*VLOOKUP($S39,$S$29:$AE$31,1+MATCH(Z$29,$T$29:$AE$29,0),FALSE) -> 8016244.3 | AA39: =+VLOOKUP($R39,$C$28:$Q$58,2+MATCH(AA$29,$T$29:$AE$29,0),FALSE)*VLOOKUP($S39,$S$29:$AE$31,1+MATCH(AA$29,$T$29:$AE$29,0),FALSE) -> 4895065.7 | ... AE39: =+VLOOKUP($R39,$C$28:$Q$58,2+MATCH(AE$29,$T$29:$AE$29,0),FALSE)*VLOOKUP($S39,$S$29:$AE$31,1+MATCH(AE$29,$T$29:$AE$29,0),FALSE) -> 16775062 | AF39: =+SUM(T39:AE39) -> 1.9248035e+08
D40: HLH | E40: 18618.768 | F40: 17372.8 | G40: 17301.2 | H40: 18005.312 | I40: 16598.784 | J40: 18301.92 | K40: 17949.568 | L40: 17856.384 | M40: 17709.6 | N40: 18987.904 | O40: 19678.464 | P40: 17650.8 | S40: Customer 3
D41: LLH | E41: 13377.312 | F41: 13801.074 | G41: 14296.984 | H41: 14153.856 | I41: 12284.64 | J41: 13854.99 | K41: 13050.72 | L41: 14098.752 | M41: 13530.24 | N41: 14860.368 | O41: 14888.248 | P41: 14042.24 | Q41: =+SUM(E40:P41) -> 382270.93 | R41: =+RIGHT(S40,1)&S41 -> 3HLH | S41: HLH | T41: =+VLOOKUP($R41,$C$28:$Q$58,2+MATCH(T$29,$T$29:$AE$29,0),FALSE)*VLOOKUP($S41,$S$29:$AE$31,1+MATCH(T$29,$T$29:$AE$29,0),FALSE) -> 29498866 | U41: =+VLOOKUP($R41,$C$28:$Q$58,2+MATCH(U$29,$T$29:$AE$29,0),FALSE)*VLOOKUP($S41,$S$29:$AE$31,1+MATCH(U$29,$T$29:$AE$29,0),FALSE) -> 25344354 | V41: =+VLOOKUP($R41,$C$28:$Q$58,2+MATCH(V$29,$T$29:$AE$29,0),FALSE)*VLOOKUP($S41,$S$29:$AE$31,1+MATCH(V$29,$T$29:$AE$29,0),FALSE) -> 50646864 | W41: =+VLOOKUP($R41,$C$28:$Q$58,2+MATCH(W$29,$T$29:$AE$29,0),FALSE)*VLOOKUP($S41,$S$29:$AE$31,1+MATCH(W$29,$T$29:$AE$29,0),FALSE) -> 40324278 | X41: =+VLOOKUP($R41,$C$28:$Q$58,2+MATCH(X$29,$T$29:$AE$29,0),FALSE)*VLOOKUP($S41,$S$29:$AE$31,1+MATCH(X$29,$T$29:$AE$29,0),FALSE) -> 34869386 | Y41: =+VLOOKUP($R41,$C$28:$Q$58,2+MATCH(Y$29,$T$29:$AE$29,0),FALSE)*VLOOKUP($S41,$S$29:$AE$31,1+MATCH(Y$29,$T$29:$AE$29,0),FALSE) -> 22801969 | Z41: =+VLOOKUP($R41,$C$28:$Q$58,2+MATCH(Z$29,$T$29:$AE$29,0),FALSE)*VLOOKUP($S41,$S$29:$AE$31,1+MATCH(Z$29,$T$29:$AE$29,0),FALSE) -> 10082396 | AA41: =+VLOOKUP($R41,$C$28:$Q$58,2+MATCH(AA$29,$T$29:$AE$29,0),FALSE)*VLOOKUP($S41,$S$29:$AE$31,1+MATCH(AA$29,$T$29:$AE$29,0),FALSE) -> 7694086 | ... AE41: =+VLOOKUP($R41,$C$28:$Q$58,2+MATCH(AE$29,$T$29:$AE$29,0),FALSE)*VLOOKUP($S41,$S$29:$AE$31,1+MATCH(AE$29,$T$29:$AE$29,0),FALSE) -> 33666467 | AF41: =+SUM(T41:AE41) -> 3.4818498e+08
C42: =+C38&D42 -> 5HLH | D42: HLH | E42: =+E40/$Q$41*$F$38 -> 164930.64 | F42: =+F40/$Q$41*$F$38 -> 153893.49 | G42: =+G40/$Q$41*$F$38 -> 153259.23 | H42: =+H40/$Q$41*$F$38 -> 159496.47 | I42: =+I40/$Q$41*$F$38 -> 147037.02 | J42: =+J40/$Q$41*$F$38 -> 162123.91 | K42: =+K40/$Q$41*$F$38 -> 159002.67 | L42: =+L40/$Q$41*$F$38 -> 158177.22 | ... P42: =+P40/$Q$41*$F$38 -> 156356.09 | R42: =+RIGHT(S40,1)&S42 -> 3LLH | S42: LLH | T42: =+VLOOKUP($R42,$C$28:$Q$58,2+MATCH(T$29,$T$29:$AE$29,0),FALSE)*VLOOKUP($S42,$S$29:$AE$31,1+MATCH(T$29,$T$29:$AE$29,0),FALSE) -> 11120735 | U42: =+VLOOKUP($R42,$C$28:$Q$58,2+MATCH(U$29,$T$29:$AE$29,0),FALSE)*VLOOKUP($S42,$S$29:$AE$31,1+MATCH(U$29,$T$29:$AE$29,0),FALSE) -> 12425615 | V42: =+VLOOKUP($R42,$C$28:$Q$58,2+MATCH(V$29,$T$29:$AE$29,0),FALSE)*VLOOKUP($S42,$S$29:$AE$31,1+MATCH(V$29,$T$29:$AE$29,0),FALSE) -> 29566058 | W42: =+VLOOKUP($R42,$C$28:$Q$58,2+MATCH(W$29,$T$29:$AE$29,0),FALSE)*VLOOKUP($S42,$S$29:$AE$31,1+MATCH(W$29,$T$29:$AE$29,0),FALSE) -> 19423735 | X42: =+VLOOKUP($R42,$C$28:$Q$58,2+MATCH(X$29,$T$29:$AE$29,0),FALSE)*VLOOKUP($S42,$S$29:$AE$31,1+MATCH(X$29,$T$29:$AE$29,0),FALSE) -> 17904619 | Y42: =+VLOOKUP($R42,$C$28:$Q$58,2+MATCH(Y$29,$T$29:$AE$29,0),FALSE)*VLOOKUP($S42,$S$29:$AE$31,1+MATCH(Y$29,$T$29:$AE$29,0),FALSE) -> 14674435 | Z42: =+VLOOKUP($R42,$C$28:$Q$58,2+MATCH(Z$29,$T$29:$AE$29,0),FALSE)*VLOOKUP($S42,$S$29:$AE$31,1+MATCH(Z$29,$T$29:$AE$29,0),FALSE) -> 6587368.6 | AA42: =+VLOOKUP($R42,$C$28:$Q$58,2+MATCH(AA$29,$T$29:$AE$29,0),FALSE)*VLOOKUP($S42,$S$29:$AE$31,1+MATCH(AA$29,$T$29:$AE$29,0),FALSE) -> 4172272 | ... AE42: =+VLOOKUP($R42,$C$28:$Q$58,2+MATCH(AE$29,$T$29:$AE$29,0),FALSE)*VLOOKUP($S42,$S$29:$AE$31,1+MATCH(AE$29,$T$29:$AE$29,0),FALSE) -> 15214462 | AF42: =+SUM(T42:AE42) -> 1.6500792e+08
...

Sheet SR TOCA Add
B2: Example Customer Monthly Bills under TRM Rate Design vs. Shaped Diurnal Energy Charges
C4: Oct | D4: Nov | E4: Dec | F4: Jan | G4: Feb | H4: Mar | I4: Apr | J4: May | K4: Jun | L4: Jul | M4: Aug | N4: Sep | O4: Total
B5: TRM
A6: (1) | B6: Customer Charges (TOCA * Composite+Non-Slice) | C6: =ScalarApproach!$D$13*ScalarApproach!$E$6/12 -> 54791586 | D6: =ScalarApproach!$D$13*ScalarApproach!$E$6/12 -> 54791586 | E6: =ScalarApproach!$D$13*ScalarApproach!$E$6/12 -> 54791586 | F6: =ScalarApproach!$D$13*ScalarApproach!$E$6/12 -> 54791586 | G6: =ScalarApproach!$D$13*ScalarApproach!$E$6/12 -> 54791586 | H6: =ScalarApproach!$D$13*ScalarApproach!$E$6/12 -> 54791586 | I6: =ScalarApproach!$D$13*ScalarApproach!$E$6/12 -> 54791586 | J6: =ScalarApproach!$D$13*ScalarApproach!$E$6/12 -> 54791586 | ... N6: =ScalarApproach!$D$13*ScalarApproach!$E$6/12 -> 54791586
A8: (2) | B8: LS on HLH Energy (Load - System Shaped Load * Market Rates) | C8: =+ScalarApproach!E93 -> -1046505.2 | D8: =+ScalarApproach!F93 -> -9638660.8 | E8: =+ScalarApproach!G93 -> -1587163 | F8: =+ScalarApproach!H93 -> -7851554.7 | G8: =+ScalarApproach!I93 -> -9947917.6 | H8: =+ScalarApproach!J93 -> -6938218.7 | I8: =+ScalarApproach!K93 -> 649942.29 | J8: =+ScalarApproach!L93 -> -1368292.1 | ... N8: =+ScalarApproach!P93 -> 1934804.6
A9: (3) | B9: LS on LLH Energy | C9: =+ScalarApproach!E94 -> -405707.54 | D9: =+ScalarApproach!F94 -> -2306864.6 | E9: =+ScalarApproach!G94 -> 2823732.6 | F9: =+ScalarApproach!H94 -> 2124591.6 | G9: =+ScalarApproach!I94 -> -579777.08 | H9: =+ScalarApproach!J94 -> -3266970.4 | I9: =+ScalarApproach!K94 -> 893711.72 | J9: =+ScalarApproach!L94 -> 667971.08 | ... N9: =+ScalarApproach!P94 -> 2631938.9
A10: (4) | B10: Total [(2) + (3)] | C10: =+SUM(C8:C9) -> -1452212.8 | D10: =+SUM(D8:D9) -> -11945525 | E10: =+SUM(E8:E9) -> 1236569.6 | F10: =+SUM(F8:F9) -> -5726963.1 | G10: =+SUM(G8:G9) -> -10527695 | H10: =+SUM(H8:H9) -> -10205189 | I10: =+SUM(I8:I9) -> 1543654 | J10: =+SUM(J8:J9) -> -700320.99 | ... N10: =+SUM(N8:N9) -> 4566743.5
A12: (5) | B12: Total TRM Charges [(1) + (4)] | C12: =+SUM(C10,C6) -> 53339373 | D12: =+SUM(D10,D6) -> 42846061 | E12: =+SUM(E10,E6) -> 56028156 | F12: =+SUM(F10,F6) -> 49064623 | G12: =+SUM(G10,G6) -> 44263891 | H12: =+SUM(H10,H6) -> 44586397 | I12: =+SUM(I10,I6) -> 56335240 | J12: =+SUM(J10,J6) -> 54091265 | ... N12: =+SUM(N10,N6) -> 59358330 | O12: =+SUM(C12:N12) -> 6.6886064e+08
B14: PRDM
A15: (6) | B15: Energy HLH Charge | C15: =+ScalarApproach!T35 -> 32314899 | D15: =+ScalarApproach!U35 -> 26737900 | E15: =+ScalarApproach!V35 -> 59618631 | F15: =+ScalarApproach!W35 -> 44216913 | G15: =+ScalarApproach!X35 -> 36837616 | H15: =+ScalarApproach!Y35 -> 25584229 | I15: =+ScalarApproach!Z35 -> 12842734 | J15: =+ScalarApproach!AA35 -> 12081133 | ... N15: =+ScalarApproach!AE35 -> 44716798
A16: (7) | B16: Energy LLH Charge | C16: =+ScalarApproach!T36 -> 13704316 | D16: =+ScalarApproach!U36 -> 14945066 | E16: =+ScalarApproach!V36 -> 35814423 | F16: =+ScalarApproach!W36 -> 23877787 | G16: =+ScalarApproach!X36 -> 20762648 | H16: =+ScalarApproach!Y36 -> 17949469 | I16: =+ScalarApproach!Z36 -> 9291628.8 | J16: =+ScalarApproach!AA36 -> 7570908.9 | ... N16: =+ScalarApproach!AE36 -> 23314953
A18: (8) | B18: Total PRDM Diurnal Energy Charges | C18: =+SUM(C15:C16) -> 46019215 | D18: =+SUM(D15:D16) -> 41682966 | E18: =+SUM(E15:E16) -> 95433054 | F18: =+SUM(F15:F16) -> 68094701 | G18: =+SUM(G15:G16) -> 57600264 | H18: =+SUM(H15:H16) -> 43533698 | I18: =+SUM(I15:I16) -> 22134363 | J18: =+SUM(J15:J16) -> 19652042 | ... N18: =+SUM(N15:N16) -> 68031751 | O18: =SUM(C15:N16) -> 6.6886064e+08
B22: TRM Cumulative Sum | C22: =+SUM($C12:C12)/1000 -> 53339.373 | D22: =+SUM($C12:D12)/1000 -> 96185.434 | E22: =+SUM($C12:E12)/1000 -> 152213.59 | F22: =+SUM($C12:F12)/1000 -> 201278.21 | G22: =+SUM($C12:G12)/1000 -> 245542.1 | H22: =+SUM($C12:H12)/1000 -> 290128.5 | I22: =+SUM($C12:I12)/1000 -> 346463.74 | J22: =+SUM($C12:J12)/1000 -> 400555.01 | ... N22: =+SUM($C12:N12)/1000 -> 668860.64
B23: PRDM Diurnal Energy Cumulative Sum | C23: =+SUM($C18:C18)/1000 -> 46019.215 | D23: =+SUM($C18:D18)/1000 -> 87702.181 | E23: =+SUM($C18:E18)/1000 -> 183135.24 | F23: =+SUM($C18:F18)/1000 -> 251229.94 | G23: =+SUM($C18:G18)/1000 -> 308830.2 | H23: =+SUM($C18:H18)/1000 -> 352363.9 | I23: =+SUM($C18:I18)/1000 -> 374498.26 | J23: =+SUM($C18:J18)/1000 -> 394150.3 | ... N23: =+SUM($C18:N18)/1000 -> 668860.64
