Workbook
Name FirstYear: #REF!
Name Options: #REF!
Name SecondYear: #REF!
Name Spread: #REF!

Sheet Rate Calculations
A1: BP20 Power Rate Schedules and GRSPs section II.Q.2 - Power FRP Surcharge Rate
A2: https://www.bpa.gov/Finance/RateCases/BP-20/BP18/BP-20/Final-Proposal/BP-20-A-03-AP02%20Appendix%20B%20Power%20Rate%20Schedules%20and%20GRSPs.pdf
A3: December 11, 2019
B5: A | C5: B | D5: C | E5: D | F5: E | G5: F
A6: 1 | B6: (a) Power FRP Surcharge Rate: | G6: FY2020
A7: 2 | C7: Power FRP Surcharge Amount: | G7: 30000000
A8: 3 | C8: Sum of Dec - Sept Billing Determinants (MWh): | G8: =SUM('Sum of Billing Determinants'!E9:N9) -> 37044487
A9: 4 | C9: Power FRP Surcharge rate ($/MWh): | G9: =ROUND(G7/G8, 2) -> 0.81
A10: 5
A11: 6 | B11: (c) Adjusted PF Tier 1 Equivalent Energy Rates:
A12: 7 | E12: HLH ($/MWh) | F12: LLH ($/MWh)
A13: 8 | D13: 43739 | E13: 39.03 | F13: 34.07
A14: 9 | D14: 43770 | E14: 40.38 | F14: 37.03
A15: 10 | D15: 43800 | E15: =43.28+G9 -> 44.09 | F15: =38.75+G9 -> 39.56
A16: 11 | D16: 43831 | E16: =40.43+G9 -> 41.24 | F16: =34.4+G9 -> 35.21
A17: 12 | D17: 43862 | E17: =39.55+G9 -> 40.36 | F17: =34.47+G9 -> 35.28
A18: 13 | D18: 43891 | E18: =34.38+G9 -> 35.19 | F18: =31.3+G9 -> 32.11
A19: 14 | D19: 43922 | E19: =33.17+G9 -> 33.98 | F19: =29.59+G9 -> 30.4
A20: 15 | D20: 43952 | E20: =26.9+G9 -> 27.71 | F20: =21.74+G9 -> 22.55
A21: 16 | D21: 43983 | E21: =25.71+G9 -> 26.52 | F21: =16.87+G9 -> 17.68
A22: 17 | D22: 44013 | E22: =36.64+G9 -> 37.45 | F22: =30.5+G9 -> 31.31
A23: 18 | D23: 44044 | E23: =40.43+G9 -> 41.24 | F23: =35.4+G9 -> 36.21
A24: 19 | D24: 44075 | E24: =40.05+G9 -> 40.86 | F24: =35.17+G9 -> 35.98
A25: 20
A26: 21 | B26: (d) Annual Power FRP Surcharge Rate and Other Adjustments:
A27: 22 | C27: Sum of Annual Billing Determinants (MWh): | G27: =SUM('Sum of Billing Determinants'!C9:N9) -> 44625581
A28: 23 | C28: Annual Power FRP Surcharge Rate ($/MWh): | G28: =ROUND(G7/G27, 2) -> 0.67
A29: 24
A30: 25 | C30: Adjusted Load Shaping Charge True-Up rate: | G30: =-15.19-G28 -> -15.86
A31: 26 | C31: Adjusted PF Melded Equivalent Energy Scalar rate: | G31: =-14.84-G28 -> -15.51

Sheet Sum of Billing Determinants
A1: Sum of Billing Determinants
C2: 43739 | D2: 43770 | E2: 43800 | F2: 43831 | G2: 43862 | H2: 43891 | I2: 43922 | J2: 43952 | K2: 43983 | L2: 44013 | M2: 44044 | N2: 44075 | O2: Total
B3: RT1SC HLH (MWh) | C3: 3009065.4 | D3: 3677367.5 | E3: 3598456.7 | F3: 3035580.7 | G3: 2760597.1 | H3: 3094593.8 | I3: 2493584.7 | J3: 3468087.1 | K3: 4425608.2 | L3: 3680313.2 | M3: 3567762.7 | N3: 2993385.6 | O3: =SUM(C3:N3) -> 39804403
B4: RT1SC LLH (MWh) | C4: 1608251.8 | D4: 2188065.7 | E4: 2196143.5 | F4: 1794571.5 | G4: 1615019.7 | H4: 1772482.1 | I4: 1469193.7 | J4: 1876310.6 | K4: 2393479.7 | L4: 1666068 | M4: 1638548 | N4: 1680773.9 | O4: =SUM(C4:N4) -> 21898908
B5: System Shaped Load (MWh) | C5: =SUM(C13:C146) -> 3331486.7 | D5: =SUM(D13:D146) -> 4232027.4 | E5: =SUM(E13:E146) -> 4180919.9 | F5: =SUM(F13:F146) -> 3485051.4 | G5: =SUM(G13:G146) -> 3157095 | H5: =SUM(H13:H146) -> 3511692.6 | I5: =SUM(I13:I146) -> 2859223.9 | J5: =SUM(J13:J146) -> 3856089.8 | ... N5: =SUM(N13:N146) -> 3372499.5 | O5: =SUM(C5:N5) -> 44520173
B6: PF Melded Load (MWh) | C6: 0 | D6: 0 | E6: 0 | F6: 0 | G6: 0 | H6: 0 | I6: 0 | J6: 0 | K6: 0 | L6: 0 | M6: 0 | N6: 0 | O6: =SUM(C6:N6) -> 0
B7: IP Load (MWh) | C7: 8928 | D7: 8652 | E7: 8928 | F7: 8928 | G7: 8352 | H7: 8916 | I7: 8640 | J7: 8928 | K7: 8640 | L7: 8928 | M7: 8928 | N7: 8640 | O7: =SUM(C7:N7) -> 105408
B8: NR Load (MWh) | C8: 0 | D8: 0 | E8: 0 | F8: 0 | G8: 0 | H8: 0 | I8: 0 | J8: 0 | K8: 0 | L8: 0 | M8: 0 | N8: 0 | O8: =SUM(C8:N8) -> 0
B9: Sum of Billing Determinants (BD) (MWh) | C9: =SUM(C5:C8) -> 3340414.7 | D9: =SUM(D5:D8) -> 4240679.4 | E9: =SUM(E5:E8) -> 4189847.9 | F9: =SUM(F5:F8) -> 3493979.4 | G9: =SUM(G5:G8) -> 3165447 | H9: =SUM(H5:H8) -> 3520608.6 | I9: =SUM(I5:I8) -> 2867863.9 | J9: =SUM(J5:J8) -> 3865017.8 | ... N9: =SUM(N5:N8) -> 3381139.5 | O9: =SUM(C9:N9) -> 44625581
A11: PF System Shaped Loads (MWh) | Q11: TOCAs as of 09202019
C12: 43739 | D12: 43770 | E12: 43800 | F12: 43831 | G12: 43862 | H12: 43891 | I12: 43922 | J12: 43952 | K12: 43983 | L12: 44013 | M12: 44044 | N12: 44075 | O12: Total | R12: BESID | S12: Preference Customer | T12: TOCA 2020 | U12: TOCA 2021 | V12: Non-Slice TOCA 2020 | W12: Non-Slice TOCA 2021 | X12: Slice Percentage 2020 | Y12: Slice Percentage 2021 | Z12: RHWM | AA12: TOCA Load 2020* | AB12: TOCA Load 2021* | AC12: Applicable LDD FY2020
A13: =R13 -> 10005 | B13: =S13 -> Alder Mutual | C13: =ROUND(C$3*$V13, 3)+ROUND(C$4*$V13,3) -> 357.381 | D13: =ROUND(D$3*$V13, 3)+ROUND(D$4*$V13,3) -> 453.984 | E13: =ROUND(E$3*$V13, 3)+ROUND(E$4*$V13,3) -> 448.503 | F13: =ROUND(F$3*$V13, 3)+ROUND(F$4*$V13,3) -> 373.854 | G13: =ROUND(G$3*$V13, 3)+ROUND(G$4*$V13,3) -> 338.673 | H13: =ROUND(H$3*$V13, 3)+ROUND(H$4*$V13,3) -> 376.712 | I13: =ROUND(I$3*$V13, 3)+ROUND(I$4*$V13,3) -> 306.719 | J13: =ROUND(J$3*$V13, 3)+ROUND(J$4*$V13,3) -> 413.656 | ... N13: =ROUND(N$3*$V13, 3)+ROUND(N$4*$V13,3) -> 361.78 | O13: =SUM(C13:N13) -> 4775.838 | R13: 10005 | S13: Alder Mutual | T13: 7.74e-05 | U13: 7.76e-05 | V13: 7.74e-05 | W13: 7.76e-05 | X13: 0 | Y13: 0 | Z13: 0.545 | AA13: 0.544 | AB13: 0.545 | AC13: 0.03
A14: =R14 -> 10015 | B14: =S14 -> Asotin County PUD #1 | C14: =ROUND(C$3*$V14, 3)+ROUND(C$4*$V14,3) -> 374.464 | D14: =ROUND(D$3*$V14, 3)+ROUND(D$4*$V14,3) -> 475.687 | E14: =ROUND(E$3*$V14, 3)+ROUND(E$4*$V14,3) -> 469.942 | F14: =ROUND(F$3*$V14, 3)+ROUND(F$4*$V14,3) -> 391.726 | G14: =ROUND(G$3*$V14, 3)+ROUND(G$4*$V14,3) -> 354.862 | H14: =ROUND(H$3*$V14, 3)+ROUND(H$4*$V14,3) -> 394.72 | I14: =ROUND(I$3*$V14, 3)+ROUND(I$4*$V14,3) -> 321.382 | J14: =ROUND(J$3*$V14, 3)+ROUND(J$4*$V14,3) -> 433.431 | ... N14: =ROUND(N$3*$V14, 3)+ROUND(N$4*$V14,3) -> 379.075 | O14: =SUM(C14:N14) -> 5004.14 | R14: 10015 | S14: Asotin County PUD #1 | T14: 8.11e-05 | U14: 8.11e-05 | V14: 8.11e-05 | W14: 8.11e-05 | X14: 0 | Y14: 0 | Z14: 0.57 | AA14: 0.57 | AB14: 0.57 | AC14: 0
A15: =R15 -> 10024 | B15: =S15 -> Benton County PUD #1 | C15: =ROUND(C$3*$V15, 3)+ROUND(C$4*$V15,3) -> 68442.493 | D15: =ROUND(D$3*$V15, 3)+ROUND(D$4*$V15,3) -> 86943.317 | E15: =ROUND(E$3*$V15, 3)+ROUND(E$4*$V15,3) -> 85893.358 | F15: =ROUND(F$3*$V15, 3)+ROUND(F$4*$V15,3) -> 71597.346 | G15: =ROUND(G$3*$V15, 3)+ROUND(G$4*$V15,3) -> 64859.768 | H15: =ROUND(H$3*$V15, 3)+ROUND(H$4*$V15,3) -> 72144.666 | I15: =ROUND(I$3*$V15, 3)+ROUND(I$4*$V15,3) -> 58740.266 | J15: =ROUND(J$3*$V15, 3)+ROUND(J$4*$V15,3) -> 79220.007 | ... N15: =ROUND(N$3*$V15, 3)+ROUND(N$4*$V15,3) -> 69285.066 | O15: =SUM(C15:N15) -> 914628.18 | R15: 10024 | S15: Benton County PUD #1 | T15: 0.0285022 | U15: 0.0285022 | V15: 0.014823 | W15: 0.014823 | X15: 0.0136792 | Y15: 0.0136792 | Z15: 200.214 | AA15: 200.214 | AB15: 200.214 | AC15: 0
A16: =R16 -> 10025 | B16: =S16 -> Benton REA | C16: =ROUND(C$3*$V16, 3)+ROUND(C$4*$V16,3) -> 39007.095 | D16: =ROUND(D$3*$V16, 3)+ROUND(D$4*$V16,3) -> 49551.18 | E16: =ROUND(E$3*$V16, 3)+ROUND(E$4*$V16,3) -> 48952.782 | F16: =ROUND(F$3*$V16, 3)+ROUND(F$4*$V16,3) -> 40805.126 | G16: =ROUND(G$3*$V16, 3)+ROUND(G$4*$V16,3) -> 36965.211 | H16: =ROUND(H$3*$V16, 3)+ROUND(H$4*$V16,3) -> 41117.058 | I16: =ROUND(I$3*$V16, 3)+ROUND(I$4*$V16,3) -> 33477.553 | J16: =ROUND(J$3*$V16, 3)+ROUND(J$4*$V16,3) -> 45149.472 | ... N16: =ROUND(N$3*$V16, 3)+ROUND(N$4*$V16,3) -> 39487.3 | O16: =SUM(C16:N16) -> 521269.57 | R16: 10025 | S16: Benton REA | T16: 0.008448 | U16: 0.008448 | V16: 0.008448 | W16: 0.008448 | X16: 0 | Y16: 0 | Z16: 59.343 | AA16: 59.343 | AB16: 59.343 | AC16: 0.06724
A17: =R17 -> 10027 | B17: =S17 -> Big Bend Elec Coop | C17: =ROUND(C$3*$V17, 3)+ROUND(C$4*$V17,3) -> 40010.9 | D17: =ROUND(D$3*$V17, 3)+ROUND(D$4*$V17,3) -> 50826.326 | E17: =ROUND(E$3*$V17, 3)+ROUND(E$4*$V17,3) -> 50212.528 | F17: =ROUND(F$3*$V17, 3)+ROUND(F$4*$V17,3) -> 41855.201 | G17: =ROUND(G$3*$V17, 3)+ROUND(G$4*$V17,3) -> 37916.47 | H17: =ROUND(H$3*$V17, 3)+ROUND(H$4*$V17,3) -> 42175.16 | I17: =ROUND(I$3*$V17, 3)+ROUND(I$4*$V17,3) -> 34339.06 | J17: =ROUND(J$3*$V17, 3)+ROUND(J$4*$V17,3) -> 46311.344 | ... N17: =ROUND(N$3*$V17, 3)+ROUND(N$4*$V17,3) -> 40503.462 | O17: =SUM(C17:N17) -> 534683.87 | R17: 10027 | S17: Big Bend Elec Coop | T17: 0.0086654 | U17: 0.0086654 | V17: 0.0086654 | W17: 0.0086654 | X17: 0 | Y17: 0 | Z17: 60.87 | AA17: 60.87 | AB17: 60.87 | AC17: 0.07498
A18: =R18 -> 10029 | B18: =S18 -> Blachly Lane Elec Coop | C18: =ROUND(C$3*$V18, 3)+ROUND(C$4*$V18,3) -> 11517.898 | D18: =ROUND(D$3*$V18, 3)+ROUND(D$4*$V18,3) -> 14631.323 | E18: =ROUND(E$3*$V18, 3)+ROUND(E$4*$V18,3) -> 14454.63 | F18: =ROUND(F$3*$V18, 3)+ROUND(F$4*$V18,3) -> 12048.815 | G18: =ROUND(G$3*$V18, 3)+ROUND(G$4*$V18,3) -> 10914.977 | H18: =ROUND(H$3*$V18, 3)+ROUND(H$4*$V18,3) -> 12140.921 | I18: =ROUND(I$3*$V18, 3)+ROUND(I$4*$V18,3) -> 9885.151 | J18: =ROUND(J$3*$V18, 3)+ROUND(J$4*$V18,3) -> 13331.6 | ... N18: =ROUND(N$3*$V18, 3)+ROUND(N$4*$V18,3) -> 11659.69 | O18: =SUM(C18:N18) -> 153918.91 | R18: 10029 | S18: Blachly Lane Elec Coop | T18: 0.0024945 | U18: 0.0024945 | V18: 0.0024945 | W18: 0.0024945 | X18: 0 | Y18: 0 | Z18: 17.523 | AA18: 17.523 | AB18: 17.523 | AC18: 0.07851
A19: =R19 -> 10044 | B19: =S19 -> Canby, City of | C19: =ROUND(C$3*$V19, 3)+ROUND(C$4*$V19,3) -> 13278.942 | D19: =ROUND(D$3*$V19, 3)+ROUND(D$4*$V19,3) -> 16868.399 | E19: =ROUND(E$3*$V19, 3)+ROUND(E$4*$V19,3) -> 16664.691 | F19: =ROUND(F$3*$V19, 3)+ROUND(F$4*$V19,3) -> 13891.034 | G19: =ROUND(G$3*$V19, 3)+ROUND(G$4*$V19,3) -> 12583.836 | H19: =ROUND(H$3*$V19, 3)+ROUND(H$4*$V19,3) -> 13997.223 | I19: =ROUND(I$3*$V19, 3)+ROUND(I$4*$V19,3) -> 11396.554 | J19: =ROUND(J$3*$V19, 3)+ROUND(J$4*$V19,3) -> 15369.954 | ... N19: =ROUND(N$3*$V19, 3)+ROUND(N$4*$V19,3) -> 13442.416 | O19: =SUM(C19:N19) -> 177452.55 | R19: 10044 | S19: Canby, City of | T19: 0.0028759 | U19: 0.0028759 | V19: 0.0028759 | W19: 0.0028759 | X19: 0 | Y19: 0 | Z19: 20.202 | AA19: 20.202 | AB19: 20.202 | AC19: 0
A20: =R20 -> 10046 | B20: =S20 -> Central Electric Coop | C20: =ROUND(C$3*$V20, 3)+ROUND(C$4*$V20,3) -> 53517.476 | D20: =ROUND(D$3*$V20, 3)+ROUND(D$4*$V20,3) -> 67983.89 | E20: =ROUND(E$3*$V20, 3)+ROUND(E$4*$V20,3) -> 67162.893 | F20: =ROUND(F$3*$V20, 3)+ROUND(F$4*$V20,3) -> 55984.362 | G20: =ROUND(G$3*$V20, 3)+ROUND(G$4*$V20,3) -> 50716.024 | H20: =ROUND(H$3*$V20, 3)+ROUND(H$4*$V20,3) -> 56412.33 | I20: =ROUND(I$3*$V20, 3)+ROUND(I$4*$V20,3) -> 45930.98 | J20: =ROUND(J$3*$V20, 3)+ROUND(J$4*$V20,3) -> 61944.776 | ... N20: =ROUND(N$3*$V20, 3)+ROUND(N$4*$V20,3) -> 54176.313 | O20: =SUM(C20:N20) -> 715178.4 | R20: 10046 | S20: Central Electric Coop | T20: 0.0115906 | U20: 0.0115906 | V20: 0.0115906 | W20: 0.0115906 | X20: 0 | Y20: 0 | Z20: 81.418 | AA20: 81.418 | AB20: 81.418 | AC20: 0.07233
A21: =R21 -> 10047 | B21: =S21 -> Central Lincoln PUD | C21: =ROUND(C$3*$V21, 3)+ROUND(C$4*$V21,3) -> 101358.42 | D21: =ROUND(D$3*$V21, 3)+ROUND(D$4*$V21,3) -> 128756.82 | E21: =ROUND(E$3*$V21, 3)+ROUND(E$4*$V21,3) -> 127201.9 | F21: =ROUND(F$3*$V21, 3)+ROUND(F$4*$V21,3) -> 106030.54 | G21: =ROUND(G$3*$V21, 3)+ROUND(G$4*$V21,3) -> 96052.665 | H21: =ROUND(H$3*$V21, 3)+ROUND(H$4*$V21,3) -> 106841.08 | I21: =ROUND(I$3*$V21, 3)+ROUND(I$4*$V21,3) -> 86990.121 | J21: =ROUND(J$3*$V21, 3)+ROUND(J$4*$V21,3) -> 117319.15 | ... N21: =ROUND(N$3*$V21, 3)+ROUND(N$4*$V21,3) -> 102606.21 | O21: =SUM(C21:N21) -> 1354498.7 | R21: 10047 | S21: Central Lincoln PUD | T21: 0.0219518 | U21: 0.0219995 | V21: 0.0219518 | W21: 0.0219995 | X21: 0 | Y21: 0 | Z21: 155.843 | AA21: 154.201 | AB21: 154.536 | AC21: 0
A22: =R22 -> 10055 | B22: =S22 -> Albion, City of | C22: =ROUND(C$3*$V22, 3)+ROUND(C$4*$V22,3) -> 253.029 | D22: =ROUND(D$3*$V22, 3)+ROUND(D$4*$V22,3) -> 321.426 | E22: =ROUND(E$3*$V22, 3)+ROUND(E$4*$V22,3) -> 317.544 | F22: =ROUND(F$3*$V22, 3)+ROUND(F$4*$V22,3) -> 264.693 | G22: =ROUND(G$3*$V22, 3)+ROUND(G$4*$V22,3) -> 239.784 | H22: =ROUND(H$3*$V22, 3)+ROUND(H$4*$V22,3) -> 266.716 | I22: =ROUND(I$3*$V22, 3)+ROUND(I$4*$V22,3) -> 217.16 | J22: =ROUND(J$3*$V22, 3)+ROUND(J$4*$V22,3) -> 292.873 | ... N22: =ROUND(N$3*$V22, 3)+ROUND(N$4*$V22,3) -> 256.144 | O22: =SUM(C22:N22) -> 3381.342 | R22: 10055 | S22: Albion, City of | T22: 5.48e-05 | U22: 5.48e-05 | V22: 5.48e-05 | W22: 5.48e-05 | X22: 0 | Y22: 0 | Z22: 0.396 | AA22: 0.385 | AB22: 0.385 | AC22: 0
A23: =R23 -> 10057 | B23: =S23 -> Ashland, City of | C23: =ROUND(C$3*$V23, 3)+ROUND(C$4*$V23,3) -> 13140.423 | D23: =ROUND(D$3*$V23, 3)+ROUND(D$4*$V23,3) -> 16692.436 | E23: =ROUND(E$3*$V23, 3)+ROUND(E$4*$V23,3) -> 16490.853 | F23: =ROUND(F$3*$V23, 3)+ROUND(F$4*$V23,3) -> 13746.13 | G23: =ROUND(G$3*$V23, 3)+ROUND(G$4*$V23,3) -> 12452.567 | H23: =ROUND(H$3*$V23, 3)+ROUND(H$4*$V23,3) -> 13851.212 | I23: =ROUND(I$3*$V23, 3)+ROUND(I$4*$V23,3) -> 11277.671 | J23: =ROUND(J$3*$V23, 3)+ROUND(J$4*$V23,3) -> 15209.621 | ... N23: =ROUND(N$3*$V23, 3)+ROUND(N$4*$V23,3) -> 13302.19 | O23: =SUM(C23:N23) -> 175601.45 | R23: 10057 | S23: Ashland, City of | T23: 0.0028459 | U23: 0.0028449 | V23: 0.0028459 | W23: 0.0028449 | X23: 0 | Y23: 0 | Z23: 20.957 | AA23: 19.991 | AB23: 19.984 | AC23: 0
A24: =R24 -> 10059 | B24: =S24 -> Bandon, City of | C24: =ROUND(C$3*$V24, 3)+ROUND(C$4*$V24,3) -> 4906.361 | D24: =ROUND(D$3*$V24, 3)+ROUND(D$4*$V24,3) -> 6232.61 | E24: =ROUND(E$3*$V24, 3)+ROUND(E$4*$V24,3) -> 6157.342 | F24: =ROUND(F$3*$V24, 3)+ROUND(F$4*$V24,3) -> 5132.52 | G24: =ROUND(G$3*$V24, 3)+ROUND(G$4*$V24,3) -> 4649.531 | H24: =ROUND(H$3*$V24, 3)+ROUND(H$4*$V24,3) -> 5171.755 | I24: =ROUND(I$3*$V24, 3)+ROUND(I$4*$V24,3) -> 4210.848 | J24: =ROUND(J$3*$V24, 3)+ROUND(J$4*$V24,3) -> 5678.957 | ... N24: =ROUND(N$3*$V24, 3)+ROUND(N$4*$V24,3) -> 4966.762 | O24: =SUM(C24:N24) -> 65565.94 | R24: 10059 | S24: Bandon, City of | T24: 0.0010626 | U24: 0.0010647 | V24: 0.0010626 | W24: 0.0010647 | X24: 0 | Y24: 0 | Z24: 7.599 | AA24: 7.464 | AB24: 7.479 | AC24: 0
... A146: =R146 -> 12026 | B146: =S146 -> Jefferson County PUD #1 | C146: =ROUND(C$3*$V146, 3)+ROUND(C$4*$V146,3) -> 29240.546 | D146: =ROUND(D$3*$V146, 3)+ROUND(D$4*$V146,3) -> 37144.616 | E146: =ROUND(E$3*$V146, 3)+ROUND(E$4*$V146,3) -> 36696.044 | F146: =ROUND(F$3*$V146, 3)+ROUND(F$4*$V146,3) -> 30588.388 | G146: =ROUND(G$3*$V146, 3)+ROUND(G$4*$V146,3) -> 27709.906 | H146: =ROUND(H$3*$V146, 3)+ROUND(H$4*$V146,3) -> 30822.219 | I146: =ROUND(I$3*$V146, 3)+ROUND(I$4*$V146,3) -> 25095.483 | J146: =ROUND(J$3*$V146, 3)+ROUND(J$4*$V146,3) -> 33845.002 | ... N146: =ROUND(N$3*$V146, 3)+ROUND(N$4*$V146,3) -> 29600.517 | O146: =SUM(C146:N146) -> 390754.73 | R146: 12026 | S146: Jefferson County PUD #1 | T146: 0.0063328 | U146: 0.0063602 | V146: 0.0063328 | W146: 0.0063602 | X146: 0 | Y146: 0 | Z146: 44.934 | AA146: 44.485 | AB146: 44.677 | AC146: 0
R147: 10298 | S147: PNGC Aggregate | T147: 0.0743774 | U147: 0.074413 | V147: 0.0743774 | W147: 0.074413 | X147: 0 | Y147: 0 | Z147: 527.356 | AA147: 522.465 | AB147: 522.715

Sheet PF Customer Bill Amounts
A1: Final FY 2020 Power FRP Surcharge Estimates by PF Customer net Low Density Discount (LDD)
A2: (the amounts below may differ from billed amounts due to rounding)
B4: BESID | C4: Preference Customer | D4: 43800 | E4: 43831 | F4: 43862 | G4: 43891 | H4: 43922 | I4: 43952 | J4: 43983 | K4: 44013 | L4: 44044 | M4: 44075 | N4: Total
B5: ='Sum of Billing Determinants'!A13 -> 10005 | C5: ='Sum of Billing Determinants'!B13 -> Alder Mutual | D5: =ROUND('Sum of Billing Determinants'!E13*'Rate Calculations'!$G$9*(1-'Sum of Billing Determinants'!$AC13), 0) -> 352 | E5: =ROUND('Sum of Billing Determinants'!F13*'Rate Calculations'!$G$9*(1-'Sum of Billing Determinants'!$AC13), 0) -> 294 | F5: =ROUND('Sum of Billing Determinants'!G13*'Rate Calculations'!$G$9*(1-'Sum of Billing Determinants'!$AC13), 0) -> 266 | G5: =ROUND('Sum of Billing Determinants'!H13*'Rate Calculations'!$G$9*(1-'Sum of Billing Determinants'!$AC13), 0) -> 296 | H5: =ROUND('Sum of Billing Determinants'!I13*'Rate Calculations'!$G$9*(1-'Sum of Billing Determinants'!$AC13), 0) -> 241 | I5: =ROUND('Sum of Billing Determinants'!J13*'Rate Calculations'!$G$9*(1-'Sum of Billing Determinants'!$AC13), 0) -> 325 | J5: =ROUND('Sum of Billing Determinants'!K13*'Rate Calculations'!$G$9*(1-'Sum of Billing Determinants'!$AC13), 0) -> 415 | K5: =ROUND('Sum of Billing Determinants'!L13*'Rate Calculations'!$G$9*(1-'Sum of Billing Determinants'!$AC13), 0) -> 325 | ... M5: =ROUND('Sum of Billing Determinants'!N13*'Rate Calculations'!$G$9*(1-'Sum of Billing Determinants'!$AC13), 0) -> 284 | N5: =SUM(D5:M5) -> 3115
B6: ='Sum of Billing Determinants'!A14 -> 10015 | C6: ='Sum of Billing Determinants'!B14 -> Asotin County PUD #1 | D6: =ROUND('Sum of Billing Determinants'!E14*'Rate Calculations'!$G$9*(1-'Sum of Billing Determinants'!$AC14), 0) -> 381 | E6: =ROUND('Sum of Billing Determinants'!F14*'Rate Calculations'!$G$9*(1-'Sum of Billing Determinants'!$AC14), 0) -> 317 | F6: =ROUND('Sum of Billing Determinants'!G14*'Rate Calculations'!$G$9*(1-'Sum of Billing Determinants'!$AC14), 0) -> 287 | G6: =ROUND('Sum of Billing Determinants'!H14*'Rate Calculations'!$G$9*(1-'Sum of Billing Determinants'!$AC14), 0) -> 320 | H6: =ROUND('Sum of Billing Determinants'!I14*'Rate Calculations'!$G$9*(1-'Sum of Billing Determinants'!$AC14), 0) -> 260 | I6: =ROUND('Sum of Billing Determinants'!J14*'Rate Calculations'!$G$9*(1-'Sum of Billing Determinants'!$AC14), 0) -> 351 | J6: =ROUND('Sum of Billing Determinants'!K14*'Rate Calculations'!$G$9*(1-'Sum of Billing Determinants'!$AC14), 0) -> 448 | K6: =ROUND('Sum of Billing Determinants'!L14*'Rate Calculations'!$G$9*(1-'Sum of Billing Determinants'!$AC14), 0) -> 351 | ... M6: =ROUND('Sum of Billing Determinants'!N14*'Rate Calculations'!$G$9*(1-'Sum of Billing Determinants'!$AC14), 0) -> 307 | N6: =SUM(D6:M6) -> 3364
B7: ='Sum of Billing Determinants'!A15 -> 10024 | C7: ='Sum of Billing Determinants'!B15 -> Benton County PUD #1 | D7: =ROUND('Sum of Billing Determinants'!E15*'Rate Calculations'!$G$9*(1-'Sum of Billing Determinants'!$AC15), 0) -> 69574 | E7: =ROUND('Sum of Billing Determinants'!F15*'Rate Calculations'!$G$9*(1-'Sum of Billing Determinants'!$AC15), 0) -> 57994 | F7: =ROUND('Sum of Billing Determinants'!G15*'Rate Calculations'!$G$9*(1-'Sum of Billing Determinants'!$AC15), 0) -> 52536 | G7: =ROUND('Sum of Billing Determinants'!H15*'Rate Calculations'!$G$9*(1-'Sum of Billing Determinants'!$AC15), 0) -> 58437 | H7: =ROUND('Sum of Billing Determinants'!I15*'Rate Calculations'!$G$9*(1-'Sum of Billing Determinants'!$AC15), 0) -> 47580 | I7: =ROUND('Sum of Billing Determinants'!J15*'Rate Calculations'!$G$9*(1-'Sum of Billing Determinants'!$AC15), 0) -> 64168 | J7: =ROUND('Sum of Billing Determinants'!K15*'Rate Calculations'!$G$9*(1-'Sum of Billing Determinants'!$AC15), 0) -> 81874 | K7: =ROUND('Sum of Billing Determinants'!L15*'Rate Calculations'!$G$9*(1-'Sum of Billing Determinants'!$AC15), 0) -> 64192 | ... M7: =ROUND('Sum of Billing Determinants'!N15*'Rate Calculations'!$G$9*(1-'Sum of Billing Determinants'!$AC15), 0) -> 56121 | N7: =SUM(D7:M7) -> 614986
B8: ='Sum of Billing Determinants'!A16 -> 10025 | C8: ='Sum of Billing Determinants'!B16 -> Benton REA | D8: =ROUND('Sum of Billing Determinants'!E16*'Rate Calculations'!$G$9*(1-'Sum of Billing Determinants'!$AC16), 0) -> 36986 | E8: =ROUND('Sum of Billing Determinants'!F16*'Rate Calculations'!$G$9*(1-'Sum of Billing Determinants'!$AC16), 0) -> 30830 | F8: =ROUND('Sum of Billing Determinants'!G16*'Rate Calculations'!$G$9*(1-'Sum of Billing Determinants'!$AC16), 0) -> 27929 | G8: =ROUND('Sum of Billing Determinants'!H16*'Rate Calculations'!$G$9*(1-'Sum of Billing Determinants'!$AC16), 0) -> 31065 | H8: =ROUND('Sum of Billing Determinants'!I16*'Rate Calculations'!$G$9*(1-'Sum of Billing Determinants'!$AC16), 0) -> 25293 | I8: =ROUND('Sum of Billing Determinants'!J16*'Rate Calculations'!$G$9*(1-'Sum of Billing Determinants'!$AC16), 0) -> 34112 | J8: =ROUND('Sum of Billing Determinants'!K16*'Rate Calculations'!$G$9*(1-'Sum of Billing Determinants'!$AC16), 0) -> 43525 | K8: =ROUND('Sum of Billing Determinants'!L16*'Rate Calculations'!$G$9*(1-'Sum of Billing Determinants'!$AC16), 0) -> 34125 | ... M8: =ROUND('Sum of Billing Determinants'!N16*'Rate Calculations'!$G$9*(1-'Sum of Billing Determinants'!$AC16), 0) -> 29834 | N8: =SUM(D8:M8) -> 326930
B9: ='Sum of Billing Determinants'!A17 -> 10027 | C9: ='Sum of Billing Determinants'!B17 -> Big Bend Elec Coop | D9: =ROUND('Sum of Billing Determinants'!E17*'Rate Calculations'!$G$9*(1-'Sum of Billing Determinants'!$AC17), 0) -> 37623 | E9: =ROUND('Sum of Billing Determinants'!F17*'Rate Calculations'!$G$9*(1-'Sum of Billing Determinants'!$AC17), 0) -> 31361 | F9: =ROUND('Sum of Billing Determinants'!G17*'Rate Calculations'!$G$9*(1-'Sum of Billing Determinants'!$AC17), 0) -> 28410 | G9: =ROUND('Sum of Billing Determinants'!H17*'Rate Calculations'!$G$9*(1-'Sum of Billing Determinants'!$AC17), 0) -> 31600 | H9: =ROUND('Sum of Billing Determinants'!I17*'Rate Calculations'!$G$9*(1-'Sum of Billing Determinants'!$AC17), 0) -> 25729 | I9: =ROUND('Sum of Billing Determinants'!J17*'Rate Calculations'!$G$9*(1-'Sum of Billing Determinants'!$AC17), 0) -> 34700 | J9: =ROUND('Sum of Billing Determinants'!K17*'Rate Calculations'!$G$9*(1-'Sum of Billing Determinants'!$AC17), 0) -> 44274 | K9: =ROUND('Sum of Billing Determinants'!L17*'Rate Calculations'!$G$9*(1-'Sum of Billing Determinants'!$AC17), 0) -> 34712 | ... M9: =ROUND('Sum of Billing Determinants'!N17*'Rate Calculations'!$G$9*(1-'Sum of Billing Determinants'!$AC17), 0) -> 30348 | N9: =SUM(D9:M9) -> 332560
B10: ='Sum of Billing Determinants'!A18 -> 10029 | C10: ='Sum of Billing Determinants'!B18 -> Blachly Lane Elec Coop | D10: =ROUND('Sum of Billing Determinants'!E18*'Rate Calculations'!$G$9*(1-'Sum of Billing Determinants'!$AC18), 0) -> 10789 | E10: =ROUND('Sum of Billing Determinants'!F18*'Rate Calculations'!$G$9*(1-'Sum of Billing Determinants'!$AC18), 0) -> 8993 | F10: =ROUND('Sum of Billing Determinants'!G18*'Rate Calculations'!$G$9*(1-'Sum of Billing Determinants'!$AC18), 0) -> 8147 | G10: =ROUND('Sum of Billing Determinants'!H18*'Rate Calculations'!$G$9*(1-'Sum of Billing Determinants'!$AC18), 0) -> 9062 | H10: =ROUND('Sum of Billing Determinants'!I18*'Rate Calculations'!$G$9*(1-'Sum of Billing Determinants'!$AC18), 0) -> 7378 | I10: =ROUND('Sum of Billing Determinants'!J18*'Rate Calculations'!$G$9*(1-'Sum of Billing Determinants'!$AC18), 0) -> 9951 | J10: =ROUND('Sum of Billing Determinants'!K18*'Rate Calculations'!$G$9*(1-'Sum of Billing Determinants'!$AC18), 0) -> 12697 | K10: =ROUND('Sum of Billing Determinants'!L18*'Rate Calculations'!$G$9*(1-'Sum of Billing Determinants'!$AC18), 0) -> 9954 | ... M10: =ROUND('Sum of Billing Determinants'!N18*'Rate Calculations'!$G$9*(1-'Sum of Billing Determinants'!$AC18), 0) -> 8703 | N10: =SUM(D10:M10) -> 95368
B11: ='Sum of Billing Determinants'!A19 -> 10044 | C11: ='Sum of Billing Determinants'!B19 -> Canby, City of | D11: =ROUND('Sum of Billing Determinants'!E19*'Rate Calculations'!$G$9*(1-'Sum of Billing Determinants'!$AC19), 0) -> 13498 | E11: =ROUND('Sum of Billing Determinants'!F19*'Rate Calculations'!$G$9*(1-'Sum of Billing Determinants'!$AC19), 0) -> 11252 | F11: =ROUND('Sum of Billing Determinants'!G19*'Rate Calculations'!$G$9*(1-'Sum of Billing Determinants'!$AC19), 0) -> 10193 | G11: =ROUND('Sum of Billing Determinants'!H19*'Rate Calculations'!$G$9*(1-'Sum of Billing Determinants'!$AC19), 0) -> 11338 | H11: =ROUND('Sum of Billing Determinants'!I19*'Rate Calculations'!$G$9*(1-'Sum of Billing Determinants'!$AC19), 0) -> 9231 | I11: =ROUND('Sum of Billing Determinants'!J19*'Rate Calculations'!$G$9*(1-'Sum of Billing Determinants'!$AC19), 0) -> 12450 | J11: =ROUND('Sum of Billing Determinants'!K19*'Rate Calculations'!$G$9*(1-'Sum of Billing Determinants'!$AC19), 0) -> 15885 | K11: =ROUND('Sum of Billing Determinants'!L19*'Rate Calculations'!$G$9*(1-'Sum of Billing Determinants'!$AC19), 0) -> 12454 | ... M11: =ROUND('Sum of Billing Determinants'!N19*'Rate Calculations'!$G$9*(1-'Sum of Billing Determinants'!$AC19), 0) -> 10888 | N11: =SUM(D11:M11) -> 119317
B12: ='Sum of Billing Determinants'!A20 -> 10046 | C12: ='Sum of Billing Determinants'!B20 -> Central Electric Coop | D12: =ROUND('Sum of Billing Determinants'!E20*'Rate Calculations'!$G$9*(1-'Sum of Billing Determinants'!$AC20), 0) -> 50467 | E12: =ROUND('Sum of Billing Determinants'!F20*'Rate Calculations'!$G$9*(1-'Sum of Billing Determinants'!$AC20), 0) -> 42067 | F12: =ROUND('Sum of Billing Determinants'!G20*'Rate Calculations'!$G$9*(1-'Sum of Billing Determinants'!$AC20), 0) -> 38109 | G12: =ROUND('Sum of Billing Determinants'!H20*'Rate Calculations'!$G$9*(1-'Sum of Billing Determinants'!$AC20), 0) -> 42389 | H12: =ROUND('Sum of Billing Determinants'!I20*'Rate Calculations'!$G$9*(1-'Sum of Billing Determinants'!$AC20), 0) -> 34513 | I12: =ROUND('Sum of Billing Determinants'!J20*'Rate Calculations'!$G$9*(1-'Sum of Billing Determinants'!$AC20), 0) -> 46546 | J12: =ROUND('Sum of Billing Determinants'!K20*'Rate Calculations'!$G$9*(1-'Sum of Billing Determinants'!$AC20), 0) -> 59390 | K12: =ROUND('Sum of Billing Determinants'!L20*'Rate Calculations'!$G$9*(1-'Sum of Billing Determinants'!$AC20), 0) -> 46563 | ... M12: =ROUND('Sum of Billing Determinants'!N20*'Rate Calculations'!$G$9*(1-'Sum of Billing Determinants'!$AC20), 0) -> 40709 | N12: =SUM(D12:M12) -> 446096
B13: ='Sum of Billing Determinants'!A21 -> 10047 | C13: ='Sum of Billing Determinants'!B21 -> Central Lincoln PUD | D13: =ROUND('Sum of Billing Determinants'!E21*'Rate Calculations'!$G$9*(1-'Sum of Billing Determinants'!$AC21), 0) -> 103034 | E13: =ROUND('Sum of Billing Determinants'!F21*'Rate Calculations'!$G$9*(1-'Sum of Billing Determinants'!$AC21), 0) -> 85885 | F13: =ROUND('Sum of Billing Determinants'!G21*'Rate Calculations'!$G$9*(1-'Sum of Billing Determinants'!$AC21), 0) -> 77803 | G13: =ROUND('Sum of Billing Determinants'!H21*'Rate Calculations'!$G$9*(1-'Sum of Billing Determinants'!$AC21), 0) -> 86541 | H13: =ROUND('Sum of Billing Determinants'!I21*'Rate Calculations'!$G$9*(1-'Sum of Billing Determinants'!$AC21), 0) -> 70462 | I13: =ROUND('Sum of Billing Determinants'!J21*'Rate Calculations'!$G$9*(1-'Sum of Billing Determinants'!$AC21), 0) -> 95029 | J13: =ROUND('Sum of Billing Determinants'!K21*'Rate Calculations'!$G$9*(1-'Sum of Billing Determinants'!$AC21), 0) -> 121250 | K13: =ROUND('Sum of Billing Determinants'!L21*'Rate Calculations'!$G$9*(1-'Sum of Billing Determinants'!$AC21), 0) -> 95064 | ... M13: =ROUND('Sum of Billing Determinants'!N21*'Rate Calculations'!$G$9*(1-'Sum of Billing Determinants'!$AC21), 0) -> 83111 | N13: =SUM(D13:M13) -> 910752
B14: ='Sum of Billing Determinants'!A22 -> 10055 | C14: ='Sum of Billing Determinants'!B22 -> Albion, City of | D14: =ROUND('Sum of Billing Determinants'!E22*'Rate Calculations'!$G$9*(1-'Sum of Billing Determinants'!$AC22), 0) -> 257 | E14: =ROUND('Sum of Billing Determinants'!F22*'Rate Calculations'!$G$9*(1-'Sum of Billing Determinants'!$AC22), 0) -> 214 | F14: =ROUND('Sum of Billing Determinants'!G22*'Rate Calculations'!$G$9*(1-'Sum of Billing Determinants'!$AC22), 0) -> 194 | G14: =ROUND('Sum of Billing Determinants'!H22*'Rate Calculations'!$G$9*(1-'Sum of Billing Determinants'!$AC22), 0) -> 216 | H14: =ROUND('Sum of Billing Determinants'!I22*'Rate Calculations'!$G$9*(1-'Sum of Billing Determinants'!$AC22), 0) -> 176 | I14: =ROUND('Sum of Billing Determinants'!J22*'Rate Calculations'!$G$9*(1-'Sum of Billing Determinants'!$AC22), 0) -> 237 | J14: =ROUND('Sum of Billing Determinants'!K22*'Rate Calculations'!$G$9*(1-'Sum of Billing Determinants'!$AC22), 0) -> 303 | K14: =ROUND('Sum of Billing Determinants'!L22*'Rate Calculations'!$G$9*(1-'Sum of Billing Determinants'!$AC22), 0) -> 237 | ... M14: =ROUND('Sum of Billing Determinants'!N22*'Rate Calculations'!$G$9*(1-'Sum of Billing Determinants'!$AC22), 0) -> 207 | N14: =SUM(D14:M14) -> 2272
B15: ='Sum of Billing Determinants'!A23 -> 10057 | C15: ='Sum of Billing Determinants'!B23 -> Ashland, City of | D15: =ROUND('Sum of Billing Determinants'!E23*'Rate Calculations'!$G$9*(1-'Sum of Billing Determinants'!$AC23), 0) -> 13358 | E15: =ROUND('Sum of Billing Determinants'!F23*'Rate Calculations'!$G$9*(1-'Sum of Billing Determinants'!$AC23), 0) -> 11134 | F15: =ROUND('Sum of Billing Determinants'!G23*'Rate Calculations'!$G$9*(1-'Sum of Billing Determinants'!$AC23), 0) -> 10087 | G15: =ROUND('Sum of Billing Determinants'!H23*'Rate Calculations'!$G$9*(1-'Sum of Billing Determinants'!$AC23), 0) -> 11219 | H15: =ROUND('Sum of Billing Determinants'!I23*'Rate Calculations'!$G$9*(1-'Sum of Billing Determinants'!$AC23), 0) -> 9135 | I15: =ROUND('Sum of Billing Determinants'!J23*'Rate Calculations'!$G$9*(1-'Sum of Billing Determinants'!$AC23), 0) -> 12320 | J15: =ROUND('Sum of Billing Determinants'!K23*'Rate Calculations'!$G$9*(1-'Sum of Billing Determinants'!$AC23), 0) -> 15719 | K15: =ROUND('Sum of Billing Determinants'!L23*'Rate Calculations'!$G$9*(1-'Sum of Billing Determinants'!$AC23), 0) -> 12324 | ... M15: =ROUND('Sum of Billing Determinants'!N23*'Rate Calculations'!$G$9*(1-'Sum of Billing Determinants'!$AC23), 0) -> 10775 | N15: =SUM(D15:M15) -> 118072
B16: ='Sum of Billing Determinants'!A24 -> 10059 | C16: ='Sum of Billing Determinants'!B24 -> Bandon, City of | D16: =ROUND('Sum of Billing Determinants'!E24*'Rate Calculations'!$G$9*(1-'Sum of Billing Determinants'!$AC24), 0) -> 4987 | E16: =ROUND('Sum of Billing Determinants'!F24*'Rate Calculations'!$G$9*(1-'Sum of Billing Determinants'!$AC24), 0) -> 4157 | F16: =ROUND('Sum of Billing Determinants'!G24*'Rate Calculations'!$G$9*(1-'Sum of Billing Determinants'!$AC24), 0) -> 3766 | G16: =ROUND('Sum of Billing Determinants'!H24*'Rate Calculations'!$G$9*(1-'Sum of Billing Determinants'!$AC24), 0) -> 4189 | H16: =ROUND('Sum of Billing Determinants'!I24*'Rate Calculations'!$G$9*(1-'Sum of Billing Determinants'!$AC24), 0) -> 3411 | I16: =ROUND('Sum of Billing Determinants'!J24*'Rate Calculations'!$G$9*(1-'Sum of Billing Determinants'!$AC24), 0) -> 4600 | J16: =ROUND('Sum of Billing Determinants'!K24*'Rate Calculations'!$G$9*(1-'Sum of Billing Determinants'!$AC24), 0) -> 5869 | K16: =ROUND('Sum of Billing Determinants'!L24*'Rate Calculations'!$G$9*(1-'Sum of Billing Determinants'!$AC24), 0) -> 4602 | ... M16: =ROUND('Sum of Billing Determinants'!N24*'Rate Calculations'!$G$9*(1-'Sum of Billing Determinants'!$AC24), 0) -> 4023 | N16: =SUM(D16:M16) -> 44085
... B138: ='Sum of Billing Determinants'!A146 -> 12026 | C138: ='Sum of Billing Determinants'!B146 -> Jefferson County PUD #1 | D138: =ROUND('Sum of Billing Determinants'!E146*'Rate Calculations'!$G$9*(1-'Sum of Billing Determinants'!$AC146), 0) -> 29724 | E138: =ROUND('Sum of Billing Determinants'!F146*'Rate Calculations'!$G$9*(1-'Sum of Billing Determinants'!$AC146), 0) -> 24777 | F138: =ROUND('Sum of Billing Determinants'!G146*'Rate Calculations'!$G$9*(1-'Sum of Billing Determinants'!$AC146), 0) -> 22445 | G138: =ROUND('Sum of Billing Determinants'!H146*'Rate Calculations'!$G$9*(1-'Sum of Billing Determinants'!$AC146), 0) -> 24966 | H138: =ROUND('Sum of Billing Determinants'!I146*'Rate Calculations'!$G$9*(1-'Sum of Billing Determinants'!$AC146), 0) -> 20327 | I138: =ROUND('Sum of Billing Determinants'!J146*'Rate Calculations'!$G$9*(1-'Sum of Billing Determinants'!$AC146), 0) -> 27414 | J138: =ROUND('Sum of Billing Determinants'!K146*'Rate Calculations'!$G$9*(1-'Sum of Billing Determinants'!$AC146), 0) -> 34979 | K138: =ROUND('Sum of Billing Determinants'!L146*'Rate Calculations'!$G$9*(1-'Sum of Billing Determinants'!$AC146), 0) -> 27425 | ... M138: =ROUND('Sum of Billing Determinants'!N146*'Rate Calculations'!$G$9*(1-'Sum of Billing Determinants'!$AC146), 0) -> 23976 | N138: =SUM(D138:M138) -> 262739
