Workbook

Sheet RT1SC
B1: Table 1: Tier 1 System Capability for FY 2026-2028 Rate Period
B5: BESID | C5: RHWM Augmentation | D5: Initial CHWM | E5: Additional CHWM through BP-24 | F5: TRL 2028 | G5: Additional CHWM 2026 | H5: Total Additional CHWM | I5: 2026 CHWM
B6: 10426 | C6: U.S. DOE Richland Operations Office | D6: 20.288 | E6: 16.796 | F6: 42.61 | G6: 5.526 | H6: 22.322 | I6: =+H6+D6 -> 42.61
B7: 10482 | C7: Umpqua Indian Utility Cooperative | D7: 2.8 | E7: 1.375 | F7: 2.69 | G7: 0 | H7: 1.375 | I7: =+H7+D7 -> 4.175
B8: 10502 | C8: Yakama Power | D8: 13.496 | E8: 5.49 | F8: 18.883 | G8: 0 | H8: 5.49 | I8: =+H8+D8 -> 18.986
B9: 13927 | C9: Kalispel Tribe Utility | D9: 2.894 | E9: 1.24 | F9: 4.575 | G9: 0 | H9: 1.24 | I9: =+H9+D9 -> 4.134
B10: 12026 | C10: Jefferson County PUD #1 | D10: 0 | E10: 45.847 | H10: 45.847 | I10: =+H10+D10 -> 45.847
C12: T1SFCO | D12: 6882.413
C13: RHWM Augmentation | D13: =SUM(H6:H10) -> 76.274
C14: RT1SC | D14: =D12+D13 -> 6958.687
C18: RT1SC System Shape | D18: HLH | E18: LLH
C19: 45931 | D19: 2599322.1 | E19: 1598622.9
C20: 45962 | D20: 3196273.9 | E20: 2127189.3
C21: 45992 | D21: 3672942 | E21: 2118242.2
C22: 46023 | D22: 3807261.7 | E22: 2299029.1
C23: 46054 | D23: 3224560.2 | E23: 1838548.3
C24: 46082 | D24: 3327995.4 | E24: 1963331.5
C25: 46113 | D25: 2436672.6 | E25: 1587877.8
C26: 46143 | D26: 3012369 | E26: 2127277.1
C27: 46174 | D27: 3674596.3 | E27: 1986018.2
C28: 46204 | D28: 3218347.8 | E28: 1919255.3
C29: 46235 | D29: 3199877.6 | E29: 1741219.1
C30: 46266 | D30: 2699590.4 | E30: 1637347.7
... C54: 46997 | D54: 2699590.4 | E54: 1637347.7

Sheet RHWM
B1: Table 2: RHWM Process Outputs for FY 2026-28 Rate Period - RHWMs
A2: TOC | F2: A* | G2: B | H2: C | I2: D | J2: E | K2: F | L2: G | M2: H** | N2: I** | O2: J** | P2: K | Q2: L | R2: M | S2: O
A3: é | B3: BESID | C3: Preference Customer | D3: NOTJOE | E3: JOE | F3: CHWM 2026 | G3: TRL 2026 | H3: TRL 2027 | I3: TRL 2028 | J3: NLSL 2026 | K3: NLSL 2027 | L3: NLSL 2028 | M3: Existing/Other Resource aMW 2026 | N3: Existing/Other Resource aMW 2027 | O3: Existing/Other Resource aMW 2028 | P3: TRL - NLSL - Existing Resource 2026 | Q3: TRL - NLSL - Existing Resource 2027 | R3: TRL - NLSL - Existing Resource 2028 | S3: RHWM 2026
B4: 10015 | C4: Asotin County PUD #1 | D4: 1 | E4: 0 | F4: 0.582 | G4: 0.761 | H4: 0.761 | I4: 0.76 | J4: 0 | K4: 0 | L4: 0 | M4: 0 | N4: 0 | O4: 0 | P4: 0.761 | Q4: 0.761 | R4: 0.76 | S4: 0.565
B5: 10024 | C5: Benton County PUD #1 | D5: 1 | E5: 0 | F5: 203.92 | G5: 213.666 | H5: 214.564 | I5: 214.739 | J5: 0 | K5: 0 | L5: 0 | M5: 0.919 | N5: 0.919 | O5: 0.918 | P5: 212.747 | Q5: 213.645 | R5: 213.821 | S5: 197.793
B6: 10025 | C6: Benton REA | D6: 1 | E6: 0 | F6: 60.549 | G6: 74.805 | H6: 75.47 | I6: 75.931 | J6: 0 | K6: 0 | L6: 0 | M6: 0 | N6: 0 | O6: 0 | P6: 74.805 | Q6: 75.47 | R6: 75.931 | S6: 58.73
B7: 10027 | C7: Big Bend Elec Coop | D7: 1 | E7: 0 | F7: 62.107 | G7: 68.318 | H7: 68.653 | I7: 68.838 | J7: 0 | K7: 0 | L7: 0 | M7: 0 | N7: 0 | O7: 0 | P7: 68.318 | Q7: 68.653 | R7: 68.838 | S7: 60.241
B8: 10029 | C8: Blachly Lane Elec Coop | D8: 0 | E8: 1 | F8: 17.879 | G8: 23.213 | H8: 24.409 | I8: 24.669 | J8: 0 | K8: 0 | L8: 0 | M8: 0 | N8: 0 | O8: 0 | P8: 23.213 | Q8: 24.409 | R8: 24.669 | S8: 17.342
B9: 10044 | C9: Canby, City of | D9: 1 | E9: 0 | F9: 20.612 | G9: 22.338 | H9: 22.45 | I9: 22.556 | J9: 0 | K9: 0 | L9: 0 | M9: 0 | N9: 0 | O9: 0 | P9: 22.338 | Q9: 22.45 | R9: 22.556 | S9: 19.993
B10: 10046 | C10: Central Electric Coop | D10: 0 | E10: 1 | F10: 83.072 | G10: 102.441 | H10: 103.89 | I10: 105.331 | J10: 0 | K10: 0 | L10: 0 | M10: 0 | N10: 0 | O10: 0 | P10: 102.441 | Q10: 103.89 | R10: 105.331 | S10: 80.576
B11: 10047 | C11: Central Lincoln PUD | D11: 1 | E11: 0 | F11: 159.01 | G11: 151.52 | H11: 151.672 | I11: 151.976 | J11: 0 | K11: 0 | L11: 0 | M11: 0 | N11: 0 | O11: 0 | P11: 151.52 | Q11: 151.672 | R11: 151.976 | S11: 154.232
B12: 10055 | C12: Albion, City of | D12: 1 | E12: 0 | F12: 0.404 | G12: 0.466 | H12: 0.469 | I12: 0.471 | J12: 0 | K12: 0 | L12: 0 | M12: 0 | N12: 0 | O12: 0 | P12: 0.466 | Q12: 0.469 | R12: 0.471 | S12: 0.392
B13: 10057 | C13: Ashland, City of | D13: 1 | E13: 0 | F13: 21.383 | G13: 19.376 | H13: 19.376 | I13: 19.381 | J13: 0 | K13: 0 | L13: 0 | M13: 0.158 | N13: 0.158 | O13: 0.158 | P13: 19.218 | Q13: 19.218 | R13: 19.223 | S13: 20.74
B14: 10059 | C14: Bandon, City of | D14: 1 | E14: 0 | F14: 7.753 | G14: 7.735 | H14: 7.735 | I14: 7.735 | J14: 0 | K14: 0 | L14: 0 | M14: 0 | N14: 0 | O14: 0 | P14: 7.735 | Q14: 7.735 | R14: 7.735 | S14: 7.52
B15: 10061 | C15: Blaine, City of | D15: 1 | E15: 0 | F15: 8.877 | G15: 11.823 | H15: 12.473 | I15: 13.11 | J15: 0 | K15: 0 | L15: 0 | M15: 0 | N15: 0 | O15: 0 | P15: 11.823 | Q15: 12.473 | R15: 13.11 | S15: 8.61
... B137: 10298 | C137: PNGC Aggregate | D137: 1 | E137: 0 | F137: 611.261 | G137: 711.888 | H137: 720.197 | I137: 726.621 | J137: 0 | K137: 0 | L137: 0 | M137: 8.25 | N137: 8.25 | O137: 8.255 | P137: 703.635 | Q137: 711.945 | R137: 718.365 | S137: 592.894
B139: * CHWMs are from the Final CHWMs spreadsheet published on May 19, 2011, as adjusted for Retained Provisional CHWM on April 7, 2014 and Additional CHWMs, with the following exceptions: a) Yakama Power, USBIA Wapato, and Benton REA's CHWMs were revised after Yakama Power annexed all of USBIA Wapato's load and a portion of Benton REA's load; b) Benton PUD and City of Richland CHWMs were revised after annexation (these annexations did not change the sum of CHWMs, it only redistributed CHWM amongst the parties); c) Jefferson PUD's CHWM was finalized and accounts for wheel turning load at Port Townsend Paper; d) Kalispel's annexation of Inland Power's Initial CHWM to form a New Public; and e) Alder Mutual CHWM is subsumed under OHOP due to utility merger.
B140: ** The Existing/Other Resource column includes the following: a) Existing Resource amounts in Exhibit A; b) New Resource amounts in Exhibit A that have been added to offset Tier 1 Load (Fall River's Chester Hydro; Lane Electric's King Estate; Lower Valley's Culinary, Lower Swift Creek, and Upper Swift Creek; Salmon River's Rock Creek Hydro; Tillamook's Farm Power; and Umatilla's Moyer-Tolles Solar Array); and c) forecast generation amounts for any Consumer-Owned Resources serving either i) Onsite Consumer Load (Midstate's Interfor), or (ii) NLSL (Flathead's Sierra Pacific Biomass).

Sheet AboveRHWMLoad
B1: Table 3: RHWM Process Outputs for FY 2026-2028 Rate Period - Above RHWM Load Service
A2: TOC | F2: A | G2: B | H2: C | I2: D | J2: E | K2: F | L2: G | M2: H | N2: I | O2: J | P2: K | Q2: L | R2: M
A3: é | B3: BESID | C3: Preference Customer | D3: NOTJOE | E3: JOE | F3: TRL - NLSL - Existing Resource 2026 | G3: TRL - NLSL - Existing Resource 2027 | H3: TRL - NLSL - Existing Resource 2028 | I3: RHWM 2026 | J3: Above RHWM 2026 | K3: Above RHWM 2027 | L3: Above RHWM 2028 | M3: Above RHWM Load Served at the LS rate 2026 | N3: Above RHWM Load Served at the LS rate 2027 | O3: Above RHWM Load Served at the LS rate 2028 | P3: Remaining Above RHWM 2026 | Q3: Remaining Above RHWM 2027 | R3: Remaining Above RHWM 2028
B4: 10015 | C4: Asotin County PUD #1 | D4: =RHWM!D4 -> 1 | E4: =RHWM!E4 -> 0 | F4: 0.761 | G4: 0.761 | H4: 0.76 | I4: 0.565 | J4: 0.196 | K4: 0.196 | L4: 0.195 | M4: 0.196 | N4: 0.196 | O4: 0.195 | P4: 0 | Q4: 0 | R4: 0
B5: 10024 | C5: Benton County PUD #1 | D5: =RHWM!D5 -> 1 | E5: =RHWM!E5 -> 0 | F5: 212.747 | G5: 213.645 | H5: 213.821 | I5: 197.793 | J5: 14.954 | K5: 15.852 | L5: 16.028 | M5: 0 | N5: 0 | O5: 0 | P5: 14.954 | Q5: 15.852 | R5: 16.028
B6: 10025 | C6: Benton REA | D6: =RHWM!D6 -> 1 | E6: =RHWM!E6 -> 0 | F6: 74.805 | G6: 75.47 | H6: 75.931 | I6: 58.73 | J6: 16.075 | K6: 16.74 | L6: 17.201 | M6: 0 | N6: 0 | O6: 0 | P6: 16.075 | Q6: 16.74 | R6: 17.201
B7: 10027 | C7: Big Bend Elec Coop | D7: =RHWM!D7 -> 1 | E7: =RHWM!E7 -> 0 | F7: 68.318 | G7: 68.653 | H7: 68.838 | I7: 60.241 | J7: 8.077 | K7: 8.412 | L7: 8.597 | M7: 0 | N7: 0 | O7: 0 | P7: 8.077 | Q7: 8.412 | R7: 8.597
B8: 10029 | C8: Blachly Lane Elec Coop | D8: =RHWM!D8 -> 0 | E8: =RHWM!E8 -> 1 | F8: 23.213 | G8: 24.409 | H8: 24.669 | I8: 17.342 | J8: 5.871 | K8: 7.067 | L8: 7.327 | M8: 0 | N8: 0 | O8: 0 | P8: 5.871 | Q8: 7.067 | R8: 7.327
B9: 10044 | C9: Canby, City of | D9: =RHWM!D9 -> 1 | E9: =RHWM!E9 -> 0 | F9: 22.338 | G9: 22.45 | H9: 22.556 | I9: 19.993 | J9: 2.345 | K9: 2.457 | L9: 2.563 | M9: 0 | N9: 0 | O9: 0 | P9: 2.345 | Q9: 2.457 | R9: 2.563
B10: 10046 | C10: Central Electric Coop | D10: =RHWM!D10 -> 0 | E10: =RHWM!E10 -> 1 | F10: 102.441 | G10: 103.89 | H10: 105.331 | I10: 80.576 | J10: 21.865 | K10: 23.314 | L10: 24.755 | M10: 0 | N10: 0 | O10: 0 | P10: 21.865 | Q10: 23.314 | R10: 24.755
B11: 10047 | C11: Central Lincoln PUD | D11: =RHWM!D11 -> 1 | E11: =RHWM!E11 -> 0 | F11: 151.52 | G11: 151.672 | H11: 151.976 | I11: 154.232 | J11: 0 | K11: 0 | L11: 0 | M11: 0 | N11: 0 | O11: 0 | P11: 0 | Q11: 0 | R11: 0
B12: 10055 | C12: Albion, City of | D12: =RHWM!D12 -> 1 | E12: =RHWM!E12 -> 0 | F12: 0.466 | G12: 0.469 | H12: 0.471 | I12: 0.392 | J12: 0.074 | K12: 0.077 | L12: 0.079 | M12: 0.074 | N12: 0.077 | O12: 0.079 | P12: 0 | Q12: 0 | R12: 0
B13: 10057 | C13: Ashland, City of | D13: =RHWM!D13 -> 1 | E13: =RHWM!E13 -> 0 | F13: 19.218 | G13: 19.218 | H13: 19.223 | I13: 20.74 | J13: 0 | K13: 0 | L13: 0 | M13: 0 | N13: 0 | O13: 0 | P13: 0 | Q13: 0 | R13: 0
B14: 10059 | C14: Bandon, City of | D14: =RHWM!D14 -> 1 | E14: =RHWM!E14 -> 0 | F14: 7.735 | G14: 7.735 | H14: 7.735 | I14: 7.52 | J14: 0.215 | K14: 0.215 | L14: 0.215 | M14: 0.215 | N14: 0.215 | O14: 0.215 | P14: 0 | Q14: 0 | R14: 0
B15: 10061 | C15: Blaine, City of | D15: =RHWM!D15 -> 1 | E15: =RHWM!E15 -> 0 | F15: 11.823 | G15: 12.473 | H15: 13.11 | I15: 8.61 | J15: 3.213 | K15: 3.863 | L15: 4.5 | M15: 0 | N15: 0 | O15: 0 | P15: 3.213 | Q15: 3.863 | R15: 4.5
... B137: 10298 | C137: PNGC Aggregate | D137: =RHWM!D137 -> 1 | E137: =RHWM!E137 -> 0 | F137: 703.635 | G137: 711.945 | H137: 718.365 | I137: 592.894 | J137: 110.79 | K137: 119.1 | L137: 125.523 | M137: 0 | N137: 0 | O137: 0 | P137: 110.79 | Q137: 119.1 | R137: 125.523
R138: =SUMIF($E$4:$E$137, 1, R4:R137) -> 125.523
